BEGIN:VCALENDAR
VERSION:2.0
PRODID:-//NEPR - ECPv5.6.0//NONSGML v1.0//EN
CALSCALE:GREGORIAN
METHOD:PUBLISH
X-WR-CALNAME:NEPR
X-ORIGINAL-URL:https://energia.pr.gov
X-WR-CALDESC:Eventos para NEPR
BEGIN:VTIMEZONE
TZID:America/Puerto_Rico
BEGIN:STANDARD
TZOFFSETFROM:-0400
TZOFFSETTO:-0400
TZNAME:AST
DTSTART:20210101T000000
END:STANDARD
END:VTIMEZONE
BEGIN:VEVENT
DTSTART;TZID=America/Puerto_Rico:20210415T100000
DTEND;TZID=America/Puerto_Rico:20210415T140000
DTSTAMP:20210505T175330
CREATED:20210208T134543Z
LAST-MODIFIED:20210209T152224Z
UID:58327-1618480800-1618495200@energia.pr.gov
SUMMARY:Technical Conference  NEPR-AP-2018-0004 (Unbundling)
DESCRIPTION:IN RE: The unbundling  of the assets of the Puerto Rico Electric Power Authority\n\nSUBJECT: Procedures for the Development of an Unbundling Rate.\n***Will be streamed live via the Energy Bureau’s YouTube Channel \nLink: https://www.youtube.com/channel/UCxZYn-qt1k0Lu9TX37-11oA
URL:https://energia.pr.gov/evento/technical-conference-nepr-ap-2018-0004-unbundling-3/
CATEGORIES:CONFERENCIA TÉCNICA
ORGANIZER;CN="Negociado%20de%20Energ%C3%ADa%20de%20Puerto%20Rico":MAILTO:nepr@energia.pr.gov
END:VEVENT
END:VCALENDAR