BEGIN:VCALENDAR
VERSION:2.0
PRODID:-//NEPR - ECPv5.8.2//NONSGML v1.0//EN
CALSCALE:GREGORIAN
METHOD:PUBLISH
X-WR-CALNAME:NEPR
X-ORIGINAL-URL:https://energia.pr.gov
X-WR-CALDESC:Eventos para NEPR
BEGIN:VTIMEZONE
TZID:America/Puerto_Rico
BEGIN:STANDARD
TZOFFSETFROM:-0400
TZOFFSETTO:-0400
TZNAME:AST
DTSTART:20210101T000000
END:STANDARD
END:VTIMEZONE
BEGIN:VEVENT
DTSTART;TZID=America/Puerto_Rico:20210923T090000
DTEND;TZID=America/Puerto_Rico:20210923T110000
DTSTAMP:20210927T001313
CREATED:20210504T184509Z
LAST-MODIFIED:20210811T202912Z
UID:59971-1632387600-1632394800@energia.pr.gov
SUMMARY:Vista Administrativa NEPR-QR-2020-0005
DESCRIPTION:Delfin A. Lorenzo Rosa v. AEE
URL:https://energia.pr.gov/evento/vista-administrativa-nepr-qr-2020-0005/
LOCATION:Salón de Vistas del Negociado de Energía de Puerto Rico\, Edificio World Plaza\, 268 Ave. Muñoz Rivera\, Piso 8\, San Juan\, 00918\, Puerto Rico
CATEGORIES:QUERELLA
ORGANIZER;CN="Negociado%20de%20Energ%C3%ADa%20de%20Puerto%20Rico":MAILTO:nepr@jrsp.pr.gov
END:VEVENT
END:VCALENDAR