BEGIN:VCALENDAR
VERSION:2.0
PRODID:-//NEPR - ECPv6.15.20//NONSGML v1.0//EN
CALSCALE:GREGORIAN
METHOD:PUBLISH
X-WR-CALNAME:NEPR
X-ORIGINAL-URL:https://energia.pr.gov
X-WR-CALDESC:Eventos para NEPR
REFRESH-INTERVAL;VALUE=DURATION:PT1H
X-Robots-Tag:noindex
X-PUBLISHED-TTL:PT1H
BEGIN:VTIMEZONE
TZID:America/Puerto_Rico
BEGIN:STANDARD
TZOFFSETFROM:-0400
TZOFFSETTO:-0400
TZNAME:AST
DTSTART:20210101T000000
END:STANDARD
END:VTIMEZONE
BEGIN:VEVENT
DTSTART;TZID=America/Puerto_Rico:20221228T090000
DTEND;TZID=America/Puerto_Rico:20221228T100000
DTSTAMP:20260424T214220
CREATED:20210621T144836Z
LAST-MODIFIED:20221118T200215Z
UID:61172-1672218000-1672221600@energia.pr.gov
SUMMARY:Vista Administrativa  NEPR-QR-2021-0014
DESCRIPTION:Consuelo Pollock Fontánez v. AEE
URL:https://energia.pr.gov/evento/vista-administrativa-nepr-qr-2021-0014/
LOCATION:Salón de Vistas del Negociado de Energía de Puerto Rico\, Edificio World Plaza\, 268 Ave. Muñoz Rivera\, Piso 8\, San Juan\, 00918\, Puerto Rico
CATEGORIES:QUERELLA
ORGANIZER;CN="Negociado de Energ%C3%ADa de Puerto Rico":MAILTO:nepr@jrsp.pr.gov
END:VEVENT
END:VCALENDAR