BEGIN:VCALENDAR
VERSION:2.0
PRODID:-//NEPR - ECPv5.8.2//NONSGML v1.0//EN
CALSCALE:GREGORIAN
METHOD:PUBLISH
X-WR-CALNAME:NEPR
X-ORIGINAL-URL:https://energia.pr.gov
X-WR-CALDESC:Eventos para NEPR
BEGIN:VTIMEZONE
TZID:America/Puerto_Rico
BEGIN:STANDARD
TZOFFSETFROM:-0400
TZOFFSETTO:-0400
TZNAME:AST
DTSTART:20210101T000000
END:STANDARD
END:VTIMEZONE
BEGIN:VEVENT
DTSTART;TZID=America/Puerto_Rico:20210901T093000
DTEND;TZID=America/Puerto_Rico:20210901T113000
DTSTAMP:20210924T205851
CREATED:20210823T142049Z
LAST-MODIFIED:20210823T142049Z
UID:62648-1630488600-1630495800@energia.pr.gov
SUMMARY:Vista Administrativa NEPR-RV-2021-0034
DESCRIPTION:JORGE E. RAMÍREZ ACARÓN
URL:https://energia.pr.gov/evento/vista-administrativa-nepr-rv-2021-0034/
LOCATION:Salón de Vistas del Negociado de Energía de Puerto Rico\, Edificio World Plaza\, 268 Ave. Muñoz Rivera\, Piso 8\, San Juan\, 00918\, Puerto Rico
CATEGORIES:REVISIÓN DE FACTURAS
ORGANIZER;CN="Negociado%20de%20Energ%C3%ADa%20de%20Puerto%20Rico":MAILTO:nepr@jrsp.pr.gov
END:VEVENT
END:VCALENDAR