BEGIN:VCALENDAR
VERSION:2.0
PRODID:-//NEPR - ECPv5.8.0//NONSGML v1.0//EN
CALSCALE:GREGORIAN
METHOD:PUBLISH
X-WR-CALNAME:NEPR
X-ORIGINAL-URL:https://energia.pr.gov
X-WR-CALDESC:Eventos para NEPR
BEGIN:VTIMEZONE
TZID:America/Puerto_Rico
BEGIN:STANDARD
TZOFFSETFROM:-0400
TZOFFSETTO:-0400
TZNAME:AST
DTSTART:20210101T000000
END:STANDARD
END:VTIMEZONE
BEGIN:VEVENT
DTSTART;TZID=America/Puerto_Rico:20210303T100000
DTEND;TZID=America/Puerto_Rico:20210303T120000
DTSTAMP:20210720T195807
CREATED:20210120T194750Z
LAST-MODIFIED:20210120T194750Z
UID:57935-1614765600-1614772800@energia.pr.gov
SUMMARY:Vista Evidenciaria  NEPR-QR-2020-0065
DESCRIPTION:
URL:https://energia.pr.gov/evento/vista-evidenciaria-nepr-qr-2020-0065/
LOCATION:Salón de Vistas del Negociado de Energía de Puerto Rico\, Edificio World Plaza\, 268 Ave. Muñoz Rivera\, Piso 8\, San Juan\, 00918\, Puerto Rico
CATEGORIES:QUERELLA
ORGANIZER;CN="Negociado%20de%20Energ%C3%ADa%20de%20Puerto%20Rico":MAILTO:nepr@jrsp.pr.gov
END:VEVENT
END:VCALENDAR