BEGIN:VCALENDAR
VERSION:2.0
PRODID:-//NEPR - ECPv5.6.0//NONSGML v1.0//EN
CALSCALE:GREGORIAN
METHOD:PUBLISH
X-WR-CALNAME:NEPR
X-ORIGINAL-URL:https://energia.pr.gov
X-WR-CALDESC:Eventos para NEPR
BEGIN:VTIMEZONE
TZID:America/Puerto_Rico
BEGIN:STANDARD
TZOFFSETFROM:-0400
TZOFFSETTO:-0400
TZNAME:AST
DTSTART:20210101T000000
END:STANDARD
END:VTIMEZONE
BEGIN:VEVENT
DTSTART;TZID=America/Puerto_Rico:20210329T143000
DTEND;TZID=America/Puerto_Rico:20210329T163000
DTSTAMP:20210505T031038
CREATED:20210310T175526Z
LAST-MODIFIED:20210310T175526Z
UID:58894-1617028200-1617035400@energia.pr.gov
SUMMARY:Vista Evidenciaria  NEPR-QR-2021-0008
DESCRIPTION:
URL:https://energia.pr.gov/evento/vista-evidenciaria-nepr-qr-2021-0008/
LOCATION:Salón de Vistas del Negociado de Energía de Puerto Rico\, Edificio World Plaza\, 268 Ave. Muñoz Rivera\, Piso 8\, San Juan\, 00918\, Puerto Rico
CATEGORIES:QUERELLA
ORGANIZER;CN="Negociado%20de%20Energ%C3%ADa%20de%20Puerto%20Rico":MAILTO:nepr@energia.pr.gov
END:VEVENT
END:VCALENDAR