BEGIN:VCALENDAR
VERSION:2.0
PRODID:-//NEPR - ECPv6.15.20//NONSGML v1.0//EN
CALSCALE:GREGORIAN
METHOD:PUBLISH
X-ORIGINAL-URL:https://energia.pr.gov
X-WR-CALDESC:Eventos para NEPR
REFRESH-INTERVAL;VALUE=DURATION:PT1H
X-Robots-Tag:noindex
X-PUBLISHED-TTL:PT1H
BEGIN:VTIMEZONE
TZID:America/Puerto_Rico
BEGIN:STANDARD
TZOFFSETFROM:-0400
TZOFFSETTO:-0400
TZNAME:AST
DTSTART:20190101T000000
END:STANDARD
END:VTIMEZONE
BEGIN:VEVENT
DTSTART;TZID=America/Puerto_Rico:20200303T090000
DTEND;TZID=America/Puerto_Rico:20200303T120000
DTSTAMP:20260424T152641
CREATED:20200212T160403Z
LAST-MODIFIED:20200212T160403Z
UID:53521-1583226000-1583236800@energia.pr.gov
SUMMARY:Conferencia con antelación a vista & Vista Administrativa  NEPR-QR-2019-0132
DESCRIPTION:
URL:https://energia.pr.gov/evento/conferencia-con-antelacion-a-vista-vista-administrativa-nepr-qr-2019-0132/
LOCATION:Salón de Conferencias de los Comisionados-NEPR\, Edificio World Plaza Ave. Muñoz Rivera Suite 701\, San Juan\, Puerto Rico\, 00918\, Puerto Rico
CATEGORIES:QUERELLA
ORGANIZER;CN="Negociado de Energ%C3%ADa de Puerto Rico":MAILTO:nepr@jrsp.pr.gov
END:VEVENT
BEGIN:VEVENT
DTSTART;TZID=America/Puerto_Rico:20200303T100000
DTEND;TZID=America/Puerto_Rico:20200303T130000
DTSTAMP:20260424T152641
CREATED:20191217T185530Z
LAST-MODIFIED:20191217T185530Z
UID:52758-1583229600-1583240400@energia.pr.gov
SUMMARY:Conferencia con antelación a vista & Vista Administrativa  NEPR-QR-2019-0052
DESCRIPTION:
URL:https://energia.pr.gov/evento/conferencia-con-antelacion-a-vista-vista-administrativa-nepr-qr-2019-0052/
LOCATION:Salón de Vistas del Negociado de Energía de Puerto Rico\, Edificio World Plaza\, 268 Ave. Muñoz Rivera\, Piso 8\, San Juan\, 00918\, Puerto Rico
CATEGORIES:QUERELLA
ORGANIZER;CN="Negociado de Energ%C3%ADa de Puerto Rico":MAILTO:nepr@jrsp.pr.gov
END:VEVENT
BEGIN:VEVENT
DTSTART;TZID=America/Puerto_Rico:20200305T090000
DTEND;TZID=America/Puerto_Rico:20200305T120000
DTSTAMP:20260424T152641
CREATED:20200305T210539Z
LAST-MODIFIED:20200305T210539Z
UID:53924-1583398800-1583409600@energia.pr.gov
SUMMARY:Conferencia con antelación a vista & Vista Administrativa  NEPR-QR-2019-0093
DESCRIPTION:
URL:https://energia.pr.gov/evento/conferencia-con-antelacion-a-vista-vista-administrativa-nepr-qr-2019-0093/
CATEGORIES:QUERELLA
ORGANIZER;CN="Negociado de Energ%C3%ADa de Puerto Rico":MAILTO:nepr@jrsp.pr.gov
END:VEVENT
BEGIN:VEVENT
DTSTART;TZID=America/Puerto_Rico:20200305T100000
DTEND;TZID=America/Puerto_Rico:20200305T140000
DTSTAMP:20260424T152641
CREATED:20200212T201513Z
LAST-MODIFIED:20200212T201513Z
UID:53538-1583402400-1583416800@energia.pr.gov
SUMMARY:Vista Argumentativa  NEPR-QR-2019-0157
DESCRIPTION:
URL:https://energia.pr.gov/evento/vista-argumentativa-nepr-qr-2019-0157/
LOCATION:Salón de Vistas del Negociado de Energía de Puerto Rico\, Edificio World Plaza\, 268 Ave. Muñoz Rivera\, Piso 8\, San Juan\, 00918\, Puerto Rico
CATEGORIES:QUERELLA
ORGANIZER;CN="Negociado de Energ%C3%ADa de Puerto Rico":MAILTO:nepr@jrsp.pr.gov
END:VEVENT
BEGIN:VEVENT
DTSTART;TZID=America/Puerto_Rico:20200310T093000
DTEND;TZID=America/Puerto_Rico:20200310T113000
DTSTAMP:20260424T152641
CREATED:20200212T201105Z
LAST-MODIFIED:20200309T200656Z
UID:53535-1583832600-1583839800@energia.pr.gov
SUMMARY:Vista Administrativa  NEPR-QR-2019-0036
DESCRIPTION:
URL:https://energia.pr.gov/evento/vista-administrativa-nepr-qr-2019-0036-4/
LOCATION:Salón de Conferencias de los Comisionados-NEPR\, Edificio World Plaza Ave. Muñoz Rivera Suite 701\, San Juan\, Puerto Rico\, 00918\, Puerto Rico
CATEGORIES:QUERELLA
ORGANIZER;CN="Negociado de Energ%C3%ADa de Puerto Rico":MAILTO:nepr@jrsp.pr.gov
END:VEVENT
BEGIN:VEVENT
DTSTART;TZID=America/Puerto_Rico:20200312T093000
DTEND;TZID=America/Puerto_Rico:20200312T113000
DTSTAMP:20260424T152641
CREATED:20200212T202418Z
LAST-MODIFIED:20200212T202418Z
UID:53547-1584005400-1584012600@energia.pr.gov
SUMMARY:Vista Evidenciaria  NEPR-QR-2019-0126
DESCRIPTION:
URL:https://energia.pr.gov/evento/vista-evidenciaria-nepr-qr-2019-0126-2/
CATEGORIES:QUERELLA
ORGANIZER;CN="Negociado de Energ%C3%ADa de Puerto Rico":MAILTO:nepr@jrsp.pr.gov
END:VEVENT
BEGIN:VEVENT
DTSTART;TZID=America/Puerto_Rico:20200313T090000
DTEND;TZID=America/Puerto_Rico:20200313T120000
DTSTAMP:20260424T152641
CREATED:20200312T165338Z
LAST-MODIFIED:20200312T165338Z
UID:54008-1584090000-1584100800@energia.pr.gov
SUMMARY:Conferencia con antelación a vista & Vista Administrativa  NEPR-QR-2019-0132
DESCRIPTION:
URL:https://energia.pr.gov/evento/conferencia-con-antelacion-a-vista-vista-administrativa-nepr-qr-2019-0132-2/
CATEGORIES:QUERELLA
ORGANIZER;CN="Negociado de Energ%C3%ADa de Puerto Rico":MAILTO:nepr@jrsp.pr.gov
END:VEVENT
BEGIN:VEVENT
DTSTART;TZID=America/Puerto_Rico:20200316T090000
DTEND;TZID=America/Puerto_Rico:20200316T110000
DTSTAMP:20260424T152641
CREATED:20200312T173434Z
LAST-MODIFIED:20200313T201630Z
UID:54062-1584349200-1584356400@energia.pr.gov
SUMMARY:Conferencia con antelación a vista & Vista Administrativa  NEPR-QR-2019-0177
DESCRIPTION:
URL:https://energia.pr.gov/evento/conferencia-con-antelacion-a-vista-vista-administrativa-nepr-qr-2019-0177/
LOCATION:Salón de Conferencias de los Comisionados-NEPR\, Edificio World Plaza Ave. Muñoz Rivera Suite 701\, San Juan\, Puerto Rico\, 00918\, Puerto Rico
CATEGORIES:QUERELLA
ORGANIZER;CN="Negociado de Energ%C3%ADa de Puerto Rico":MAILTO:nepr@jrsp.pr.gov
END:VEVENT
BEGIN:VEVENT
DTSTART;TZID=America/Puerto_Rico:20200316T093000
DTEND;TZID=America/Puerto_Rico:20200316T103000
DTSTAMP:20260424T152641
CREATED:20200312T173637Z
LAST-MODIFIED:20200312T173637Z
UID:54064-1584351000-1584354600@energia.pr.gov
SUMMARY:Vista Evidenciaria  NEPR-QR-2019-0166
DESCRIPTION:
URL:https://energia.pr.gov/evento/vista-evidenciaria-nepr-qr-2019-0166/
CATEGORIES:QUERELLA
ORGANIZER;CN="Negociado de Energ%C3%ADa de Puerto Rico":MAILTO:nepr@jrsp.pr.gov
END:VEVENT
BEGIN:VEVENT
DTSTART;TZID=America/Puerto_Rico:20200317T140000
DTEND;TZID=America/Puerto_Rico:20200317T160000
DTSTAMP:20260424T152641
CREATED:20200212T202325Z
LAST-MODIFIED:20200212T202325Z
UID:53545-1584453600-1584460800@energia.pr.gov
SUMMARY:Vista Evidenciaria / NEPR-QR-2019-0006
DESCRIPTION:
URL:https://energia.pr.gov/evento/vista-evidenciaria-nepr-qr-2019-0006-2/
LOCATION:Salón de Vistas del Negociado de Energía de Puerto Rico\, Edificio World Plaza\, 268 Ave. Muñoz Rivera\, Piso 8\, San Juan\, 00918\, Puerto Rico
CATEGORIES:QUERELLA
ORGANIZER;CN="Negociado de Energ%C3%ADa de Puerto Rico":MAILTO:nepr@jrsp.pr.gov
END:VEVENT
BEGIN:VEVENT
DTSTART;TZID=America/Puerto_Rico:20200324T090000
DTEND;TZID=America/Puerto_Rico:20200324T110000
DTSTAMP:20260424T152641
CREATED:20200312T165822Z
LAST-MODIFIED:20200312T165822Z
UID:54016-1585040400-1585047600@energia.pr.gov
SUMMARY:Vista Administrativa  NEPR-QR-2019-0073
DESCRIPTION:
URL:https://energia.pr.gov/evento/vista-administrativa-nepr-qr-2019-0073-2/
LOCATION:Salón de Vistas del Negociado de Energía de Puerto Rico\, Edificio World Plaza\, 268 Ave. Muñoz Rivera\, Piso 8\, San Juan\, 00918\, Puerto Rico
CATEGORIES:QUERELLA
ORGANIZER;CN="Negociado de Energ%C3%ADa de Puerto Rico":MAILTO:nepr@jrsp.pr.gov
END:VEVENT
BEGIN:VEVENT
DTSTART;TZID=America/Puerto_Rico:20200324T090000
DTEND;TZID=America/Puerto_Rico:20200324T120000
DTSTAMP:20260424T152641
CREATED:20200313T201123Z
LAST-MODIFIED:20200313T201123Z
UID:54146-1585040400-1585051200@energia.pr.gov
SUMMARY:Conferencia con antelación a vista & Vista Administrativa  NEPR-QR-2019-0169
DESCRIPTION:
URL:https://energia.pr.gov/evento/conferencia-con-antelacion-a-vista-vista-administrativa-nepr-qr-2019-0169/
LOCATION:Salón de Conferencias de los Comisionados-NEPR\, Edificio World Plaza Ave. Muñoz Rivera Suite 701\, San Juan\, Puerto Rico\, 00918\, Puerto Rico
CATEGORIES:QUERELLA
ORGANIZER;CN="Negociado de Energ%C3%ADa de Puerto Rico":MAILTO:nepr@jrsp.pr.gov
END:VEVENT
BEGIN:VEVENT
DTSTART;TZID=America/Puerto_Rico:20200325T090000
DTEND;TZID=America/Puerto_Rico:20200325T120000
DTSTAMP:20260424T152641
CREATED:20200313T201234Z
LAST-MODIFIED:20200313T201234Z
UID:54149-1585126800-1585137600@energia.pr.gov
SUMMARY:Conferencia con antelación a vista & Vista Administrativa  NEPR-QR-2019-0168
DESCRIPTION:
URL:https://energia.pr.gov/evento/conferencia-con-antelacion-a-vista-vista-administrativa-nepr-qr-2019-0168/
CATEGORIES:QUERELLA
END:VEVENT
BEGIN:VEVENT
DTSTART;TZID=America/Puerto_Rico:20200325T100000
DTEND;TZID=America/Puerto_Rico:20200325T120000
DTSTAMP:20260424T152641
CREATED:20200312T170503Z
LAST-MODIFIED:20200312T170503Z
UID:54022-1585130400-1585137600@energia.pr.gov
SUMMARY:Vista Evidenciaria  NEPR-QR-2019-0161
DESCRIPTION:
URL:https://energia.pr.gov/evento/vista-evidenciaria-nepr-qr-2019-0161/
LOCATION:Salón de Conferencias de los Comisionados-NEPR\, Edificio World Plaza Ave. Muñoz Rivera Suite 701\, San Juan\, Puerto Rico\, 00918\, Puerto Rico
CATEGORIES:QUERELLA
ORGANIZER;CN="Negociado de Energ%C3%ADa de Puerto Rico":MAILTO:nepr@jrsp.pr.gov
END:VEVENT
BEGIN:VEVENT
DTSTART;TZID=America/Puerto_Rico:20200325T130000
DTEND;TZID=America/Puerto_Rico:20200325T150000
DTSTAMP:20260424T152641
CREATED:20200313T201535Z
LAST-MODIFIED:20200313T201535Z
UID:54159-1585141200-1585148400@energia.pr.gov
SUMMARY:Vista Evidenciaria  NEPR-QR-2019-0159
DESCRIPTION:
URL:https://energia.pr.gov/evento/vista-evidenciaria-nepr-qr-2019-0159/
LOCATION:Salón de Conferencias de los Comisionados-NEPR\, Edificio World Plaza Ave. Muñoz Rivera Suite 701\, San Juan\, Puerto Rico\, 00918\, Puerto Rico
CATEGORIES:QUERELLA
ORGANIZER;CN="Negociado de Energ%C3%ADa de Puerto Rico":MAILTO:nepr@jrsp.pr.gov
END:VEVENT
BEGIN:VEVENT
DTSTART;TZID=America/Puerto_Rico:20200327T090000
DTEND;TZID=America/Puerto_Rico:20200327T120000
DTSTAMP:20260424T152641
CREATED:20200312T171242Z
LAST-MODIFIED:20200312T171242Z
UID:54030-1585299600-1585310400@energia.pr.gov
SUMMARY:Conferencia con antelación a vista & Vista Administrativa  NEPR-QR-2019-0175
DESCRIPTION:
URL:https://energia.pr.gov/evento/conferencia-con-antelacion-a-vista-vista-administrativa-nepr-qr-2019-0175/
LOCATION:Salón de Conferencias de los Comisionados-NEPR\, Edificio World Plaza Ave. Muñoz Rivera Suite 701\, San Juan\, Puerto Rico\, 00918\, Puerto Rico
CATEGORIES:QUERELLA
ORGANIZER;CN="Negociado de Energ%C3%ADa de Puerto Rico":MAILTO:nepr@jrsp.pr.gov
END:VEVENT
BEGIN:VEVENT
DTSTART;TZID=America/Puerto_Rico:20200327T130000
DTEND;TZID=America/Puerto_Rico:20200327T150000
DTSTAMP:20260424T152641
CREATED:20200313T201816Z
LAST-MODIFIED:20200313T201816Z
UID:54165-1585314000-1585321200@energia.pr.gov
SUMMARY:Vista Evidenciaria  NEPR-QR-2019-0166
DESCRIPTION:
URL:https://energia.pr.gov/evento/vista-evidenciaria-nepr-qr-2019-0166-2/
LOCATION:Salón de Conferencias de los Comisionados-NEPR\, Edificio World Plaza Ave. Muñoz Rivera Suite 701\, San Juan\, Puerto Rico\, 00918\, Puerto Rico
CATEGORIES:QUERELLA
ORGANIZER;CN="Negociado de Energ%C3%ADa de Puerto Rico":MAILTO:nepr@jrsp.pr.gov
END:VEVENT
BEGIN:VEVENT
DTSTART;TZID=America/Puerto_Rico:20200330T093000
DTEND;TZID=America/Puerto_Rico:20200330T120000
DTSTAMP:20260424T152641
CREATED:20200313T201318Z
LAST-MODIFIED:20200313T201318Z
UID:54152-1585560600-1585569600@energia.pr.gov
SUMMARY:Vista Evidenciaria  NEPR-QR-2019-0167
DESCRIPTION:
URL:https://energia.pr.gov/evento/vista-evidenciaria-nepr-qr-2019-0167/
CATEGORIES:QUERELLA
ORGANIZER;CN="Negociado de Energ%C3%ADa de Puerto Rico":MAILTO:nepr@jrsp.pr.gov
END:VEVENT
BEGIN:VEVENT
DTSTART;TZID=America/Puerto_Rico:20200330T130000
DTEND;TZID=America/Puerto_Rico:20200330T150000
DTSTAMP:20260424T152641
CREATED:20200312T171405Z
LAST-MODIFIED:20200312T171435Z
UID:54033-1585573200-1585580400@energia.pr.gov
SUMMARY:Vista Administrativa  NEPR-QR-2019-0141
DESCRIPTION:
URL:https://energia.pr.gov/evento/vista-administrativa-nepr-qr-2019-0141-3/
CATEGORIES:QUERELLA
ORGANIZER;CN="Negociado de Energ%C3%ADa de Puerto Rico":MAILTO:nepr@jrsp.pr.gov
END:VEVENT
END:VCALENDAR