BEGIN:VCALENDAR
VERSION:2.0
PRODID:-//NEPR - ECPv6.15.20//NONSGML v1.0//EN
CALSCALE:GREGORIAN
METHOD:PUBLISH
X-ORIGINAL-URL:https://energia.pr.gov
X-WR-CALDESC:Eventos para NEPR
REFRESH-INTERVAL;VALUE=DURATION:PT1H
X-Robots-Tag:noindex
X-PUBLISHED-TTL:PT1H
BEGIN:VTIMEZONE
TZID:America/Puerto_Rico
BEGIN:STANDARD
TZOFFSETFROM:-0400
TZOFFSETTO:-0400
TZNAME:AST
DTSTART:20190101T000000
END:STANDARD
END:VTIMEZONE
BEGIN:VEVENT
DTSTART;TZID=America/Puerto_Rico:20200903T093000
DTEND;TZID=America/Puerto_Rico:20200903T120000
DTSTAMP:20260424T060237
CREATED:20200825T195833Z
LAST-MODIFIED:20200825T195833Z
UID:55343-1599125400-1599134400@energia.pr.gov
SUMMARY:Conferencia con antelación a vista & Vista Administrativa  NEPR-QR-2019-0177
DESCRIPTION:
URL:https://energia.pr.gov/evento/conferencia-con-antelacion-a-vista-vista-administrativa-nepr-qr-2019-0177-2/
LOCATION:Salón de Vistas del Negociado de Energía de Puerto Rico\, Edificio World Plaza\, 268 Ave. Muñoz Rivera\, Piso 8\, San Juan\, 00918\, Puerto Rico
CATEGORIES:QUERELLA
ORGANIZER;CN="Negociado de Energ%C3%ADa de Puerto Rico":MAILTO:nepr@jrsp.pr.gov
END:VEVENT
BEGIN:VEVENT
DTSTART;TZID=America/Puerto_Rico:20200908T140000
DTEND;TZID=America/Puerto_Rico:20200908T170000
DTSTAMP:20260424T060237
CREATED:20200807T135416Z
LAST-MODIFIED:20200807T135416Z
UID:55376-1599573600-1599584400@energia.pr.gov
SUMMARY:Conferencia con antelación a vista & Vista Administrativa  NEPR-QR-2019-0195
DESCRIPTION:
URL:https://energia.pr.gov/evento/conferencia-con-antelacion-a-vista-vista-administrativa-nepr-qr-2019-0195/
LOCATION:Salón de Vistas del Negociado de Energía de Puerto Rico\, Edificio World Plaza\, 268 Ave. Muñoz Rivera\, Piso 8\, San Juan\, 00918\, Puerto Rico
CATEGORIES:QUERELLA
ORGANIZER;CN="Negociado de Energ%C3%ADa de Puerto Rico":MAILTO:nepr@jrsp.pr.gov
END:VEVENT
BEGIN:VEVENT
DTSTART;TZID=America/Puerto_Rico:20200909T133000
DTEND;TZID=America/Puerto_Rico:20200909T170000
DTSTAMP:20260424T060237
CREATED:20200825T153910Z
LAST-MODIFIED:20200825T153910Z
UID:55345-1599658200-1599670800@energia.pr.gov
SUMMARY:Conferencia con antelación a vista & Vista Administrativa  NEPR-QR-2019-0132
DESCRIPTION:
URL:https://energia.pr.gov/evento/conferencia-con-antelacion-a-vista-vista-administrativa-nepr-qr-2019-0132-3/
LOCATION:Salón de Vistas del Negociado de Energía de Puerto Rico\, Edificio World Plaza\, 268 Ave. Muñoz Rivera\, Piso 8\, San Juan\, 00918\, Puerto Rico
CATEGORIES:QUERELLA
ORGANIZER;CN="Negociado de Energ%C3%ADa de Puerto Rico":MAILTO:nepr@jrsp.pr.gov
END:VEVENT
BEGIN:VEVENT
DTSTART;TZID=America/Puerto_Rico:20200914T100000
DTEND;TZID=America/Puerto_Rico:20200914T120000
DTSTAMP:20260424T060237
CREATED:20200805T153039Z
LAST-MODIFIED:20200805T153039Z
UID:55392-1600077600-1600084800@energia.pr.gov
SUMMARY:Vista Administrativa  NEPR-QR-2018-0106
DESCRIPTION:
URL:https://energia.pr.gov/evento/vista-administrativa-nepr-qr-2018-0106/
LOCATION:Salón de Vistas del Negociado de Energía de Puerto Rico\, Edificio World Plaza\, 268 Ave. Muñoz Rivera\, Piso 8\, San Juan\, 00918\, Puerto Rico
CATEGORIES:QUERELLA
ORGANIZER;CN="Negociado de Energ%C3%ADa de Puerto Rico":MAILTO:nepr@jrsp.pr.gov
END:VEVENT
BEGIN:VEVENT
DTSTART;TZID=America/Puerto_Rico:20200916T133000
DTEND;TZID=America/Puerto_Rico:20200916T153000
DTSTAMP:20260424T060237
CREATED:20200818T134902Z
LAST-MODIFIED:20200818T134902Z
UID:55349-1600263000-1600270200@energia.pr.gov
SUMMARY:Vista Administrativa  NEPR-QR-2019-0073
DESCRIPTION:
URL:https://energia.pr.gov/evento/vista-administrativa-nepr-qr-2019-0073-3/
LOCATION:Salón de Vistas del Negociado de Energía de Puerto Rico\, Edificio World Plaza\, 268 Ave. Muñoz Rivera\, Piso 8\, San Juan\, 00918\, Puerto Rico
CATEGORIES:QUERELLA
ORGANIZER;CN="Negociado de Energ%C3%ADa de Puerto Rico":MAILTO:nepr@jrsp.pr.gov
END:VEVENT
BEGIN:VEVENT
DTSTART;TZID=America/Puerto_Rico:20200917T093000
DTEND;TZID=America/Puerto_Rico:20200917T113000
DTSTAMP:20260424T060237
CREATED:20200825T154034Z
LAST-MODIFIED:20200825T154034Z
UID:55344-1600335000-1600342200@energia.pr.gov
SUMMARY:Vista Administrativa  NEPR-QR-2020-0013
DESCRIPTION:
URL:https://energia.pr.gov/evento/vista-administrativa-nepr-qr-2020-0013-2/
LOCATION:Salón de Vistas del Negociado de Energía de Puerto Rico\, Edificio World Plaza\, 268 Ave. Muñoz Rivera\, Piso 8\, San Juan\, 00918\, Puerto Rico
CATEGORIES:QUERELLA
ORGANIZER;CN="Negociado de Energ%C3%ADa de Puerto Rico":MAILTO:nepr@jrsp.pr.gov
END:VEVENT
BEGIN:VEVENT
DTSTART;TZID=America/Puerto_Rico:20200923T140000
DTEND;TZID=America/Puerto_Rico:20200923T160000
DTSTAMP:20260424T060237
CREATED:20200805T153202Z
LAST-MODIFIED:20200805T153202Z
UID:55391-1600869600-1600876800@energia.pr.gov
SUMMARY:Vista Administrativa  NEPR-QR-2019-0006
DESCRIPTION:
URL:https://energia.pr.gov/evento/vista-administrativa-nepr-qr-2019-0006-2/
LOCATION:Salón de Vistas del Negociado de Energía de Puerto Rico\, Edificio World Plaza\, 268 Ave. Muñoz Rivera\, Piso 8\, San Juan\, 00918\, Puerto Rico
CATEGORIES:QUERELLA
ORGANIZER;CN="Negociado de Energ%C3%ADa de Puerto Rico":MAILTO:nepr@jrsp.pr.gov
END:VEVENT
BEGIN:VEVENT
DTSTART;TZID=America/Puerto_Rico:20200924T093000
DTEND;TZID=America/Puerto_Rico:20200924T113000
DTSTAMP:20260424T060237
CREATED:20200923T211730Z
LAST-MODIFIED:20200923T211730Z
UID:55775-1600939800-1600947000@energia.pr.gov
SUMMARY:Vista Evidenciaria  NEPR-QR-2019-0195
DESCRIPTION:
URL:https://energia.pr.gov/evento/vista-evidenciaria-nepr-qr-2019-0195/
LOCATION:Salón de Vistas del Negociado de Energía de Puerto Rico\, Edificio World Plaza\, 268 Ave. Muñoz Rivera\, Piso 8\, San Juan\, 00918\, Puerto Rico
CATEGORIES:QUERELLA
ORGANIZER;CN="Negociado de Energ%C3%ADa de Puerto Rico":MAILTO:nepr@jrsp.pr.gov
END:VEVENT
BEGIN:VEVENT
DTSTART;TZID=America/Puerto_Rico:20200925T133000
DTEND;TZID=America/Puerto_Rico:20200925T153000
DTSTAMP:20260424T060237
CREATED:20200818T134213Z
LAST-MODIFIED:20200818T134213Z
UID:55350-1601040600-1601047800@energia.pr.gov
SUMMARY:Vista Administrativa  NEPR-QR-2020-0027
DESCRIPTION:
URL:https://energia.pr.gov/evento/vista-administrativa-nepr-qr-2020-0027/
LOCATION:Salón de Vistas del Negociado de Energía de Puerto Rico\, Edificio World Plaza\, 268 Ave. Muñoz Rivera\, Piso 8\, San Juan\, 00918\, Puerto Rico
CATEGORIES:QUERELLA
ORGANIZER;CN="Negociado de Energ%C3%ADa de Puerto Rico":MAILTO:nepr@jrsp.pr.gov
END:VEVENT
BEGIN:VEVENT
DTSTART;TZID=America/Puerto_Rico:20200928T090000
DTEND;TZID=America/Puerto_Rico:20200928T120000
DTSTAMP:20260424T060237
CREATED:20200807T140411Z
LAST-MODIFIED:20200807T140411Z
UID:55371-1601283600-1601294400@energia.pr.gov
SUMMARY:Conferencia con antelación a vista & Vista Administrativa  NEPR-QR-2019-0090
DESCRIPTION:
URL:https://energia.pr.gov/evento/conferencia-con-antelacion-a-vista-vista-administrativa-nepr-qr-2019-0090-2/
LOCATION:Salón de Vistas del Negociado de Energía de Puerto Rico\, Edificio World Plaza\, 268 Ave. Muñoz Rivera\, Piso 8\, San Juan\, 00918\, Puerto Rico
CATEGORIES:QUERELLA
ORGANIZER;CN="Negociado de Energ%C3%ADa de Puerto Rico":MAILTO:nepr@jrsp.pr.gov
END:VEVENT
BEGIN:VEVENT
DTSTART;TZID=America/Puerto_Rico:20200929T023000
DTEND;TZID=America/Puerto_Rico:20200929T163000
DTSTAMP:20260424T060237
CREATED:20200924T154330Z
LAST-MODIFIED:20200924T154330Z
UID:55842-1601346600-1601397000@energia.pr.gov
SUMMARY:Vista Evidenciaria  NEPR-QR-2019-0180
DESCRIPTION:
URL:https://energia.pr.gov/evento/vista-evidenciaria-nepr-qr-2019-0180/
LOCATION:Salón de Vistas del Negociado de Energía de Puerto Rico\, Edificio World Plaza\, 268 Ave. Muñoz Rivera\, Piso 8\, San Juan\, 00918\, Puerto Rico
CATEGORIES:QUERELLA
ORGANIZER;CN="Negociado de Energ%C3%ADa de Puerto Rico":MAILTO:nepr@jrsp.pr.gov
END:VEVENT
END:VCALENDAR