BEGIN:VCALENDAR
VERSION:2.0
PRODID:-//NEPR - ECPv6.15.20//NONSGML v1.0//EN
CALSCALE:GREGORIAN
METHOD:PUBLISH
X-ORIGINAL-URL:https://energia.pr.gov
X-WR-CALDESC:Eventos para NEPR
REFRESH-INTERVAL;VALUE=DURATION:PT1H
X-Robots-Tag:noindex
X-PUBLISHED-TTL:PT1H
BEGIN:VTIMEZONE
TZID:America/Puerto_Rico
BEGIN:STANDARD
TZOFFSETFROM:-0400
TZOFFSETTO:-0400
TZNAME:AST
DTSTART:20190101T000000
END:STANDARD
END:VTIMEZONE
BEGIN:VEVENT
DTSTART;TZID=America/Puerto_Rico:20201006T133000
DTEND;TZID=America/Puerto_Rico:20201006T160000
DTSTAMP:20260424T043214
CREATED:20200928T151442Z
LAST-MODIFIED:20200928T201240Z
UID:55978-1601991000-1602000000@energia.pr.gov
SUMMARY:Conferencia con antelación a vista & Vista Administrativa  NEPR-QR-2019-0175
DESCRIPTION:
URL:https://energia.pr.gov/evento/conferencia-con-antelacion-a-vista-vista-administrativa-nepr-qr-2019-0175-4/
LOCATION:Salón de Vistas del Negociado de Energía de Puerto Rico\, Edificio World Plaza\, 268 Ave. Muñoz Rivera\, Piso 8\, San Juan\, 00918\, Puerto Rico
CATEGORIES:QUERELLA
ORGANIZER;CN="Negociado de Energ%C3%ADa de Puerto Rico":MAILTO:nepr@jrsp.pr.gov
END:VEVENT
BEGIN:VEVENT
DTSTART;TZID=America/Puerto_Rico:20201009T133000
DTEND;TZID=America/Puerto_Rico:20201009T153000
DTSTAMP:20260424T043214
CREATED:20200930T132232Z
LAST-MODIFIED:20200930T132232Z
UID:56031-1602250200-1602257400@energia.pr.gov
SUMMARY:Vista Evidenciaria  NEPR-QR-2020-0036
DESCRIPTION:
URL:https://energia.pr.gov/evento/vista-evidenciaria-nepr-qr-2020-0036-2/
LOCATION:Salón de Vistas del Negociado de Energía de Puerto Rico\, Edificio World Plaza\, 268 Ave. Muñoz Rivera\, Piso 8\, San Juan\, 00918\, Puerto Rico
CATEGORIES:QUERELLA
ORGANIZER;CN="Negociado de Energ%C3%ADa de Puerto Rico":MAILTO:nepr@jrsp.pr.gov
END:VEVENT
BEGIN:VEVENT
DTSTART;TZID=America/Puerto_Rico:20201013T093000
DTEND;TZID=America/Puerto_Rico:20201013T113000
DTSTAMP:20260424T043214
CREATED:20200904T170342Z
LAST-MODIFIED:20200904T170342Z
UID:55444-1602581400-1602588600@energia.pr.gov
SUMMARY:Vista Evidenciaria  NEPR-QR-2019-0184
DESCRIPTION:
URL:https://energia.pr.gov/evento/vista-evidenciaria-nepr-qr-2019-0184/
LOCATION:Salón de Vistas del Negociado de Energía de Puerto Rico\, Edificio World Plaza\, 268 Ave. Muñoz Rivera\, Piso 8\, San Juan\, 00918\, Puerto Rico
CATEGORIES:QUERELLA
ORGANIZER;CN="Negociado de Energ%C3%ADa de Puerto Rico":MAILTO:nepr@jrsp.pr.gov
END:VEVENT
BEGIN:VEVENT
DTSTART;TZID=America/Puerto_Rico:20201014T090000
DTEND;TZID=America/Puerto_Rico:20201014T120000
DTSTAMP:20260424T043214
CREATED:20200924T182557Z
LAST-MODIFIED:20200924T184524Z
UID:55882-1602666000-1602676800@energia.pr.gov
SUMMARY:Conferencia con antelación a vista & Vista Administrativa  NEPR-QR-2019-0190
DESCRIPTION:
URL:https://energia.pr.gov/evento/conferencia-con-antelacion-a-vista-vista-administrativa-nepr-qr-2019-0190/
LOCATION:Salón de Vistas del Negociado de Energía de Puerto Rico\, Edificio World Plaza\, 268 Ave. Muñoz Rivera\, Piso 8\, San Juan\, 00918\, Puerto Rico
CATEGORIES:QUERELLA
ORGANIZER;CN="Negociado de Energ%C3%ADa de Puerto Rico":MAILTO:nepr@jrsp.pr.gov
END:VEVENT
BEGIN:VEVENT
DTSTART;TZID=America/Puerto_Rico:20201022T133000
DTEND;TZID=America/Puerto_Rico:20201022T153000
DTSTAMP:20260424T043214
CREATED:20201002T144645Z
LAST-MODIFIED:20201002T144645Z
UID:56083-1603373400-1603380600@energia.pr.gov
SUMMARY:Vista Evidenciaria  NEPR-QR-2020-0034
DESCRIPTION:
URL:https://energia.pr.gov/evento/vista-evidenciaria-nepr-qr-2020-0034/
LOCATION:Salón de Vistas del Negociado de Energía de Puerto Rico\, Edificio World Plaza\, 268 Ave. Muñoz Rivera\, Piso 8\, San Juan\, 00918\, Puerto Rico
CATEGORIES:QUERELLA
ORGANIZER;CN="Negociado de Energ%C3%ADa de Puerto Rico":MAILTO:nepr@jrsp.pr.gov
END:VEVENT
BEGIN:VEVENT
DTSTART;TZID=America/Puerto_Rico:20201023T093000
DTEND;TZID=America/Puerto_Rico:20201023T113000
DTSTAMP:20260424T043214
CREATED:20200923T211823Z
LAST-MODIFIED:20200923T211823Z
UID:55779-1603445400-1603452600@energia.pr.gov
SUMMARY:Vista Evidenciaria  NEPR-QR-2019-0161
DESCRIPTION:
URL:https://energia.pr.gov/evento/vista-evidenciaria-nepr-qr-2019-0161-3/
LOCATION:Salón de Vistas del Negociado de Energía de Puerto Rico\, Edificio World Plaza\, 268 Ave. Muñoz Rivera\, Piso 8\, San Juan\, 00918\, Puerto Rico
CATEGORIES:QUERELLA
ORGANIZER;CN="Negociado de Energ%C3%ADa de Puerto Rico":MAILTO:nepr@jrsp.pr.gov
END:VEVENT
BEGIN:VEVENT
DTSTART;TZID=America/Puerto_Rico:20201023T093000
DTEND;TZID=America/Puerto_Rico:20201023T113000
DTSTAMP:20260424T043214
CREATED:20201013T142811Z
LAST-MODIFIED:20201013T142811Z
UID:56223-1603445400-1603452600@energia.pr.gov
SUMMARY:Vista Administrativa  NEPR-QR-2019-0174
DESCRIPTION:
URL:https://energia.pr.gov/evento/vista-administrativa-nepr-qr-2019-0174/
LOCATION:Salón de Vistas del Negociado de Energía de Puerto Rico\, Edificio World Plaza\, 268 Ave. Muñoz Rivera\, Piso 8\, San Juan\, 00918\, Puerto Rico
CATEGORIES:QUERELLA
ORGANIZER;CN="Negociado de Energ%C3%ADa de Puerto Rico":MAILTO:nepr@jrsp.pr.gov
END:VEVENT
BEGIN:VEVENT
DTSTART;TZID=America/Puerto_Rico:20201028T133000
DTEND;TZID=America/Puerto_Rico:20201028T153000
DTSTAMP:20260424T043214
CREATED:20201015T201157Z
LAST-MODIFIED:20201015T201157Z
UID:56298-1603891800-1603899000@energia.pr.gov
SUMMARY:Vista Administrativa  NEPR-QR-2020-0036
DESCRIPTION:
URL:https://energia.pr.gov/evento/vista-administrativa-nepr-qr-2020-0036/
LOCATION:Salón de Vistas del Negociado de Energía de Puerto Rico\, Edificio World Plaza\, 268 Ave. Muñoz Rivera\, Piso 8\, San Juan\, 00918\, Puerto Rico
CATEGORIES:QUERELLA
ORGANIZER;CN="Negociado de Energ%C3%ADa de Puerto Rico":MAILTO:nepr@jrsp.pr.gov
END:VEVENT
BEGIN:VEVENT
DTSTART;TZID=America/Puerto_Rico:20201030T133000
DTEND;TZID=America/Puerto_Rico:20201030T153000
DTSTAMP:20260424T043214
CREATED:20200923T212646Z
LAST-MODIFIED:20200924T182509Z
UID:55801-1604064600-1604071800@energia.pr.gov
SUMMARY:Vista Administrativa  NEPR-QR-2019-0058
DESCRIPTION:
URL:https://energia.pr.gov/evento/vista-administrativa-nepr-qr-2019-0058-3/
LOCATION:Salón de Vistas del Negociado de Energía de Puerto Rico\, Edificio World Plaza\, 268 Ave. Muñoz Rivera\, Piso 8\, San Juan\, 00918\, Puerto Rico
CATEGORIES:QUERELLA
ORGANIZER;CN="Negociado de Energ%C3%ADa de Puerto Rico":MAILTO:nepr@jrsp.pr.gov
END:VEVENT
END:VCALENDAR