BEGIN:VCALENDAR
VERSION:2.0
PRODID:-//NEPR - ECPv6.15.20//NONSGML v1.0//EN
CALSCALE:GREGORIAN
METHOD:PUBLISH
X-WR-CALNAME:NEPR
X-ORIGINAL-URL:https://energia.pr.gov
X-WR-CALDESC:Eventos para NEPR
REFRESH-INTERVAL;VALUE=DURATION:PT1H
X-Robots-Tag:noindex
X-PUBLISHED-TTL:PT1H
BEGIN:VTIMEZONE
TZID:America/Puerto_Rico
BEGIN:STANDARD
TZOFFSETFROM:-0400
TZOFFSETTO:-0400
TZNAME:AST
DTSTART:20220101T000000
END:STANDARD
END:VTIMEZONE
BEGIN:VEVENT
DTSTART;TZID=America/Puerto_Rico:20230216T090000
DTEND;TZID=America/Puerto_Rico:20230217T160000
DTSTAMP:20260419T210017
CREATED:20220922T145459Z
LAST-MODIFIED:20230221T190105Z
UID:67675-1676538000-1676649600@energia.pr.gov
SUMMARY:Virtual Public Hearings NEPR-AP-2020-0025
DESCRIPTION:Nota: Será transmitida en vivo a través del canal de YouTube del Negociado de Energía. \nWill be streamed live via the Energy Bureau’s YouTube Channel \n**YouTube Link: https://www.youtube.com/channel/UCxZYn-qt1k0Lu9TX37-11oA \n***Resolución Link: https://energia.pr.gov/wp-content/uploads/sites/7/2022/09/20220916-AP20200025-Resolution-and-Order.pdf \nResolution Link: https://energia.pr.gov/wp-content/uploads/sites/7/2022/10/20221014-AP20200025-Resolution-and-Order.pdf
URL:https://energia.pr.gov/evento/virtual-public-hearings-nepr-ap-2020-0025/
LOCATION:Virtual
CATEGORIES:Virtual Public Hearing
ORGANIZER;CN="Negociado de Energ%C3%ADa de Puerto Rico":MAILTO:nepr@jrsp.pr.gov
END:VEVENT
END:VCALENDAR