BEGIN:VCALENDAR
VERSION:2.0
PRODID:-//NEPR - ECPv6.15.20//NONSGML v1.0//EN
CALSCALE:GREGORIAN
METHOD:PUBLISH
X-ORIGINAL-URL:https://energia.pr.gov
X-WR-CALDESC:Eventos para NEPR
REFRESH-INTERVAL;VALUE=DURATION:PT1H
X-Robots-Tag:noindex
X-PUBLISHED-TTL:PT1H
BEGIN:VTIMEZONE
TZID:America/Puerto_Rico
BEGIN:STANDARD
TZOFFSETFROM:-0400
TZOFFSETTO:-0400
TZNAME:AST
DTSTART:20220101T000000
END:STANDARD
END:VTIMEZONE
BEGIN:VEVENT
DTSTART;TZID=America/Puerto_Rico:20230620T100000
DTEND;TZID=America/Puerto_Rico:20230620T170000
DTSTAMP:20260419T141643
CREATED:20230411T180527Z
LAST-MODIFIED:20230504T194937Z
UID:69856-1687255200-1687280400@energia.pr.gov
SUMMARY:Virtual Public Hearing NEPR-MI-2021-0004
DESCRIPTION:IN RE: REVIEW OF LUMA’S INITIAL BUDGETS \nNota: Será transmitida en vivo a través del canal de YouTube del Negociado de Energía. \nWill be streamed live via the Energy Bureau’s YouTube Channel \n**YouTube Link: https://www.youtube.com/channel/UCxZYn-qt1k0Lu9TX37-11oA \nResolution and Order Link: https://energia.pr.gov/wp-content/uploads/sites/7/2023/04/20230411-MI20210004-Resolution-and-Order.pdf \nREsolution and Order: https://energia.pr.gov/wp-content/uploads/sites/7/2023/05/20230503-MI20210004-Resolution-and-Order.pdf \n 
URL:https://energia.pr.gov/evento/virtual-public-hearing-nepr-mi-2021-0004-2/
LOCATION:Virtual
CATEGORIES:Virtual Public Hearing
ORGANIZER;CN="Negociado de Energ%C3%ADa de Puerto Rico":MAILTO:nepr@jrsp.pr.gov
END:VEVENT
END:VCALENDAR