BEGIN:VCALENDAR
VERSION:2.0
PRODID:-//NEPR - ECPv6.15.20//NONSGML v1.0//EN
CALSCALE:GREGORIAN
METHOD:PUBLISH
X-WR-CALNAME:NEPR
X-ORIGINAL-URL:https://energia.pr.gov
X-WR-CALDESC:Eventos para NEPR
REFRESH-INTERVAL;VALUE=DURATION:PT1H
X-Robots-Tag:noindex
X-PUBLISHED-TTL:PT1H
BEGIN:VTIMEZONE
TZID:America/Puerto_Rico
BEGIN:STANDARD
TZOFFSETFROM:-0400
TZOFFSETTO:-0400
TZNAME:AST
DTSTART:20190101T000000
END:STANDARD
END:VTIMEZONE
BEGIN:VEVENT
DTSTART;TZID=America/Puerto_Rico:20200501T140000
DTEND;TZID=America/Puerto_Rico:20200501T160000
DTSTAMP:20260419T223230
CREATED:20200312T172646Z
LAST-MODIFIED:20200312T172646Z
UID:54054-1588341600-1588348800@energia.pr.gov
SUMMARY:Vista Administrativa  NEPR-RV-2019-0070
DESCRIPTION:
URL:https://energia.pr.gov/evento/vista-administrativa-nepr-rv-2019-0070-2/
LOCATION:Salón de Vistas del Negociado de Energía de Puerto Rico\, Edificio World Plaza\, 268 Ave. Muñoz Rivera\, Piso 8\, San Juan\, 00918\, Puerto Rico
CATEGORIES:REVISIÓN DE FACTURAS
ORGANIZER;CN="Negociado de Energ%C3%ADa de Puerto Rico":MAILTO:nepr@jrsp.pr.gov
END:VEVENT
BEGIN:VEVENT
DTSTART;TZID=America/Puerto_Rico:20200506T100000
DTEND;TZID=America/Puerto_Rico:20200506T120000
DTSTAMP:20260419T223230
CREATED:20200127T185833Z
LAST-MODIFIED:20200224T141953Z
UID:53190-1588759200-1588766400@energia.pr.gov
SUMMARY:Vista Administrativa  NEPR-QR-2019-0114
DESCRIPTION:
URL:https://energia.pr.gov/evento/vista-administrativa-nepr-qr-2019-0114-2/
LOCATION:Salón de Conferencias de los Comisionados-NEPR\, Edificio World Plaza Ave. Muñoz Rivera Suite 701\, San Juan\, Puerto Rico\, 00918\, Puerto Rico
CATEGORIES:QUERELLA
ORGANIZER;CN="Negociado de Energ%C3%ADa de Puerto Rico":MAILTO:nepr@jrsp.pr.gov
END:VEVENT
BEGIN:VEVENT
DTSTART;TZID=America/Puerto_Rico:20200513T100000
DTEND;TZID=America/Puerto_Rico:20200513T120000
DTSTAMP:20260419T223230
CREATED:20200211T134839Z
LAST-MODIFIED:20200220T154055Z
UID:53496-1589364000-1589371200@energia.pr.gov
SUMMARY:Vista Administrativa  NEPR-RV-2020-0008
DESCRIPTION:
URL:https://energia.pr.gov/evento/conferencia-con-antelacion-a-vista-vista-administrativa-nepr-rv-2019-0066/
LOCATION:Salón de Conferencias de los Comisionados-NEPR\, Edificio World Plaza Ave. Muñoz Rivera Suite 701\, San Juan\, Puerto Rico\, 00918\, Puerto Rico
CATEGORIES:REVISIÓN DE FACTURAS
ORGANIZER;CN="Negociado de Energ%C3%ADa de Puerto Rico":MAILTO:nepr@jrsp.pr.gov
END:VEVENT
BEGIN:VEVENT
DTSTART;TZID=America/Puerto_Rico:20200520T133000
DTEND;TZID=America/Puerto_Rico:20200520T153000
DTSTAMP:20260419T223230
CREATED:20200220T154631Z
LAST-MODIFIED:20210514T174802Z
UID:53651-1589981400-1589988600@energia.pr.gov
SUMMARY:Conferencia con antelación a vista & Vista Administrativa  NEPR-QR-2019-0095
DESCRIPTION:Edna Ramos Laboy v. AEE
URL:https://energia.pr.gov/evento/conferencia-con-antelacion-a-vista-vista-administrativa-nepr-qr-2019-0095/
LOCATION:Salón de Conferencias de los Comisionados-NEPR\, Edificio World Plaza Ave. Muñoz Rivera Suite 701\, San Juan\, Puerto Rico\, 00918\, Puerto Rico
CATEGORIES:QUERELLA
ORGANIZER;CN="Negociado de Energ%C3%ADa de Puerto Rico":MAILTO:nepr@jrsp.pr.gov
END:VEVENT
BEGIN:VEVENT
DTSTART;TZID=America/Puerto_Rico:20200521T090000
DTEND;TZID=America/Puerto_Rico:20200521T110000
DTSTAMP:20260419T223230
CREATED:20200312T172801Z
LAST-MODIFIED:20200312T172801Z
UID:54057-1590051600-1590058800@energia.pr.gov
SUMMARY:Vista Administrativa  NEPR-QR-2019-0058
DESCRIPTION:
URL:https://energia.pr.gov/evento/vista-administrativa-nepr-qr-2019-0058/
LOCATION:Salón de Conferencias de los Comisionados-NEPR\, Edificio World Plaza Ave. Muñoz Rivera Suite 701\, San Juan\, Puerto Rico\, 00918\, Puerto Rico
CATEGORIES:QUERELLA
ORGANIZER;CN="Negociado de Energ%C3%ADa de Puerto Rico":MAILTO:nepr@jrsp.pr.gov
END:VEVENT
BEGIN:VEVENT
DTSTART;TZID=America/Puerto_Rico:20200521T093000
DTEND;TZID=America/Puerto_Rico:20200521T120000
DTSTAMP:20260419T223230
CREATED:20200313T201419Z
LAST-MODIFIED:20200313T201419Z
UID:54155-1590053400-1590062400@energia.pr.gov
SUMMARY:Vista Administrativa  NEPR-QR-2019-0114
DESCRIPTION:
URL:https://energia.pr.gov/evento/vista-administrativa-nepr-qr-2019-0114-3/
CATEGORIES:QUERELLA
ORGANIZER;CN="Negociado de Energ%C3%ADa de Puerto Rico":MAILTO:nepr@jrsp.pr.gov
END:VEVENT
END:VCALENDAR