BEGIN:VCALENDAR
VERSION:2.0
PRODID:-//NEPR - ECPv6.15.20//NONSGML v1.0//EN
CALSCALE:GREGORIAN
METHOD:PUBLISH
X-WR-CALNAME:NEPR
X-ORIGINAL-URL:https://energia.pr.gov
X-WR-CALDESC:Eventos para NEPR
REFRESH-INTERVAL;VALUE=DURATION:PT1H
X-Robots-Tag:noindex
X-PUBLISHED-TTL:PT1H
BEGIN:VTIMEZONE
TZID:America/Puerto_Rico
BEGIN:STANDARD
TZOFFSETFROM:-0400
TZOFFSETTO:-0400
TZNAME:AST
DTSTART:20190101T000000
END:STANDARD
END:VTIMEZONE
BEGIN:VEVENT
DTSTART;TZID=America/Puerto_Rico:20200729T093000
DTEND;TZID=America/Puerto_Rico:20200729T113000
DTSTAMP:20260419T174410
CREATED:20200720T153428Z
LAST-MODIFIED:20200720T153428Z
UID:55418-1596015000-1596022200@energia.pr.gov
SUMMARY:Vista Administrativa  NEPR-RV-2020-0035 (Procedimiento Sumario)
DESCRIPTION:
URL:https://energia.pr.gov/evento/vista-administrativa-nepr-rv-2020-0035-procedimiento-sumario/
LOCATION:Salón de Vistas del Negociado de Energía de Puerto Rico\, Edificio World Plaza\, 268 Ave. Muñoz Rivera\, Piso 8\, San Juan\, 00918\, Puerto Rico
CATEGORIES:REVISIÓN DE FACTURAS
ORGANIZER;CN="Negociado de Energ%C3%ADa de Puerto Rico":MAILTO:nepr@jrsp.pr.gov
END:VEVENT
BEGIN:VEVENT
DTSTART;TZID=America/Puerto_Rico:20200729T133000
DTEND;TZID=America/Puerto_Rico:20200729T153000
DTSTAMP:20260419T174410
CREATED:20200720T153648Z
LAST-MODIFIED:20200720T153648Z
UID:55417-1596029400-1596036600@energia.pr.gov
SUMMARY:Vista Administrativa NEPR-RV-2020-0036 (Procedimiento Sumario)
DESCRIPTION:
URL:https://energia.pr.gov/evento/vista-administrativa-nepr-rv-2020-0036-procedimiento-sumario/
LOCATION:Salón de Vistas del Negociado de Energía de Puerto Rico\, Edificio World Plaza\, 268 Ave. Muñoz Rivera\, Piso 8\, San Juan\, 00918\, Puerto Rico
CATEGORIES:REVISIÓN DE FACTURAS
ORGANIZER;CN="Negociado de Energ%C3%ADa de Puerto Rico":MAILTO:nepr@jrsp.pr.gov
END:VEVENT
BEGIN:VEVENT
DTSTART;TZID=America/Puerto_Rico:20200730T093000
DTEND;TZID=America/Puerto_Rico:20200730T113000
DTSTAMP:20260419T174410
CREATED:20200724T185621Z
LAST-MODIFIED:20200724T185621Z
UID:55401-1596101400-1596108600@energia.pr.gov
SUMMARY:Vista Administrativa  NEPR-RV-2020-0037 (Procedimiento Sumario)
DESCRIPTION:
URL:https://energia.pr.gov/evento/vista-administrativa-nepr-rv-2020-0037-procedimiento-sumario-2/
LOCATION:Salón de Vistas del Negociado de Energía de Puerto Rico\, Edificio World Plaza\, 268 Ave. Muñoz Rivera\, Piso 8\, San Juan\, 00918\, Puerto Rico
CATEGORIES:REVISIÓN DE FACTURAS
ORGANIZER;CN="Negociado de Energ%C3%ADa de Puerto Rico":MAILTO:nepr@jrsp.pr.gov
END:VEVENT
BEGIN:VEVENT
DTSTART;TZID=America/Puerto_Rico:20200730T133000
DTEND;TZID=America/Puerto_Rico:20200730T153000
DTSTAMP:20260419T174410
CREATED:20200720T153944Z
LAST-MODIFIED:20200720T153944Z
UID:55416-1596115800-1596123000@energia.pr.gov
SUMMARY:Vista Administrativa  NEPR-RV-2020-0038 (Procedimiento Sumario)
DESCRIPTION:
URL:https://energia.pr.gov/evento/vista-administrativa-nepr-rv-2020-0038-procedimiento-sumario/
LOCATION:Salón de Vistas del Negociado de Energía de Puerto Rico\, Edificio World Plaza\, 268 Ave. Muñoz Rivera\, Piso 8\, San Juan\, 00918\, Puerto Rico
CATEGORIES:REVISIÓN DE FACTURAS
ORGANIZER;CN="Negociado de Energ%C3%ADa de Puerto Rico":MAILTO:nepr@jrsp.pr.gov
END:VEVENT
BEGIN:VEVENT
DTSTART;TZID=America/Puerto_Rico:20200731T093000
DTEND;TZID=America/Puerto_Rico:20200731T113000
DTSTAMP:20260419T174410
CREATED:20200720T154035Z
LAST-MODIFIED:20200720T154035Z
UID:55415-1596187800-1596195000@energia.pr.gov
SUMMARY:Vista Administrativa  NEPR-RV-2020-0039 (Procedimiento Sumario)
DESCRIPTION:
URL:https://energia.pr.gov/evento/vista-administrativa-nepr-rv-2020-0039-procedimiento-sumario/
LOCATION:Salón de Vistas del Negociado de Energía de Puerto Rico\, Edificio World Plaza\, 268 Ave. Muñoz Rivera\, Piso 8\, San Juan\, 00918\, Puerto Rico
CATEGORIES:REVISIÓN DE FACTURAS
ORGANIZER;CN="Negociado de Energ%C3%ADa de Puerto Rico":MAILTO:nepr@jrsp.pr.gov
END:VEVENT
BEGIN:VEVENT
DTSTART;TZID=America/Puerto_Rico:20200731T133000
DTEND;TZID=America/Puerto_Rico:20200731T153000
DTSTAMP:20260419T174410
CREATED:20200720T154134Z
LAST-MODIFIED:20200720T154134Z
UID:55414-1596202200-1596209400@energia.pr.gov
SUMMARY:Vista Administrativa  NEPR-RV-2020-0040 (Procedimiento Sumario)
DESCRIPTION:
URL:https://energia.pr.gov/evento/vista-administrativa-nepr-rv-2020-0040-procedimiento-sumario/
LOCATION:Salón de Vistas del Negociado de Energía de Puerto Rico\, Edificio World Plaza\, 268 Ave. Muñoz Rivera\, Piso 8\, San Juan\, 00918\, Puerto Rico
CATEGORIES:REVISIÓN DE FACTURAS
ORGANIZER;CN="Negociado de Energ%C3%ADa de Puerto Rico":MAILTO:nepr@jrsp.pr.gov
END:VEVENT
END:VCALENDAR