BEGIN:VCALENDAR
VERSION:2.0
PRODID:-//NEPR - ECPv6.15.20//NONSGML v1.0//EN
CALSCALE:GREGORIAN
METHOD:PUBLISH
X-WR-CALNAME:NEPR
X-ORIGINAL-URL:https://energia.pr.gov
X-WR-CALDESC:Eventos para NEPR
REFRESH-INTERVAL;VALUE=DURATION:PT1H
X-Robots-Tag:noindex
X-PUBLISHED-TTL:PT1H
BEGIN:VTIMEZONE
TZID:America/Puerto_Rico
BEGIN:STANDARD
TZOFFSETFROM:-0400
TZOFFSETTO:-0400
TZNAME:AST
DTSTART:20190101T000000
END:STANDARD
END:VTIMEZONE
BEGIN:VEVENT
DTSTART;TZID=America/Puerto_Rico:20201104T093000
DTEND;TZID=America/Puerto_Rico:20201104T170000
DTSTAMP:20260420T020217
CREATED:20201015T201515Z
LAST-MODIFIED:20201015T201528Z
UID:56301-1604482200-1604509200@energia.pr.gov
SUMMARY:Virtual Technical Conference  NEPR-AP-2018-0004
DESCRIPTION:IN RE: The unbundling of the assets of Puerto Rico Electric Power Authority \nLa Conferencia Técnica del caso referencia será transmitida en vivo a través del Canal del NEPR. Este es el enlace al canal: https://www.youtube.com/channel/UCxZYn-qt1k0Lu9TX37-11oA
URL:https://energia.pr.gov/evento/virtual-technical-conference-nepr-ap-2018-0004/
CATEGORIES:CONFERENCIA TÉCNICA
ORGANIZER;CN="Negociado de Energ%C3%ADa de Puerto Rico":MAILTO:nepr@jrsp.pr.gov
END:VEVENT
BEGIN:VEVENT
DTSTART;TZID=America/Puerto_Rico:20201106T093000
DTEND;TZID=America/Puerto_Rico:20201106T113000
DTSTAMP:20260420T020217
CREATED:20200924T151933Z
LAST-MODIFIED:20201008T144308Z
UID:55828-1604655000-1604662200@energia.pr.gov
SUMMARY:Vista Administrativa  NEPR-RV-2020-0075 (Procedimiento Sumario)
DESCRIPTION:
URL:https://energia.pr.gov/evento/vista-administrativa-nepr-rv-2020-0075-procedimiento-sumario/
LOCATION:Salón de Vistas del Negociado de Energía de Puerto Rico\, Edificio World Plaza\, 268 Ave. Muñoz Rivera\, Piso 8\, San Juan\, 00918\, Puerto Rico
CATEGORIES:REVISIÓN DE FACTURAS
ORGANIZER;CN="Negociado de Energ%C3%ADa de Puerto Rico":MAILTO:nepr@jrsp.pr.gov
END:VEVENT
BEGIN:VEVENT
DTSTART;TZID=America/Puerto_Rico:20201106T133000
DTEND;TZID=America/Puerto_Rico:20201106T153000
DTSTAMP:20260420T020217
CREATED:20201020T155437Z
LAST-MODIFIED:20201020T155437Z
UID:56397-1604669400-1604676600@energia.pr.gov
SUMMARY:Vista Administrativa  NEPR-RV-2020-0081 (Procedimiento Sumario)
DESCRIPTION:
URL:https://energia.pr.gov/evento/vista-administrativa-nepr-rv-2020-0081-procedimiento-sumario/
LOCATION:Salón de Vistas del Negociado de Energía de Puerto Rico\, Edificio World Plaza\, 268 Ave. Muñoz Rivera\, Piso 8\, San Juan\, 00918\, Puerto Rico
CATEGORIES:REVISIÓN DE FACTURAS
ORGANIZER;CN="Negociado de Energ%C3%ADa de Puerto Rico":MAILTO:nepr@jrsp.pr.gov
END:VEVENT
BEGIN:VEVENT
DTSTART;TZID=America/Puerto_Rico:20201109T133000
DTEND;TZID=America/Puerto_Rico:20201109T153000
DTSTAMP:20260420T020217
CREATED:20201022T131211Z
LAST-MODIFIED:20201022T131211Z
UID:56425-1604928600-1604935800@energia.pr.gov
SUMMARY:Vista Administrativa  NEPR-RV-2020-0084 (Procedimiento Sumario)
DESCRIPTION:
URL:https://energia.pr.gov/evento/vista-administrativa-nepr-rv-2020-0084-procedimiento-sumario/
LOCATION:Secretaría-Negociado de Energía de Puerto Rico\, Edificio World Plaza\, 268 Ave. Muñoz Rivera\, Suite 202\, San Juan\, 00918\, Puerto Rico
CATEGORIES:REVISIÓN DE FACTURAS
ORGANIZER;CN="Negociado de Energ%C3%ADa de Puerto Rico":MAILTO:nepr@jrsp.pr.gov
END:VEVENT
BEGIN:VEVENT
DTSTART;TZID=America/Puerto_Rico:20201110T100000
DTEND;TZID=America/Puerto_Rico:20201110T170000
DTSTAMP:20260420T020217
CREATED:20200810T182343Z
LAST-MODIFIED:20201020T162006Z
UID:55368-1605002400-1605027600@energia.pr.gov
SUMMARY:Vista de Cumplimiento  NEPR-MI-2019-0016
DESCRIPTION:In Re: Informes de Progreso de Interconexión de la Autoridad de Energía Eléctrica de Puerto Rico\nAsunto: Presentación de Informes Trimestrales \nLa Vista de Cumplimiento del caso referencia será transmitida en vivo a través del Canal del NEPR. Este es el enlace al canal: https://www.youtube.com/channel/UCxZYn-qt1k0Lu9TX37-11oA
URL:https://energia.pr.gov/evento/vista-de-cumplimiento-nepr-mi-2019-0016/
LOCATION:Salón de Vistas del Negociado de Energía de Puerto Rico\, Edificio World Plaza\, 268 Ave. Muñoz Rivera\, Piso 8\, San Juan\, 00918\, Puerto Rico
CATEGORIES:VISTA-DE-CUMPLIMIENTO
ORGANIZER;CN="Negociado de Energ%C3%ADa de Puerto Rico":MAILTO:nepr@jrsp.pr.gov
END:VEVENT
BEGIN:VEVENT
DTSTART;TZID=America/Puerto_Rico:20201112T093000
DTEND;TZID=America/Puerto_Rico:20201112T113000
DTSTAMP:20260420T020217
CREATED:20200904T170116Z
LAST-MODIFIED:20200924T153407Z
UID:55446-1605173400-1605180600@energia.pr.gov
SUMMARY:Vista Administrativa  NEPR-RV-2020-0027
DESCRIPTION:
URL:https://energia.pr.gov/evento/vista-administrativa-nepr-rv-2020-0027/
LOCATION:Salón de Vistas del Negociado de Energía de Puerto Rico\, Edificio World Plaza\, 268 Ave. Muñoz Rivera\, Piso 8\, San Juan\, 00918\, Puerto Rico
CATEGORIES:REVISIÓN DE FACTURAS
ORGANIZER;CN="Negociado de Energ%C3%ADa de Puerto Rico":MAILTO:nepr@jrsp.pr.gov
END:VEVENT
BEGIN:VEVENT
DTSTART;TZID=America/Puerto_Rico:20201113T080000
DTEND;TZID=America/Puerto_Rico:20201113T170000
DTSTAMP:20260420T020217
CREATED:20200930T132052Z
LAST-MODIFIED:20200930T132122Z
UID:56029-1605254400-1605286800@energia.pr.gov
SUMMARY:Conferencia con antelación a vista & Vista Administrativa  NEPR-RV-2019-0066
DESCRIPTION:
URL:https://energia.pr.gov/evento/conferencia-con-antelacion-a-vista-vista-administrativa-nepr-rv-2019-0066-3/
LOCATION:Salón de Vistas del Negociado de Energía de Puerto Rico\, Edificio World Plaza\, 268 Ave. Muñoz Rivera\, Piso 8\, San Juan\, 00918\, Puerto Rico
CATEGORIES:REVISIÓN DE FACTURAS
ORGANIZER;CN="Negociado de Energ%C3%ADa de Puerto Rico":MAILTO:nepr@jrsp.pr.gov
END:VEVENT
BEGIN:VEVENT
DTSTART;TZID=America/Puerto_Rico:20201113T093000
DTEND;TZID=America/Puerto_Rico:20201113T113000
DTSTAMP:20260420T020217
CREATED:20201028T133453Z
LAST-MODIFIED:20201028T133646Z
UID:56542-1605259800-1605267000@energia.pr.gov
SUMMARY:Vista Administrativa  NEPR-RV-2020-0086 (Procedimiento Sumario)
DESCRIPTION:
URL:https://energia.pr.gov/evento/vista-administrativa-nepr-rv-2020-0086-procedimiento-sumario/
LOCATION:Salón de Vistas del Negociado de Energía de Puerto Rico\, Edificio World Plaza\, 268 Ave. Muñoz Rivera\, Piso 8\, San Juan\, 00918\, Puerto Rico
CATEGORIES:REVISIÓN DE FACTURAS
ORGANIZER;CN="Negociado de Energ%C3%ADa de Puerto Rico":MAILTO:nepr@jrsp.pr.gov
END:VEVENT
BEGIN:VEVENT
DTSTART;TZID=America/Puerto_Rico:20201113T133000
DTEND;TZID=America/Puerto_Rico:20201113T153000
DTSTAMP:20260420T020217
CREATED:20201006T191325Z
LAST-MODIFIED:20201028T140001Z
UID:56159-1605274200-1605281400@energia.pr.gov
SUMMARY:Vista Administrativa  NEPR-RV-2020-0077 (Procedimiento Sumario)
DESCRIPTION:
URL:https://energia.pr.gov/evento/vista-administrativa-nepr-rv-2020-0077-procedimiento-sumario/
LOCATION:Salón de Vistas del Negociado de Energía de Puerto Rico\, Edificio World Plaza\, 268 Ave. Muñoz Rivera\, Piso 8\, San Juan\, 00918\, Puerto Rico
CATEGORIES:REVISIÓN DE FACTURAS
ORGANIZER;CN="Negociado de Energ%C3%ADa de Puerto Rico":MAILTO:nepr@jrsp.pr.gov
END:VEVENT
BEGIN:VEVENT
DTSTART;TZID=America/Puerto_Rico:20201116T133000
DTEND;TZID=America/Puerto_Rico:20201116T153000
DTSTAMP:20260420T020217
CREATED:20201028T133238Z
LAST-MODIFIED:20201028T133238Z
UID:56537-1605533400-1605540600@energia.pr.gov
SUMMARY:Vista Evidenciaria  NEPR-QR-2020-0034
DESCRIPTION:
URL:https://energia.pr.gov/evento/vista-evidenciaria-nepr-qr-2020-0034-2/
LOCATION:Salón de Vistas del Negociado de Energía de Puerto Rico\, Edificio World Plaza\, 268 Ave. Muñoz Rivera\, Piso 8\, San Juan\, 00918\, Puerto Rico
CATEGORIES:QUERELLA
ORGANIZER;CN="Negociado de Energ%C3%ADa de Puerto Rico":MAILTO:nepr@jrsp.pr.gov
END:VEVENT
BEGIN:VEVENT
DTSTART;TZID=America/Puerto_Rico:20201116T140000
DTEND;TZID=America/Puerto_Rico:20201116T160000
DTSTAMP:20260420T020217
CREATED:20201110T211005Z
LAST-MODIFIED:20201110T211005Z
UID:56842-1605535200-1605542400@energia.pr.gov
SUMMARY:Vista Argumentativa  NEPR-QR-2020-0028
DESCRIPTION:
URL:https://energia.pr.gov/evento/vista-argumentativa-nepr-qr-2020-0028/
LOCATION:Salón de Vistas del Negociado de Energía de Puerto Rico\, Edificio World Plaza\, 268 Ave. Muñoz Rivera\, Piso 8\, San Juan\, 00918\, Puerto Rico
CATEGORIES:QUERELLA
ORGANIZER;CN="Negociado de Energ%C3%ADa de Puerto Rico":MAILTO:nepr@jrsp.pr.gov
END:VEVENT
BEGIN:VEVENT
DTSTART;TZID=America/Puerto_Rico:20201117T093000
DTEND;TZID=America/Puerto_Rico:20201117T113000
DTSTAMP:20260420T020217
CREATED:20201028T134151Z
LAST-MODIFIED:20211112T132359Z
UID:56549-1605605400-1605612600@energia.pr.gov
SUMMARY:Vista Administrativa NEPR-RV-2020-0023 (Procedimiento Sumario)
DESCRIPTION:Eric N. Velázquez Esparra v. AEE
URL:https://energia.pr.gov/evento/vista-administrativa-nepr-rv-2020-0023-procedimiento-sumario-2/
LOCATION:Salón de Vistas del Negociado de Energía de Puerto Rico\, Edificio World Plaza\, 268 Ave. Muñoz Rivera\, Piso 8\, San Juan\, 00918\, Puerto Rico
CATEGORIES:REVISIÓN DE FACTURAS
ORGANIZER;CN="Negociado de Energ%C3%ADa de Puerto Rico":MAILTO:nepr@jrsp.pr.gov
END:VEVENT
BEGIN:VEVENT
DTSTART;TZID=America/Puerto_Rico:20201117T133000
DTEND;TZID=America/Puerto_Rico:20201117T163000
DTSTAMP:20260420T020217
CREATED:20201104T154545Z
LAST-MODIFIED:20201104T154545Z
UID:56657-1605619800-1605630600@energia.pr.gov
SUMMARY:Conferencia con antelación a vista & Vista Administrativa  NEPR-QR-2019-0175
DESCRIPTION:
URL:https://energia.pr.gov/evento/conferencia-con-antelacion-a-vista-vista-administrativa-nepr-qr-2019-0175-5/
LOCATION:Salón de Vistas del Negociado de Energía de Puerto Rico\, Edificio World Plaza\, 268 Ave. Muñoz Rivera\, Piso 8\, San Juan\, 00918\, Puerto Rico
CATEGORIES:QUERELLA
ORGANIZER;CN="Negociado de Energ%C3%ADa de Puerto Rico":MAILTO:nepr@jrsp.pr.gov
END:VEVENT
BEGIN:VEVENT
DTSTART;TZID=America/Puerto_Rico:20201118T133000
DTEND;TZID=America/Puerto_Rico:20201118T153000
DTSTAMP:20260420T020217
CREATED:20201028T200048Z
LAST-MODIFIED:20201118T144550Z
UID:56604-1605706200-1605713400@energia.pr.gov
SUMMARY:Vista Administrativa  NEPR-QR-2020-0036
DESCRIPTION:
URL:https://energia.pr.gov/evento/vista-administrativa-nepr-qr-2020-0036-2/
LOCATION:Presidencia
CATEGORIES:QUERELLA
ORGANIZER;CN="Negociado de Energ%C3%ADa de Puerto Rico":MAILTO:nepr@jrsp.pr.gov
END:VEVENT
BEGIN:VEVENT
DTSTART;TZID=America/Puerto_Rico:20201123T133000
DTEND;TZID=America/Puerto_Rico:20201123T153000
DTSTAMP:20260420T020217
CREATED:20201028T195955Z
LAST-MODIFIED:20201028T195955Z
UID:56601-1606138200-1606145400@energia.pr.gov
SUMMARY:Vista Evidenciaria  NEPR-QR-2019-0194
DESCRIPTION:
URL:https://energia.pr.gov/evento/vista-evidenciaria-nepr-qr-2019-0194/
LOCATION:Salón de Vistas del Negociado de Energía de Puerto Rico\, Edificio World Plaza\, 268 Ave. Muñoz Rivera\, Piso 8\, San Juan\, 00918\, Puerto Rico
CATEGORIES:QUERELLA
ORGANIZER;CN="Negociado de Energ%C3%ADa de Puerto Rico":MAILTO:nepr@jrsp.pr.gov
END:VEVENT
BEGIN:VEVENT
DTSTART;TZID=America/Puerto_Rico:20201124T140000
DTEND;TZID=America/Puerto_Rico:20201124T160000
DTSTAMP:20260420T020217
CREATED:20201029T171700Z
LAST-MODIFIED:20201029T171700Z
UID:56610-1606226400-1606233600@energia.pr.gov
SUMMARY:Vista Administrativa  NEPR-RV-2020-0088 (Procedimiento Sumario)
DESCRIPTION:
URL:https://energia.pr.gov/evento/vista-administrativa-nepr-rv-2020-0088-procedimiento-sumario/
LOCATION:Salón de Vistas del Negociado de Energía de Puerto Rico\, Edificio World Plaza\, 268 Ave. Muñoz Rivera\, Piso 8\, San Juan\, 00918\, Puerto Rico
CATEGORIES:REVISIÓN DE FACTURAS
ORGANIZER;CN="Negociado de Energ%C3%ADa de Puerto Rico":MAILTO:nepr@jrsp.pr.gov
END:VEVENT
END:VCALENDAR