BEGIN:VCALENDAR
VERSION:2.0
PRODID:-//NEPR - ECPv6.15.20//NONSGML v1.0//EN
CALSCALE:GREGORIAN
METHOD:PUBLISH
X-ORIGINAL-URL:https://energia.pr.gov
X-WR-CALDESC:Eventos para NEPR
REFRESH-INTERVAL;VALUE=DURATION:PT1H
X-Robots-Tag:noindex
X-PUBLISHED-TTL:PT1H
BEGIN:VTIMEZONE
TZID:America/Puerto_Rico
BEGIN:STANDARD
TZOFFSETFROM:-0400
TZOFFSETTO:-0400
TZNAME:AST
DTSTART:20200101T000000
END:STANDARD
END:VTIMEZONE
BEGIN:VEVENT
DTSTART;TZID=America/Puerto_Rico:20210608T130000
DTEND;TZID=America/Puerto_Rico:20210608T173000
DTSTAMP:20260420T135738
CREATED:20200810T182809Z
LAST-MODIFIED:20210507T191458Z
UID:55366-1623157200-1623173400@energia.pr.gov
SUMMARY:Vista de Cumplimiento NEPR-MI-2019-0016
DESCRIPTION:In Re: Informes de Progreso de Interconexión de la Autoridad de Energía Eléctrica de Puerto Rico \nAsunto: Presentación de Informes Trimestrales \nNota: Será transmitida en vivo a través del canal de YouTube del Negociado de Energía. Link: https://www.youtube.com/channel/UCxZYn-qt1k0Lu9TX37-11oA
URL:https://energia.pr.gov/evento/vista-de-cumplimiento-nepr-mi-2019-0016-3/
LOCATION:Salón de Vistas del Negociado de Energía de Puerto Rico\, Edificio World Plaza\, 268 Ave. Muñoz Rivera\, Piso 8\, San Juan\, 00918\, Puerto Rico
CATEGORIES:VISTA-DE-CUMPLIMIENTO
ORGANIZER;CN="Negociado de Energ%C3%ADa de Puerto Rico":MAILTO:nepr@jrsp.pr.gov
END:VEVENT
BEGIN:VEVENT
DTSTART;TZID=America/Puerto_Rico:20210615T133000
DTEND;TZID=America/Puerto_Rico:20210615T173000
DTSTAMP:20260420T135738
CREATED:20210426T132141Z
LAST-MODIFIED:20210507T192202Z
UID:59674-1623763800-1623778200@energia.pr.gov
SUMMARY:Virtual Technical Conference  NEPR-MI-2021-0006
DESCRIPTION:In Re: Demand Response Plan \nNota: Será transmitida en vivo a través del canal de YouTube del Negociado de Energía. Link: https://www.youtube.com/channel/UCxZYn-qt1k0Lu9TX37-11oA
URL:https://energia.pr.gov/evento/virtual-technical-conference-nepr-mi-2021-0006/
CATEGORIES:CONFERENCIA TÉCNICA
END:VEVENT
BEGIN:VEVENT
DTSTART;TZID=America/Puerto_Rico:20210616T093000
DTEND;TZID=America/Puerto_Rico:20210616T113000
DTSTAMP:20260420T135738
CREATED:20210203T145232Z
LAST-MODIFIED:20210416T141026Z
UID:58199-1623835800-1623843000@energia.pr.gov
SUMMARY:Vista Administrativa  NEPR-RV-2021-0006 (Procedimiento Sumario)
DESCRIPTION:
URL:https://energia.pr.gov/evento/vista-administrativa-nepr-rv-2021-0006-procedimiento-sumario-2/
LOCATION:Salón de Vistas del Negociado de Energía de Puerto Rico\, Edificio World Plaza\, 268 Ave. Muñoz Rivera\, Piso 8\, San Juan\, 00918\, Puerto Rico
CATEGORIES:REVISIÓN DE FACTURAS
ORGANIZER;CN="Negociado de Energ%C3%ADa de Puerto Rico":MAILTO:nepr@jrsp.pr.gov
END:VEVENT
BEGIN:VEVENT
DTSTART;TZID=America/Puerto_Rico:20210622T133000
DTEND;TZID=America/Puerto_Rico:20210622T153000
DTSTAMP:20260420T135738
CREATED:20210524T205637Z
LAST-MODIFIED:20210525T133319Z
UID:60698-1624368600-1624375800@energia.pr.gov
SUMMARY:Vista Administrativa  NEPR-RV-2021-0057
DESCRIPTION:Joannie González Acevedo v. AEE
URL:https://energia.pr.gov/evento/vista-administrativa-nepr-rv-2021-0057/
LOCATION:Salón de Vistas del Negociado de Energía de Puerto Rico\, Edificio World Plaza\, 268 Ave. Muñoz Rivera\, Piso 8\, San Juan\, 00918\, Puerto Rico
CATEGORIES:REVISIÓN DE FACTURAS
ORGANIZER;CN="Negociado de Energ%C3%ADa de Puerto Rico":MAILTO:nepr@jrsp.pr.gov
END:VEVENT
BEGIN:VEVENT
DTSTART;TZID=America/Puerto_Rico:20210622T133000
DTEND;TZID=America/Puerto_Rico:20210622T173000
DTSTAMP:20260420T135738
CREATED:20210621T192619Z
LAST-MODIFIED:20210621T192619Z
UID:61240-1624368600-1624383000@energia.pr.gov
SUMMARY:Conferencia Técnica Virtual NEPR-MI-2020-0001
DESCRIPTION:In Re: Tarifa Permanente de la Autoridad de Energía Eléctrica de Puerto Rico
URL:https://energia.pr.gov/evento/conferencia-tecnica-virtual-nepr-mi-2020-0001-5/
CATEGORIES:CONFERENCIA TÉCNICA
END:VEVENT
BEGIN:VEVENT
DTSTART;TZID=America/Puerto_Rico:20210623T100000
DTEND;TZID=America/Puerto_Rico:20210623T160000
DTSTAMP:20260420T135738
CREATED:20210621T151149Z
LAST-MODIFIED:20210621T151443Z
UID:61186-1624442400-1624464000@energia.pr.gov
SUMMARY:Technical Workshop  NEPR-MI-2020-0016
DESCRIPTION:IN RE: Optimization Proceeding of Minigrid Transmission and Distribution Investments \n  \nSUBJECT: June 2021 Technical Workshop
URL:https://energia.pr.gov/evento/technical-workshop-nepr-mi-2020-0016/
CATEGORIES:Workshop
ORGANIZER;CN="Negociado de Energ%C3%ADa de Puerto Rico":MAILTO:nepr@jrsp.pr.gov
END:VEVENT
BEGIN:VEVENT
DTSTART;TZID=America/Puerto_Rico:20210623T133000
DTEND;TZID=America/Puerto_Rico:20210623T153000
DTSTAMP:20260420T135738
CREATED:20210315T123656Z
LAST-MODIFIED:20210621T171321Z
UID:58974-1624455000-1624462200@energia.pr.gov
SUMMARY:Vista sobre Estado de los Procedimientos  NEPR-RV-2021-0023
DESCRIPTION:Rodolfo Alicea Santiago v. AEE
URL:https://energia.pr.gov/evento/vista-administrativa-nepr-rv-2021-0023-procedimiento-sumario/
LOCATION:Salón de Vistas del Negociado de Energía de Puerto Rico\, Edificio World Plaza\, 268 Ave. Muñoz Rivera\, Piso 8\, San Juan\, 00918\, Puerto Rico
CATEGORIES:REVISIÓN DE FACTURAS
ORGANIZER;CN="Negociado de Energ%C3%ADa de Puerto Rico":MAILTO:nepr@jrsp.pr.gov
END:VEVENT
BEGIN:VEVENT
DTSTART;TZID=America/Puerto_Rico:20210624T093000
DTEND;TZID=America/Puerto_Rico:20210624T113000
DTSTAMP:20260420T135738
CREATED:20210216T155712Z
LAST-MODIFIED:20210602T191917Z
UID:58533-1624527000-1624534200@energia.pr.gov
SUMMARY:Estado de los Procedimientos NEPR-QR-2020-0029
DESCRIPTION:
URL:https://energia.pr.gov/evento/estado-de-los-procedimientos-nepr-qr-2020-0029/
LOCATION:Salón de Vistas del Negociado de Energía de Puerto Rico\, Edificio World Plaza\, 268 Ave. Muñoz Rivera\, Piso 8\, San Juan\, 00918\, Puerto Rico
CATEGORIES:QUERELLA
ORGANIZER;CN="Negociado de Energ%C3%ADa de Puerto Rico":MAILTO:nepr@jrsp.pr.gov
END:VEVENT
BEGIN:VEVENT
DTSTART;TZID=America/Puerto_Rico:20210629T133000
DTEND;TZID=America/Puerto_Rico:20210629T153000
DTSTAMP:20260420T135738
CREATED:20210525T184029Z
LAST-MODIFIED:20210525T184029Z
UID:60734-1624973400-1624980600@energia.pr.gov
SUMMARY:Conferencia con antelación a vista  NEPR-QR-2020-0069
DESCRIPTION:Ivette Fébregas Ruiz\, et al. v. AEE
URL:https://energia.pr.gov/evento/conferencia-con-antelacion-a-vista-nepr-qr-2020-0069/
LOCATION:Salón de Vistas del Negociado de Energía de Puerto Rico\, Edificio World Plaza\, 268 Ave. Muñoz Rivera\, Piso 8\, San Juan\, 00918\, Puerto Rico
CATEGORIES:QUERELLA
ORGANIZER;CN="Negociado de Energ%C3%ADa de Puerto Rico":MAILTO:nepr@jrsp.pr.gov
END:VEVENT
BEGIN:VEVENT
DTSTART;TZID=America/Puerto_Rico:20210630T093000
DTEND;TZID=America/Puerto_Rico:20210630T123000
DTSTAMP:20260420T135738
CREATED:20210621T151043Z
LAST-MODIFIED:20210630T175917Z
UID:61184-1625045400-1625056200@energia.pr.gov
SUMMARY:Technical Workshop 1  NEPR-MI-2021-0009
DESCRIPTION:In Re: Puerto Rico Test for Demand Response and Energy Efficiency \n  \nSubject: Schedule for Technical Workshops \nPara prevenir la propagación del Covid-19\, el Taller Técnico se llevará a cabo de manera remota a través de la plataforma Microsoft Teams y será transmitido en vivo a través del Canal de YouTube del Negociado de Energía. Cualquier persona interesada en participar en el Taller Técnico debe solicitar acceso en o antes de las 2:00 p.m. del día antes de cada Taller Técnico\, (i) enviando un correo electrónico a secretaria@jrsp.pr.gov; o (ii) comunicándose con la Secretaría del Negociado de Energía al (787) 523-6262. \n  \nTo prevent the spread of Covid-19\, the Technical Workshop will be held remotely via the Microsoft Teams platform and livestreamed via the Energy Bureau’s YouTube Channel. All persons interested in participating in the Technical Workshop must request access on or before 2:00 p.m. of the day before each scheduled Technical Workshop\, by (i) sending an email to secretaria@jrsp.pr.gov; or (ii) contacting the Energy Bureau’s Clerk at (787) 523-6262. \n  \n**YouTube Link: https://www.youtube.com/channel/UCxZYn-qt1k0Lu9TX37-11oA \n***Resolution / Resolución Link: https://energia.pr.gov/wp-content/uploads/sites/7/2021/06/20210616-MI20210009-Resolution.pdf
URL:https://energia.pr.gov/evento/technical-workshop-1-nepr-mi-2021-0009/
CATEGORIES:Workshop
ORGANIZER;CN="Negociado de Energ%C3%ADa de Puerto Rico":MAILTO:nepr@jrsp.pr.gov
END:VEVENT
END:VCALENDAR