BEGIN:VCALENDAR
VERSION:2.0
PRODID:-//NEPR - ECPv6.15.20//NONSGML v1.0//EN
CALSCALE:GREGORIAN
METHOD:PUBLISH
X-ORIGINAL-URL:https://energia.pr.gov
X-WR-CALDESC:Eventos para NEPR
REFRESH-INTERVAL;VALUE=DURATION:PT1H
X-Robots-Tag:noindex
X-PUBLISHED-TTL:PT1H
BEGIN:VTIMEZONE
TZID:America/Puerto_Rico
BEGIN:STANDARD
TZOFFSETFROM:-0400
TZOFFSETTO:-0400
TZNAME:AST
DTSTART:20200101T000000
END:STANDARD
END:VTIMEZONE
BEGIN:VEVENT
DTSTART;TZID=America/Puerto_Rico:20210805T140000
DTEND;TZID=America/Puerto_Rico:20210805T160000
DTSTAMP:20260420T173411
CREATED:20210603T181443Z
LAST-MODIFIED:20210707T154539Z
UID:60907-1628172000-1628179200@energia.pr.gov
SUMMARY:Vista Administrativa NEPR-RV-2021-0060
DESCRIPTION:Ana L. Rivera Valcarcel vs. Autoridad de Energía Eléctrica de Puerto Rico
URL:https://energia.pr.gov/evento/vista-administrativa-nepr-rv-2021-0060/
LOCATION:Salón de Vistas del Negociado de Energía de Puerto Rico\, Edificio World Plaza\, 268 Ave. Muñoz Rivera\, Piso 8\, San Juan\, 00918\, Puerto Rico
CATEGORIES:REVISIÓN DE FACTURAS
ORGANIZER;CN="Negociado de Energ%C3%ADa de Puerto Rico":MAILTO:nepr@jrsp.pr.gov
END:VEVENT
BEGIN:VEVENT
DTSTART;TZID=America/Puerto_Rico:20210809T143000
DTEND;TZID=America/Puerto_Rico:20210809T163000
DTSTAMP:20260420T173411
CREATED:20210708T181123Z
LAST-MODIFIED:20210809T133631Z
UID:61722-1628519400-1628526600@energia.pr.gov
SUMMARY:Vista Argumentativa  NEPR-RV-2019-0194
DESCRIPTION:POSADAS DE PUERTO RICO ASSOCIATES LLC H/N/C THE CONDADO PLAZA HILTON (antes Posada de Puerto Rico Associates Incorporated) v. AEE
URL:https://energia.pr.gov/evento/vista-argumentativa-nepr-rv-2019-0194-3/
LOCATION:Salón de Vistas del Negociado de Energía de Puerto Rico\, Edificio World Plaza\, 268 Ave. Muñoz Rivera\, Piso 8\, San Juan\, 00918\, Puerto Rico
CATEGORIES:REVISIÓN DE FACTURAS
ORGANIZER;CN="Negociado de Energ%C3%ADa de Puerto Rico":MAILTO:nepr@jrsp.pr.gov
END:VEVENT
BEGIN:VEVENT
DTSTART;TZID=America/Puerto_Rico:20210811T100000
DTEND;TZID=America/Puerto_Rico:20210811T133000
DTSTAMP:20260420T173411
CREATED:20210723T145026Z
LAST-MODIFIED:20210809T132244Z
UID:62103-1628676000-1628688600@energia.pr.gov
SUMMARY:Second Virtual Technical Conference  NEPR-MI-2021-0008
DESCRIPTION:IN RE: Review of Luma’s Model Bill \nSubject: Amendment to Procedural Calendar \nNota: Será transmitida en vivo a través del canal de YouTube del Negociado de Energía. \nWill be streamed live via the Energy Bureau’s YouTube Channel \n*YouTube Link: https://www.youtube.com/channel/UCxZYn-qt1k0Lu9TX37-11oA \n***Resolution Link: https://energia.pr.gov/wp-content/uploads/sites/7/2021/07/20210722-MI20210008-Resolution-and-Order-calendar.pdf \n  \n  \n 
URL:https://energia.pr.gov/evento/second-virtual-technical-conference-nepr-mi-2021-0008/
CATEGORIES:CONFERENCIA TÉCNICA
ORGANIZER;CN="Negociado de Energ%C3%ADa de Puerto Rico":MAILTO:nepr@jrsp.pr.gov
END:VEVENT
BEGIN:VEVENT
DTSTART;TZID=America/Puerto_Rico:20210812T100000
DTEND;TZID=America/Puerto_Rico:20210812T173000
DTSTAMP:20260420T173411
CREATED:20210208T220416Z
LAST-MODIFIED:20210811T143312Z
UID:58381-1628762400-1628789400@energia.pr.gov
SUMMARY:Public Hearing  NEPR-AP-2018-0004
DESCRIPTION:IN RE: The unbundling of the assets of the Puerto Rico Electric Power Authority \nSUBJECT: Procedures for the Development of an Unbundling Rate \n  \nPara prevenir la propagación del Covid-19\, el Taller Técnico se llevará a cabo de manera remota a través de la plataforma Microsoft Teams y será transmitido en vivo a través del Canal de YouTube del Negociado de Energía. Cualquier persona interesada en participar en la Vista Pública debe solicitar acceso en o antes de las 3:00 p.m. del día antes de la Vista Pública Virtual\, (i) enviando un correo electrónico a secretaria@jrsp.pr.gov; o (ii) comunicándose con la Secretaría del Negociado de Energía al (787) 523-6262. \n  \nTo prevent the spread of Covid-19\, the Technical Workshop will be held remotely via the Microsoft Teams platform and livestreamed via the Energy Bureau’s YouTube Channel. All persons interested in participating in the Public Hearing must request access on or before 3:00 p.m. of the day before the Virtual Public Hearing\, by (i) sending an email to secretaria@jrsp.pr.gov; or (ii) contacting the Energy Bureau’s Clerk at (787) 523-6262. \n  \n**YouTube Link: https://www.youtube.com/channel/UCxZYn-qt1k0Lu9TX37-11oA \nResolution / Resolución Link:  https://energia.pr.gov/wp-content/uploads/sites/7/2021/06/20210622-AP20180004-Resolution-and-Order.pdf \n***Resolution Link: https://energia.pr.gov/wp-content/uploads/sites/7/2021/08/20210810-AP20180004-Resolution-and-Order.pdf \n  \n  \n 
URL:https://energia.pr.gov/evento/public-hearing-nepr-ap-2018-0004/
CATEGORIES:Public Hearing
ORGANIZER;CN="Negociado de Energ%C3%ADa de Puerto Rico":MAILTO:nepr@jrsp.pr.gov
END:VEVENT
BEGIN:VEVENT
DTSTART;TZID=America/Puerto_Rico:20210813T100000
DTEND;TZID=America/Puerto_Rico:20210813T173000
DTSTAMP:20260420T173411
CREATED:20210719T141103Z
LAST-MODIFIED:20210719T141409Z
UID:61953-1628848800-1628875800@energia.pr.gov
SUMMARY:Conferencia Técnica Virtual  NEPR-MI-2019-0005
DESCRIPTION:IN RE: Revisión del Programa Comprensivo de Manejo de Vegetación de la Autoridad de Energía Eléctrica de Puerto Rico. \n**YouTube Link: https://www.youtube.com/channel/UCxZYn-qt1k0Lu9TX37-11oA \n***Resolution Link: https://energia.pr.gov/wp-content/uploads/sites/7/2021/07/20210716-MI20190005-Resolucion-y-Orden-calendario-procesal-1.pdf
URL:https://energia.pr.gov/evento/conferencia-tecnica-virtual-nepr-mi-2019-0005/
CATEGORIES:CONFERENCIA TÉCNICA
ORGANIZER;CN="Negociado de Energ%C3%ADa de Puerto Rico":MAILTO:nepr@jrsp.pr.gov
END:VEVENT
BEGIN:VEVENT
DTSTART;TZID=America/Puerto_Rico:20210816T100000
DTEND;TZID=America/Puerto_Rico:20210816T120000
DTSTAMP:20260420T173411
CREATED:20210809T132618Z
LAST-MODIFIED:20210811T133145Z
UID:62376-1629108000-1629115200@energia.pr.gov
SUMMARY:Vista de Cumplimiento Virtual  MI-2019-0016 LUMA Informe de Progreso de Interconexión
DESCRIPTION:In Re: Informes de Progreso de Interconexión de la Autoridad de Energía Eléctrica de Puerto Rico \nNota: Será transmitida en vivo a través del canal de YouTube del Negociado de Energía. \nWill be streamed live via the Energy Bureau’s YouTube Channel \n**YouTube Link: https://www.youtube.com/channel/UCxZYn-qt1k0Lu9TX37-11oA \n***Resolution Link: https://energia.pr.gov/wp-content/uploads/sites/7/2021/08/20210806-MI20190016-Resolucion-y-Orden.pdf \n 
URL:https://energia.pr.gov/evento/vista-de-cumplimiento-virtual-mi-2019-0016-luma-informe-de-progreso-de-interconexion/
CATEGORIES:VISTA-DE-CUMPLIMIENTO
ORGANIZER;CN="Negociado de Energ%C3%ADa de Puerto Rico":MAILTO:nepr@jrsp.pr.gov
END:VEVENT
BEGIN:VEVENT
DTSTART;TZID=America/Puerto_Rico:20210817T090000
DTEND;TZID=America/Puerto_Rico:20210817T173000
DTSTAMP:20260420T173411
CREATED:20210506T195305Z
LAST-MODIFIED:20210723T191551Z
UID:60065-1629190800-1629221400@energia.pr.gov
SUMMARY:Virtual Public Hearing - NEPR-MI-2021-0008
DESCRIPTION:In Re: Review of LUMA Model Bill \nPara prevenir la propagación del Covid-19\, la Vista Publica Virtual se llevará a cabo de manera remota a través de la plataforma Microsoft Teams y será transmitido en vivo a través del Canal de YouTube del Negociado de Energía. Cualquier persona interesada presentar comentarios orales durante la Vista Pública debe solicitar acceso en o antes del lunes\, 16 de agosto de 2021 antes de las 3:00 p.m..\, (i) enviando un correo electrónico a secretaria@jrsp.pr.gov; o (ii) comunicándose con la Secretaría del Negociado de Energía al (787) 523-6262. \n  \nTo prevent the spread of Covid-19\, the Virtual Public Hearing will be held remotely via the Microsoft Teams platform and livestreamed via the Energy Bureau’s YouTube Channel. All persons interested in participating in the Virtual Public Hearing must request access on Monday\, August 16\, 2021 on or before at 3:00 p.m.\, by (i) sending an email to secretaria@jrsp.pr.gov; or (ii) contacting the Energy Bureau’s Clerk at (787) 523-6262. \n**YouTube Link: https://www.youtube.com/channel/UCxZYn-qt1k0Lu9TX37-11oA \n***Resolution / Resolución Link:  https://energia.pr.gov/wp-content/uploads/sites/7/2021/06/20210624-MI20210008-Resolution-and-Order-Procedural-Calendar.pdf \n 
URL:https://energia.pr.gov/evento/virtual-public-hearing-nepr-mi-2021-0008/
CATEGORIES:Public Hearing
ORGANIZER;CN="Negociado de Energ%C3%ADa de Puerto Rico":MAILTO:nepr@jrsp.pr.gov
END:VEVENT
BEGIN:VEVENT
DTSTART;TZID=America/Puerto_Rico:20210817T100000
DTEND;TZID=America/Puerto_Rico:20210817T120000
DTSTAMP:20260420T173411
CREATED:20210701T135107Z
LAST-MODIFIED:20210701T135107Z
UID:61578-1629194400-1629201600@energia.pr.gov
SUMMARY:Vista Administrativa  NEPR-QR-2020-0069
DESCRIPTION:Ivette Fábregas Ruiz\, et al. v. Sunnova Energy Corporation\, et al.
URL:https://energia.pr.gov/evento/vista-administrativa-nepr-qr-2020-0069-2/
LOCATION:Salón de Vistas del Negociado de Energía de Puerto Rico\, Edificio World Plaza\, 268 Ave. Muñoz Rivera\, Piso 8\, San Juan\, 00918\, Puerto Rico
CATEGORIES:QUERELLA
ORGANIZER;CN="Negociado de Energ%C3%ADa de Puerto Rico":MAILTO:nepr@jrsp.pr.gov
END:VEVENT
BEGIN:VEVENT
DTSTART;TZID=America/Puerto_Rico:20210823T100000
DTEND;TZID=America/Puerto_Rico:20210823T140000
DTSTAMP:20260420T173411
CREATED:20210723T171543Z
LAST-MODIFIED:20210723T174940Z
UID:62109-1629712800-1629727200@energia.pr.gov
SUMMARY:Virtual Technical Conference  NEPR-MI-2021-0012
DESCRIPTION:IN RE: Review of the Puerto Rico Electric Power Authority’s Hydroelectric Study \nSUBJECT: Technical Conference and Determination of Confidential Designation \nNota: Será transmitida en vivo a través del canal de YouTube del Negociado de Energía. \nWill be streamed live via the Energy Bureau’s YouTube Channel \n**YouTube Link: https://www.youtube.com/channel/UCxZYn-qt1k0Lu9TX37-11oA \n***Resolution and Orden Link: https://energia.pr.gov/wp-content/uploads/sites/7/2021/07/20210722-MI20210012-Resolution-and-Order-Hydroelectric-Study.pdf
URL:https://energia.pr.gov/evento/virtual-technical-conference-nepr-mi-2021-0012/
CATEGORIES:CONFERENCIA TÉCNICA
ORGANIZER;CN="Negociado de Energ%C3%ADa de Puerto Rico":MAILTO:nepr@jrsp.pr.gov
END:VEVENT
BEGIN:VEVENT
DTSTART;TZID=America/Puerto_Rico:20210824T090000
DTEND;TZID=America/Puerto_Rico:20210824T173000
DTSTAMP:20260420T173411
CREATED:20210719T141826Z
LAST-MODIFIED:20210719T141826Z
UID:61963-1629795600-1629826200@energia.pr.gov
SUMMARY:Vista Pública Virtual  NEPR-MI-2019-0005
DESCRIPTION:IN RE: Revisión del Programa Comprensivo de Manejo de Vegetación de la Autoridad de Energía Eléctrica de Puerto Rico \n  \nPara prevenir la propagación del Covid-19\, la Vista Publica Virtual se llevará a cabo de manera remota a través de la plataforma Microsoft Teams y será transmitido en vivo a través del Canal de YouTube del Negociado de Energía. Cualquier persona interesada presentar comentarios orales durante la Vista Pública debe solicitar acceso en o antes del viernes\, 20 de agosto de 2021 las 3:00 p.m.\, (i) enviando un correo electrónico a secretaria@jrsp.pr.gov; o (ii) comunicándose con la Secretaría del Negociado de Energía al (787) 523-6262. \n**YouTube Link: https://www.youtube.com/channel/UCxZYn-qt1k0Lu9TX37-11oA \n***Resolution Link: https://energia.pr.gov/wp-content/uploads/sites/7/2021/07/20210716-MI20190005-Resolucion-y-Orden-calendario-procesal-1.pdf
URL:https://energia.pr.gov/evento/vista-publica-virtual-nepr-mi-2019-0005/
CATEGORIES:Public Hearing
ORGANIZER;CN="Negociado de Energ%C3%ADa de Puerto Rico":MAILTO:nepr@jrsp.pr.gov
END:VEVENT
BEGIN:VEVENT
DTSTART;TZID=America/Puerto_Rico:20210824T133000
DTEND;TZID=America/Puerto_Rico:20210824T163000
DTSTAMP:20260420T173411
CREATED:20210803T125931Z
LAST-MODIFIED:20210803T130010Z
UID:62211-1629811800-1629822600@energia.pr.gov
SUMMARY:Conferencia con Antelación a Vista y Vista Administrativa  NEPR-QR-2021-0032
DESCRIPTION:Juan José Santiago Ortiz v. AEE
URL:https://energia.pr.gov/evento/conferencia-con-antelacion-y-vista-administrativa-nepr-qr-2021-0032/
LOCATION:Salón de Vistas del Negociado de Energía de Puerto Rico\, Edificio World Plaza\, 268 Ave. Muñoz Rivera\, Piso 8\, San Juan\, 00918\, Puerto Rico
CATEGORIES:QUERELLA
ORGANIZER;CN="Negociado de Energ%C3%ADa de Puerto Rico":MAILTO:nepr@jrsp.pr.gov
END:VEVENT
BEGIN:VEVENT
DTSTART;TZID=America/Puerto_Rico:20210825T093000
DTEND;TZID=America/Puerto_Rico:20210825T123000
DTSTAMP:20260420T173411
CREATED:20210621T150217Z
LAST-MODIFIED:20210630T182920Z
UID:61179-1629883800-1629894600@energia.pr.gov
SUMMARY:Technical Workshop 3  NEPR-MI-2021-0009
DESCRIPTION:In Re: Puerto Rico Test for Demand Response and Energy Efficiency \n  \nSubject: Schedule for Technical Workshops \n  \nPara prevenir la propagación del Covid-19\, el Taller Técnico se llevará a cabo de manera remota a través de la plataforma Microsoft Teams y será transmitido en vivo a través del Canal de YouTube del Negociado de Energía. Cualquier persona interesada en participar en el Taller Técnico debe solicitar acceso en o antes de las 2:00 p.m. del día antes de cada Taller Técnico\, (i) enviando un correo electrónico a secretaria@jrsp.pr.gov; o (ii) comunicándose con la Secretaría del Negociado de Energía al (787) 523-6262. \n  \nTo prevent the spread of Covid-19\, the Technical Workshop will be held remotely via the Microsoft Teams platform and livestreamed via the Energy Bureau’s YouTube Channel. All persons interested in participating in the Technical Workshop must request access on or before 2:00 p.m. of the day before each scheduled Technical Workshop\, by (i) sending an email to secretaria@jrsp.pr.gov; or (ii) contacting the Energy Bureau’s Clerk at (787) 523-6262. \n  \n**YouTube Link: https://www.youtube.com/channel/UCxZYn-qt1k0Lu9TX37-11oA \n***Resolution / Resolución Link: https://energia.pr.gov/wp-content/uploads/sites/7/2021/06/20210616-MI20210009-Resolution.pdf
URL:https://energia.pr.gov/evento/technical-workshop-3-nepr-mi-2021-0009/
CATEGORIES:Workshop
ORGANIZER;CN="Negociado de Energ%C3%ADa de Puerto Rico":MAILTO:nepr@jrsp.pr.gov
END:VEVENT
BEGIN:VEVENT
DTSTART;TZID=America/Puerto_Rico:20210826T100000
DTEND;TZID=America/Puerto_Rico:20210826T160000
DTSTAMP:20260420T173411
CREATED:20210823T143413Z
LAST-MODIFIED:20210823T143720Z
UID:62655-1629972000-1629993600@energia.pr.gov
SUMMARY:Conferencia Técnica Virtual - MI-2020-0001 Tarifa Permanente (Reconciliaciones y Factores Propuestos)
DESCRIPTION:IN RE: Tarifa Permanente de la Autoridad de Energía Eléctrica de Puerto Rico \nASUNTO: Comparecencia a Conferencia Técnica \nNota: Será transmitida en vivo a través del canal de YouTube del Negociado de Energía. \nWill be streamed live via the Energy Bureau’s YouTube Channel \n**YouTube Link: https://www.youtube.com/channel/UCxZYn-qt1k0Lu9TX37-11oA \n***Resolution Link: https://energia.pr.gov/wp-content/uploads/sites/7/2021/08/20210820-MI20200001-Resolucion-y-Orden.pdf
URL:https://energia.pr.gov/evento/conferencia-tecnica-virtual-mi-2020-0001-tarifa-permanente-reconciliaciones-y-factores-propuestos/
LOCATION:Salón de Vistas del Negociado de Energía de Puerto Rico\, Edificio World Plaza\, 268 Ave. Muñoz Rivera\, Piso 8\, San Juan\, 00918\, Puerto Rico
CATEGORIES:CONFERENCIA TÉCNICA
ORGANIZER;CN="Negociado de Energ%C3%ADa de Puerto Rico":MAILTO:nepr@jrsp.pr.gov
END:VEVENT
BEGIN:VEVENT
DTSTART;TZID=America/Puerto_Rico:20210826T133000
DTEND;TZID=America/Puerto_Rico:20210826T153000
DTSTAMP:20260420T173411
CREATED:20210723T205335Z
LAST-MODIFIED:20210723T205335Z
UID:62163-1629984600-1629991800@energia.pr.gov
SUMMARY:Vista Transaccional  NEPR-QR-2019-0164
DESCRIPTION:Rubén Bonilla Pérez v. AEE
URL:https://energia.pr.gov/evento/vista-transaccional-nepr-qr-2019-0164/
LOCATION:Salón de Vistas del Negociado de Energía de Puerto Rico\, Edificio World Plaza\, 268 Ave. Muñoz Rivera\, Piso 8\, San Juan\, 00918\, Puerto Rico
CATEGORIES:QUERELLA
ORGANIZER;CN="Negociado de Energ%C3%ADa de Puerto Rico":MAILTO:nepr@jrsp.pr.gov
END:VEVENT
BEGIN:VEVENT
DTSTART;TZID=America/Puerto_Rico:20210830T093000
DTEND;TZID=America/Puerto_Rico:20210830T120000
DTSTAMP:20260420T173411
CREATED:20210621T212653Z
LAST-MODIFIED:20210621T212653Z
UID:61258-1630315800-1630324800@energia.pr.gov
SUMMARY:Conferencia con  Antelación a  Vista & Vista Administrativa NEPR-QR-2019-0148
DESCRIPTION:Aida M. Rodríguez Ramos v. AEE 
URL:https://energia.pr.gov/evento/conferencia-con-antelacion-a-vista-vista-administrativa-nepr-qr-2019-0148/
LOCATION:Salón de Vistas del Negociado de Energía de Puerto Rico\, Edificio World Plaza\, 268 Ave. Muñoz Rivera\, Piso 8\, San Juan\, 00918\, Puerto Rico
CATEGORIES:QUERELLA
ORGANIZER;CN="Negociado de Energ%C3%ADa de Puerto Rico":MAILTO:nepr@jrsp.pr.gov
END:VEVENT
BEGIN:VEVENT
DTSTART;TZID=America/Puerto_Rico:20210830T093000
DTEND;TZID=America/Puerto_Rico:20210830T120000
DTSTAMP:20260420T173411
CREATED:20210804T134134Z
LAST-MODIFIED:20210804T134134Z
UID:62226-1630315800-1630324800@energia.pr.gov
SUMMARY:Conferencia con antelación a vista & Vista Administrativa  NEPR-QR-2021-0016
DESCRIPTION:Luis Benítez Hernández v. AEE
URL:https://energia.pr.gov/evento/conferencia-con-antelacion-a-vista-vista-administrativa-nepr-qr-2021-0016/
LOCATION:Salón de Vistas del Negociado de Energía de Puerto Rico\, Edificio World Plaza\, 268 Ave. Muñoz Rivera\, Piso 8\, San Juan\, 00918\, Puerto Rico
CATEGORIES:QUERELLA
ORGANIZER;CN="Negociado de Energ%C3%ADa de Puerto Rico":MAILTO:nepr@jrsp.pr.gov
END:VEVENT
BEGIN:VEVENT
DTSTART;TZID=America/Puerto_Rico:20210830T140000
DTEND;TZID=America/Puerto_Rico:20210830T160000
DTSTAMP:20260420T173411
CREATED:20210811T132913Z
LAST-MODIFIED:20210811T203230Z
UID:62394-1630332000-1630339200@energia.pr.gov
SUMMARY:Vista Estado de los procedimientos (Híbrida)  NEPR-RV-2021-0060
DESCRIPTION:Ana L. Rivera Valcárcel v. AEE
URL:https://energia.pr.gov/evento/vista-estado-de-los-procedimientos-hibrida-nepr-rv-2021-0060/
CATEGORIES:REVISIÓN DE FACTURAS
ORGANIZER;CN="Negociado de Energ%C3%ADa de Puerto Rico":MAILTO:nepr@jrsp.pr.gov
END:VEVENT
BEGIN:VEVENT
DTSTART;TZID=America/Puerto_Rico:20210831T140000
DTEND;TZID=America/Puerto_Rico:20210831T160000
DTSTAMP:20260420T173411
CREATED:20210701T134421Z
LAST-MODIFIED:20210701T134421Z
UID:61571-1630418400-1630425600@energia.pr.gov
SUMMARY:Vista Administrativa NEPR-QR-2021-0051
DESCRIPTION:Roberto Fournier Morales v. Luma Energy\, LLC y AEE 
URL:https://energia.pr.gov/evento/vista-administrativa-nepr-qr-2021-0051/
LOCATION:Salón de Vistas del Negociado de Energía de Puerto Rico\, Edificio World Plaza\, 268 Ave. Muñoz Rivera\, Piso 8\, San Juan\, 00918\, Puerto Rico
CATEGORIES:QUERELLA
ORGANIZER;CN="Negociado de Energ%C3%ADa de Puerto Rico":MAILTO:nepr@jrsp.pr.gov
END:VEVENT
END:VCALENDAR