BEGIN:VCALENDAR
VERSION:2.0
PRODID:-//NEPR - ECPv6.15.20//NONSGML v1.0//EN
CALSCALE:GREGORIAN
METHOD:PUBLISH
X-WR-CALNAME:NEPR
X-ORIGINAL-URL:https://energia.pr.gov
X-WR-CALDESC:Eventos para NEPR
REFRESH-INTERVAL;VALUE=DURATION:PT1H
X-Robots-Tag:noindex
X-PUBLISHED-TTL:PT1H
BEGIN:VTIMEZONE
TZID:America/Puerto_Rico
BEGIN:STANDARD
TZOFFSETFROM:-0400
TZOFFSETTO:-0400
TZNAME:AST
DTSTART:20200101T000000
END:STANDARD
END:VTIMEZONE
BEGIN:VEVENT
DTSTART;TZID=America/Puerto_Rico:20211201T090000
DTEND;TZID=America/Puerto_Rico:20211201T110000
DTSTAMP:20260421T000317
CREATED:20211112T133650Z
LAST-MODIFIED:20211112T135220Z
UID:64156-1638349200-1638356400@energia.pr.gov
SUMMARY:Vista Administrativa NEPR-RV-2021-0070
DESCRIPTION:Maritza Santiago Socia vs. LUMA Energy ServCo\, LLC
URL:https://energia.pr.gov/evento/vista-administrativa-nepr-rv-2021-0070/
LOCATION:Salón de Vistas del Negociado de Energía de Puerto Rico\, Edificio World Plaza\, 268 Ave. Muñoz Rivera\, Piso 8\, San Juan\, 00918\, Puerto Rico
CATEGORIES:REVISIÓN DE FACTURAS
ORGANIZER;CN="Negociado de Energ%C3%ADa de Puerto Rico":MAILTO:nepr@jrsp.pr.gov
END:VEVENT
BEGIN:VEVENT
DTSTART;TZID=America/Puerto_Rico:20211202T093000
DTEND;TZID=America/Puerto_Rico:20211202T113000
DTSTAMP:20260421T000317
CREATED:20211025T175819Z
LAST-MODIFIED:20211025T180113Z
UID:63958-1638437400-1638444600@energia.pr.gov
SUMMARY:Vista Evidenciaria NEPR-QR-2021-0053
DESCRIPTION:Monica Barbosa Ramos
URL:https://energia.pr.gov/evento/vista-evidenciaria-nepr_qr-2021-0053/
LOCATION:Salón de Vistas del Negociado de Energía de Puerto Rico\, Edificio World Plaza\, 268 Ave. Muñoz Rivera\, Piso 8\, San Juan\, 00918\, Puerto Rico
CATEGORIES:QUERELLA
ORGANIZER;CN="Negociado de Energ%C3%ADa de Puerto Rico":MAILTO:nepr@jrsp.pr.gov
END:VEVENT
BEGIN:VEVENT
DTSTART;TZID=America/Puerto_Rico:20211202T133000
DTEND;TZID=America/Puerto_Rico:20211202T140000
DTSTAMP:20260421T000317
CREATED:20210927T173840Z
LAST-MODIFIED:20210927T173840Z
UID:63511-1638451800-1638453600@energia.pr.gov
SUMMARY:Vista Administrativa  NEPR-QR-2019-0139
DESCRIPTION:Juan S. Pagán Rodríguez v. AEE
URL:https://energia.pr.gov/evento/vista-administrativa-nepr-qr-2019-0139/
LOCATION:Salón de Vistas del Negociado de Energía de Puerto Rico\, Edificio World Plaza\, 268 Ave. Muñoz Rivera\, Piso 8\, San Juan\, 00918\, Puerto Rico
CATEGORIES:QUERELLA
ORGANIZER;CN="Negociado de Energ%C3%ADa de Puerto Rico":MAILTO:nepr@jrsp.pr.gov
END:VEVENT
BEGIN:VEVENT
DTSTART;TZID=America/Puerto_Rico:20211202T133000
DTEND;TZID=America/Puerto_Rico:20211202T153000
DTSTAMP:20260421T000317
CREATED:20210927T150401Z
LAST-MODIFIED:20210927T150749Z
UID:63507-1638451800-1638459000@energia.pr.gov
SUMMARY:Vista Administrativa NEPR-QR-2019-139
DESCRIPTION:JUAN S PAGAN RODRIGUEZ
URL:https://energia.pr.gov/evento/vista-administrativa-nepr-qr-2019-139/
LOCATION:Salón de Vistas del Negociado de Energía de Puerto Rico\, Edificio World Plaza\, 268 Ave. Muñoz Rivera\, Piso 8\, San Juan\, 00918\, Puerto Rico
CATEGORIES:QUERELLA
ORGANIZER;CN="Negociado de Energ%C3%ADa de Puerto Rico":MAILTO:nepr@jrsp.pr.gov
END:VEVENT
BEGIN:VEVENT
DTSTART;TZID=America/Puerto_Rico:20211207T110000
DTEND;TZID=America/Puerto_Rico:20211207T130000
DTSTAMP:20260421T000317
CREATED:20210504T184509Z
LAST-MODIFIED:20211206T204813Z
UID:59971-1638874800-1638882000@energia.pr.gov
SUMMARY:Vista Administrativa NEPR-QR-2020-0005
DESCRIPTION:Delfin A. Lorenzo Rosa v. AEE
URL:https://energia.pr.gov/evento/vista-administrativa-nepr-qr-2020-0005/
LOCATION:Salón de Vistas del Negociado de Energía de Puerto Rico\, Edificio World Plaza\, 268 Ave. Muñoz Rivera\, Piso 8\, San Juan\, 00918\, Puerto Rico
CATEGORIES:QUERELLA
ORGANIZER;CN="Negociado de Energ%C3%ADa de Puerto Rico":MAILTO:nepr@jrsp.pr.gov
END:VEVENT
BEGIN:VEVENT
DTSTART;TZID=America/Puerto_Rico:20211208T090000
DTEND;TZID=America/Puerto_Rico:20211208T110000
DTSTAMP:20260421T000317
CREATED:20211117T194511Z
LAST-MODIFIED:20211117T194511Z
UID:64260-1638954000-1638961200@energia.pr.gov
SUMMARY:Vista Administrativa NEPR-RV-2021-0071
DESCRIPTION:Sheila González Vargas vs. LUMA Energy ServCo\, LLC
URL:https://energia.pr.gov/evento/vista-administrativa-nepr-rv-2021-0071/
LOCATION:Salón de Vistas del Negociado de Energía de Puerto Rico\, Edificio World Plaza\, 268 Ave. Muñoz Rivera\, Piso 8\, San Juan\, 00918\, Puerto Rico
CATEGORIES:REVISIÓN DE FACTURAS
ORGANIZER;CN="Negociado de Energ%C3%ADa de Puerto Rico":MAILTO:nepr@jrsp.pr.gov
END:VEVENT
BEGIN:VEVENT
DTSTART;TZID=America/Puerto_Rico:20211209T013000
DTEND;TZID=America/Puerto_Rico:20211209T153000
DTSTAMP:20260421T000317
CREATED:20211118T160134Z
LAST-MODIFIED:20211118T174248Z
UID:64279-1639013400-1639063800@energia.pr.gov
SUMMARY:Vista Administrativa NEPR-RV-2021-0073
DESCRIPTION:Gloriana Colombiani Mendoza vs. LUMA Energy ServCo\, LLC
URL:https://energia.pr.gov/evento/vista-administrativa-nepr-rv-2021-0073/
LOCATION:Salón de Vistas del Negociado de Energía de Puerto Rico\, Edificio World Plaza\, 268 Ave. Muñoz Rivera\, Piso 8\, San Juan\, 00918\, Puerto Rico
CATEGORIES:REVISIÓN DE FACTURAS
ORGANIZER;CN="Negociado de Energ%C3%ADa de Puerto Rico":MAILTO:nepr@jrsp.pr.gov
END:VEVENT
BEGIN:VEVENT
DTSTART;TZID=America/Puerto_Rico:20211209T090000
DTEND;TZID=America/Puerto_Rico:20211209T110000
DTSTAMP:20260421T000317
CREATED:20211117T194629Z
LAST-MODIFIED:20211117T194629Z
UID:64262-1639040400-1639047600@energia.pr.gov
SUMMARY:Vista Administrativa NEPR-RV-2021-0072
DESCRIPTION:María del Mar Rivera Alicea vs. LUMA Energy ServCo\, LLC
URL:https://energia.pr.gov/evento/vista-administrativa-nepr-rv-2021-0072/
LOCATION:Salón de Vistas del Negociado de Energía de Puerto Rico\, Edificio World Plaza\, 268 Ave. Muñoz Rivera\, Piso 8\, San Juan\, 00918\, Puerto Rico
CATEGORIES:REVISIÓN DE FACTURAS
ORGANIZER;CN="Negociado de Energ%C3%ADa de Puerto Rico":MAILTO:nepr@jrsp.pr.gov
END:VEVENT
BEGIN:VEVENT
DTSTART;TZID=America/Puerto_Rico:20211209T133000
DTEND;TZID=America/Puerto_Rico:20211209T153000
DTSTAMP:20260421T000317
CREATED:20211101T204835Z
LAST-MODIFIED:20211101T204835Z
UID:64043-1639056600-1639063800@energia.pr.gov
SUMMARY:Vista Administrativa NEPR-RV-2019-0055; NEPR-RV-2019-0056
DESCRIPTION:MYRIAM GONZÁLEZ PÉREZ
URL:https://energia.pr.gov/evento/vista-administrativa-nepr-rv-2019-0055-nepr-rv-2019-0056/
LOCATION:Salón de Vistas del Negociado de Energía de Puerto Rico\, Edificio World Plaza\, 268 Ave. Muñoz Rivera\, Piso 8\, San Juan\, 00918\, Puerto Rico
CATEGORIES:REVISIÓN DE FACTURAS
ORGANIZER;CN="Negociado de Energ%C3%ADa de Puerto Rico":MAILTO:nepr@jrsp.pr.gov
END:VEVENT
BEGIN:VEVENT
DTSTART;TZID=America/Puerto_Rico:20211210T090000
DTEND;TZID=America/Puerto_Rico:20211210T113000
DTSTAMP:20260421T000317
CREATED:20200818T133100Z
LAST-MODIFIED:20211115T180932Z
UID:55354-1639126800-1639135800@energia.pr.gov
SUMMARY:Vista Administrativa  NEPR-RV-2020-0067
DESCRIPTION:MONICA BARBOSA RAMOS
URL:https://energia.pr.gov/evento/vista-administrativa-nepr-rv-2020-0067-procedimiento-sumario/
LOCATION:Salón de Vistas del Negociado de Energía de Puerto Rico\, Edificio World Plaza\, 268 Ave. Muñoz Rivera\, Piso 8\, San Juan\, 00918\, Puerto Rico
CATEGORIES:REVISIÓN DE FACTURAS
ORGANIZER;CN="Negociado de Energ%C3%ADa de Puerto Rico":MAILTO:nepr@jrsp.pr.gov
END:VEVENT
BEGIN:VEVENT
DTSTART;TZID=America/Puerto_Rico:20211213T103000
DTEND;TZID=America/Puerto_Rico:20211213T133000
DTSTAMP:20260421T000317
CREATED:20211206T205130Z
LAST-MODIFIED:20211206T205130Z
UID:64473-1639391400-1639402200@energia.pr.gov
SUMMARY:NEPR-QR-2020-0029 y 0061 - Conferencia con Antelación a Vista (Virtual)
DESCRIPTION:Maximo Solar Industries \, Inc.\, Windmar PV Energy vs. AEE
URL:https://energia.pr.gov/evento/nepr-qr-2020-0029-y-0061-conferencia-con-antelacion-a-vista-virtual/
CATEGORIES:QUERELLA
ORGANIZER;CN="Negociado de Energ%C3%ADa de Puerto Rico":MAILTO:nepr@jrsp.pr.gov
END:VEVENT
BEGIN:VEVENT
DTSTART;TZID=America/Puerto_Rico:20211213T133000
DTEND;TZID=America/Puerto_Rico:20211213T153000
DTSTAMP:20260421T000317
CREATED:20211129T145633Z
LAST-MODIFIED:20211202T141859Z
UID:64359-1639402200-1639409400@energia.pr.gov
SUMMARY:Vista Evidenciaria NEPR-RV-2019-0018
DESCRIPTION:IVÁN LÓPEZ IRIZARRY \nPROMOVENTE \n  \nvs. \n  \nAUTORIDAD DE ENERGÍA ELÉCTRICA \nDE PUERTO RICO \nPROMOVIDO
URL:https://energia.pr.gov/evento/vista-evidenciaria-nepr-rv-2019-0018/
LOCATION:Salón de Vistas del Negociado de Energía de Puerto Rico\, Edificio World Plaza\, 268 Ave. Muñoz Rivera\, Piso 8\, San Juan\, 00918\, Puerto Rico
CATEGORIES:REVISIÓN DE FACTURAS
ORGANIZER;CN="Negociado de Energ%C3%ADa de Puerto Rico":MAILTO:nepr@jrsp.pr.gov
END:VEVENT
BEGIN:VEVENT
DTSTART;TZID=America/Puerto_Rico:20211213T140000
DTEND;TZID=America/Puerto_Rico:20211213T170000
DTSTAMP:20260421T000317
CREATED:20210104T174203Z
LAST-MODIFIED:20211115T175629Z
UID:57609-1639404000-1639414800@energia.pr.gov
SUMMARY:Vista de Cumplimiento  NEPR-MI-2019-0011
DESCRIPTION:IN RE: Proceso para Adopción de Reglamentación para la Planificación de Recursos de Distribución.\nASUNTO: Principios Aplicables a la Planificación del Sistema de Distribución. \nNota: Será transmitida en vivo a través del canal de YouTube del Negociado de Energía. Link: https://www.youtube.com/channel/UCxZYn-qt1k0Lu9TX37-11oA \nResolución link:https://energia.pr.gov/wp-content/uploads/sites/7/2021/01/Resolucio%CC%81n-y-Orden-NEPR-MI-2019-0011.pdf \n 
URL:https://energia.pr.gov/evento/vista-de-cumplimiento-nepr-mi-2019-0011-4/
LOCATION:Salón de Vistas del Negociado de Energía de Puerto Rico\, Edificio World Plaza\, 268 Ave. Muñoz Rivera\, Piso 8\, San Juan\, 00918\, Puerto Rico
CATEGORIES:VISTA-DE-CUMPLIMIENTO
ORGANIZER;CN="Negociado de Energ%C3%ADa de Puerto Rico":MAILTO:nepr@jrsp.pr.gov
END:VEVENT
BEGIN:VEVENT
DTSTART;TZID=America/Puerto_Rico:20211214T140000
DTEND;TZID=America/Puerto_Rico:20211214T160000
DTSTAMP:20260421T000317
CREATED:20211108T210022Z
LAST-MODIFIED:20211108T210022Z
UID:64117-1639490400-1639497600@energia.pr.gov
SUMMARY:Vista Administrativa  NEPR-QR-2021-0067
DESCRIPTION:Marilyn López Sierra v. LUMA Energy\, LLC. LUMA Energy Servco. LLC y AEE
URL:https://energia.pr.gov/evento/vista-administrativa-nepr-qr-2021-0067/
LOCATION:Salón de Vistas del Negociado de Energía de Puerto Rico\, Edificio World Plaza\, 268 Ave. Muñoz Rivera\, Piso 8\, San Juan\, 00918\, Puerto Rico
CATEGORIES:QUERELLA
ORGANIZER;CN="Negociado de Energ%C3%ADa de Puerto Rico":MAILTO:nepr@jrsp.pr.gov
END:VEVENT
BEGIN:VEVENT
DTSTART;TZID=America/Puerto_Rico:20211215T100000
DTEND;TZID=America/Puerto_Rico:20211215T110000
DTSTAMP:20260421T000317
CREATED:20211112T132924Z
LAST-MODIFIED:20211112T132924Z
UID:64153-1639562400-1639566000@energia.pr.gov
SUMMARY:Oral Hearing NEPR-RV-2021-0006 (Virtual)
DESCRIPTION:EDWARD A. GODOY ALTAMIRA
URL:https://energia.pr.gov/evento/oral-hearing-nepr-rv-2021-0006-virtual/
LOCATION:Virtual
CATEGORIES:REVISIÓN DE FACTURAS
ORGANIZER;CN="Negociado de Energ%C3%ADa de Puerto Rico":MAILTO:nepr@jrsp.pr.gov
END:VEVENT
BEGIN:VEVENT
DTSTART;TZID=America/Puerto_Rico:20211216T093000
DTEND;TZID=America/Puerto_Rico:20211216T113000
DTSTAMP:20260421T000317
CREATED:20210427T142018Z
LAST-MODIFIED:20211008T192701Z
UID:59795-1639647000-1639654200@energia.pr.gov
SUMMARY:Vista Administrativa  NEPR-RV-2021-0041
DESCRIPTION:Roberto Pérez Arnau v. AEE
URL:https://energia.pr.gov/evento/vista-administrativa-nepr-rv-2021-0041/
LOCATION:Salón de Vistas del Negociado de Energía de Puerto Rico\, Edificio World Plaza\, 268 Ave. Muñoz Rivera\, Piso 8\, San Juan\, 00918\, Puerto Rico
CATEGORIES:REVISIÓN DE FACTURAS
ORGANIZER;CN="Negociado de Energ%C3%ADa de Puerto Rico":MAILTO:nepr@jrsp.pr.gov
END:VEVENT
BEGIN:VEVENT
DTSTART;TZID=America/Puerto_Rico:20211217T090000
DTEND;TZID=America/Puerto_Rico:20211217T120000
DTSTAMP:20260421T000317
CREATED:20211116T204351Z
LAST-MODIFIED:20211116T204351Z
UID:64230-1639731600-1639742400@energia.pr.gov
SUMMARY:Conferencia con Antelación y Vista Administrativa NEPR-RV-2019-0165
DESCRIPTION:Lucía Ferreira Aguiar vs. AEE
URL:https://energia.pr.gov/evento/conferencia-con-antelacion-y-vista-administrativa-nepr-rv-2019-0165/
LOCATION:Salón de Vistas del Negociado de Energía de Puerto Rico\, Edificio World Plaza\, 268 Ave. Muñoz Rivera\, Piso 8\, San Juan\, 00918\, Puerto Rico
CATEGORIES:REVISIÓN DE FACTURAS
ORGANIZER;CN="Negociado de Energ%C3%ADa de Puerto Rico":MAILTO:nepr@jrsp.pr.gov
END:VEVENT
BEGIN:VEVENT
DTSTART;TZID=America/Puerto_Rico:20211222T100000
DTEND;TZID=America/Puerto_Rico:20211222T160000
DTSTAMP:20260421T000317
CREATED:20211220T181701Z
LAST-MODIFIED:20211220T181946Z
UID:64624-1640167200-1640188800@energia.pr.gov
SUMMARY:Conferencia Técnica Vitual NEPR-MI-2020-0001
DESCRIPTION:In Re: Puerto Rico Electric Power Authority’s Permanent Rate \nNota: Será transmitida en vivo a través del canal de YouTube del Negociado de Energía. \nWill be streamed live via the Energy Bureau’s YouTube Channel \n**YouTube Link: https://www.youtube.com/channel/UCxZYn-qt1k0Lu9TX37-11oA \n***Resolución Link:https://energia.pr.gov/wp-content/uploads/sites/7/2021/12/20211217-Resolucion-y-Orden-NEPR-MI-2020-0001-Comparecencia-a-Conferencia-Tecnica.pdf
URL:https://energia.pr.gov/evento/conferencia-tecnica-vitual-nepr-mi-2020-0001/
CATEGORIES:CONFERENCIA TÉCNICA
ORGANIZER;CN="Negociado de Energ%C3%ADa de Puerto Rico":MAILTO:nepr@jrsp.pr.gov
END:VEVENT
BEGIN:VEVENT
DTSTART;TZID=America/Puerto_Rico:20211227T143000
DTEND;TZID=America/Puerto_Rico:20211227T163000
DTSTAMP:20260421T000317
CREATED:20211208T125254Z
LAST-MODIFIED:20211208T125710Z
UID:64487-1640615400-1640622600@energia.pr.gov
SUMMARY:Vista Administrativa  NEPR-RV-2021-0077
DESCRIPTION:Wanda Sánchez Morales v. AEE
URL:https://energia.pr.gov/evento/vista-administrativa-nepr-rv-2021-0077/
LOCATION:Salón de Vistas del Negociado de Energía de Puerto Rico\, Edificio World Plaza\, 268 Ave. Muñoz Rivera\, Piso 8\, San Juan\, 00918\, Puerto Rico
CATEGORIES:REVISIÓN DE FACTURAS
ORGANIZER;CN="Negociado de Energ%C3%ADa de Puerto Rico":MAILTO:nepr@jrsp.pr.gov
END:VEVENT
END:VCALENDAR