BEGIN:VCALENDAR
VERSION:2.0
PRODID:-//NEPR - ECPv6.15.20//NONSGML v1.0//EN
CALSCALE:GREGORIAN
METHOD:PUBLISH
X-WR-CALNAME:NEPR
X-ORIGINAL-URL:https://energia.pr.gov
X-WR-CALDESC:Eventos para NEPR
REFRESH-INTERVAL;VALUE=DURATION:PT1H
X-Robots-Tag:noindex
X-PUBLISHED-TTL:PT1H
BEGIN:VTIMEZONE
TZID:America/Puerto_Rico
BEGIN:STANDARD
TZOFFSETFROM:-0400
TZOFFSETTO:-0400
TZNAME:AST
DTSTART:20210101T000000
END:STANDARD
END:VTIMEZONE
BEGIN:VEVENT
DTSTART;TZID=America/Puerto_Rico:20220203T133000
DTEND;TZID=America/Puerto_Rico:20220203T153000
DTSTAMP:20260421T033125
CREATED:20211207T173634Z
LAST-MODIFIED:20211207T173634Z
UID:64481-1643895000-1643902200@energia.pr.gov
SUMMARY:Vista Administrativa  NEPR-QR-2021-0002
DESCRIPTION:JOHNNY CASH & CARRY\, INC. v. AEE
URL:https://energia.pr.gov/evento/vista-administrativa-nepr-qr-2021-0002/
LOCATION:Salón de Vistas del Negociado de Energía de Puerto Rico\, Edificio World Plaza\, 268 Ave. Muñoz Rivera\, Piso 8\, San Juan\, 00918\, Puerto Rico
CATEGORIES:QUERELLA
ORGANIZER;CN="Negociado de Energ%C3%ADa de Puerto Rico":MAILTO:nepr@jrsp.pr.gov
END:VEVENT
BEGIN:VEVENT
DTSTART;TZID=America/Puerto_Rico:20220204T093000
DTEND;TZID=America/Puerto_Rico:20220204T103000
DTSTAMP:20260421T033125
CREATED:20220119T175457Z
LAST-MODIFIED:20220119T175457Z
UID:64916-1643967000-1643970600@energia.pr.gov
SUMMARY:Vista Administrativa NEPR-QR-2019-0015
DESCRIPTION:OFICINA INDEPENDIENTE DE PROTECCIÓN AL CONSIMIDOR \nEn representación de la Sra. Fedelina U. Ravalo \nQUERELLANTE \n vs. \nAUTORIDAD DE ENERGÍA ELÉCTRICA \nDE PUERTO RICO
URL:https://energia.pr.gov/evento/vista-administrativa-nepr-qr-2019-0015/
LOCATION:Salón de Vistas del Negociado de Energía de Puerto Rico\, Edificio World Plaza\, 268 Ave. Muñoz Rivera\, Piso 8\, San Juan\, 00918\, Puerto Rico
CATEGORIES:QUERELLA
ORGANIZER;CN="Negociado de Energ%C3%ADa de Puerto Rico":MAILTO:nepr@jrsp.pr.gov
END:VEVENT
BEGIN:VEVENT
DTSTART;TZID=America/Puerto_Rico:20220204T130000
DTEND;TZID=America/Puerto_Rico:20220204T170000
DTSTAMP:20260421T033125
CREATED:20220131T150836Z
LAST-MODIFIED:20220131T150836Z
UID:65070-1643979600-1643994000@energia.pr.gov
SUMMARY:Stakeholder's Webinar MI-2020-0012 Tranche 2
DESCRIPTION:In Re: Implementation of the Puerto Rico Electric Power Authority Integrated Resource Plan and Modifies Action Plan \nNota: Será transmitida en vivo a través del canal de YouTube del Negociado de Energía. \nWill be streamed live via the Energy Bureau’s YouTube Channel \n**YouTube Link: https://www.youtube.com/channel/UCxZYn-qt1k0Lu9TX37-11oA \n***Resolución Link: https://energia.pr.gov/wp-content/uploads/sites/7/2022/01/20220127-MI20200012-Resolution-and-Order.pdf
URL:https://energia.pr.gov/evento/stakeholders-webinar-mi-2020-0012-tranche-2/
ORGANIZER;CN="Negociado de Energ%C3%ADa de Puerto Rico":MAILTO:nepr@jrsp.pr.gov
END:VEVENT
BEGIN:VEVENT
DTSTART;TZID=America/Puerto_Rico:20220208T100000
DTEND;TZID=America/Puerto_Rico:20220208T140000
DTSTAMP:20260421T033125
CREATED:20211217T133751Z
LAST-MODIFIED:20211217T135459Z
UID:64588-1644314400-1644328800@energia.pr.gov
SUMMARY:Virtual Technical Conference  NEPR-MI-2021-0009
DESCRIPTION:IN RE: Puerto Rico Test for Demand Response and Energy Efficiency \nSUBJECT: Avoided Cost Study November 18\, 2021 Technical Conference  Conclusions and Next Steps \nNota: Será transmitida en vivo a través del canal de YouTube del Negociado de Energía. \nWill be streamed live via the Energy Bureau’s YouTube Channel \n**YouTube Link: https://www.youtube.com/channel/UCxZYn-qt1k0Lu9TX37-11oA \n***Resolución Link: https://energia.pr.gov/wp-content/uploads/sites/7/2021/12/20211214-MI20210009-Resolution-and-Order.pdf
URL:https://energia.pr.gov/evento/virtual-technical-conference-nepr-mi-2021-0009-2/
CATEGORIES:CONFERENCIA TÉCNICA
ORGANIZER;CN="Negociado de Energ%C3%ADa de Puerto Rico":MAILTO:nepr@jrsp.pr.gov
END:VEVENT
BEGIN:VEVENT
DTSTART;TZID=America/Puerto_Rico:20220208T133000
DTEND;TZID=America/Puerto_Rico:20220208T140000
DTSTAMP:20260421T033125
CREATED:20210723T205507Z
LAST-MODIFIED:20211222T173916Z
UID:62165-1644327000-1644328800@energia.pr.gov
SUMMARY:Conferencia con antelación a vista  NEPR-QR-2020-0051
DESCRIPTION:Marisol Ramos Valentín v. AEE
URL:https://energia.pr.gov/evento/conferencia-con-antelacion-a-vista-nepr-qr-2020-0051-2/
LOCATION:Salón de Vistas del Negociado de Energía de Puerto Rico\, Edificio World Plaza\, 268 Ave. Muñoz Rivera\, Piso 8\, San Juan\, 00918\, Puerto Rico
CATEGORIES:QUERELLA
ORGANIZER;CN="Negociado de Energ%C3%ADa de Puerto Rico":MAILTO:nepr@jrsp.pr.gov
END:VEVENT
BEGIN:VEVENT
DTSTART;TZID=America/Puerto_Rico:20220210T093000
DTEND;TZID=America/Puerto_Rico:20220210T113000
DTSTAMP:20260421T033125
CREATED:20220124T150631Z
LAST-MODIFIED:20220124T150631Z
UID:64988-1644485400-1644492600@energia.pr.gov
SUMMARY:Vista Administrativa NEPR-RV-2022-0001
DESCRIPTION:Jorge Luis García Cruz v. AEE
URL:https://energia.pr.gov/evento/vista-administrativa-nepr-rv-2022-0001/
LOCATION:Salón de Vistas del Negociado de Energía de Puerto Rico\, Edificio World Plaza\, 268 Ave. Muñoz Rivera\, Piso 8\, San Juan\, 00918\, Puerto Rico
CATEGORIES:REVISIÓN DE FACTURAS
ORGANIZER;CN="Negociado de Energ%C3%ADa de Puerto Rico":MAILTO:nepr@jrsp.pr.gov
END:VEVENT
BEGIN:VEVENT
DTSTART;TZID=America/Puerto_Rico:20220215T093000
DTEND;TZID=America/Puerto_Rico:20220215T113000
DTSTAMP:20260421T033125
CREATED:20220127T150538Z
LAST-MODIFIED:20220127T150538Z
UID:65022-1644917400-1644924600@energia.pr.gov
SUMMARY:Vista Evidenciaria  NEPR-QR-2021-0081
DESCRIPTION:Luis A. Olivieri \nvs. \nLUMA ENERGY SERVCO\, LLC
URL:https://energia.pr.gov/evento/vista-evidenciaria-nepr-qr-2021-0081/
LOCATION:Salón de Vistas del Negociado de Energía de Puerto Rico\, Edificio World Plaza\, 268 Ave. Muñoz Rivera\, Piso 8\, San Juan\, 00918\, Puerto Rico
CATEGORIES:QUERELLA
ORGANIZER;CN="Negociado de Energ%C3%ADa de Puerto Rico":MAILTO:nepr@jrsp.pr.gov
END:VEVENT
BEGIN:VEVENT
DTSTART;TZID=America/Puerto_Rico:20220216T093000
DTEND;TZID=America/Puerto_Rico:20220216T103000
DTSTAMP:20260421T033125
CREATED:20210813T193155Z
LAST-MODIFIED:20220119T175735Z
UID:62508-1645003800-1645007400@energia.pr.gov
SUMMARY:Evidentiary Hearing NEPR-QR-2021-0026
DESCRIPTION:PBJL ENERGY CORPORATION
URL:https://energia.pr.gov/evento/evidentiary-hearing-nepr-qr-2021-0026/
LOCATION:Salón de Vistas del Negociado de Energía de Puerto Rico\, Edificio World Plaza\, 268 Ave. Muñoz Rivera\, Piso 8\, San Juan\, 00918\, Puerto Rico
CATEGORIES:QUERELLA
ORGANIZER;CN="Negociado de Energ%C3%ADa de Puerto Rico":MAILTO:nepr@jrsp.pr.gov
END:VEVENT
BEGIN:VEVENT
DTSTART;TZID=America/Puerto_Rico:20220217T110000
DTEND;TZID=America/Puerto_Rico:20220217T130000
DTSTAMP:20260421T033125
CREATED:20210901T175425Z
LAST-MODIFIED:20220124T150922Z
UID:62889-1645095600-1645102800@energia.pr.gov
SUMMARY:Vista Administrativa  NEPR-QR-2021-0023
DESCRIPTION:Wildalys Figueras Nieves v. AEE
URL:https://energia.pr.gov/evento/vista-administrativa-nepr-qr-2021-0023/
LOCATION:Salón de Vistas del Negociado de Energía de Puerto Rico\, Edificio World Plaza\, 268 Ave. Muñoz Rivera\, Piso 8\, San Juan\, 00918\, Puerto Rico
CATEGORIES:QUERELLA
ORGANIZER;CN="Negociado de Energ%C3%ADa de Puerto Rico":MAILTO:nepr@jrsp.pr.gov
END:VEVENT
BEGIN:VEVENT
DTSTART;TZID=America/Puerto_Rico:20220222T093000
DTEND;TZID=America/Puerto_Rico:20220222T110000
DTSTAMP:20260421T033125
CREATED:20211222T173818Z
LAST-MODIFIED:20211223T200817Z
UID:64692-1645522200-1645527600@energia.pr.gov
SUMMARY:Vista Administrativa NEPR-RV-2020-0090
DESCRIPTION:Edwin Nicholas Anthony Vandien v. AEE
URL:https://energia.pr.gov/evento/vista-administrativa-nepr-rv-2020-0090/
LOCATION:Salón de Vistas del Negociado de Energía de Puerto Rico\, Edificio World Plaza\, 268 Ave. Muñoz Rivera\, Piso 8\, San Juan\, 00918\, Puerto Rico
CATEGORIES:REVISIÓN DE FACTURAS
ORGANIZER;CN="Negociado de Energ%C3%ADa de Puerto Rico":MAILTO:nepr@jrsp.pr.gov
END:VEVENT
BEGIN:VEVENT
DTSTART;TZID=America/Puerto_Rico:20220223T100000
DTEND;TZID=America/Puerto_Rico:20220223T110000
DTSTAMP:20260421T033125
CREATED:20220119T151615Z
LAST-MODIFIED:20220215T172826Z
UID:64900-1645610400-1645614000@energia.pr.gov
SUMMARY:Vista Administrativa  NEPR-QR-2021-0092
DESCRIPTION:Mayra Díaz Tovar y/o Michael Jorge Rivera v. Luma Energy Servco\, LLC \n 
URL:https://energia.pr.gov/evento/vista-administrativa-nepr-qr-2021-0092/
LOCATION:Salón de Vistas del Negociado de Energía de Puerto Rico\, Edificio World Plaza\, 268 Ave. Muñoz Rivera\, Piso 8\, San Juan\, 00918\, Puerto Rico
CATEGORIES:QUERELLA
ORGANIZER;CN="Negociado de Energ%C3%ADa de Puerto Rico":MAILTO:nepr@jrsp.pr.gov
END:VEVENT
BEGIN:VEVENT
DTSTART;TZID=America/Puerto_Rico:20220223T133000
DTEND;TZID=America/Puerto_Rico:20220223T163000
DTSTAMP:20260421T033125
CREATED:20210831T174131Z
LAST-MODIFIED:20220208T145314Z
UID:62840-1645623000-1645633800@energia.pr.gov
SUMMARY:Vistas de Cumplimiento (Virtual)  NEPR-MI-2019-0016
DESCRIPTION:IN RE: Informes de Progreso de Interconexión de la Autoridad de Energía Eléctrica de Puerto Rico \nASUNTO: Requisito de Presentación de Plan para Atender Acumulación de Solicitudes; Vistas de Cumplimiento \nSerá transmitida en vivo a través del canal de YouTube del Negociado de Energía. \nWill be streamed live via the Energy Bureau’s YouTube Channel. \n**YouTube Link: https://www.youtube.com/channel/UCxZYn-qt1k0Lu9TX37-11oA \n***Resolution Link: https://energia.pr.gov/wp-content/uploads/sites/7/2021/08/20210827-MI20190016-Resolucion-y-Orden.pdf \nResolution Link:https://energia.pr.gov/wp-content/uploads/sites/7/2022/02/20220207-MI20190016-Resolucion-y-Orden.pdf \n 
URL:https://energia.pr.gov/evento/vistas-de-cumplimiento-virtual-nepr-mi-2019-0016-2/
CATEGORIES:VISTA-DE-CUMPLIMIENTO
ORGANIZER;CN="Negociado de Energ%C3%ADa de Puerto Rico":MAILTO:nepr@jrsp.pr.gov
END:VEVENT
BEGIN:VEVENT
DTSTART;TZID=America/Puerto_Rico:20220224T093000
DTEND;TZID=America/Puerto_Rico:20220224T113000
DTSTAMP:20260421T033125
CREATED:20220203T161343Z
LAST-MODIFIED:20220204T141748Z
UID:65137-1645695000-1645702200@energia.pr.gov
SUMMARY:Vista Administrativa NEPR-RV-2022-0002
DESCRIPTION:Carlos R. Lozada Colón vs. LUMA Energy ServCo\, LLC
URL:https://energia.pr.gov/evento/vista-administrativa-nepr-rv-2022-0002/
LOCATION:Salón de Vistas del Negociado de Energía de Puerto Rico\, Edificio World Plaza\, 268 Ave. Muñoz Rivera\, Piso 8\, San Juan\, 00918\, Puerto Rico
CATEGORIES:REVISIÓN DE FACTURAS
ORGANIZER;CN="Negociado de Energ%C3%ADa de Puerto Rico":MAILTO:nepr@jrsp.pr.gov
END:VEVENT
BEGIN:VEVENT
DTSTART;TZID=America/Puerto_Rico:20220224T100000
DTEND;TZID=America/Puerto_Rico:20220224T130000
DTSTAMP:20260421T033125
CREATED:20220201T174414Z
LAST-MODIFIED:20220201T174414Z
UID:65108-1645696800-1645707600@energia.pr.gov
SUMMARY:Technical Conference NEPR-MI-2019-0007
DESCRIPTION:In Re: The Performance of the Puerto Rico Electric Power Authority \nNota: Será transmitida en vivo a través del canal de YouTube del Negociado de Energía. \nWill be streamed live via the Energy Bureau’s YouTube Channel \n**YouTube Link: https://www.youtube.com/channel/UCxZYn-qt1k0Lu9TX37-11oA \n***Resolución Link:https://energia.pr.gov/wp-content/uploads/sites/7/2022/02/20220131-MI20190007-Resolution.pdf
URL:https://energia.pr.gov/evento/technical-conference-nepr-mi-2019-0007-3/
CATEGORIES:CONFERENCIA TÉCNICA
ORGANIZER;CN="Negociado de Energ%C3%ADa de Puerto Rico":MAILTO:nepr@jrsp.pr.gov
END:VEVENT
BEGIN:VEVENT
DTSTART;TZID=America/Puerto_Rico:20220225T093000
DTEND;TZID=America/Puerto_Rico:20220225T103000
DTSTAMP:20260421T033125
CREATED:20220126T143046Z
LAST-MODIFIED:20220215T172738Z
UID:65006-1645781400-1645785000@energia.pr.gov
SUMMARY:Vista Evidenciaria NEPR-QR-2021-0071
DESCRIPTION:RICARDO R. GONZÁLEZ MÉNDEZ vs. AUTORIDAD DE ENERGÍA ELÉCTRICA \n 
URL:https://energia.pr.gov/evento/vista-evidenciaria-nepr-qr-2021-0071/
LOCATION:Salón de Vistas del Negociado de Energía de Puerto Rico\, Edificio World Plaza\, 268 Ave. Muñoz Rivera\, Piso 8\, San Juan\, 00918\, Puerto Rico
CATEGORIES:QUERELLA
ORGANIZER;CN="Negociado de Energ%C3%ADa de Puerto Rico":MAILTO:nepr@jrsp.pr.gov
END:VEVENT
END:VCALENDAR