BEGIN:VCALENDAR
VERSION:2.0
PRODID:-//NEPR - ECPv6.15.20//NONSGML v1.0//EN
CALSCALE:GREGORIAN
METHOD:PUBLISH
X-ORIGINAL-URL:https://energia.pr.gov
X-WR-CALDESC:Eventos para NEPR
REFRESH-INTERVAL;VALUE=DURATION:PT1H
X-Robots-Tag:noindex
X-PUBLISHED-TTL:PT1H
BEGIN:VTIMEZONE
TZID:America/Puerto_Rico
BEGIN:STANDARD
TZOFFSETFROM:-0400
TZOFFSETTO:-0400
TZNAME:AST
DTSTART:20210101T000000
END:STANDARD
END:VTIMEZONE
BEGIN:VEVENT
DTSTART;TZID=America/Puerto_Rico:20220301T093000
DTEND;TZID=America/Puerto_Rico:20220301T100000
DTSTAMP:20260421T064631
CREATED:20220119T175907Z
LAST-MODIFIED:20220204T173633Z
UID:64920-1646127000-1646128800@energia.pr.gov
SUMMARY:Vista Evidenciaría NEPR-QR-2021-0083
DESCRIPTION:OIPC – EN REPRESENTACION DE ROSIN ANDRADES SOLANO \nvs. \nAUTORIDAD DE ENERGíA ELÉCTRICA DE PUERTO RICO Y LUMA ENERGY SERVCO\,LLC
URL:https://energia.pr.gov/evento/vista-evidenciaria-nepr-qr-2021-0083/
LOCATION:Salón de Vistas del Negociado de Energía de Puerto Rico\, Edificio World Plaza\, 268 Ave. Muñoz Rivera\, Piso 8\, San Juan\, 00918\, Puerto Rico
CATEGORIES:QUERELLA
ORGANIZER;CN="Negociado de Energ%C3%ADa de Puerto Rico":MAILTO:nepr@jrsp.pr.gov
END:VEVENT
BEGIN:VEVENT
DTSTART;TZID=America/Puerto_Rico:20220304T093000
DTEND;TZID=America/Puerto_Rico:20220304T103000
DTSTAMP:20260421T064631
CREATED:20220124T150351Z
LAST-MODIFIED:20220218T180737Z
UID:64984-1646386200-1646389800@energia.pr.gov
SUMMARY:Vista Administrativa NEPR-RV-2021-0059
DESCRIPTION:JORGE E. RAMÍREZ ACARÓN \nvs. \nAUTORIDAD DE ENERGÍA ELÉCTRICA \nDE PUERTO RICO
URL:https://energia.pr.gov/evento/vista-administrativa-nepr-rv-2021-0059/
LOCATION:Salón de Vistas del Negociado de Energía de Puerto Rico\, Edificio World Plaza\, 268 Ave. Muñoz Rivera\, Piso 8\, San Juan\, 00918\, Puerto Rico
CATEGORIES:REVISIÓN DE FACTURAS
ORGANIZER;CN="Negociado de Energ%C3%ADa de Puerto Rico":MAILTO:nepr@jrsp.pr.gov
END:VEVENT
BEGIN:VEVENT
DTSTART;TZID=America/Puerto_Rico:20220304T130000
DTEND;TZID=America/Puerto_Rico:20220304T170000
DTSTAMP:20260421T064631
CREATED:20211123T135307Z
LAST-MODIFIED:20220222T195048Z
UID:64307-1646398800-1646413200@energia.pr.gov
SUMMARY:Compliance Technical Hearing No. 1 MI-2021-0013 Electric Vehicle Charging Infrastructure
DESCRIPTION:In Re: Despliegue de Infraestructura de Cargadores para Vehículos Eléctricos \nNota: Será transmitida en vivo a través del canal de YouTube del Negociado de Energía. \nWill be streamed live via the Energy Bureau’s YouTube Channel \n**YouTube Link: https://www.youtube.com/channel/UCxZYn-qt1k0Lu9TX37-11oA \n***Resolución Link: https://energia.pr.gov/wp-content/uploads/sites/7/2022/02/20220222-MI20210013-Resolution-and-Order-Amended-Calendar.pdf \n 
URL:https://energia.pr.gov/evento/compliance-technical-hearing-no-1-mi-2021-0013-electric-vehicle-charging-infrastructure/
CATEGORIES:Compliance Technical Hearing
ORGANIZER;CN="Negociado de Energ%C3%ADa de Puerto Rico":MAILTO:nepr@jrsp.pr.gov
END:VEVENT
BEGIN:VEVENT
DTSTART;TZID=America/Puerto_Rico:20220307T100000
DTEND;TZID=America/Puerto_Rico:20220307T120000
DTSTAMP:20260421T064631
CREATED:20220218T173143Z
LAST-MODIFIED:20220222T135344Z
UID:65277-1646647200-1646654400@energia.pr.gov
SUMMARY:Vista Evidenciaría  NEPR-QR-2021-0098
DESCRIPTION:CARLOS J. RODRIGUEZ JIMENEZ \nvs. \nLUMA ENERGY SERVCO LLC; AUTORIDAD DE ENERGíA ELéCTRICA DE PUERTO RICO
URL:https://energia.pr.gov/evento/vista-evidenciaria-nepr-qr-2021-0098/
CATEGORIES:QUERELLA
END:VEVENT
BEGIN:VEVENT
DTSTART;TZID=America/Puerto_Rico:20220309T100000
DTEND;TZID=America/Puerto_Rico:20220309T140000
DTSTAMP:20260421T064631
CREATED:20220203T133711Z
LAST-MODIFIED:20220228T153914Z
UID:65126-1646820000-1646834400@energia.pr.gov
SUMMARY:Workshop- MI-2021-0006 Three Year DR Plan
DESCRIPTION:In Re: Demand Response Plan Review\, Implementation and Monitoring \nNota: Será transmitida en vivo a través del canal de YouTube del Negociado de Energía. \nWill be streamed live via the Energy Bureau’s YouTube Channel \n**YouTube Link: https://www.youtube.com/channel/UCxZYn-qt1k0Lu9TX37-11oA \n***Resolución Link: https://energia.pr.gov/wp-content/uploads/sites/7/2022/02/20220201-MI20210006-Resolution-and-Order.pdf \n***Resolution Link:https://energia.pr.gov/wp-content/uploads/sites/7/2022/02/20220225-MI20210006-Resolution-and-Order.pdf
URL:https://energia.pr.gov/evento/workshop-mi-2021-0006-three-year-dr-plan/
CATEGORIES:Workshop
END:VEVENT
BEGIN:VEVENT
DTSTART;TZID=America/Puerto_Rico:20220309T133000
DTEND;TZID=America/Puerto_Rico:20220309T160000
DTSTAMP:20260421T064631
CREATED:20211202T172843Z
LAST-MODIFIED:20220222T135542Z
UID:64439-1646832600-1646841600@energia.pr.gov
SUMMARY:Conferencia con antelación a vista & Vista Administrativa  NEPR-QR-2021-0018; 0024; 0031
DESCRIPTION:IVETTE VELÁZQUEZ RAMÍREZ
URL:https://energia.pr.gov/evento/vista-administrativa-nepr-qr-2021-0018/
CATEGORIES:QUERELLA
ORGANIZER;CN="Negociado de Energ%C3%ADa de Puerto Rico":MAILTO:nepr@jrsp.pr.gov
END:VEVENT
BEGIN:VEVENT
DTSTART;TZID=America/Puerto_Rico:20220315T133000
DTEND;TZID=America/Puerto_Rico:20220315T153000
DTSTAMP:20260421T064631
CREATED:20220127T180247Z
LAST-MODIFIED:20220217T181651Z
UID:65026-1647351000-1647358200@energia.pr.gov
SUMMARY:Vista Evidenciaria  NEPR-QR-2021-0091
DESCRIPTION:Consejo de Titulares Torres de San Pablo\, T/C/C Torre Médica Hima San Pablo Fajardo v. AEE
URL:https://energia.pr.gov/evento/vista-evidenciaria-nepr-qr-2021-0091/
LOCATION:Salón de Vistas del Negociado de Energía de Puerto Rico\, Edificio World Plaza\, 268 Ave. Muñoz Rivera\, Piso 8\, San Juan\, 00918\, Puerto Rico
CATEGORIES:QUERELLA
ORGANIZER;CN="Negociado de Energ%C3%ADa de Puerto Rico":MAILTO:nepr@jrsp.pr.gov
END:VEVENT
BEGIN:VEVENT
DTSTART;TZID=America/Puerto_Rico:20220316T140000
DTEND;TZID=America/Puerto_Rico:20220316T160000
DTSTAMP:20260421T064631
CREATED:20220228T154235Z
LAST-MODIFIED:20220228T154337Z
UID:65476-1647439200-1647446400@energia.pr.gov
SUMMARY:Vista Administrativa NEPR-RV-2020-0036
DESCRIPTION:YVETTE VEGA LAGUNA \nvs. \nAUTORIDAD DE ENERGÍA ELÉCTRICA DE PUERTO RICO
URL:https://energia.pr.gov/evento/vista-administrativa-nepr-rv-2020-0036/
LOCATION:Salón de Vistas del Negociado de Energía de Puerto Rico\, Edificio World Plaza\, 268 Ave. Muñoz Rivera\, Piso 8\, San Juan\, 00918\, Puerto Rico
CATEGORIES:REVISIÓN DE FACTURAS
ORGANIZER;CN="Negociado de Energ%C3%ADa de Puerto Rico":MAILTO:nepr@jrsp.pr.gov
END:VEVENT
BEGIN:VEVENT
DTSTART;TZID=America/Puerto_Rico:20220317T133000
DTEND;TZID=America/Puerto_Rico:20220317T153000
DTSTAMP:20260421T064631
CREATED:20220301T184629Z
LAST-MODIFIED:20220301T184629Z
UID:65506-1647523800-1647531000@energia.pr.gov
SUMMARY:Vista Administrativa  NEPR-RV-2021-0063
DESCRIPTION:Luis R. Barreto Zapata v. LUMA ENERGY SERVCO\, LLC
URL:https://energia.pr.gov/evento/vista-administrativa-nepr-rv-2021-0063-2/
LOCATION:Salón de Vistas del Negociado de Energía de Puerto Rico\, Edificio World Plaza\, 268 Ave. Muñoz Rivera\, Piso 8\, San Juan\, 00918\, Puerto Rico
CATEGORIES:REVISIÓN DE FACTURAS
ORGANIZER;CN="Negociado de Energ%C3%ADa de Puerto Rico":MAILTO:nepr@jrsp.pr.gov
END:VEVENT
BEGIN:VEVENT
DTSTART;TZID=America/Puerto_Rico:20220318T133000
DTEND;TZID=America/Puerto_Rico:20220318T153000
DTSTAMP:20260421T064631
CREATED:20220222T135225Z
LAST-MODIFIED:20220328T170407Z
UID:65313-1647610200-1647617400@energia.pr.gov
SUMMARY:Conferencia con antelación a vista  NEPR-QR-2021-0033
DESCRIPTION:Noel Lozada Falu v. AEE
URL:https://energia.pr.gov/evento/conferencia-con-antelacion-a-vista-nepr-qr-2021-0033/
LOCATION:Salón de Vistas del Negociado de Energía de Puerto Rico\, Edificio World Plaza\, 268 Ave. Muñoz Rivera\, Piso 8\, San Juan\, 00918\, Puerto Rico
CATEGORIES:QUERELLA
ORGANIZER;CN="Negociado de Energ%C3%ADa de Puerto Rico":MAILTO:nepr@jrsp.pr.gov
END:VEVENT
BEGIN:VEVENT
DTSTART;TZID=America/Puerto_Rico:20220319T090000
DTEND;TZID=America/Puerto_Rico:20220319T103000
DTSTAMP:20260421T064631
CREATED:20220203T161212Z
LAST-MODIFIED:20220509T135341Z
UID:65135-1647680400-1647685800@energia.pr.gov
SUMMARY:Conferencia con Antelación a Vista y Vista Administrativa NEPR-QR-2021-0012
DESCRIPTION:JUAN MERCADO MELÉNDEZ \nvs. \nAUTORIDAD DE ENERGÍA ELÉCTRICA \nDE PUERTO RICO
URL:https://energia.pr.gov/evento/conferencia-con-antelacion-a-vista-y-vista-administrativa-nepr-qr-2021-0012/
LOCATION:Salón de Vistas del Negociado de Energía de Puerto Rico\, Edificio World Plaza\, 268 Ave. Muñoz Rivera\, Piso 8\, San Juan\, 00918\, Puerto Rico
CATEGORIES:QUERELLA
ORGANIZER;CN="Negociado de Energ%C3%ADa de Puerto Rico":MAILTO:nepr@jrsp.pr.gov
END:VEVENT
BEGIN:VEVENT
DTSTART;TZID=America/Puerto_Rico:20220321T093000
DTEND;TZID=America/Puerto_Rico:20220321T113000
DTSTAMP:20260421T064631
CREATED:20220228T193151Z
LAST-MODIFIED:20220228T193151Z
UID:65494-1647855000-1647862200@energia.pr.gov
SUMMARY:Vista Administrativa NEPR-RV-2022-0007
DESCRIPTION:Nathan Cabán García vs. LUMA Energy ServCo\, LLC
URL:https://energia.pr.gov/evento/vista-administrativa-nepr-rv-2022-0007/
CATEGORIES:REVISIÓN DE FACTURAS
ORGANIZER;CN="Negociado de Energ%C3%ADa de Puerto Rico":MAILTO:nepr@jrsp.pr.gov
END:VEVENT
BEGIN:VEVENT
DTSTART;TZID=America/Puerto_Rico:20220321T103000
DTEND;TZID=America/Puerto_Rico:20220321T140000
DTSTAMP:20260421T064631
CREATED:20220317T175250Z
LAST-MODIFIED:20220317T175325Z
UID:65738-1647858600-1647871200@energia.pr.gov
SUMMARY:Conferencia Técnica (Virtual)  NEPR-MI-2020-0001 LUMA y Autoridad
DESCRIPTION:In Re: Tarifa Permanente de la Autoridad de Energía Eléctrica de Puerto Rico \nNota: Será transmitida en vivo a través del canal de YouTube del Negociado de Energía. \nWill be streamed live via the Energy Bureau’s YouTube Channel \n**YouTube Link: https://www.youtube.com/channel/UCxZYn-qt1k0Lu9TX37-11oA \n***Resolución Link:https://energia.pr.gov/wp-content/uploads/sites/7/2022/03/20220316-MI20200001-Resolucion-y-Orden.pdf
URL:https://energia.pr.gov/evento/conferencia-tecnica-virtual-nepr-mi-2020-0001-luma-y-autoridad/
CATEGORIES:CONFERENCIA TÉCNICA
END:VEVENT
BEGIN:VEVENT
DTSTART;TZID=America/Puerto_Rico:20220323T133000
DTEND;TZID=America/Puerto_Rico:20220323T153000
DTSTAMP:20260421T064631
CREATED:20220304T201542Z
LAST-MODIFIED:20220307T201858Z
UID:65558-1648042200-1648049400@energia.pr.gov
SUMMARY:Vista Administrativa  NEPR-RV-2022-0009
DESCRIPTION:Alana Coello Exclusa v. LUMA ENERGY SERVCO\, LLC
URL:https://energia.pr.gov/evento/vista-administrativa-nepr-rv-2022-0009/
LOCATION:Salón de Vistas del Negociado de Energía de Puerto Rico\, Edificio World Plaza\, 268 Ave. Muñoz Rivera\, Piso 8\, San Juan\, 00918\, Puerto Rico
CATEGORIES:REVISIÓN DE FACTURAS
ORGANIZER;CN="Negociado de Energ%C3%ADa de Puerto Rico":MAILTO:nepr@jrsp.pr.gov
END:VEVENT
BEGIN:VEVENT
DTSTART;TZID=America/Puerto_Rico:20220324T153000
DTEND;TZID=America/Puerto_Rico:20220324T173000
DTSTAMP:20260421T064631
CREATED:20220310T174959Z
LAST-MODIFIED:20220321T205156Z
UID:65622-1648135800-1648143000@energia.pr.gov
SUMMARY:Vista Evidenciaria  NEPR-QR-2020-0038
DESCRIPTION:Gabriel A. Sacarello Bravo v AEE
URL:https://energia.pr.gov/evento/vista-evidenciaria-nepr-qr-2020-0038/
CATEGORIES:QUERELLA
END:VEVENT
BEGIN:VEVENT
DTSTART;TZID=America/Puerto_Rico:20220329T093000
DTEND;TZID=America/Puerto_Rico:20220329T113000
DTSTAMP:20260421T064631
CREATED:20220310T193107Z
LAST-MODIFIED:20220310T193120Z
UID:65637-1648546200-1648553400@energia.pr.gov
SUMMARY:Vista Evidenciaria  NEPR-QR-2020-0057
DESCRIPTION:José J. de Jesús Rodríguez v. Sunnova Energy Corporation \n 
URL:https://energia.pr.gov/evento/vista-evidenciaria-nepr-qr-2020-0057/
CATEGORIES:QUERELLA
ORGANIZER;CN="Negociado de Energ%C3%ADa de Puerto Rico":MAILTO:nepr@jrsp.pr.gov
END:VEVENT
BEGIN:VEVENT
DTSTART;TZID=America/Puerto_Rico:20220331T100000
DTEND;TZID=America/Puerto_Rico:20220331T120000
DTSTAMP:20260421T064631
CREATED:20220310T174824Z
LAST-MODIFIED:20220310T174845Z
UID:65619-1648720800-1648728000@energia.pr.gov
SUMMARY:Vista Ocular  NEPR-RV-2019-0033
DESCRIPTION:GANADEROS ALVARADO\, INC. v. AEE \nLugar: Bo. La Planta\, Intersección 636\, Carr. #10\, Arecibo PR
URL:https://energia.pr.gov/evento/vista-ocular-nepr-rv-2019-0033/
CATEGORIES:REVISIÓN DE FACTURAS
ORGANIZER;CN="Negociado de Energ%C3%ADa de Puerto Rico":MAILTO:nepr@jrsp.pr.gov
END:VEVENT
END:VCALENDAR