BEGIN:VCALENDAR
VERSION:2.0
PRODID:-//NEPR - ECPv6.15.20//NONSGML v1.0//EN
CALSCALE:GREGORIAN
METHOD:PUBLISH
X-ORIGINAL-URL:https://energia.pr.gov
X-WR-CALDESC:Eventos para NEPR
REFRESH-INTERVAL;VALUE=DURATION:PT1H
X-Robots-Tag:noindex
X-PUBLISHED-TTL:PT1H
BEGIN:VTIMEZONE
TZID:America/Puerto_Rico
BEGIN:STANDARD
TZOFFSETFROM:-0400
TZOFFSETTO:-0400
TZNAME:AST
DTSTART:20210101T000000
END:STANDARD
END:VTIMEZONE
BEGIN:VEVENT
DTSTART;TZID=America/Puerto_Rico:20220504T140000
DTEND;TZID=America/Puerto_Rico:20220504T153000
DTSTAMP:20260421T080952
CREATED:20220330T180546Z
LAST-MODIFIED:20220420T125214Z
UID:65932-1651672800-1651678200@energia.pr.gov
SUMMARY:Vista Evidenciaría NEPR-QR-2022-0007
DESCRIPTION:EDUARDO MELENDEZ \nvs. \nLUMA ENERGY SERVCO LLC.
URL:https://energia.pr.gov/evento/vista-evidenciaria-nepr-qr-2022-0007/
LOCATION:Salón de Vistas del Negociado de Energía de Puerto Rico\, Edificio World Plaza\, 268 Ave. Muñoz Rivera\, Piso 8\, San Juan\, 00918\, Puerto Rico
CATEGORIES:QUERELLA
ORGANIZER;CN="Negociado de Energ%C3%ADa de Puerto Rico":MAILTO:nepr@jrsp.pr.gov
END:VEVENT
BEGIN:VEVENT
DTSTART;TZID=America/Puerto_Rico:20220509T093000
DTEND;TZID=America/Puerto_Rico:20220509T103000
DTSTAMP:20260421T080952
CREATED:20220420T141025Z
LAST-MODIFIED:20220420T141025Z
UID:66132-1652088600-1652092200@energia.pr.gov
SUMMARY:Vista de Estatus NEPR-QR-2019-0048
DESCRIPTION:Félix Román Batista vs. Autoridad de Energía Eléctrica de Puerto Rico
URL:https://energia.pr.gov/evento/vista-de-estatus-nepr-qr-2019-0048/
LOCATION:Salón de Vistas del Negociado de Energía de Puerto Rico\, Edificio World Plaza\, 268 Ave. Muñoz Rivera\, Piso 8\, San Juan\, 00918\, Puerto Rico
CATEGORIES:QUERELLA
ORGANIZER;CN="Negociado de Energ%C3%ADa de Puerto Rico":MAILTO:nepr@jrsp.pr.gov
END:VEVENT
BEGIN:VEVENT
DTSTART;TZID=America/Puerto_Rico:20220510T090000
DTEND;TZID=America/Puerto_Rico:20220510T110000
DTSTAMP:20260421T080952
CREATED:20220405T181523Z
LAST-MODIFIED:20220405T181523Z
UID:65987-1652173200-1652180400@energia.pr.gov
SUMMARY:Conferencia con Antelación a Vista  NEPR-RV-2021-0062
DESCRIPTION:ADALBERTO RODRíGUEZ RIVERA \nv. \nLUMA ENERGY SERVCO\, LLC \n 
URL:https://energia.pr.gov/evento/conferencia-con-antelacion-a-vista-nepr-rv-2021-0062/
LOCATION:Salón de Vistas del Negociado de Energía de Puerto Rico\, Edificio World Plaza\, 268 Ave. Muñoz Rivera\, Piso 8\, San Juan\, 00918\, Puerto Rico
CATEGORIES:REVISIÓN DE FACTURAS
ORGANIZER;CN="Negociado de Energ%C3%ADa de Puerto Rico":MAILTO:nepr@jrsp.pr.gov
END:VEVENT
BEGIN:VEVENT
DTSTART;TZID=America/Puerto_Rico:20220511T090000
DTEND;TZID=America/Puerto_Rico:20220511T110000
DTSTAMP:20260421T080952
CREATED:20220405T181649Z
LAST-MODIFIED:20220405T181649Z
UID:65989-1652259600-1652266800@energia.pr.gov
SUMMARY:Vista Administrativa  NEPR-RV-2021-0062
DESCRIPTION:ADALBERTO RODRíGUEZ RIVERA \nv. \nLUMA ENERGY SERVCO\, LLC \n 
URL:https://energia.pr.gov/evento/vista-administrativa-nepr-rv-2021-0062/
LOCATION:Salón de Vistas del Negociado de Energía de Puerto Rico\, Edificio World Plaza\, 268 Ave. Muñoz Rivera\, Piso 8\, San Juan\, 00918\, Puerto Rico
CATEGORIES:REVISIÓN DE FACTURAS
ORGANIZER;CN="Negociado de Energ%C3%ADa de Puerto Rico":MAILTO:nepr@jrsp.pr.gov
END:VEVENT
BEGIN:VEVENT
DTSTART;TZID=America/Puerto_Rico:20220511T130000
DTEND;TZID=America/Puerto_Rico:20220511T173000
DTSTAMP:20260421T080952
CREATED:20220222T195529Z
LAST-MODIFIED:20220330T142342Z
UID:65334-1652274000-1652290200@energia.pr.gov
SUMMARY:3rd Technical Workshop  NEPR-MI-2021-0013
DESCRIPTION:IN RE: The Deployment of Electric Vehicle Charging Infrastructure \nNota: Será transmitida en vivo a través del canal de YouTube del Negociado de Energía. \nWill be streamed live via the Energy Bureau’s YouTube Channel \n**YouTube Link: https://www.youtube.com/channel/UCxZYn-qt1k0Lu9TX37-11oA \nResolution Link: https://energia.pr.gov/wp-content/uploads/sites/7/2022/02/20220222-MI20210013-Resolution-and-Order-Amended-Calendar.pdf \nResolution and Order Link: https://energia.pr.gov/wp-content/uploads/sites/7/2022/03/20220329-MI20210013-Resolution-and-Order.pdf \n 
URL:https://energia.pr.gov/evento/3rd-technical-workshop-nepr-mi-2021-0013/
CATEGORIES:Workshop
ORGANIZER;CN="Negociado de Energ%C3%ADa de Puerto Rico":MAILTO:nepr@jrsp.pr.gov
END:VEVENT
BEGIN:VEVENT
DTSTART;TZID=America/Puerto_Rico:20220512T090000
DTEND;TZID=America/Puerto_Rico:20220512T110000
DTSTAMP:20260421T080952
CREATED:20220124T145951Z
LAST-MODIFIED:20220124T145951Z
UID:64978-1652346000-1652353200@energia.pr.gov
SUMMARY:Vista Administrativa  NEPR-QR-2020-0040
DESCRIPTION:Alicia Hernández Soto\, ET AL v. AEE
URL:https://energia.pr.gov/evento/vista-administrativa-nepr-qr-2020-0040/
CATEGORIES:QUERELLA
ORGANIZER;CN="Negociado de Energ%C3%ADa de Puerto Rico":MAILTO:nepr@jrsp.pr.gov
END:VEVENT
BEGIN:VEVENT
DTSTART;TZID=America/Puerto_Rico:20220513T100000
DTEND;TZID=America/Puerto_Rico:20220513T120000
DTSTAMP:20260421T080952
CREATED:20220218T173335Z
LAST-MODIFIED:20220405T181800Z
UID:65280-1652436000-1652443200@energia.pr.gov
SUMMARY:Conferencia con Antelación a Vista y Vista Administrativa NEPR-QR-2022-0004
DESCRIPTION:PAMELA FARINACCI GARCIA \nvs. \nLUMA ENERGY\, LLC
URL:https://energia.pr.gov/evento/conferencia-con-antelacion-a-vista-y-vista-administrativa-nepr-qr-2022-0004/
LOCATION:Salón de Vistas del Negociado de Energía de Puerto Rico\, Edificio World Plaza\, 268 Ave. Muñoz Rivera\, Piso 8\, San Juan\, 00918\, Puerto Rico
CATEGORIES:QUERELLA
ORGANIZER;CN="Negociado de Energ%C3%ADa de Puerto Rico":MAILTO:nepr@jrsp.pr.gov
END:VEVENT
BEGIN:VEVENT
DTSTART;TZID=America/Puerto_Rico:20220516T110000
DTEND;TZID=America/Puerto_Rico:20220516T120000
DTSTAMP:20260421T080952
CREATED:20220222T135448Z
LAST-MODIFIED:20220516T133815Z
UID:65315-1652698800-1652702400@energia.pr.gov
SUMMARY:Vista Administrativa  NEPR-RV-2022-0005
DESCRIPTION:Daysi de Jesús Sierra v. LUMA ENERGY SRVCO\, LLC
URL:https://energia.pr.gov/evento/vista-administrativa-nepr-rv-2022-0005/
LOCATION:Salón de Vistas del Negociado de Energía de Puerto Rico\, Edificio World Plaza\, 268 Ave. Muñoz Rivera\, Piso 8\, San Juan\, 00918\, Puerto Rico
CATEGORIES:REVISIÓN DE FACTURAS
ORGANIZER;CN="Negociado de Energ%C3%ADa de Puerto Rico":MAILTO:nepr@jrsp.pr.gov
END:VEVENT
BEGIN:VEVENT
DTSTART;TZID=America/Puerto_Rico:20220516T133000
DTEND;TZID=America/Puerto_Rico:20220516T153000
DTSTAMP:20260421T080952
CREATED:20220405T205057Z
LAST-MODIFIED:20220421T205809Z
UID:65997-1652707800-1652715000@energia.pr.gov
SUMMARY:Vista Administrativa  NEPR-RV-2022-0013
DESCRIPTION:OMAR TOLEDO DÍAZ \nvs. \nLUMA ENERGY SERVCO\, LLC
URL:https://energia.pr.gov/evento/vista-administrativa-nepr-rv-2022-0013/
LOCATION:Salón de Vistas del Negociado de Energía de Puerto Rico\, Edificio World Plaza\, 268 Ave. Muñoz Rivera\, Piso 8\, San Juan\, 00918\, Puerto Rico
CATEGORIES:REVISIÓN DE FACTURAS
ORGANIZER;CN="Negociado de Energ%C3%ADa de Puerto Rico":MAILTO:nepr@jrsp.pr.gov
END:VEVENT
BEGIN:VEVENT
DTSTART;TZID=America/Puerto_Rico:20220518T090000
DTEND;TZID=America/Puerto_Rico:20220518T103000
DTSTAMP:20260421T080952
CREATED:20220509T135232Z
LAST-MODIFIED:20220510T143824Z
UID:66315-1652864400-1652869800@energia.pr.gov
SUMMARY:Vista Administrativa NEPR-RV-2021-0077
DESCRIPTION:Wanda Sánchez Morales vs. LUMA Energy ServCo\, LLC.
URL:https://energia.pr.gov/evento/vista-administrativa-nepr-rv-2021-0077-2/
CATEGORIES:REVISIÓN DE FACTURAS
END:VEVENT
BEGIN:VEVENT
DTSTART;TZID=America/Puerto_Rico:20220518T100000
DTEND;TZID=America/Puerto_Rico:20220518T130000
DTSTAMP:20260421T080952
CREATED:20210831T173949Z
LAST-MODIFIED:20210831T173949Z
UID:62838-1652868000-1652878800@energia.pr.gov
SUMMARY:Vistas de Cumplimiento (Virtual)  NEPR-MI-2019-0016
DESCRIPTION:IN RE: Informes de Progreso de Interconexión de la Autoridad de Energía Eléctrica de Puerto Rico \nASUNTO: Requisito de Presentación de Plan para Atender Acumulación de Solicitudes; Vistas de Cumplimiento \nSerá transmitida en vivo a través del canal de YouTube del Negociado de Energía. \nWill be streamed live via the Energy Bureau’s YouTube Channel. \n**YouTube Link: https://www.youtube.com/channel/UCxZYn-qt1k0Lu9TX37-11oA \n***Resolution Link: https://energia.pr.gov/wp-content/uploads/sites/7/2021/08/20210827-MI20190016-Resolucion-y-Orden.pdf
URL:https://energia.pr.gov/evento/vistas-de-cumplimiento-virtual-nepr-mi-2019-0016/
CATEGORIES:VISTA-DE-CUMPLIMIENTO
ORGANIZER;CN="Negociado de Energ%C3%ADa de Puerto Rico":MAILTO:nepr@jrsp.pr.gov
END:VEVENT
BEGIN:VEVENT
DTSTART;TZID=America/Puerto_Rico:20220519T140000
DTEND;TZID=America/Puerto_Rico:20220519T160000
DTSTAMP:20260421T080952
CREATED:20220405T182005Z
LAST-MODIFIED:20220504T172130Z
UID:65991-1652968800-1652976000@energia.pr.gov
SUMMARY:Vista Administrativa  NEPR-RV-2022-0011
DESCRIPTION:Julio N. Lamboy  Ruiz  vs. LUMA Energy ServCo LLC
URL:https://energia.pr.gov/evento/vista-administrativa-nepr-rv-2022-0011/
LOCATION:Salón de Vistas del Negociado de Energía de Puerto Rico\, Edificio World Plaza\, 268 Ave. Muñoz Rivera\, Piso 8\, San Juan\, 00918\, Puerto Rico
CATEGORIES:REVISIÓN DE FACTURAS
ORGANIZER;CN="Negociado de Energ%C3%ADa de Puerto Rico":MAILTO:nepr@jrsp.pr.gov
END:VEVENT
BEGIN:VEVENT
DTSTART;TZID=America/Puerto_Rico:20220521T090000
DTEND;TZID=America/Puerto_Rico:20220521T093000
DTSTAMP:20260421T080952
CREATED:20220201T174831Z
LAST-MODIFIED:20220610T151118Z
UID:65112-1653123600-1653125400@energia.pr.gov
SUMMARY:Vista Administrativa NEPR-RV-2021-0068
DESCRIPTION:YVONNE MORALES PÉREZ \nV. \nLUMA ENERGY SERVCO\, LLC
URL:https://energia.pr.gov/evento/vista-administrativa-nepr-rv-2021-0068/
LOCATION:Salón de Vistas del Negociado de Energía de Puerto Rico\, Edificio World Plaza\, 268 Ave. Muñoz Rivera\, Piso 8\, San Juan\, 00918\, Puerto Rico
CATEGORIES:REVISIÓN DE FACTURAS
ORGANIZER;CN="Negociado de Energ%C3%ADa de Puerto Rico":MAILTO:nepr@jrsp.pr.gov
END:VEVENT
END:VCALENDAR