Workbook

Sheet Gantt Chart
A1: PROJECT OASIS — LEVEL II GANTT SCHEDULE
A2: ◆ EPC Owner Milestone (blue) ◆ EPC Contractor Milestone (red) | Shaded column = current month | Markers auto-update when dates change on the 'Level 2 Schedule' tab
C3: 2025 | O3: 2026 | AA3: 2027 | AM3: 2028 | AY3: 2029 | BK3: 2030
A4: Milestone | B4: Planned Date | C4: 45658 | D4: 45689 | E4: 45717 | F4: 45748 | G4: 45778 | H4: 45809 | I4: 45839 | J4: 45870 | K4: 45901 | L4: 45931 | M4: 45962 | N4: 45992 | O4: 46023 | P4: 46054 | Q4: 46082 | R4: 46113 | S4: 46143 | T4: 46174 | U4: 46204 | V4: 46235 | W4: 46266 | X4: 46296 | Y4: 46327 | Z4: 46357 | AA4: 46388 | AB4: 46419 | AC4: 46447 | AD4: 46478 | AE4: 46508 | AF4: 46539 | AG4: 46569 | AH4: 46600 | AI4: 46631 | AJ4: 46661 | AK4: 46692 | AL4: 46722 | AM4: 46753 | AN4: 46784 | AO4: 46813 | AP4: 46844 | AQ4: 46874 | AR4: 46905 | AS4: 46935 | AT4: 46966 | AU4: 46997 | AV4: 47027 | AW4: 47058 | AX4: 47088 | AY4: 47119 | AZ4: 47150 | BA4: 47178 | BB4: 47209 | BC4: 47239 | BD4: 47270 | BE4: 47300 | BF4: 47331 | BG4: 47362 | BH4: 47392 | BI4: 47423 | BJ4: 47453 | BK4: 47484 | BL4: 47515 | BM4: 47543 | BN4: 47574 | BO4: 47604 | BP4: 47635 | BQ4: 47665 | BR4: 47696 | BS4: 47727 | BT4: 47757 | BU4: 47788 | BV4: 47818
A5: EPC - OWNER MILESTONES
A6: ='Level 2 Schedule'!$D4 -> Phase I Environmental Assessment | B6: ='Level 2 Schedule'!$E4 -> 45779 | C6: =IF(ISNUMBER('Level 2 Schedule'!$E4),IF(AND(YEAR('Level 2 Schedule'!$E4)=YEAR(C$4),MONTH('Level 2 Schedule'!$E4)=MONTH(C$4)),"◆",""),"") | D6: =IF(ISNUMBER('Level 2 Schedule'!$E4),IF(AND(YEAR('Level 2 Schedule'!$E4)=YEAR(D$4),MONTH('Level 2 Schedule'!$E4)=MONTH(D$4)),"◆",""),"") | E6: =IF(ISNUMBER('Level 2 Schedule'!$E4),IF(AND(YEAR('Level 2 Schedule'!$E4)=YEAR(E$4),MONTH('Level 2 Schedule'!$E4)=MONTH(E$4)),"◆",""),"") | F6: =IF(ISNUMBER('Level 2 Schedule'!$E4),IF(AND(YEAR('Level 2 Schedule'!$E4)=YEAR(F$4),MONTH('Level 2 Schedule'!$E4)=MONTH(F$4)),"◆",""),"") | G6: =IF(ISNUMBER('Level 2 Schedule'!$E4),IF(AND(YEAR('Level 2 Schedule'!$E4)=YEAR(G$4),MONTH('Level 2 Schedule'!$E4)=MONTH(G$4)),"◆",""),"") -> ◆ | H6: =IF(ISNUMBER('Level 2 Schedule'!$E4),IF(AND(YEAR('Level 2 Schedule'!$E4)=YEAR(H$4),MONTH('Level 2 Schedule'!$E4)=MONTH(H$4)),"◆",""),"") | I6: =IF(ISNUMBER('Level 2 Schedule'!$E4),IF(AND(YEAR('Level 2 Schedule'!$E4)=YEAR(I$4),MONTH('Level 2 Schedule'!$E4)=MONTH(I$4)),"◆",""),"") | J6: =IF(ISNUMBER('Level 2 Schedule'!$E4),IF(AND(YEAR('Level 2 Schedule'!$E4)=YEAR(J$4),MONTH('Level 2 Schedule'!$E4)=MONTH(J$4)),"◆",""),"") | ... BV6: =IF(ISNUMBER('Level 2 Schedule'!$E4),IF(AND(YEAR('Level 2 Schedule'!$E4)=YEAR(BV$4),MONTH('Level 2 Schedule'!$E4)=MONTH(BV$4)),"◆",""),"")
A7: ='Level 2 Schedule'!$D5 -> Gas Turbine & Generator Set Firm Proposal | B7: ='Level 2 Schedule'!$E5 -> 46112 | C7: =IF(ISNUMBER('Level 2 Schedule'!$E5),IF(AND(YEAR('Level 2 Schedule'!$E5)=YEAR(C$4),MONTH('Level 2 Schedule'!$E5)=MONTH(C$4)),"◆",""),"") | D7: =IF(ISNUMBER('Level 2 Schedule'!$E5),IF(AND(YEAR('Level 2 Schedule'!$E5)=YEAR(D$4),MONTH('Level 2 Schedule'!$E5)=MONTH(D$4)),"◆",""),"") | E7: =IF(ISNUMBER('Level 2 Schedule'!$E5),IF(AND(YEAR('Level 2 Schedule'!$E5)=YEAR(E$4),MONTH('Level 2 Schedule'!$E5)=MONTH(E$4)),"◆",""),"") | F7: =IF(ISNUMBER('Level 2 Schedule'!$E5),IF(AND(YEAR('Level 2 Schedule'!$E5)=YEAR(F$4),MONTH('Level 2 Schedule'!$E5)=MONTH(F$4)),"◆",""),"") | G7: =IF(ISNUMBER('Level 2 Schedule'!$E5),IF(AND(YEAR('Level 2 Schedule'!$E5)=YEAR(G$4),MONTH('Level 2 Schedule'!$E5)=MONTH(G$4)),"◆",""),"") | H7: =IF(ISNUMBER('Level 2 Schedule'!$E5),IF(AND(YEAR('Level 2 Schedule'!$E5)=YEAR(H$4),MONTH('Level 2 Schedule'!$E5)=MONTH(H$4)),"◆",""),"") | I7: =IF(ISNUMBER('Level 2 Schedule'!$E5),IF(AND(YEAR('Level 2 Schedule'!$E5)=YEAR(I$4),MONTH('Level 2 Schedule'!$E5)=MONTH(I$4)),"◆",""),"") | J7: =IF(ISNUMBER('Level 2 Schedule'!$E5),IF(AND(YEAR('Level 2 Schedule'!$E5)=YEAR(J$4),MONTH('Level 2 Schedule'!$E5)=MONTH(J$4)),"◆",""),"") | ... BV7: =IF(ISNUMBER('Level 2 Schedule'!$E5),IF(AND(YEAR('Level 2 Schedule'!$E5)=YEAR(BV$4),MONTH('Level 2 Schedule'!$E5)=MONTH(BV$4)),"◆",""),"")
A8: ='Level 2 Schedule'!$D6 -> Geotechnical Survey Report Available (Existing) | B8: ='Level 2 Schedule'!$E6 -> 46113 | C8: =IF(ISNUMBER('Level 2 Schedule'!$E6),IF(AND(YEAR('Level 2 Schedule'!$E6)=YEAR(C$4),MONTH('Level 2 Schedule'!$E6)=MONTH(C$4)),"◆",""),"") | D8: =IF(ISNUMBER('Level 2 Schedule'!$E6),IF(AND(YEAR('Level 2 Schedule'!$E6)=YEAR(D$4),MONTH('Level 2 Schedule'!$E6)=MONTH(D$4)),"◆",""),"") | E8: =IF(ISNUMBER('Level 2 Schedule'!$E6),IF(AND(YEAR('Level 2 Schedule'!$E6)=YEAR(E$4),MONTH('Level 2 Schedule'!$E6)=MONTH(E$4)),"◆",""),"") | F8: =IF(ISNUMBER('Level 2 Schedule'!$E6),IF(AND(YEAR('Level 2 Schedule'!$E6)=YEAR(F$4),MONTH('Level 2 Schedule'!$E6)=MONTH(F$4)),"◆",""),"") | G8: =IF(ISNUMBER('Level 2 Schedule'!$E6),IF(AND(YEAR('Level 2 Schedule'!$E6)=YEAR(G$4),MONTH('Level 2 Schedule'!$E6)=MONTH(G$4)),"◆",""),"") | H8: =IF(ISNUMBER('Level 2 Schedule'!$E6),IF(AND(YEAR('Level 2 Schedule'!$E6)=YEAR(H$4),MONTH('Level 2 Schedule'!$E6)=MONTH(H$4)),"◆",""),"") | I8: =IF(ISNUMBER('Level 2 Schedule'!$E6),IF(AND(YEAR('Level 2 Schedule'!$E6)=YEAR(I$4),MONTH('Level 2 Schedule'!$E6)=MONTH(I$4)),"◆",""),"") | J8: =IF(ISNUMBER('Level 2 Schedule'!$E6),IF(AND(YEAR('Level 2 Schedule'!$E6)=YEAR(J$4),MONTH('Level 2 Schedule'!$E6)=MONTH(J$4)),"◆",""),"") | ... BV8: =IF(ISNUMBER('Level 2 Schedule'!$E6),IF(AND(YEAR('Level 2 Schedule'!$E6)=YEAR(BV$4),MONTH('Level 2 Schedule'!$E6)=MONTH(BV$4)),"◆",""),"")
A9: ='Level 2 Schedule'!$D7 -> Topographical Survey Report Available (Existing) | B9: ='Level 2 Schedule'!$E7 -> 46113 | C9: =IF(ISNUMBER('Level 2 Schedule'!$E7),IF(AND(YEAR('Level 2 Schedule'!$E7)=YEAR(C$4),MONTH('Level 2 Schedule'!$E7)=MONTH(C$4)),"◆",""),"") | D9: =IF(ISNUMBER('Level 2 Schedule'!$E7),IF(AND(YEAR('Level 2 Schedule'!$E7)=YEAR(D$4),MONTH('Level 2 Schedule'!$E7)=MONTH(D$4)),"◆",""),"") | E9: =IF(ISNUMBER('Level 2 Schedule'!$E7),IF(AND(YEAR('Level 2 Schedule'!$E7)=YEAR(E$4),MONTH('Level 2 Schedule'!$E7)=MONTH(E$4)),"◆",""),"") | F9: =IF(ISNUMBER('Level 2 Schedule'!$E7),IF(AND(YEAR('Level 2 Schedule'!$E7)=YEAR(F$4),MONTH('Level 2 Schedule'!$E7)=MONTH(F$4)),"◆",""),"") | G9: =IF(ISNUMBER('Level 2 Schedule'!$E7),IF(AND(YEAR('Level 2 Schedule'!$E7)=YEAR(G$4),MONTH('Level 2 Schedule'!$E7)=MONTH(G$4)),"◆",""),"") | H9: =IF(ISNUMBER('Level 2 Schedule'!$E7),IF(AND(YEAR('Level 2 Schedule'!$E7)=YEAR(H$4),MONTH('Level 2 Schedule'!$E7)=MONTH(H$4)),"◆",""),"") | I9: =IF(ISNUMBER('Level 2 Schedule'!$E7),IF(AND(YEAR('Level 2 Schedule'!$E7)=YEAR(I$4),MONTH('Level 2 Schedule'!$E7)=MONTH(I$4)),"◆",""),"") | J9: =IF(ISNUMBER('Level 2 Schedule'!$E7),IF(AND(YEAR('Level 2 Schedule'!$E7)=YEAR(J$4),MONTH('Level 2 Schedule'!$E7)=MONTH(J$4)),"◆",""),"") | ... BV9: =IF(ISNUMBER('Level 2 Schedule'!$E7),IF(AND(YEAR('Level 2 Schedule'!$E7)=YEAR(BV$4),MONTH('Level 2 Schedule'!$E7)=MONTH(BV$4)),"◆",""),"")
A10: ='Level 2 Schedule'!$D8 -> Survey and Topographic Study | B10: ='Level 2 Schedule'!$E8 -> 46122 | C10: =IF(ISNUMBER('Level 2 Schedule'!$E8),IF(AND(YEAR('Level 2 Schedule'!$E8)=YEAR(C$4),MONTH('Level 2 Schedule'!$E8)=MONTH(C$4)),"◆",""),"") | D10: =IF(ISNUMBER('Level 2 Schedule'!$E8),IF(AND(YEAR('Level 2 Schedule'!$E8)=YEAR(D$4),MONTH('Level 2 Schedule'!$E8)=MONTH(D$4)),"◆",""),"") | E10: =IF(ISNUMBER('Level 2 Schedule'!$E8),IF(AND(YEAR('Level 2 Schedule'!$E8)=YEAR(E$4),MONTH('Level 2 Schedule'!$E8)=MONTH(E$4)),"◆",""),"") | F10: =IF(ISNUMBER('Level 2 Schedule'!$E8),IF(AND(YEAR('Level 2 Schedule'!$E8)=YEAR(F$4),MONTH('Level 2 Schedule'!$E8)=MONTH(F$4)),"◆",""),"") | G10: =IF(ISNUMBER('Level 2 Schedule'!$E8),IF(AND(YEAR('Level 2 Schedule'!$E8)=YEAR(G$4),MONTH('Level 2 Schedule'!$E8)=MONTH(G$4)),"◆",""),"") | H10: =IF(ISNUMBER('Level 2 Schedule'!$E8),IF(AND(YEAR('Level 2 Schedule'!$E8)=YEAR(H$4),MONTH('Level 2 Schedule'!$E8)=MONTH(H$4)),"◆",""),"") | I10: =IF(ISNUMBER('Level 2 Schedule'!$E8),IF(AND(YEAR('Level 2 Schedule'!$E8)=YEAR(I$4),MONTH('Level 2 Schedule'!$E8)=MONTH(I$4)),"◆",""),"") | J10: =IF(ISNUMBER('Level 2 Schedule'!$E8),IF(AND(YEAR('Level 2 Schedule'!$E8)=YEAR(J$4),MONTH('Level 2 Schedule'!$E8)=MONTH(J$4)),"◆",""),"") | ... BV10: =IF(ISNUMBER('Level 2 Schedule'!$E8),IF(AND(YEAR('Level 2 Schedule'!$E8)=YEAR(BV$4),MONTH('Level 2 Schedule'!$E8)=MONTH(BV$4)),"◆",""),"")
A11: ='Level 2 Schedule'!$D9 -> Phase II Environmental | B11: ='Level 2 Schedule'!$E9 -> 46280 | C11: =IF(ISNUMBER('Level 2 Schedule'!$E9),IF(AND(YEAR('Level 2 Schedule'!$E9)=YEAR(C$4),MONTH('Level 2 Schedule'!$E9)=MONTH(C$4)),"◆",""),"") | D11: =IF(ISNUMBER('Level 2 Schedule'!$E9),IF(AND(YEAR('Level 2 Schedule'!$E9)=YEAR(D$4),MONTH('Level 2 Schedule'!$E9)=MONTH(D$4)),"◆",""),"") | E11: =IF(ISNUMBER('Level 2 Schedule'!$E9),IF(AND(YEAR('Level 2 Schedule'!$E9)=YEAR(E$4),MONTH('Level 2 Schedule'!$E9)=MONTH(E$4)),"◆",""),"") | F11: =IF(ISNUMBER('Level 2 Schedule'!$E9),IF(AND(YEAR('Level 2 Schedule'!$E9)=YEAR(F$4),MONTH('Level 2 Schedule'!$E9)=MONTH(F$4)),"◆",""),"") | G11: =IF(ISNUMBER('Level 2 Schedule'!$E9),IF(AND(YEAR('Level 2 Schedule'!$E9)=YEAR(G$4),MONTH('Level 2 Schedule'!$E9)=MONTH(G$4)),"◆",""),"") | H11: =IF(ISNUMBER('Level 2 Schedule'!$E9),IF(AND(YEAR('Level 2 Schedule'!$E9)=YEAR(H$4),MONTH('Level 2 Schedule'!$E9)=MONTH(H$4)),"◆",""),"") | I11: =IF(ISNUMBER('Level 2 Schedule'!$E9),IF(AND(YEAR('Level 2 Schedule'!$E9)=YEAR(I$4),MONTH('Level 2 Schedule'!$E9)=MONTH(I$4)),"◆",""),"") | J11: =IF(ISNUMBER('Level 2 Schedule'!$E9),IF(AND(YEAR('Level 2 Schedule'!$E9)=YEAR(J$4),MONTH('Level 2 Schedule'!$E9)=MONTH(J$4)),"◆",""),"") | ... BV11: =IF(ISNUMBER('Level 2 Schedule'!$E9),IF(AND(YEAR('Level 2 Schedule'!$E9)=YEAR(BV$4),MONTH('Level 2 Schedule'!$E9)=MONTH(BV$4)),"◆",""),"")
A12: ='Level 2 Schedule'!$D10 -> Flood Plain | B12: ='Level 2 Schedule'!$E10 -> 46265 | C12: =IF(ISNUMBER('Level 2 Schedule'!$E10),IF(AND(YEAR('Level 2 Schedule'!$E10)=YEAR(C$4),MONTH('Level 2 Schedule'!$E10)=MONTH(C$4)),"◆",""),"") | D12: =IF(ISNUMBER('Level 2 Schedule'!$E10),IF(AND(YEAR('Level 2 Schedule'!$E10)=YEAR(D$4),MONTH('Level 2 Schedule'!$E10)=MONTH(D$4)),"◆",""),"") | E12: =IF(ISNUMBER('Level 2 Schedule'!$E10),IF(AND(YEAR('Level 2 Schedule'!$E10)=YEAR(E$4),MONTH('Level 2 Schedule'!$E10)=MONTH(E$4)),"◆",""),"") | F12: =IF(ISNUMBER('Level 2 Schedule'!$E10),IF(AND(YEAR('Level 2 Schedule'!$E10)=YEAR(F$4),MONTH('Level 2 Schedule'!$E10)=MONTH(F$4)),"◆",""),"") | G12: =IF(ISNUMBER('Level 2 Schedule'!$E10),IF(AND(YEAR('Level 2 Schedule'!$E10)=YEAR(G$4),MONTH('Level 2 Schedule'!$E10)=MONTH(G$4)),"◆",""),"") | H12: =IF(ISNUMBER('Level 2 Schedule'!$E10),IF(AND(YEAR('Level 2 Schedule'!$E10)=YEAR(H$4),MONTH('Level 2 Schedule'!$E10)=MONTH(H$4)),"◆",""),"") | I12: =IF(ISNUMBER('Level 2 Schedule'!$E10),IF(AND(YEAR('Level 2 Schedule'!$E10)=YEAR(I$4),MONTH('Level 2 Schedule'!$E10)=MONTH(I$4)),"◆",""),"") | J12: =IF(ISNUMBER('Level 2 Schedule'!$E10),IF(AND(YEAR('Level 2 Schedule'!$E10)=YEAR(J$4),MONTH('Level 2 Schedule'!$E10)=MONTH(J$4)),"◆",""),"") | ... BV12: =IF(ISNUMBER('Level 2 Schedule'!$E10),IF(AND(YEAR('Level 2 Schedule'!$E10)=YEAR(BV$4),MONTH('Level 2 Schedule'!$E10)=MONTH(BV$4)),"◆",""),"")
A13: ='Level 2 Schedule'!$D11 -> Wetlands | B13: ='Level 2 Schedule'!$E11 -> 46265 | C13: =IF(ISNUMBER('Level 2 Schedule'!$E11),IF(AND(YEAR('Level 2 Schedule'!$E11)=YEAR(C$4),MONTH('Level 2 Schedule'!$E11)=MONTH(C$4)),"◆",""),"") | D13: =IF(ISNUMBER('Level 2 Schedule'!$E11),IF(AND(YEAR('Level 2 Schedule'!$E11)=YEAR(D$4),MONTH('Level 2 Schedule'!$E11)=MONTH(D$4)),"◆",""),"") | E13: =IF(ISNUMBER('Level 2 Schedule'!$E11),IF(AND(YEAR('Level 2 Schedule'!$E11)=YEAR(E$4),MONTH('Level 2 Schedule'!$E11)=MONTH(E$4)),"◆",""),"") | F13: =IF(ISNUMBER('Level 2 Schedule'!$E11),IF(AND(YEAR('Level 2 Schedule'!$E11)=YEAR(F$4),MONTH('Level 2 Schedule'!$E11)=MONTH(F$4)),"◆",""),"") | G13: =IF(ISNUMBER('Level 2 Schedule'!$E11),IF(AND(YEAR('Level 2 Schedule'!$E11)=YEAR(G$4),MONTH('Level 2 Schedule'!$E11)=MONTH(G$4)),"◆",""),"") | H13: =IF(ISNUMBER('Level 2 Schedule'!$E11),IF(AND(YEAR('Level 2 Schedule'!$E11)=YEAR(H$4),MONTH('Level 2 Schedule'!$E11)=MONTH(H$4)),"◆",""),"") | I13: =IF(ISNUMBER('Level 2 Schedule'!$E11),IF(AND(YEAR('Level 2 Schedule'!$E11)=YEAR(I$4),MONTH('Level 2 Schedule'!$E11)=MONTH(I$4)),"◆",""),"") | J13: =IF(ISNUMBER('Level 2 Schedule'!$E11),IF(AND(YEAR('Level 2 Schedule'!$E11)=YEAR(J$4),MONTH('Level 2 Schedule'!$E11)=MONTH(J$4)),"◆",""),"") | ... BV13: =IF(ISNUMBER('Level 2 Schedule'!$E11),IF(AND(YEAR('Level 2 Schedule'!$E11)=YEAR(BV$4),MONTH('Level 2 Schedule'!$E11)=MONTH(BV$4)),"◆",""),"")
A14: ='Level 2 Schedule'!$D12 -> Flora and Fauna | B14: ='Level 2 Schedule'!$E12 -> 46265 | C14: =IF(ISNUMBER('Level 2 Schedule'!$E12),IF(AND(YEAR('Level 2 Schedule'!$E12)=YEAR(C$4),MONTH('Level 2 Schedule'!$E12)=MONTH(C$4)),"◆",""),"") | D14: =IF(ISNUMBER('Level 2 Schedule'!$E12),IF(AND(YEAR('Level 2 Schedule'!$E12)=YEAR(D$4),MONTH('Level 2 Schedule'!$E12)=MONTH(D$4)),"◆",""),"") | E14: =IF(ISNUMBER('Level 2 Schedule'!$E12),IF(AND(YEAR('Level 2 Schedule'!$E12)=YEAR(E$4),MONTH('Level 2 Schedule'!$E12)=MONTH(E$4)),"◆",""),"") | F14: =IF(ISNUMBER('Level 2 Schedule'!$E12),IF(AND(YEAR('Level 2 Schedule'!$E12)=YEAR(F$4),MONTH('Level 2 Schedule'!$E12)=MONTH(F$4)),"◆",""),"") | G14: =IF(ISNUMBER('Level 2 Schedule'!$E12),IF(AND(YEAR('Level 2 Schedule'!$E12)=YEAR(G$4),MONTH('Level 2 Schedule'!$E12)=MONTH(G$4)),"◆",""),"") | H14: =IF(ISNUMBER('Level 2 Schedule'!$E12),IF(AND(YEAR('Level 2 Schedule'!$E12)=YEAR(H$4),MONTH('Level 2 Schedule'!$E12)=MONTH(H$4)),"◆",""),"") | I14: =IF(ISNUMBER('Level 2 Schedule'!$E12),IF(AND(YEAR('Level 2 Schedule'!$E12)=YEAR(I$4),MONTH('Level 2 Schedule'!$E12)=MONTH(I$4)),"◆",""),"") | J14: =IF(ISNUMBER('Level 2 Schedule'!$E12),IF(AND(YEAR('Level 2 Schedule'!$E12)=YEAR(J$4),MONTH('Level 2 Schedule'!$E12)=MONTH(J$4)),"◆",""),"") | ... BV14: =IF(ISNUMBER('Level 2 Schedule'!$E12),IF(AND(YEAR('Level 2 Schedule'!$E12)=YEAR(BV$4),MONTH('Level 2 Schedule'!$E12)=MONTH(BV$4)),"◆",""),"")
A15: ='Level 2 Schedule'!$D13 -> Hydrological and Hydraulic (HH Study) | B15: ='Level 2 Schedule'!$E13 -> 46265 | C15: =IF(ISNUMBER('Level 2 Schedule'!$E13),IF(AND(YEAR('Level 2 Schedule'!$E13)=YEAR(C$4),MONTH('Level 2 Schedule'!$E13)=MONTH(C$4)),"◆",""),"") | D15: =IF(ISNUMBER('Level 2 Schedule'!$E13),IF(AND(YEAR('Level 2 Schedule'!$E13)=YEAR(D$4),MONTH('Level 2 Schedule'!$E13)=MONTH(D$4)),"◆",""),"") | E15: =IF(ISNUMBER('Level 2 Schedule'!$E13),IF(AND(YEAR('Level 2 Schedule'!$E13)=YEAR(E$4),MONTH('Level 2 Schedule'!$E13)=MONTH(E$4)),"◆",""),"") | F15: =IF(ISNUMBER('Level 2 Schedule'!$E13),IF(AND(YEAR('Level 2 Schedule'!$E13)=YEAR(F$4),MONTH('Level 2 Schedule'!$E13)=MONTH(F$4)),"◆",""),"") | G15: =IF(ISNUMBER('Level 2 Schedule'!$E13),IF(AND(YEAR('Level 2 Schedule'!$E13)=YEAR(G$4),MONTH('Level 2 Schedule'!$E13)=MONTH(G$4)),"◆",""),"") | H15: =IF(ISNUMBER('Level 2 Schedule'!$E13),IF(AND(YEAR('Level 2 Schedule'!$E13)=YEAR(H$4),MONTH('Level 2 Schedule'!$E13)=MONTH(H$4)),"◆",""),"") | I15: =IF(ISNUMBER('Level 2 Schedule'!$E13),IF(AND(YEAR('Level 2 Schedule'!$E13)=YEAR(I$4),MONTH('Level 2 Schedule'!$E13)=MONTH(I$4)),"◆",""),"") | J15: =IF(ISNUMBER('Level 2 Schedule'!$E13),IF(AND(YEAR('Level 2 Schedule'!$E13)=YEAR(J$4),MONTH('Level 2 Schedule'!$E13)=MONTH(J$4)),"◆",""),"") | ... BV15: =IF(ISNUMBER('Level 2 Schedule'!$E13),IF(AND(YEAR('Level 2 Schedule'!$E13)=YEAR(BV$4),MONTH('Level 2 Schedule'!$E13)=MONTH(BV$4)),"◆",""),"")
A16: ='Level 2 Schedule'!$D14 -> EPA PSD Application Submittal | B16: ='Level 2 Schedule'!$E14 -> 46262 | C16: =IF(ISNUMBER('Level 2 Schedule'!$E14),IF(AND(YEAR('Level 2 Schedule'!$E14)=YEAR(C$4),MONTH('Level 2 Schedule'!$E14)=MONTH(C$4)),"◆",""),"") | D16: =IF(ISNUMBER('Level 2 Schedule'!$E14),IF(AND(YEAR('Level 2 Schedule'!$E14)=YEAR(D$4),MONTH('Level 2 Schedule'!$E14)=MONTH(D$4)),"◆",""),"") | E16: =IF(ISNUMBER('Level 2 Schedule'!$E14),IF(AND(YEAR('Level 2 Schedule'!$E14)=YEAR(E$4),MONTH('Level 2 Schedule'!$E14)=MONTH(E$4)),"◆",""),"") | F16: =IF(ISNUMBER('Level 2 Schedule'!$E14),IF(AND(YEAR('Level 2 Schedule'!$E14)=YEAR(F$4),MONTH('Level 2 Schedule'!$E14)=MONTH(F$4)),"◆",""),"") | G16: =IF(ISNUMBER('Level 2 Schedule'!$E14),IF(AND(YEAR('Level 2 Schedule'!$E14)=YEAR(G$4),MONTH('Level 2 Schedule'!$E14)=MONTH(G$4)),"◆",""),"") | H16: =IF(ISNUMBER('Level 2 Schedule'!$E14),IF(AND(YEAR('Level 2 Schedule'!$E14)=YEAR(H$4),MONTH('Level 2 Schedule'!$E14)=MONTH(H$4)),"◆",""),"") | I16: =IF(ISNUMBER('Level 2 Schedule'!$E14),IF(AND(YEAR('Level 2 Schedule'!$E14)=YEAR(I$4),MONTH('Level 2 Schedule'!$E14)=MONTH(I$4)),"◆",""),"") | J16: =IF(ISNUMBER('Level 2 Schedule'!$E14),IF(AND(YEAR('Level 2 Schedule'!$E14)=YEAR(J$4),MONTH('Level 2 Schedule'!$E14)=MONTH(J$4)),"◆",""),"") | ... BV16: =IF(ISNUMBER('Level 2 Schedule'!$E14),IF(AND(YEAR('Level 2 Schedule'!$E14)=YEAR(BV$4),MONTH('Level 2 Schedule'!$E14)=MONTH(BV$4)),"◆",""),"")
A17: ='Level 2 Schedule'!$D15 -> Cultural Resources | B17: ='Level 2 Schedule'!$E15 -> 46262 | C17: =IF(ISNUMBER('Level 2 Schedule'!$E15),IF(AND(YEAR('Level 2 Schedule'!$E15)=YEAR(C$4),MONTH('Level 2 Schedule'!$E15)=MONTH(C$4)),"◆",""),"") | D17: =IF(ISNUMBER('Level 2 Schedule'!$E15),IF(AND(YEAR('Level 2 Schedule'!$E15)=YEAR(D$4),MONTH('Level 2 Schedule'!$E15)=MONTH(D$4)),"◆",""),"") | E17: =IF(ISNUMBER('Level 2 Schedule'!$E15),IF(AND(YEAR('Level 2 Schedule'!$E15)=YEAR(E$4),MONTH('Level 2 Schedule'!$E15)=MONTH(E$4)),"◆",""),"") | F17: =IF(ISNUMBER('Level 2 Schedule'!$E15),IF(AND(YEAR('Level 2 Schedule'!$E15)=YEAR(F$4),MONTH('Level 2 Schedule'!$E15)=MONTH(F$4)),"◆",""),"") | G17: =IF(ISNUMBER('Level 2 Schedule'!$E15),IF(AND(YEAR('Level 2 Schedule'!$E15)=YEAR(G$4),MONTH('Level 2 Schedule'!$E15)=MONTH(G$4)),"◆",""),"") | H17: =IF(ISNUMBER('Level 2 Schedule'!$E15),IF(AND(YEAR('Level 2 Schedule'!$E15)=YEAR(H$4),MONTH('Level 2 Schedule'!$E15)=MONTH(H$4)),"◆",""),"") | I17: =IF(ISNUMBER('Level 2 Schedule'!$E15),IF(AND(YEAR('Level 2 Schedule'!$E15)=YEAR(I$4),MONTH('Level 2 Schedule'!$E15)=MONTH(I$4)),"◆",""),"") | J17: =IF(ISNUMBER('Level 2 Schedule'!$E15),IF(AND(YEAR('Level 2 Schedule'!$E15)=YEAR(J$4),MONTH('Level 2 Schedule'!$E15)=MONTH(J$4)),"◆",""),"") | ... BV17: =IF(ISNUMBER('Level 2 Schedule'!$E15),IF(AND(YEAR('Level 2 Schedule'!$E15)=YEAR(BV$4),MONTH('Level 2 Schedule'!$E15)=MONTH(BV$4)),"◆",""),"")
... A46: ='Level 2 Schedule'!$D44 -> Guaranteed COD Date (PPOA Milestone) | B46: ='Level 2 Schedule'!$E44 -> 47847 | C46: =IF(ISNUMBER('Level 2 Schedule'!$E44),IF(AND(YEAR('Level 2 Schedule'!$E44)=YEAR(C$4),MONTH('Level 2 Schedule'!$E44)=MONTH(C$4)),"◆",""),"") | D46: =IF(ISNUMBER('Level 2 Schedule'!$E44),IF(AND(YEAR('Level 2 Schedule'!$E44)=YEAR(D$4),MONTH('Level 2 Schedule'!$E44)=MONTH(D$4)),"◆",""),"") | E46: =IF(ISNUMBER('Level 2 Schedule'!$E44),IF(AND(YEAR('Level 2 Schedule'!$E44)=YEAR(E$4),MONTH('Level 2 Schedule'!$E44)=MONTH(E$4)),"◆",""),"") | F46: =IF(ISNUMBER('Level 2 Schedule'!$E44),IF(AND(YEAR('Level 2 Schedule'!$E44)=YEAR(F$4),MONTH('Level 2 Schedule'!$E44)=MONTH(F$4)),"◆",""),"") | G46: =IF(ISNUMBER('Level 2 Schedule'!$E44),IF(AND(YEAR('Level 2 Schedule'!$E44)=YEAR(G$4),MONTH('Level 2 Schedule'!$E44)=MONTH(G$4)),"◆",""),"") | H46: =IF(ISNUMBER('Level 2 Schedule'!$E44),IF(AND(YEAR('Level 2 Schedule'!$E44)=YEAR(H$4),MONTH('Level 2 Schedule'!$E44)=MONTH(H$4)),"◆",""),"") | I46: =IF(ISNUMBER('Level 2 Schedule'!$E44),IF(AND(YEAR('Level 2 Schedule'!$E44)=YEAR(I$4),MONTH('Level 2 Schedule'!$E44)=MONTH(I$4)),"◆",""),"") | J46: =IF(ISNUMBER('Level 2 Schedule'!$E44),IF(AND(YEAR('Level 2 Schedule'!$E44)=YEAR(J$4),MONTH('Level 2 Schedule'!$E44)=MONTH(J$4)),"◆",""),"") | ... BV46: =IF(ISNUMBER('Level 2 Schedule'!$E44),IF(AND(YEAR('Level 2 Schedule'!$E44)=YEAR(BV$4),MONTH('Level 2 Schedule'!$E44)=MONTH(BV$4)),"◆",""),"") -> ◆
A47: EPC - CONTRACTOR MILESTONES
A48: ='Level 2 Schedule'!$D46 -> Documentation for Steam Turbine Awarding Available | B48: ='Level 2 Schedule'!$E46 -> 46357 | C48: =IF(ISNUMBER('Level 2 Schedule'!$E46),IF(AND(YEAR('Level 2 Schedule'!$E46)=YEAR(C$4),MONTH('Level 2 Schedule'!$E46)=MONTH(C$4)),"◆",""),"") | D48: =IF(ISNUMBER('Level 2 Schedule'!$E46),IF(AND(YEAR('Level 2 Schedule'!$E46)=YEAR(D$4),MONTH('Level 2 Schedule'!$E46)=MONTH(D$4)),"◆",""),"") | E48: =IF(ISNUMBER('Level 2 Schedule'!$E46),IF(AND(YEAR('Level 2 Schedule'!$E46)=YEAR(E$4),MONTH('Level 2 Schedule'!$E46)=MONTH(E$4)),"◆",""),"") | F48: =IF(ISNUMBER('Level 2 Schedule'!$E46),IF(AND(YEAR('Level 2 Schedule'!$E46)=YEAR(F$4),MONTH('Level 2 Schedule'!$E46)=MONTH(F$4)),"◆",""),"") | G48: =IF(ISNUMBER('Level 2 Schedule'!$E46),IF(AND(YEAR('Level 2 Schedule'!$E46)=YEAR(G$4),MONTH('Level 2 Schedule'!$E46)=MONTH(G$4)),"◆",""),"") | H48: =IF(ISNUMBER('Level 2 Schedule'!$E46),IF(AND(YEAR('Level 2 Schedule'!$E46)=YEAR(H$4),MONTH('Level 2 Schedule'!$E46)=MONTH(H$4)),"◆",""),"") | I48: =IF(ISNUMBER('Level 2 Schedule'!$E46),IF(AND(YEAR('Level 2 Schedule'!$E46)=YEAR(I$4),MONTH('Level 2 Schedule'!$E46)=MONTH(I$4)),"◆",""),"") | J48: =IF(ISNUMBER('Level 2 Schedule'!$E46),IF(AND(YEAR('Level 2 Schedule'!$E46)=YEAR(J$4),MONTH('Level 2 Schedule'!$E46)=MONTH(J$4)),"◆",""),"") | ... BV48: =IF(ISNUMBER('Level 2 Schedule'!$E46),IF(AND(YEAR('Level 2 Schedule'!$E46)=YEAR(BV$4),MONTH('Level 2 Schedule'!$E46)=MONTH(BV$4)),"◆",""),"")
A49: ='Level 2 Schedule'!$D47 -> Documentation for HRSG Awarding Available | B49: ='Level 2 Schedule'!$E47 -> 46357 | C49: =IF(ISNUMBER('Level 2 Schedule'!$E47),IF(AND(YEAR('Level 2 Schedule'!$E47)=YEAR(C$4),MONTH('Level 2 Schedule'!$E47)=MONTH(C$4)),"◆",""),"") | D49: =IF(ISNUMBER('Level 2 Schedule'!$E47),IF(AND(YEAR('Level 2 Schedule'!$E47)=YEAR(D$4),MONTH('Level 2 Schedule'!$E47)=MONTH(D$4)),"◆",""),"") | E49: =IF(ISNUMBER('Level 2 Schedule'!$E47),IF(AND(YEAR('Level 2 Schedule'!$E47)=YEAR(E$4),MONTH('Level 2 Schedule'!$E47)=MONTH(E$4)),"◆",""),"") | F49: =IF(ISNUMBER('Level 2 Schedule'!$E47),IF(AND(YEAR('Level 2 Schedule'!$E47)=YEAR(F$4),MONTH('Level 2 Schedule'!$E47)=MONTH(F$4)),"◆",""),"") | G49: =IF(ISNUMBER('Level 2 Schedule'!$E47),IF(AND(YEAR('Level 2 Schedule'!$E47)=YEAR(G$4),MONTH('Level 2 Schedule'!$E47)=MONTH(G$4)),"◆",""),"") | H49: =IF(ISNUMBER('Level 2 Schedule'!$E47),IF(AND(YEAR('Level 2 Schedule'!$E47)=YEAR(H$4),MONTH('Level 2 Schedule'!$E47)=MONTH(H$4)),"◆",""),"") | I49: =IF(ISNUMBER('Level 2 Schedule'!$E47),IF(AND(YEAR('Level 2 Schedule'!$E47)=YEAR(I$4),MONTH('Level 2 Schedule'!$E47)=MONTH(I$4)),"◆",""),"") | J49: =IF(ISNUMBER('Level 2 Schedule'!$E47),IF(AND(YEAR('Level 2 Schedule'!$E47)=YEAR(J$4),MONTH('Level 2 Schedule'!$E47)=MONTH(J$4)),"◆",""),"") | ... BV49: =IF(ISNUMBER('Level 2 Schedule'!$E47),IF(AND(YEAR('Level 2 Schedule'!$E47)=YEAR(BV$4),MONTH('Level 2 Schedule'!$E47)=MONTH(BV$4)),"◆",""),"")
A50: ='Level 2 Schedule'!$D48 -> Steam Turbine. Order Placed | B50: ='Level 2 Schedule'!$E48 -> 46419 | C50: =IF(ISNUMBER('Level 2 Schedule'!$E48),IF(AND(YEAR('Level 2 Schedule'!$E48)=YEAR(C$4),MONTH('Level 2 Schedule'!$E48)=MONTH(C$4)),"◆",""),"") | D50: =IF(ISNUMBER('Level 2 Schedule'!$E48),IF(AND(YEAR('Level 2 Schedule'!$E48)=YEAR(D$4),MONTH('Level 2 Schedule'!$E48)=MONTH(D$4)),"◆",""),"") | E50: =IF(ISNUMBER('Level 2 Schedule'!$E48),IF(AND(YEAR('Level 2 Schedule'!$E48)=YEAR(E$4),MONTH('Level 2 Schedule'!$E48)=MONTH(E$4)),"◆",""),"") | F50: =IF(ISNUMBER('Level 2 Schedule'!$E48),IF(AND(YEAR('Level 2 Schedule'!$E48)=YEAR(F$4),MONTH('Level 2 Schedule'!$E48)=MONTH(F$4)),"◆",""),"") | G50: =IF(ISNUMBER('Level 2 Schedule'!$E48),IF(AND(YEAR('Level 2 Schedule'!$E48)=YEAR(G$4),MONTH('Level 2 Schedule'!$E48)=MONTH(G$4)),"◆",""),"") | H50: =IF(ISNUMBER('Level 2 Schedule'!$E48),IF(AND(YEAR('Level 2 Schedule'!$E48)=YEAR(H$4),MONTH('Level 2 Schedule'!$E48)=MONTH(H$4)),"◆",""),"") | I50: =IF(ISNUMBER('Level 2 Schedule'!$E48),IF(AND(YEAR('Level 2 Schedule'!$E48)=YEAR(I$4),MONTH('Level 2 Schedule'!$E48)=MONTH(I$4)),"◆",""),"") | J50: =IF(ISNUMBER('Level 2 Schedule'!$E48),IF(AND(YEAR('Level 2 Schedule'!$E48)=YEAR(J$4),MONTH('Level 2 Schedule'!$E48)=MONTH(J$4)),"◆",""),"") | ... BV50: =IF(ISNUMBER('Level 2 Schedule'!$E48),IF(AND(YEAR('Level 2 Schedule'!$E48)=YEAR(BV$4),MONTH('Level 2 Schedule'!$E48)=MONTH(BV$4)),"◆",""),"")
A51: ='Level 2 Schedule'!$D49 -> HRSG Order Placed | B51: ='Level 2 Schedule'!$E49 -> 46419 | C51: =IF(ISNUMBER('Level 2 Schedule'!$E49),IF(AND(YEAR('Level 2 Schedule'!$E49)=YEAR(C$4),MONTH('Level 2 Schedule'!$E49)=MONTH(C$4)),"◆",""),"") | D51: =IF(ISNUMBER('Level 2 Schedule'!$E49),IF(AND(YEAR('Level 2 Schedule'!$E49)=YEAR(D$4),MONTH('Level 2 Schedule'!$E49)=MONTH(D$4)),"◆",""),"") | E51: =IF(ISNUMBER('Level 2 Schedule'!$E49),IF(AND(YEAR('Level 2 Schedule'!$E49)=YEAR(E$4),MONTH('Level 2 Schedule'!$E49)=MONTH(E$4)),"◆",""),"") | F51: =IF(ISNUMBER('Level 2 Schedule'!$E49),IF(AND(YEAR('Level 2 Schedule'!$E49)=YEAR(F$4),MONTH('Level 2 Schedule'!$E49)=MONTH(F$4)),"◆",""),"") | G51: =IF(ISNUMBER('Level 2 Schedule'!$E49),IF(AND(YEAR('Level 2 Schedule'!$E49)=YEAR(G$4),MONTH('Level 2 Schedule'!$E49)=MONTH(G$4)),"◆",""),"") | H51: =IF(ISNUMBER('Level 2 Schedule'!$E49),IF(AND(YEAR('Level 2 Schedule'!$E49)=YEAR(H$4),MONTH('Level 2 Schedule'!$E49)=MONTH(H$4)),"◆",""),"") | I51: =IF(ISNUMBER('Level 2 Schedule'!$E49),IF(AND(YEAR('Level 2 Schedule'!$E49)=YEAR(I$4),MONTH('Level 2 Schedule'!$E49)=MONTH(I$4)),"◆",""),"") | J51: =IF(ISNUMBER('Level 2 Schedule'!$E49),IF(AND(YEAR('Level 2 Schedule'!$E49)=YEAR(J$4),MONTH('Level 2 Schedule'!$E49)=MONTH(J$4)),"◆",""),"") | ... BV51: =IF(ISNUMBER('Level 2 Schedule'!$E49),IF(AND(YEAR('Level 2 Schedule'!$E49)=YEAR(BV$4),MONTH('Level 2 Schedule'!$E49)=MONTH(BV$4)),"◆",""),"")
A52: ='Level 2 Schedule'!$D50 -> Water & Power Supply Available for Site | B52: ='Level 2 Schedule'!$E50 -> 46478 | C52: =IF(ISNUMBER('Level 2 Schedule'!$E50),IF(AND(YEAR('Level 2 Schedule'!$E50)=YEAR(C$4),MONTH('Level 2 Schedule'!$E50)=MONTH(C$4)),"◆",""),"") | D52: =IF(ISNUMBER('Level 2 Schedule'!$E50),IF(AND(YEAR('Level 2 Schedule'!$E50)=YEAR(D$4),MONTH('Level 2 Schedule'!$E50)=MONTH(D$4)),"◆",""),"") | E52: =IF(ISNUMBER('Level 2 Schedule'!$E50),IF(AND(YEAR('Level 2 Schedule'!$E50)=YEAR(E$4),MONTH('Level 2 Schedule'!$E50)=MONTH(E$4)),"◆",""),"") | F52: =IF(ISNUMBER('Level 2 Schedule'!$E50),IF(AND(YEAR('Level 2 Schedule'!$E50)=YEAR(F$4),MONTH('Level 2 Schedule'!$E50)=MONTH(F$4)),"◆",""),"") | G52: =IF(ISNUMBER('Level 2 Schedule'!$E50),IF(AND(YEAR('Level 2 Schedule'!$E50)=YEAR(G$4),MONTH('Level 2 Schedule'!$E50)=MONTH(G$4)),"◆",""),"") | H52: =IF(ISNUMBER('Level 2 Schedule'!$E50),IF(AND(YEAR('Level 2 Schedule'!$E50)=YEAR(H$4),MONTH('Level 2 Schedule'!$E50)=MONTH(H$4)),"◆",""),"") | I52: =IF(ISNUMBER('Level 2 Schedule'!$E50),IF(AND(YEAR('Level 2 Schedule'!$E50)=YEAR(I$4),MONTH('Level 2 Schedule'!$E50)=MONTH(I$4)),"◆",""),"") | J52: =IF(ISNUMBER('Level 2 Schedule'!$E50),IF(AND(YEAR('Level 2 Schedule'!$E50)=YEAR(J$4),MONTH('Level 2 Schedule'!$E50)=MONTH(J$4)),"◆",""),"") | ... BV52: =IF(ISNUMBER('Level 2 Schedule'!$E50),IF(AND(YEAR('Level 2 Schedule'!$E50)=YEAR(BV$4),MONTH('Level 2 Schedule'!$E50)=MONTH(BV$4)),"◆",""),"")
A53: ='Level 2 Schedule'!$D51 -> Start General Site Mobilization | B53: ='Level 2 Schedule'!$E51 -> 46478 | C53: =IF(ISNUMBER('Level 2 Schedule'!$E51),IF(AND(YEAR('Level 2 Schedule'!$E51)=YEAR(C$4),MONTH('Level 2 Schedule'!$E51)=MONTH(C$4)),"◆",""),"") | D53: =IF(ISNUMBER('Level 2 Schedule'!$E51),IF(AND(YEAR('Level 2 Schedule'!$E51)=YEAR(D$4),MONTH('Level 2 Schedule'!$E51)=MONTH(D$4)),"◆",""),"") | E53: =IF(ISNUMBER('Level 2 Schedule'!$E51),IF(AND(YEAR('Level 2 Schedule'!$E51)=YEAR(E$4),MONTH('Level 2 Schedule'!$E51)=MONTH(E$4)),"◆",""),"") | F53: =IF(ISNUMBER('Level 2 Schedule'!$E51),IF(AND(YEAR('Level 2 Schedule'!$E51)=YEAR(F$4),MONTH('Level 2 Schedule'!$E51)=MONTH(F$4)),"◆",""),"") | G53: =IF(ISNUMBER('Level 2 Schedule'!$E51),IF(AND(YEAR('Level 2 Schedule'!$E51)=YEAR(G$4),MONTH('Level 2 Schedule'!$E51)=MONTH(G$4)),"◆",""),"") | H53: =IF(ISNUMBER('Level 2 Schedule'!$E51),IF(AND(YEAR('Level 2 Schedule'!$E51)=YEAR(H$4),MONTH('Level 2 Schedule'!$E51)=MONTH(H$4)),"◆",""),"") | I53: =IF(ISNUMBER('Level 2 Schedule'!$E51),IF(AND(YEAR('Level 2 Schedule'!$E51)=YEAR(I$4),MONTH('Level 2 Schedule'!$E51)=MONTH(I$4)),"◆",""),"") | J53: =IF(ISNUMBER('Level 2 Schedule'!$E51),IF(AND(YEAR('Level 2 Schedule'!$E51)=YEAR(J$4),MONTH('Level 2 Schedule'!$E51)=MONTH(J$4)),"◆",""),"") | ... BV53: =IF(ISNUMBER('Level 2 Schedule'!$E51),IF(AND(YEAR('Level 2 Schedule'!$E51)=YEAR(BV$4),MONTH('Level 2 Schedule'!$E51)=MONTH(BV$4)),"◆",""),"")
A54: ='Level 2 Schedule'!$D52 -> Construction Permits Available | B54: ='Level 2 Schedule'!$E52 -> 46478 | C54: =IF(ISNUMBER('Level 2 Schedule'!$E52),IF(AND(YEAR('Level 2 Schedule'!$E52)=YEAR(C$4),MONTH('Level 2 Schedule'!$E52)=MONTH(C$4)),"◆",""),"") | D54: =IF(ISNUMBER('Level 2 Schedule'!$E52),IF(AND(YEAR('Level 2 Schedule'!$E52)=YEAR(D$4),MONTH('Level 2 Schedule'!$E52)=MONTH(D$4)),"◆",""),"") | E54: =IF(ISNUMBER('Level 2 Schedule'!$E52),IF(AND(YEAR('Level 2 Schedule'!$E52)=YEAR(E$4),MONTH('Level 2 Schedule'!$E52)=MONTH(E$4)),"◆",""),"") | F54: =IF(ISNUMBER('Level 2 Schedule'!$E52),IF(AND(YEAR('Level 2 Schedule'!$E52)=YEAR(F$4),MONTH('Level 2 Schedule'!$E52)=MONTH(F$4)),"◆",""),"") | G54: =IF(ISNUMBER('Level 2 Schedule'!$E52),IF(AND(YEAR('Level 2 Schedule'!$E52)=YEAR(G$4),MONTH('Level 2 Schedule'!$E52)=MONTH(G$4)),"◆",""),"") | H54: =IF(ISNUMBER('Level 2 Schedule'!$E52),IF(AND(YEAR('Level 2 Schedule'!$E52)=YEAR(H$4),MONTH('Level 2 Schedule'!$E52)=MONTH(H$4)),"◆",""),"") | I54: =IF(ISNUMBER('Level 2 Schedule'!$E52),IF(AND(YEAR('Level 2 Schedule'!$E52)=YEAR(I$4),MONTH('Level 2 Schedule'!$E52)=MONTH(I$4)),"◆",""),"") | J54: =IF(ISNUMBER('Level 2 Schedule'!$E52),IF(AND(YEAR('Level 2 Schedule'!$E52)=YEAR(J$4),MONTH('Level 2 Schedule'!$E52)=MONTH(J$4)),"◆",""),"") | ... BV54: =IF(ISNUMBER('Level 2 Schedule'!$E52),IF(AND(YEAR('Level 2 Schedule'!$E52)=YEAR(BV$4),MONTH('Level 2 Schedule'!$E52)=MONTH(BV$4)),"◆",""),"")
A55: ='Level 2 Schedule'!$D53 -> Start HRSG Foundation incl. excavation | B55: ='Level 2 Schedule'!$E53 -> 46642 | C55: =IF(ISNUMBER('Level 2 Schedule'!$E53),IF(AND(YEAR('Level 2 Schedule'!$E53)=YEAR(C$4),MONTH('Level 2 Schedule'!$E53)=MONTH(C$4)),"◆",""),"") | D55: =IF(ISNUMBER('Level 2 Schedule'!$E53),IF(AND(YEAR('Level 2 Schedule'!$E53)=YEAR(D$4),MONTH('Level 2 Schedule'!$E53)=MONTH(D$4)),"◆",""),"") | E55: =IF(ISNUMBER('Level 2 Schedule'!$E53),IF(AND(YEAR('Level 2 Schedule'!$E53)=YEAR(E$4),MONTH('Level 2 Schedule'!$E53)=MONTH(E$4)),"◆",""),"") | F55: =IF(ISNUMBER('Level 2 Schedule'!$E53),IF(AND(YEAR('Level 2 Schedule'!$E53)=YEAR(F$4),MONTH('Level 2 Schedule'!$E53)=MONTH(F$4)),"◆",""),"") | G55: =IF(ISNUMBER('Level 2 Schedule'!$E53),IF(AND(YEAR('Level 2 Schedule'!$E53)=YEAR(G$4),MONTH('Level 2 Schedule'!$E53)=MONTH(G$4)),"◆",""),"") | H55: =IF(ISNUMBER('Level 2 Schedule'!$E53),IF(AND(YEAR('Level 2 Schedule'!$E53)=YEAR(H$4),MONTH('Level 2 Schedule'!$E53)=MONTH(H$4)),"◆",""),"") | I55: =IF(ISNUMBER('Level 2 Schedule'!$E53),IF(AND(YEAR('Level 2 Schedule'!$E53)=YEAR(I$4),MONTH('Level 2 Schedule'!$E53)=MONTH(I$4)),"◆",""),"") | J55: =IF(ISNUMBER('Level 2 Schedule'!$E53),IF(AND(YEAR('Level 2 Schedule'!$E53)=YEAR(J$4),MONTH('Level 2 Schedule'!$E53)=MONTH(J$4)),"◆",""),"") | ... BV55: =IF(ISNUMBER('Level 2 Schedule'!$E53),IF(AND(YEAR('Level 2 Schedule'!$E53)=YEAR(BV$4),MONTH('Level 2 Schedule'!$E53)=MONTH(BV$4)),"◆",""),"")
A56: ='Level 2 Schedule'!$D54 -> Start ST Foundations | B56: ='Level 2 Schedule'!$E54 -> 46662 | C56: =IF(ISNUMBER('Level 2 Schedule'!$E54),IF(AND(YEAR('Level 2 Schedule'!$E54)=YEAR(C$4),MONTH('Level 2 Schedule'!$E54)=MONTH(C$4)),"◆",""),"") | D56: =IF(ISNUMBER('Level 2 Schedule'!$E54),IF(AND(YEAR('Level 2 Schedule'!$E54)=YEAR(D$4),MONTH('Level 2 Schedule'!$E54)=MONTH(D$4)),"◆",""),"") | E56: =IF(ISNUMBER('Level 2 Schedule'!$E54),IF(AND(YEAR('Level 2 Schedule'!$E54)=YEAR(E$4),MONTH('Level 2 Schedule'!$E54)=MONTH(E$4)),"◆",""),"") | F56: =IF(ISNUMBER('Level 2 Schedule'!$E54),IF(AND(YEAR('Level 2 Schedule'!$E54)=YEAR(F$4),MONTH('Level 2 Schedule'!$E54)=MONTH(F$4)),"◆",""),"") | G56: =IF(ISNUMBER('Level 2 Schedule'!$E54),IF(AND(YEAR('Level 2 Schedule'!$E54)=YEAR(G$4),MONTH('Level 2 Schedule'!$E54)=MONTH(G$4)),"◆",""),"") | H56: =IF(ISNUMBER('Level 2 Schedule'!$E54),IF(AND(YEAR('Level 2 Schedule'!$E54)=YEAR(H$4),MONTH('Level 2 Schedule'!$E54)=MONTH(H$4)),"◆",""),"") | I56: =IF(ISNUMBER('Level 2 Schedule'!$E54),IF(AND(YEAR('Level 2 Schedule'!$E54)=YEAR(I$4),MONTH('Level 2 Schedule'!$E54)=MONTH(I$4)),"◆",""),"") | J56: =IF(ISNUMBER('Level 2 Schedule'!$E54),IF(AND(YEAR('Level 2 Schedule'!$E54)=YEAR(J$4),MONTH('Level 2 Schedule'!$E54)=MONTH(J$4)),"◆",""),"") | ... BV56: =IF(ISNUMBER('Level 2 Schedule'!$E54),IF(AND(YEAR('Level 2 Schedule'!$E54)=YEAR(BV$4),MONTH('Level 2 Schedule'!$E54)=MONTH(BV$4)),"◆",""),"")
A57: ='Level 2 Schedule'!$D55 -> GT Foundation Completed | B57: ='Level 2 Schedule'!$E55 -> 46814 | C57: =IF(ISNUMBER('Level 2 Schedule'!$E55),IF(AND(YEAR('Level 2 Schedule'!$E55)=YEAR(C$4),MONTH('Level 2 Schedule'!$E55)=MONTH(C$4)),"◆",""),"") | D57: =IF(ISNUMBER('Level 2 Schedule'!$E55),IF(AND(YEAR('Level 2 Schedule'!$E55)=YEAR(D$4),MONTH('Level 2 Schedule'!$E55)=MONTH(D$4)),"◆",""),"") | E57: =IF(ISNUMBER('Level 2 Schedule'!$E55),IF(AND(YEAR('Level 2 Schedule'!$E55)=YEAR(E$4),MONTH('Level 2 Schedule'!$E55)=MONTH(E$4)),"◆",""),"") | F57: =IF(ISNUMBER('Level 2 Schedule'!$E55),IF(AND(YEAR('Level 2 Schedule'!$E55)=YEAR(F$4),MONTH('Level 2 Schedule'!$E55)=MONTH(F$4)),"◆",""),"") | G57: =IF(ISNUMBER('Level 2 Schedule'!$E55),IF(AND(YEAR('Level 2 Schedule'!$E55)=YEAR(G$4),MONTH('Level 2 Schedule'!$E55)=MONTH(G$4)),"◆",""),"") | H57: =IF(ISNUMBER('Level 2 Schedule'!$E55),IF(AND(YEAR('Level 2 Schedule'!$E55)=YEAR(H$4),MONTH('Level 2 Schedule'!$E55)=MONTH(H$4)),"◆",""),"") | I57: =IF(ISNUMBER('Level 2 Schedule'!$E55),IF(AND(YEAR('Level 2 Schedule'!$E55)=YEAR(I$4),MONTH('Level 2 Schedule'!$E55)=MONTH(I$4)),"◆",""),"") | J57: =IF(ISNUMBER('Level 2 Schedule'!$E55),IF(AND(YEAR('Level 2 Schedule'!$E55)=YEAR(J$4),MONTH('Level 2 Schedule'!$E55)=MONTH(J$4)),"◆",""),"") | ... BV57: =IF(ISNUMBER('Level 2 Schedule'!$E55),IF(AND(YEAR('Level 2 Schedule'!$E55)=YEAR(BV$4),MONTH('Level 2 Schedule'!$E55)=MONTH(BV$4)),"◆",""),"")
A58: ='Level 2 Schedule'!$D56 -> ACC Erection Begins (ACC Need by Date) | B58: ='Level 2 Schedule'!$E56 -> 46861 | C58: =IF(ISNUMBER('Level 2 Schedule'!$E56),IF(AND(YEAR('Level 2 Schedule'!$E56)=YEAR(C$4),MONTH('Level 2 Schedule'!$E56)=MONTH(C$4)),"◆",""),"") | D58: =IF(ISNUMBER('Level 2 Schedule'!$E56),IF(AND(YEAR('Level 2 Schedule'!$E56)=YEAR(D$4),MONTH('Level 2 Schedule'!$E56)=MONTH(D$4)),"◆",""),"") | E58: =IF(ISNUMBER('Level 2 Schedule'!$E56),IF(AND(YEAR('Level 2 Schedule'!$E56)=YEAR(E$4),MONTH('Level 2 Schedule'!$E56)=MONTH(E$4)),"◆",""),"") | F58: =IF(ISNUMBER('Level 2 Schedule'!$E56),IF(AND(YEAR('Level 2 Schedule'!$E56)=YEAR(F$4),MONTH('Level 2 Schedule'!$E56)=MONTH(F$4)),"◆",""),"") | G58: =IF(ISNUMBER('Level 2 Schedule'!$E56),IF(AND(YEAR('Level 2 Schedule'!$E56)=YEAR(G$4),MONTH('Level 2 Schedule'!$E56)=MONTH(G$4)),"◆",""),"") | H58: =IF(ISNUMBER('Level 2 Schedule'!$E56),IF(AND(YEAR('Level 2 Schedule'!$E56)=YEAR(H$4),MONTH('Level 2 Schedule'!$E56)=MONTH(H$4)),"◆",""),"") | I58: =IF(ISNUMBER('Level 2 Schedule'!$E56),IF(AND(YEAR('Level 2 Schedule'!$E56)=YEAR(I$4),MONTH('Level 2 Schedule'!$E56)=MONTH(I$4)),"◆",""),"") | J58: =IF(ISNUMBER('Level 2 Schedule'!$E56),IF(AND(YEAR('Level 2 Schedule'!$E56)=YEAR(J$4),MONTH('Level 2 Schedule'!$E56)=MONTH(J$4)),"◆",""),"") | ... BV58: =IF(ISNUMBER('Level 2 Schedule'!$E56),IF(AND(YEAR('Level 2 Schedule'!$E56)=YEAR(BV$4),MONTH('Level 2 Schedule'!$E56)=MONTH(BV$4)),"◆",""),"")
A59: ='Level 2 Schedule'!$D57 -> HRSG 1st Delivery on Site (Need By Date for Main Steel Structure) | B59: ='Level 2 Schedule'!$E57 -> 46965 | C59: =IF(ISNUMBER('Level 2 Schedule'!$E57),IF(AND(YEAR('Level 2 Schedule'!$E57)=YEAR(C$4),MONTH('Level 2 Schedule'!$E57)=MONTH(C$4)),"◆",""),"") | D59: =IF(ISNUMBER('Level 2 Schedule'!$E57),IF(AND(YEAR('Level 2 Schedule'!$E57)=YEAR(D$4),MONTH('Level 2 Schedule'!$E57)=MONTH(D$4)),"◆",""),"") | E59: =IF(ISNUMBER('Level 2 Schedule'!$E57),IF(AND(YEAR('Level 2 Schedule'!$E57)=YEAR(E$4),MONTH('Level 2 Schedule'!$E57)=MONTH(E$4)),"◆",""),"") | F59: =IF(ISNUMBER('Level 2 Schedule'!$E57),IF(AND(YEAR('Level 2 Schedule'!$E57)=YEAR(F$4),MONTH('Level 2 Schedule'!$E57)=MONTH(F$4)),"◆",""),"") | G59: =IF(ISNUMBER('Level 2 Schedule'!$E57),IF(AND(YEAR('Level 2 Schedule'!$E57)=YEAR(G$4),MONTH('Level 2 Schedule'!$E57)=MONTH(G$4)),"◆",""),"") | H59: =IF(ISNUMBER('Level 2 Schedule'!$E57),IF(AND(YEAR('Level 2 Schedule'!$E57)=YEAR(H$4),MONTH('Level 2 Schedule'!$E57)=MONTH(H$4)),"◆",""),"") | I59: =IF(ISNUMBER('Level 2 Schedule'!$E57),IF(AND(YEAR('Level 2 Schedule'!$E57)=YEAR(I$4),MONTH('Level 2 Schedule'!$E57)=MONTH(I$4)),"◆",""),"") | J59: =IF(ISNUMBER('Level 2 Schedule'!$E57),IF(AND(YEAR('Level 2 Schedule'!$E57)=YEAR(J$4),MONTH('Level 2 Schedule'!$E57)=MONTH(J$4)),"◆",""),"") | ... BV59: =IF(ISNUMBER('Level 2 Schedule'!$E57),IF(AND(YEAR('Level 2 Schedule'!$E57)=YEAR(BV$4),MONTH('Level 2 Schedule'!$E57)=MONTH(BV$4)),"◆",""),"")
... A81: ='Level 2 Schedule'!$D79 -> Combined Cycle Provisional Acceptance Certificate (PAC) | B81: ='Level 2 Schedule'!$E79 -> 47786 | C81: =IF(ISNUMBER('Level 2 Schedule'!$E79),IF(AND(YEAR('Level 2 Schedule'!$E79)=YEAR(C$4),MONTH('Level 2 Schedule'!$E79)=MONTH(C$4)),"◆",""),"") | D81: =IF(ISNUMBER('Level 2 Schedule'!$E79),IF(AND(YEAR('Level 2 Schedule'!$E79)=YEAR(D$4),MONTH('Level 2 Schedule'!$E79)=MONTH(D$4)),"◆",""),"") | E81: =IF(ISNUMBER('Level 2 Schedule'!$E79),IF(AND(YEAR('Level 2 Schedule'!$E79)=YEAR(E$4),MONTH('Level 2 Schedule'!$E79)=MONTH(E$4)),"◆",""),"") | F81: =IF(ISNUMBER('Level 2 Schedule'!$E79),IF(AND(YEAR('Level 2 Schedule'!$E79)=YEAR(F$4),MONTH('Level 2 Schedule'!$E79)=MONTH(F$4)),"◆",""),"") | G81: =IF(ISNUMBER('Level 2 Schedule'!$E79),IF(AND(YEAR('Level 2 Schedule'!$E79)=YEAR(G$4),MONTH('Level 2 Schedule'!$E79)=MONTH(G$4)),"◆",""),"") | H81: =IF(ISNUMBER('Level 2 Schedule'!$E79),IF(AND(YEAR('Level 2 Schedule'!$E79)=YEAR(H$4),MONTH('Level 2 Schedule'!$E79)=MONTH(H$4)),"◆",""),"") | I81: =IF(ISNUMBER('Level 2 Schedule'!$E79),IF(AND(YEAR('Level 2 Schedule'!$E79)=YEAR(I$4),MONTH('Level 2 Schedule'!$E79)=MONTH(I$4)),"◆",""),"") | J81: =IF(ISNUMBER('Level 2 Schedule'!$E79),IF(AND(YEAR('Level 2 Schedule'!$E79)=YEAR(J$4),MONTH('Level 2 Schedule'!$E79)=MONTH(J$4)),"◆",""),"") | ... BV81: =IF(ISNUMBER('Level 2 Schedule'!$E79),IF(AND(YEAR('Level 2 Schedule'!$E79)=YEAR(BV$4),MONTH('Level 2 Schedule'!$E79)=MONTH(BV$4)),"◆",""),"")

Sheet Level 2 Schedule
C3: EPC - Owner Milestones
C4: EPC - Owner Milestones | D4: Phase I Environmental Assessment | E4: 45779
C5: EPC - Owner Milestones | D5: Gas Turbine & Generator Set Firm Proposal | E5: 46112
C6: EPC - Owner Milestones | D6: Geotechnical Survey Report Available (Existing) | E6: 46113
C7: EPC - Owner Milestones | D7: Topographical Survey Report Available (Existing) | E7: 46113
C8: EPC - Owner Milestones | D8: Survey and Topographic Study | E8: 46122
C9: EPC - Owner Milestones | D9: Phase II Environmental | E9: 46280
C10: EPC - Owner Milestones | D10: Flood Plain | E10: 46265
C11: EPC - Owner Milestones | D11: Wetlands | E11: 46265
C12: EPC - Owner Milestones | D12: Flora and Fauna | E12: 46265
C13: EPC - Owner Milestones | D13: Hydrological and Hydraulic (HH Study) | E13: 46265
C14: EPC - Owner Milestones | D14: EPA PSD Application Submittal | E14: 46262
C15: EPC - Owner Milestones | D15: Cultural Resources | E15: 46262
... C44: EPC - Owner Milestones | D44: Guaranteed COD Date (PPOA Milestone) | E44: 47847
C45: EPC - Contractor Milestones
C46: EPC - Contractor Milestones | D46: Documentation for Steam Turbine Awarding Available | E46: 46357 | F46: 2 Months of Engineering following LNTP
C47: EPC - Contractor Milestones | D47: Documentation for HRSG Awarding Available | E47: 46357 | F47: 2 Months of Engineering following LNTP
C48: EPC - Contractor Milestones | D48: Steam Turbine. Order Placed | E48: 46419
C49: EPC - Contractor Milestones | D49: HRSG Order Placed | E49: 46419
C50: EPC - Contractor Milestones | D50: Water & Power Supply Available for Site | E50: 46478
C51: EPC - Contractor Milestones | D51: Start General Site Mobilization | E51: 46478
C52: EPC - Contractor Milestones | D52: Construction Permits Available | E52: 46478
C53: EPC - Contractor Milestones | D53: Start HRSG Foundation incl. excavation | E53: 46642
C54: EPC - Contractor Milestones | D54: Start ST Foundations | E54: 46662
C55: EPC - Contractor Milestones | D55: GT Foundation Completed | E55: 46814
C56: EPC - Contractor Milestones | D56: ACC Erection Begins (ACC Need by Date) | E56: 46861
C57: EPC - Contractor Milestones | D57: HRSG 1st Delivery on Site (Need By Date for Main Steel Structure) | E57: 46965
C58: EPC - Contractor Milestones | D58: HRSG & Auxiliaries Last Delivery on Site | E58: 47115
C59: EPC - Contractor Milestones | D59: Main Transformers Erection Must Start (Transformer Need By Date) | E59: 47141
... C79: EPC - Contractor Milestones | D79: Combined Cycle Provisional Acceptance Certificate (PAC) | E79: 47786
