Workbook

Sheet San Juan
A1: July 2024
A2: Unit | B2: Fuel type | C2: Fuel consumed (Barrels) | D2: Heating Value (Btu/Barrels) | E2: Btu | F2: Gross Generation (kWh) | G2: Net Generation (kWh) | H2: Gross Heat Rate (Btu/kWh) | I2: Net Heat Rate (Btu/kWh)
A3: San Juan 5 | B3: ULSD | C3: 54712.08 | D3: 5816581 | E3: =C3*D3 -> 3.1823725e+11 | F3: 95611000 | G3: 91962729 | H3: =($E3+$E4)/F3 -> 10929.2 | I3: =($E3+$E4)/G3 -> 11362.775
B4: LNG | C4: 125295.61 | D4: 5800000 | E4: =C4*D4 -> 7.2671454e+11
A5: San Juan 6 | B5: ULSD | C5: 0 | D5: 0 | E5: =C5*D5 -> 0 | F5: 97386000 | G5: 95984000 | H5: =(E5+E6)/F5 -> 10755.883 | I5: =($E5+$E6)/G5 -> 10912.99
B6: LNG | C6: 180598.7 | D6: 5800000 | E6: =C6*D6 -> 1.0474725e+12
A7: Total San Juan CC | C7: =SUM(C3:C6) -> 360606.39 | E7: =SUM(E3:E6) -> 2.0924242e+12 | F7: =SUM(F3:F6) -> 192997000 | G7: =SUM(G3:G6) -> 187946729 | H7: =$E7/F7 -> 10841.745 | I7: =$E7/G7 -> 11133.071
A9: Unit | B9: Fuel type | C9: Fuel consumed (Barrels) | D9: Heating Value (Btu/Barrels) | E9: Btu | F9: Gross Generation (kWh) | G9: Net Generation (kWh) | H9: Gross Heat Rate (Btu/kWh) | I9: Net Heat Rate (Btu/kWh)
A10: San Juan 7 | B10: Bunker C | C10: 52525.05 | D10: 6232457.3 | E10: =C10*D10 -> 3.2736013e+11 | F10: 30157000 | G10: 29292717 | H10: =IF(F10,$E10/F10,0) -> 10855.196 | I10: =IF(G10,$E10/G10,0) -> 11175.479
A11: San Juan 9 | B11: Bunker C | C11: 50481.12 | D11: 6232457.3 | E11: =C11*D11 -> 3.1462143e+11 | F11: 28966000 | G11: 26321967 | H11: =$E11/F11 -> 10861.749 | I11: =$E11/G11 -> 11952.808
A12: Total San Juan - Steam | C12: =SUM(C10:C11) -> 103006.17 | E12: =SUM(E10:E11) -> 6.4198156e+11 | F12: =SUM(F10:F11) -> 59123000 | G12: =SUM(G10:G11) -> 55614684 | H12: =$E12/F12 -> 10858.406 | I12: =$E12/G12 -> 11543.382
A14: August 2024
A15: Unit | B15: Fuel type | C15: Fuel consumed (Barrels) | D15: Heating Value (Btu/Barrels) | E15: Btu | F15: Gross Generation (kWh) | G15: Net Generation (kWh) | H15: Gross Heat Rate (Btu/kWh) | I15: Net Heat Rate (Btu/kWh)
A16: San Juan 5 | B16: ULSD | C16: 40693 | D16: 5819325.7 | E16: =C16*D16 -> 2.3680582e+11 | F16: 95977000 | G16: 92217777 | H16: =($E16+$E17)/F16 -> 10868.7 | I16: =($E16+$E17)/G16 -> 11311.759
B17: LNG | C17: 139024.04 | D17: 5800000 | E17: =C17*D17 -> 8.063394e+11
A18: San Juan 6 | B18: ULSD | C18: 817.01 | D18: 5819325.7 | E18: =C18*D18 -> 4.7544473e+09 | F18: 20748000 | G18: 20420000 | H18: =(E18+E19)/F18 -> 11410.066 | I18: =($E18+$E19)/G18 -> 11593.342
B19: LNG | C19: 39996.827 | D19: 5800000 | E19: =C19*D19 -> 2.319816e+11
A20: Total San Juan CC | C20: =SUM(C16:C19) -> 220530.87 | E20: =SUM(E16:E19) -> 1.2798813e+12 | F20: =SUM(F16:F19) -> 116725000 | G20: =SUM(G16:G19) -> 112637777 | H20: =$E20/F20 -> 10964.928 | I20: =$E20/G20 -> 11362.807
A22: Unit | B22: Fuel type | C22: Fuel consumed (Barrels) | D22: Heating Value (Btu/Barrels) | E22: Btu | F22: Gross Generation (kWh) | G22: Net Generation (kWh) | H22: Gross Heat Rate (Btu/kWh) | I22: Net Heat Rate (Btu/kWh)
A23: San Juan 7 | B23: Bunker C | C23: 93073.96 | D23: 6238167.6 | E23: =C23*D23 -> 5.8061096e+11 | F23: 51956000 | G23: 50371194 | H23: =IF(F23,$E23/F23,0) -> 11175.051 | I23: =IF(G23,$E23/G23,0) -> 11526.647
A24: San Juan 9 | B24: Bunker C | C24: 94251.19 | D24: 6238167.6 | E24: =C24*D24 -> 5.8795472e+11 | F24: 52863000 | G24: 48517521 | H24: =$E24/F24 -> 11122.235 | I24: =$E24/G24 -> 12118.4
A25: Total San Juan - Steam | C25: =SUM(C23:C24) -> 187325.15 | E25: =SUM(E23:E24) -> 1.1685657e+12 | F25: =SUM(F23:F24) -> 104819000 | G25: =SUM(G23:G24) -> 98888715 | H25: =$E25/F25 -> 11148.415 | I25: =$E25/G25 -> 11816.977
A27: September 2024
A28: Unit | B28: Fuel type | C28: Fuel consumed (Barrels) | D28: Heating Value (Btu/Barrels) | E28: Btu | F28: Gross Generation (kWh) | G28: Net Generation (kWh) | H28: Gross Heat Rate (Btu/kWh) | I28: Net Heat Rate (Btu/kWh)
A29: San Juan 5 | B29: ULSD | C29: 0 | D29: 0 | E29: =C29*D29 -> 0 | F29: =99333000+31918000 -> 131251000 | G29: =96014440+31918000 -> 127932440 | H29: =($E29+$E30)/F29 -> 8248.5238 | I29: =($E29+$E30)/G29 -> 8462.49
B30: LNG | C30: 186659.83 | D30: 5800000 | E30: =C30*D30 -> 1082627000000
A31: San Juan 6 | B31: ULSD | C31: 0 | D31: 0 | E31: =C31*D31 -> 0 | F31: 0 | G31: 0 | H31: =IF(F31,(E31+E32)/F31,0) -> 0 | I31: =IF(G31,($E31+$E32)/G31,0) -> 0
B32: LNG | C32: 0 | D32: 0 | E32: =C32*D32 -> 0
A33: Total San Juan CC | C33: =SUM(C29:C32) -> 186659.83 | E33: =SUM(E29:E32) -> 1082627000000 | F33: =SUM(F29:F32) -> 131251000 | G33: =SUM(G29:G32) -> 127932440 | H33: =$E33/F33 -> 8248.5238 | I33: =$E33/G33 -> 8462.49
A35: Unit | B35: Fuel type | C35: Fuel consumed (Barrels) | D35: Heating Value (Btu/Barrels) | E35: Btu | F35: Gross Generation (kWh) | G35: Net Generation (kWh) | H35: Gross Heat Rate (Btu/kWh) | I35: Net Heat Rate (Btu/kWh)
A36: San Juan 7 | B36: Bunker C | C36: 98577.1 | D36: 6235103.8 | E36: =C36*D36 -> 6.1463845e+11 | F36: 55681000 | G36: 55044087 | H36: =IF(F36,$E36/F36,0) -> 11038.567 | I36: =IF(G36,$E36/G36,0) -> 11166.294
A37: San Juan 9 | B37: Bunker C | C37: 85947.91 | D37: 6235103.8 | E37: =C37*D37 -> 5.3589414e+11 | F37: 47896000 | G37: 43682079 | H37: =$E37/F37 -> 11188.703 | I37: =$E37/G37 -> 12268.055
A38: Total San Juan - Steam | C38: =SUM(C36:C37) -> 184525.01 | E38: =SUM(E36:E37) -> 1.1505326e+12 | F38: =SUM(F36:F37) -> 103577000 | G38: =SUM(G36:G37) -> 98726166 | H38: =$E38/F38 -> 11107.993 | I38: =$E38/G38 -> 11653.776

Sheet Palo Seco
A1: July 2024
A2: Unit | B2: Fuel type | C2: Fuel consumed (Barrels) | D2: Heating Value (Btu/Barrels) | E2: Btu | F2: Gross Generation (kWh) | G2: Net Generation (kWh) | H2: Gross Heat Rate (Btu/kWh) | I2: Net Heat Rate (Btu/kWh)
A3: Palo Seco 3 | B3: ULSD | C3: 1240.28 | D3: 5837788 | E3: =C3*D3 -> 7.2404917e+09 | F3: 20306000 | G3: 16714587 | H3: =($E3+$E4)/F3 -> 10214.89 | I3: =($E3+$E4)/G3 -> 12409.733
B4: Bunker C | C4: 31835 | D4: 6288144 | E4: =C4*D4 -> 200183064240
A5: Palo Seco 4 | B5: ULSD | C5: 0 | D5: 0 | E5: =C5*D5 -> 0 | F5: 0 | G5: 0 | H5: =IF(F5,(E5+E6)/F5,0) -> 0 | I5: =IF(G5,($E5+$E6)/G5,0) -> 0
B6: Bunker C | C6: 0 | D6: 0 | E6: =C6*D6 -> 0
A7: Total Palo Seco - Steam | C7: =SUM(C3:C6) -> 33075.28 | E7: =SUM(E3:E6) -> 2.0742356e+11 | F7: =SUM(F3:F6) -> 20306000 | G7: =SUM(G3:G6) -> 16714587 | H7: =$E7/F7 -> 10214.89 | I7: =$E7/G7 -> 12409.733
A9: August 2024
A10: Unit | B10: Fuel type | C10: Fuel consumed (Barrels) | D10: Heating Value (Btu/Barrels) | E10: Btu | F10: Gross Generation (kWh) | G10: Net Generation (kWh) | H10: Gross Heat Rate (Btu/kWh) | I10: Net Heat Rate (Btu/kWh)
A11: Palo Seco 3 | B11: ULSD | C11: 324.21 | D11: 5790505 | E11: =C11*D11 -> 1.8773396e+09 | F11: 103150000 | G11: 94438646 | H11: =($E11+$E12)/F11 -> 9739.6184 | I11: =($E11+$E12)/G11 -> 10638.035
B12: Bunker C | C12: 159163 | D12: 6300235 | E12: =C12*D12 -> 1002764303305
A13: Palo Seco 4 | B13: ULSD | C13: 0 | D13: 0 | E13: =C13*D13 -> 0 | F13: 0 | G13: 0 | H13: =IF(F13,(E13+E14)/F13,0) -> 0 | I13: =IF(G13,($E13+$E14)/G13,0) -> 0
B14: Bunker C | C14: 0 | D14: 0 | E14: =C14*D14 -> 0
A15: Total Palo Seco - Steam | C15: =SUM(C11:C14) -> 159487.21 | E15: =SUM(E11:E14) -> 1.0046416e+12 | F15: =SUM(F11:F14) -> 103150000 | G15: =SUM(G11:G14) -> 94438646 | H15: =$E15/F15 -> 9739.6184 | I15: =$E15/G15 -> 10638.035
A17: September 2024
A18: Unit | B18: Fuel type | C18: Fuel consumed (Barrels) | D18: Heating Value (Btu/Barrels) | E18: Btu | F18: Gross Generation (kWh) | G18: Net Generation (kWh) | H18: Gross Heat Rate (Btu/kWh) | I18: Net Heat Rate (Btu/kWh)
A19: Palo Seco 3 | B19: ULSD | C19: 0 | D19: 0 | E19: =C19*D19 -> 0 | F19: 107723000 | G19: 98600772 | H19: =($E19+$E20)/F19 -> 9654.0506 | I19: =($E19+$E20)/G19 -> 10547.212
B20: Bunker C | C20: 165270 | D20: 6292511 | E20: =C20*D20 -> 1039963292970
A21: Palo Seco 4 | B21: ULSD | C21: 0 | D21: 0 | E21: =C21*D21 -> 0 | F21: 0 | G21: 0 | H21: =IF(F21,(E21+E22)/F21,0) -> 0 | I21: =IF(G21,($E21+$E22)/G21,0) -> 0
B22: Bunker C | C22: 0 | D22: 0 | E22: =C22*D22 -> 0
A23: Total Palo Seco - Steam | C23: =SUM(C19:C22) -> 165270 | E23: =SUM(E19:E22) -> 1039963292970 | F23: =SUM(F19:F22) -> 107723000 | G23: =SUM(G19:G22) -> 98600772 | H23: =$E23/F23 -> 9654.0506 | I23: =$E23/G23 -> 10547.212

Sheet Aguirre
A1: July 2024
A2: Unit | B2: Fuel type | C2: Fuel consumed (Barrels) | D2: Heating Value (Btu/Barrels) | E2: Btu | F2: Gross Generation (kWh) | G2: Net Generation (kWh) | H2: Gross Heat Rate (Btu/kWh) | I2: Net Heat Rate (Btu/kWh)
A3: Aguirre 1 | B3: ULSD | C3: 0 | D3: 0 | E3: =C3*D3 -> 0 | F3: 136190000 | G3: 124825955 | H3: =IF(F3,($E3+$E4)/F3,0) -> 10688.505 | I3: =IF(G3,($E3+$E4)/G3,0) -> 11661.577
B4: Bunker C | C4: 233430.72 | D4: 6235972 | E4: =C4*D4 -> 1.4556674e+12
A5: Aguirre 2 | B5: ULSD | C5: 568.38 | D5: 5801562 | E5: =C5*D5 -> 3.2974918e+09 | F5: 124700000 | G5: 116745886 | H5: =(E5+E6)/F5 -> 11818.353 | I5: =($E5+$E6)/G5 -> 12623.559
B6: Bunker C | C6: 235801.43 | D6: 6235972 | E6: =C6*D6 -> 1.4704511e+12
A7: Total Aguirre - Steam | C7: =SUM(C3:C6) -> 469800.53 | E7: =SUM(E3:E6) -> 2.929416e+12 | F7: =SUM(F3:F6) -> 260890000 | G7: =SUM(G3:G6) -> 241571841 | H7: =$E7/F7 -> 11228.549 | I7: =$E7/G7 -> 12126.48
A9: August 2024
A10: Unit | B10: Fuel type | C10: Fuel consumed (Barrels) | D10: Heating Value (Btu/Barrels) | E10: Btu | F10: Gross Generation (kWh) | G10: Net Generation (kWh) | H10: Gross Heat Rate (Btu/kWh) | I10: Net Heat Rate (Btu/kWh)
A11: Aguirre 1 | B11: ULSD | C11: 0 | D11: 0 | E11: =C11*D11 -> 0 | F11: 113535000 | G11: 100039957 | H11: =IF(F11,($E11+$E12)/F11,0) -> 10904.697 | I11: =IF(G11,($E11+$E12)/G11,0) -> 12375.703
B12: Bunker C | C12: 198510.38 | D12: 6236776 | E12: =C12*D12 -> 1.2380648e+12
A13: Aguirre 2 | B13: ULSD | C13: 1267.75 | D13: 5786837 | E13: =C13*D13 -> 7.3362626e+09 | F13: 61620000 | G13: 57159944 | H13: =(E13+E14)/F13 -> 11908.997 | I13: =($E13+$E14)/G13 -> 12838.228
B14: Bunker C | C14: 116485.85 | D14: 6236776 | E14: =C14*D14 -> 7.2649615e+11
A15: Total Aguirre - Steam | C15: =SUM(C11:C14) -> 316263.98 | E15: =SUM(E11:E14) -> 1.9718972e+12 | F15: =SUM(F11:F14) -> 175155000 | G15: =SUM(G11:G14) -> 157199901 | H15: =$E15/F15 -> 11258.013 | I15: =$E15/G15 -> 12543.883
A17: September 2024
A18: Unit | B18: Fuel type | C18: Fuel consumed (Barrels) | D18: Heating Value (Btu/Barrels) | E18: Btu | F18: Gross Generation (kWh) | G18: Net Generation (kWh) | H18: Gross Heat Rate (Btu/kWh) | I18: Net Heat Rate (Btu/kWh)
A19: Aguirre 1 | B19: ULSD | C19: 607.56 | D19: 5790066 | E19: =C19*D19 -> 3.5178125e+09 | F19: 91705000 | G19: 82502888 | H19: =IF(F19,($E19+$E20)/F19,0) -> 11165.271 | I19: =IF(G19,($E19+$E20)/G19,0) -> 12410.61
B20: Bunker C | C20: 163709.04 | D20: 6232969 | E20: =C20*D20 -> 1.0203934e+12
A21: Aguirre 2 | B21: ULSD | C21: 0 | D21: 0 | E21: =C21*D21 -> 0 | F21: 0 | G21: 0 | H21: =IF(F21,(E21+E22)/F21,0) -> 0 | I21: =IF(G21,($E21+$E22)/G21,0) -> 0
B22: Bunker C | C22: 0 | D22: 0 | E22: =C22*D22 -> 0
A23: Total Aguirre - Steam | C23: =SUM(C19:C22) -> 164316.6 | E23: =SUM(E19:E22) -> 1.0239112e+12 | F23: =SUM(F19:F22) -> 91705000 | G23: =SUM(G19:G22) -> 82502888 | H23: =$E23/F23 -> 11165.271 | I23: =$E23/G23 -> 12410.61

Sheet Costa Sur
A1: July 2024
A2: Unit | B2: Fuel type | C2: Fuel consumed (Barrels) | D2: Heating Value (Btu/Barrels) | E2: Btu | F2: Gross Generation (kWh) | G2: Net Generation (kWh) | H2: Gross Heat Rate (Btu/kWh) | I2: Net Heat Rate (Btu/kWh)
A3: Costa Sur 5 | B3: LNG | C3: 120368.51 | D3: 6300000 | E3: =C3*D3 -> 758321613000 | F3: 141800000 | G3: 131399700 | H3: =IF(F3,($E3+$E4)/F3,0) -> 11053.647 | I3: =IF(G3,($E3+$E4)/G3,0) -> 11928.544
B4: Bunker C | C4: 129104.96 | D4: 6266881.5 | E4: =C4*D4 -> 8.0908548e+11
A5: Costa Sur 6 | B5: LNG | C5: 10235.94 | D5: 6300000 | E5: =C5*D5 -> 64486422000 | F5: 213480000 | G5: 198545300 | H5: =IF(F5,($E5+$E6)/F5,0) -> 10170.693 | I5: =IF(G5,($E5+$E6)/G5,0) -> 10935.739
B6: Bunker C | C6: 336172.5 | D6: 6266881.5 | E6: =C6*D6 -> 2.1067532e+12
A7: Total Costa Sur - Steam | C7: =SUM(C3:C6) -> 595881.91 | E7: =SUM(E3:E6) -> 3.7386467e+12 | F7: =SUM(F3:F6) -> 355280000 | G7: =SUM(G3:G6) -> 329945000 | H7: =$E7/F7 -> 10523.099 | I7: =$E7/G7 -> 11331.121
A9: August 2024
A10: Unit | B10: Fuel type | C10: Fuel consumed (Barrels) | D10: Heating Value (Btu/Barrels) | E10: Btu | F10: Gross Generation (kWh) | G10: Net Generation (kWh) | H10: Gross Heat Rate (Btu/kWh) | I10: Net Heat Rate (Btu/kWh)
A11: Costa Sur 5 | B11: LNG | C11: 148193.14 | D11: 6300000 | E11: =C11*D11 -> 9.3361678e+11 | F11: 165190000 | G11: 153248800 | H11: =IF(F11,($E11+$E12)/F11,0) -> 11152.362 | I11: =IF(G11,($E11+$E12)/G11,0) -> 12021.358
B12: Bunker C | C12: 144849.77 | D12: 6272994.7 | E12: =C12*D12 -> 9.0864184e+11
A13: Costa Sur 6 | B13: LNG | C13: 161627.97 | D13: 6300000 | E13: =C13*D13 -> 1018256211000 | F13: 158010000 | G13: 145872600 | H13: =IF(F13,($E13+$E14)/F13,0) -> 10746.5 | I13: =IF(G13,($E13+$E14)/G13,0) -> 11640.668
B14: Bunker C | C14: 108369.02 | D14: 6272994.7 | E14: =C14*D14 -> 6.7979829e+11
A15: Total Costa Sur - Steam | C15: =SUM(C11:C14) -> 563039.9 | E15: =SUM(E11:E14) -> 3.5403131e+12 | F15: =SUM(F11:F14) -> 323200000 | G15: =SUM(G11:G14) -> 299121400 | H15: =$E15/F15 -> 10953.939 | I15: =$E15/G15 -> 11835.707
A17: September 2024
A18: Unit | B18: Fuel type | C18: Fuel consumed (Barrels) | D18: Heating Value (Btu/Barrels) | E18: Btu | F18: Gross Generation (kWh) | G18: Net Generation (kWh) | H18: Gross Heat Rate (Btu/kWh) | I18: Net Heat Rate (Btu/kWh)
A19: Costa Sur 5 | B19: LNG | C19: 173752.11 | D19: 6300000 | E19: =C19*D19 -> 1.0946383e+12 | F19: 184930000 | G19: 173193100 | H19: =IF(F19,($E19+$E20)/F19,0) -> 11277.833 | I19: =IF(G19,($E19+$E20)/G19,0) -> 12042.106
B20: Bunker C | C20: 158003.13 | D20: 6271846.1 | E20: =C20*D20 -> 9.9097132e+11
A21: Costa Sur 6 | B21: LNG | C21: 99619.79 | D21: 6300000 | E21: =C21*D21 -> 627604677000 | F21: 202040000 | G21: 186289400 | H21: =IF(F21,($E21+$E22)/F21,0) -> 10443.857 | I21: =IF(G21,($E21+$E22)/G21,0) -> 11326.875
B22: Bunker C | C22: 236369.34 | D22: 6271846.1 | E22: =C22*D22 -> 1.4824721e+12
A23: Total Costa Sur - Steam | C23: =SUM(C19:C22) -> 667744.37 | E23: =SUM(E19:E22) -> 4.1956864e+12 | F23: =SUM(F19:F22) -> 386970000 | G23: =SUM(G19:G22) -> 359482500 | H23: =$E23/F23 -> 10842.407 | I23: =$E23/G23 -> 11671.462

Sheet Aguirre CC
A1: July 2024
A2: Unit | B2: Fuel type | C2: Fuel consumed (Barrels) | D2: Heating Value (Btu/Barrels) | E2: Btu | F2: Gross Generation (kWh) | G2: Net Generation (kWh) | H2: Gross Heat Rate (Btu/kWh) | I2: Net Heat Rate (Btu/kWh)
A3: V-1 | B3: ULSD | C3: 0 | D3: 0 | E3: =C3*D3 -> 0 | F3: 2029000 | G3: 1021368 | H3: =IF(F3,($E3)/F3,0) -> 0 | I3: =IF(G3,($E3)/G3,0) -> 0
A4: 1-1 | B4: ULSD | C4: 15255.77 | D4: 5801562 | E4: =C4*D4 -> 8.8507296e+10 | F4: 5809000 | G4: 5785764 | H4: =IF(F4,($E4)/F4,0) -> 15236.236 | I4: =IF(G4,($E4)/G4,0) -> 15297.426
A5: 1-2 | B5: ULSD | C5: 31306.47 | D5: 5801562 | E5: =C5*D5 -> 1.8162643e+11 | F5: 12768000 | G5: 12716928 | H5: =IF(F5,($E5)/F5,0) -> 14225.127 | I5: =IF(G5,($E5)/G5,0) -> 14282.256
A6: 1-3 | B6: ULSD | C6: 0 | D6: 0 | E6: =C6*D6 -> 0 | F6: 0 | G6: 0 | H6: =IF(F6,($E6)/F6,0) -> 0 | I6: =IF(G6,($E6)/G6,0) -> 0
A7: 1-4 | B7: ULSD | C7: 16768.75 | D7: 5801562 | E7: =C7*D7 -> 9.7284943e+10 | F7: 6265000 | G7: 6239940 | H7: =IF(F7,($E7)/F7,0) -> 15528.323 | I7: =IF(G7,($E7)/G7,0) -> 15590.686
A8: V-2 | B8: ULSD | C8: 0 | D8: 0 | E8: =C8*D8 -> 0 | F8: 0 | G8: 0 | H8: =IF(F8,($E8)/F8,0) -> 0 | I8: =IF(G8,($E8)/G8,0) -> 0
A9: 2-1 | B9: ULSD | C9: 0 | D9: 0 | E9: =C9*D9 -> 0 | F9: 0 | G9: 0 | H9: =IF(F9,($E9)/F9,0) -> 0 | I9: =IF(G9,($E9)/G9,0) -> 0
A10: 2-2 | B10: ULSD | C10: 0 | D10: 0 | E10: =C10*D10 -> 0 | F10: 0 | G10: 0 | H10: =IF(F10,($E10)/F10,0) -> 0 | I10: =IF(G10,($E10)/G10,0) -> 0
A11: 2-3 | B11: ULSD | C11: 0 | D11: 0 | E11: =C11*D11 -> 0 | F11: 0 | G11: 0 | H11: =IF(F11,($E11)/F11,0) -> 0 | I11: =IF(G11,($E11)/G11,0) -> 0
A12: 2-4 | B12: ULSD | C12: 18451.27 | D12: 5801562 | E12: =C12*D12 -> 1.0704619e+11 | F12: 7055000 | G12: 7026780 | H12: =IF(F12,($E12)/F12,0) -> 15173.095 | I12: =IF(G12,($E12)/G12,0) -> 15234.031
A13: Total Aguirre CC | C13: =SUM(C3:C12) -> 81782.26 | E13: =SUM(E3:E12) -> 4.7446485e+11 | F13: =SUM(F3:F12) -> 33926000 | G13: =SUM(G3:G12) -> 32790780 | H13: =$E13/F13 -> 13985.287 | I13: =$E13/G13 -> 14469.459
A15: August 2024
A16: Unit | B16: Fuel type | C16: Fuel consumed (Barrels) | D16: Heating Value (Btu/Barrels) | E16: Btu | F16: Gross Generation (kWh) | G16: Net Generation (kWh) | H16: Gross Heat Rate (Btu/kWh) | I16: Net Heat Rate (Btu/kWh)
A17: V-1 | B17: ULSD | C17: 0 | D17: 0 | E17: =C17*D17 -> 0 | F17: 11643000 | G17: 9328920 | H17: =IF(F17,($E17)/F17,0) -> 0 | I17: =IF(G17,($E17)/G17,0) -> 0
A18: 1-1 | B18: ULSD | C18: 45154.73 | D18: 5786837 | E18: =C18*D18 -> 2.6130306e+11 | F18: 19254000 | G18: 19176984 | H18: =IF(F18,($E18)/F18,0) -> 13571.365 | I18: =IF(G18,($E18)/G18,0) -> 13625.869
A19: 1-2 | B19: ULSD | C19: 62881.55 | D19: 5786837 | E19: =C19*D19 -> 3.6388528e+11 | F19: 27355000 | G19: 27245580 | H19: =IF(F19,($E19)/F19,0) -> 13302.332 | I19: =IF(G19,($E19)/G19,0) -> 13355.755
A20: 1-3 | B20: ULSD | C20: 0 | D20: 0 | E20: =C20*D20 -> 0 | F20: 0 | G20: 0 | H20: =IF(F20,($E20)/F20,0) -> 0 | I20: =IF(G20,($E20)/G20,0) -> 0
A21: 1-4 | B21: ULSD | C21: 34505.75 | D21: 5786837 | E21: =C21*D21 -> 1.9967915e+11 | F21: 13371000 | G21: 13317516 | H21: =IF(F21,($E21)/F21,0) -> 14933.748 | I21: =IF(G21,($E21)/G21,0) -> 14993.723
A22: V-2 | B22: ULSD | C22: 0 | D22: 0 | E22: =C22*D22 -> 0 | F22: 0 | G22: 0 | H22: =IF(F22,($E22)/F22,0) -> 0 | I22: =IF(G22,($E22)/G22,0) -> 0
A23: 2-1 | B23: ULSD | C23: 0 | D23: 0 | E23: =C23*D23 -> 0 | F23: 0 | G23: 0 | H23: =IF(F23,($E23)/F23,0) -> 0 | I23: =IF(G23,($E23)/G23,0) -> 0
A24: 2-2 | B24: ULSD | C24: 0 | D24: 0 | E24: =C24*D24 -> 0 | F24: 0 | G24: 0 | H24: =IF(F24,($E24)/F24,0) -> 0 | I24: =IF(G24,($E24)/G24,0) -> 0
A25: 2-3 | B25: ULSD | C25: 0 | D25: 0 | E25: =C25*D25 -> 0 | F25: 0 | G25: 0 | H25: =IF(F25,($E25)/F25,0) -> 0 | I25: =IF(G25,($E25)/G25,0) -> 0
A26: 2-4 | B26: ULSD | C26: 31989.29 | D26: 5786837 | E26: =C26*D26 -> 1.8511681e+11 | F26: 12390000 | G26: 12340440 | H26: =IF(F26,($E26)/F26,0) -> 14940.824 | I26: =IF(G26,($E26)/G26,0) -> 15000.827
A27: Total Aguirre CC | C27: =SUM(C17:C26) -> 174531.32 | E27: =SUM(E17:E26) -> 1.0099843e+12 | F27: =SUM(F17:F26) -> 84013000 | G27: =SUM(G17:G26) -> 81409440 | H27: =$E27/F27 -> 12021.762 | I27: =$E27/G27 -> 12406.231
A29: September 2024
A30: Unit | B30: Fuel type | C30: Fuel consumed (Barrels) | D30: Heating Value (Btu/Barrels) | E30: Btu | F30: Gross Generation (kWh) | G30: Net Generation (kWh) | H30: Gross Heat Rate (Btu/kWh) | I30: Net Heat Rate (Btu/kWh)
A31: V-1 | B31: ULSD | C31: 0 | D31: 0 | E31: =C31*D31 -> 0 | F31: 9724000 | G31: 7846728 | H31: =IF(F31,($E31)/F31,0) -> 0 | I31: =IF(G31,($E31)/G31,0) -> 0
A32: 1-1 | B32: ULSD | C32: 56572.62 | D32: 5786837 | E32: =C32*D32 -> 3.2737653e+11 | F32: 23859000 | G32: 23763564 | H32: =IF(F32,($E32)/F32,0) -> 13721.301 | I32: =IF(G32,($E32)/G32,0) -> 13776.407
A33: 1-2 | B33: ULSD | C33: 65162.71 | D33: 5786837 | E33: =C33*D33 -> 3.7708598e+11 | F33: 27681000 | G33: 27570276 | H33: =IF(F33,($E33)/F33,0) -> 13622.556 | I33: =IF(G33,($E33)/G33,0) -> 13677.265
A34: 1-3 | B34: ULSD | C34: 0 | D34: 0 | E34: =C34*D34 -> 0 | F34: 0 | G34: 0 | H34: =IF(F34,($E34)/F34,0) -> 0 | I34: =IF(G34,($E34)/G34,0) -> 0
A35: 1-4 | B35: ULSD | C35: 29854.95 | D35: 5786837 | E35: =C35*D35 -> 1.7276573e+11 | F35: 11642000 | G35: 11595432 | H35: =IF(F35,($E35)/F35,0) -> 14839.867 | I35: =IF(G35,($E35)/G35,0) -> 14899.465
A36: V-2 | B36: ULSD | C36: 0 | D36: 0 | E36: =C36*D36 -> 0 | F36: 0 | G36: 0 | H36: =IF(F36,($E36)/F36,0) -> 0 | I36: =IF(G36,($E36)/G36,0) -> 0
A37: 2-1 | B37: ULSD | C37: 1150.82 | D37: 5786837 | E37: =C37*D37 -> 6.6596078e+09 | F37: 430000 | G37: 428280 | H37: =IF(F37,($E37)/F37,0) -> 15487.46 | I37: =IF(G37,($E37)/G37,0) -> 15549.659
A38: 2-2 | B38: ULSD | C38: 0 | D38: 0 | E38: =C38*D38 -> 0 | F38: 0 | G38: 0 | H38: =IF(F38,($E38)/F38,0) -> 0 | I38: =IF(G38,($E38)/G38,0) -> 0
A39: 2-3 | B39: ULSD | C39: 0 | D39: 0 | E39: =C39*D39 -> 0 | F39: 0 | G39: 0 | H39: =IF(F39,($E39)/F39,0) -> 0 | I39: =IF(G39,($E39)/G39,0) -> 0
A40: 2-4 | B40: ULSD | C40: 31905.32 | D40: 5786837 | E40: =C40*D40 -> 1.8463089e+11 | F40: 12499000 | G40: 12449004 | H40: =IF(F40,($E40)/F40,0) -> 14771.653 | I40: =IF(G40,($E40)/G40,0) -> 14830.977
A41: Total Aguirre CC | C41: =SUM(C31:C40) -> 184646.42 | E41: =SUM(E31:E40) -> 1.0685187e+12 | F41: =SUM(F31:F40) -> 85835000 | G41: =SUM(G31:G40) -> 83653284 | H41: =$E41/F41 -> 12448.52 | I41: =$E41/G41 -> 12773.183

Sheet Cambalache
A1: July 2024
A2: Unit | B2: Fuel type | C2: Fuel consumed (Barrels) | D2: Heating Value (Btu/Barrels) | E2: Btu | F2: Gross Generation (kWh) | G2: Net Generation (kWh) | H2: Gross Heat Rate (Btu/kWh) | I2: Net Heat Rate (Btu/kWh)
A3: Cambalache 2 | B3: ULSD | C3: 18043.09 | D3: 5857196 | E3: =C3*D3 -> 1.0568191e+11 | F3: 8219000 | G3: 8058079 | H3: =IF(F3,($E3)/F3,0) -> 12858.245 | I3: =IF(G3,($E3)/G3,0) -> 13115.026
A4: Cambalache 3 | B4: ULSD | C4: 24462.12 | D4: 5857196 | E4: =C4*D4 -> 1.4327943e+11 | F4: 11143000 | G4: 10945921 | H4: =IF(F4,($E4)/F4,0) -> 12858.246 | I4: =IF(G4,($E4)/G4,0) -> 13089.756
A5: Total Cambalache - Gas | C5: =SUM(C3:C4) -> 42505.21 | E5: =SUM(E3:E4) -> 2.4896135e+11 | F5: =SUM(F3:F4) -> 19362000 | G5: =SUM(G3:G4) -> 19004000 | H5: =$E5/F5 -> 12858.245 | I5: =$E5/G5 -> 13100.471
A7: August 2024
A8: Unit | B8: Fuel type | C8: Fuel consumed (Barrels) | D8: Heating Value (Btu/Barrels) | E8: Btu | F8: Gross Generation (kWh) | G8: Net Generation (kWh) | H8: Gross Heat Rate (Btu/kWh) | I8: Net Heat Rate (Btu/kWh)
A9: Cambalache 2 | B9: ULSD | C9: 53385.85 | D9: 5852801 | E9: =C9*D9 -> 3.1245676e+11 | F9: 25332000 | G9: 25063084 | H9: =IF(F9,($E9)/F9,0) -> 12334.469 | I9: =IF(G9,($E9)/G9,0) -> 12466.812
A10: Cambalache 3 | B10: ULSD | C10: 50875.88 | D10: 5852801 | E10: =C10*D10 -> 2.977664e+11 | F10: 24141000 | G10: 23868836 | H10: =IF(F10,($E10)/F10,0) -> 12334.468 | I10: =IF(G10,($E10)/G10,0) -> 12475.112
A11: Total Cambalache - Gas | C11: =SUM(C9:C10) -> 104261.73 | E11: =SUM(E9:E10) -> 6.1022316e+11 | F11: =SUM(F9:F10) -> 49473000 | G11: =SUM(G9:G10) -> 48931920 | H11: =$E11/F11 -> 12334.468 | I11: =$E11/G11 -> 12470.861
A13: September 2024
A14: Unit | B14: Fuel type | C14: Fuel consumed (Barrels) | D14: Heating Value (Btu/Barrels) | E14: Btu | F14: Gross Generation (kWh) | G14: Net Generation (kWh) | H14: Gross Heat Rate (Btu/kWh) | I14: Net Heat Rate (Btu/kWh)
A15: Cambalache 2 | B15: ULSD | C15: 61116.14 | D15: 5838953 | E15: =C15*D15 -> 3.5685427e+11 | F15: 28995000 | G15: 28702624 | H15: =IF(F15,($E15)/F15,0) -> 12307.442 | I15: =IF(G15,($E15)/G15,0) -> 12432.81
A16: Cambalache 3 | B16: ULSD | C16: 48153.07 | D16: 5838953 | E16: =C16*D16 -> 2.8116351e+11 | F16: 22845000 | G16: 22591116 | H16: =IF(F16,($E16)/F16,0) -> 12307.442 | I16: =IF(G16,($E16)/G16,0) -> 12445.756
A17: Total Cambalache - Gas | C17: =SUM(C15:C16) -> 109269.21 | E17: =SUM(E15:E16) -> 6.3801778e+11 | F17: =SUM(F15:F16) -> 51840000 | G17: =SUM(G15:G16) -> 51293740 | H17: =$E17/F17 -> 12307.442 | I17: =$E17/G17 -> 12438.512

Sheet Mayaguez
A1: July 2024
A2: Unit | B2: Fuel type | C2: Fuel consumed (Barrels) | D2: Heating Value (Btu/Barrels) | E2: Btu | F2: Gross Generation (kWh) | G2: Net Generation (kWh) | H2: Gross Heat Rate (Btu/kWh) | I2: Net Heat Rate (Btu/kWh)
A3: Mayaguez 1 | B3: ULSD | C3: 25343.51 | D3: 5529175 | E3: =C3*D3 -> 1.401287e+11 | F3: 13833300 | G3: 13816700 | H3: =IF(F3,($E3)/F3,0) -> 10129.81 | I3: =IF(G3,($E3)/G3,0) -> 10141.98
A4: Mayaguez 2 | B4: ULSD | C4: 21343.61 | D4: 5529175 | E4: =C4*D4 -> 1.1801255e+11 | F4: 11746400 | G4: 11732304 | H4: =IF(F4,($E4)/F4,0) -> 10046.7 | I4: =IF(G4,($E4)/G4,0) -> 10058.771
A5: Mayaguez 3 | B5: ULSD | C5: 7882.4 | D5: 5529175 | E5: =C5*D5 -> 43583169020 | F5: 4011800 | G5: 4006986 | H5: =IF(F5,($E5)/F5,0) -> 10863.744 | I5: =IF(G5,($E5)/G5,0) -> 10876.796
A6: Mayaguez 4 | B6: ULSD | C6: 11546.28 | D6: 5529175 | E6: =C6*D6 -> 63841402719 | F6: 5540300 | G6: 5533652 | H6: =IF(F6,($E6)/F6,0) -> 11523.095 | I6: =IF(G6,($E6)/G6,0) -> 11536.938
A7: Total Mayaguez - Gas | C7: =SUM(C3:C6) -> 66115.8 | E7: =SUM(E3:E6) -> 365565828465 | F7: =SUM(F3:F6) -> 35131800 | G7: =SUM(G3:G6) -> 35089642 | H7: =$E7/F7 -> 10405.554 | I7: =$E7/G7 -> 10418.055
A9: August 2024
A10: Unit | B10: Fuel type | C10: Fuel consumed (Barrels) | D10: Heating Value (Btu/Barrels) | E10: Btu | F10: Gross Generation (kWh) | G10: Net Generation (kWh) | H10: Gross Heat Rate (Btu/kWh) | I10: Net Heat Rate (Btu/kWh)
A11: Mayaguez 1 | B11: ULSD | C11: 34861.46 | D11: 5464386 | E11: =C11*D11 -> 1.9049647e+11 | F11: 17988200 | G11: 17966614 | H11: =IF(F11,($E11)/F11,0) -> 10590.08 | I11: =IF(G11,($E11)/G11,0) -> 10602.803
A12: Mayaguez 2 | B12: ULSD | C12: 32985.38 | D12: 5464386 | E12: =C12*D12 -> 1.8024485e+11 | F12: 16968900 | G12: 16948537 | H12: =IF(F12,($E12)/F12,0) -> 10622.07 | I12: =IF(G12,($E12)/G12,0) -> 10634.832
A13: Mayaguez 3 | B13: ULSD | C13: 13340.56 | D13: 5464386 | E13: =C13*D13 -> 7.2897969e+10 | F13: 7316000 | G13: 7307221 | H13: =IF(F13,($E13)/F13,0) -> 9964.1839 | I13: =IF(G13,($E13)/G13,0) -> 9976.155
A14: Mayaguez 4 | B14: ULSD | C14: 14064.59 | D14: 5464386 | E14: =C14*D14 -> 7.6854349e+10 | F14: 8022100 | G14: 8012473 | H14: =IF(F14,($E14)/F14,0) -> 9580.3279 | I14: =IF(G14,($E14)/G14,0) -> 9591.8387
A15: Total Mayaguez - Gas | C15: =SUM(C11:C14) -> 95251.99 | E15: =SUM(E11:E14) -> 5.2049364e+11 | F15: =SUM(F11:F14) -> 50295200 | G15: =SUM(G11:G14) -> 50234845 | H15: =$E15/F15 -> 10348.774 | I15: =$E15/G15 -> 10361.207
A17: September 2024
A18: Unit | B18: Fuel type | C18: Fuel consumed (Barrels) | D18: Heating Value (Btu/Barrels) | E18: Btu | F18: Gross Generation (kWh) | G18: Net Generation (kWh) | H18: Gross Heat Rate (Btu/kWh) | I18: Net Heat Rate (Btu/kWh)
A19: Mayaguez 1 | B19: ULSD | C19: 33417.98 | D19: 5480253 | E19: =C19*D19 -> 1.8313899e+11 | F19: 17218200 | G19: 17197538 | H19: =IF(F19,($E19)/F19,0) -> 10636.361 | I19: =IF(G19,($E19)/G19,0) -> 10649.14
A20: Mayaguez 2 | B20: ULSD | C20: 28824.23 | D20: 5480253 | E20: =C20*D20 -> 1.5796407e+11 | F20: 15054100 | G20: 15036035 | H20: =IF(F20,($E20)/F20,0) -> 10493.093 | I20: =IF(G20,($E20)/G20,0) -> 10505.7
A21: Mayaguez 3 | B21: ULSD | C21: 14418.24 | D21: 5480253 | E21: =C21*D21 -> 7.9015603e+10 | F21: 7947000 | G21: 7937464 | H21: =IF(F21,($E21)/F21,0) -> 9942.8216 | I21: =IF(G21,($E21)/G21,0) -> 9954.7668
A22: Mayaguez 4 | B22: ULSD | C22: 14299.82 | D22: 5480253 | E22: =C22*D22 -> 7.8366631e+10 | F22: 8040000 | G22: 8030352 | H22: =IF(F22,($E22)/F22,0) -> 9747.0935 | I22: =IF(G22,($E22)/G22,0) -> 9758.804
A23: Total Mayaguez - Gas | C23: =SUM(C19:C22) -> 90960.27 | E23: =SUM(E19:E22) -> 4.9848529e+11 | F23: =SUM(F19:F22) -> 48259300 | G23: =SUM(G19:G22) -> 48201389 | H23: =$E23/F23 -> 10329.31 | I23: =$E23/G23 -> 10341.72

Sheet Peakers
A1: July 2024
A2: Unit | B2: Fuel type | C2: Fuel consumed (Barrels) | D2: Heating Value (Btu/Barrels) | E2: Btu | F2: Gross Generation (kWh) | G2: Net Generation (kWh) | H2: Gross Heat Rate (Btu/kWh) | I2: Net Heat Rate (Btu/kWh)
A3: Aguirre 2-1 | B3: ULSD | C3: 0 | D3: 0 | E3: =C3*D3 -> 0 | F3: 0 | G3: 0 | H3: =IF(F3,($E3)/F3,0) -> 0 | I3: =IF(G3,($E3)/G3,0) -> 0
A4: Aguirre 2-2 | B4: ULSD | C4: 0 | D4: 0 | E4: =C4*D4 -> 0 | F4: 0 | G4: 0 | H4: =IF(F4,($E4)/F4,0) -> 0 | I4: =IF(G4,($E4)/G4,0) -> 0
A5: Total Aguirre - Gas | B5: ULSD | C5: =SUM(C3:C4) -> 0 | E5: =SUM(E3:E4) -> 0 | F5: =SUM(F3:F4) -> 0 | G5: =SUM(G3:G4) -> 0 | H5: =IF(F5,($E5)/F5,0) -> 0 | I5: =IF(G5,($E5)/G5,0) -> 0
A6: Costa Sur 1-1 | B6: ULSD | C6: 0 | D6: 0 | E6: =C6*D6 -> 0 | F6: 0 | G6: 0 | H6: =IF(F6,($E6)/F6,0) -> 0 | I6: =IF(G6,($E6)/G6,0) -> 0
A7: Costa Sur 1-2 | B7: ULSD | C7: 110.71 | D7: 5730795 | E7: =C7*D7 -> 6.3445631e+08 | F7: 33000 | G7: 32967 | H7: =IF(F7,($E7)/F7,0) -> 19225.949 | I7: =IF(G7,($E7)/G7,0) -> 19245.194
A8: Total Costa Sur - Gas | B8: ULSD | C8: =SUM(C6:C7) -> 110.71 | E8: =SUM(E6:E7) -> 6.3445631e+08 | F8: =SUM(F6:F7) -> 33000 | G8: =SUM(G6:G7) -> 32967 | H8: =IF(F8,($E8)/F8,0) -> 19225.949 | I8: =IF(G8,($E8)/G8,0) -> 19245.194
A9: Daguao 1-1 | B9: ULSD | C9: 2733.33 | D9: 5778518.6 | E9: =C9*D9 -> 1.5794598e+10 | F9: 1014000 | G9: 1012986 | H9: =IF(F9,($E9)/F9,0) -> 15576.527 | I9: =IF(G9,($E9)/G9,0) -> 15592.119
A10: Daguao 1-2 | B10: ULSD | C10: 0 | D10: 0 | E10: =C10*D10 -> 0 | F10: 0 | G10: 0 | H10: =IF(F10,($E10)/F10,0) -> 0 | I10: =IF(G10,($E10)/G10,0) -> 0
A11: Total Daguao - Gas | B11: ULSD | C11: =SUM(C9:C10) -> 2733.33 | E11: =SUM(E9:E10) -> 1.5794598e+10 | F11: =SUM(F9:F10) -> 1014000 | G11: =SUM(G9:G10) -> 1012986 | H11: =IF(F11,($E11)/F11,0) -> 15576.527 | I11: =IF(G11,($E11)/G11,0) -> 15592.119
A12: Jobos 1-1 | B12: ULSD | C12: 0 | D12: 0 | E12: =C12*D12 -> 0 | F12: 0 | G12: 0 | H12: =IF(F12,($E12)/F12,0) -> 0 | I12: =IF(G12,($E12)/G12,0) -> 0
A13: Jobos 1-2 | B13: ULSD | C13: 1866.47 | D13: 5513196.4 | E13: =C13*D13 -> 1.0290216e+10 | F13: 756000 | G13: 755244 | H13: =IF(F13,($E13)/F13,0) -> 13611.396 | I13: =IF(G13,($E13)/G13,0) -> 13625.021
A14: Total Jobos - Gas | B14: ULSD | C14: =SUM(C12:C13) -> 1866.47 | E14: =SUM(E12:E13) -> 1.0290216e+10 | F14: =SUM(F12:F13) -> 756000 | G14: =SUM(G12:G13) -> 755244 | H14: =IF(F14,($E14)/F14,0) -> 13611.396 | I14: =IF(G14,($E14)/G14,0) -> 13625.021
A15: Palo Seco 1-1 | B15: ULSD | C15: 4669.66 | D15: 5723550 | E15: =C15*D15 -> 26727032493 | F15: 1675000 | G15: 1673325 | H15: =IF(F15,($E15)/F15,0) -> 15956.437 | I15: =IF(G15,($E15)/G15,0) -> 15972.41
A16: Palo Seco 1-2 | B16: ULSD | C16: 4204.21 | D16: 5723550 | E16: =C16*D16 -> 2.4063006e+10 | F16: 1547000 | G16: 1545453 | H16: =IF(F16,($E16)/F16,0) -> 15554.626 | I16: =IF(G16,($E16)/G16,0) -> 15570.196
A17: Palo Seco 2-1 | B17: ULSD | C17: 4360.97 | D17: 5723550 | E17: =C17*D17 -> 2.496023e+10 | F17: 1652000 | G17: 1650348 | H17: =IF(F17,($E17)/F17,0) -> 15109.098 | I17: =IF(G17,($E17)/G17,0) -> 15124.222
A18: Total Palo Seco - Gas | B18: ULSD | C18: =SUM(C15:C17) -> 13234.84 | E18: =SUM(E15:E17) -> 75750268482 | F18: =SUM(F15:F17) -> 4874000 | G18: =SUM(G15:G17) -> 4869126 | H18: =IF(F18,($E18)/F18,0) -> 15541.705 | I18: =IF(G18,($E18)/G18,0) -> 15557.262
A19: Palo Seco Mobile Pack 1 | B19: ULSD | C19: 798.65 | D19: 5723550 | E19: =C19*D19 -> 4.5711132e+09 | F19: 357000 | G19: 354000 | H19: =IF(F19,($E19)/F19,0) -> 12804.239 | I19: =IF(G19,($E19)/G19,0) -> 12912.749
A20: Palo Seco Mobile Pack 2 | B20: ULSD | C20: 1273.31 | D20: 5723550 | E20: =C20*D20 -> 7.2878535e+09 | F20: 737000 | G20: 734000 | H20: =IF(F20,($E20)/F20,0) -> 9888.5393 | I20: =IF(G20,($E20)/G20,0) -> 9928.9557
A21: Palo Seco Mobile Pack 3 | B21: ULSD | C21: 740.03 | D21: 5723550 | E21: =C21*D21 -> 4.2355987e+09 | F21: 529000 | G21: 527000 | H21: =IF(F21,($E21)/F21,0) -> 8006.8028 | I21: =IF(G21,($E21)/G21,0) -> 8037.1892
A22: Total Palo Seco MPs - Gas | B22: ULSD | C22: =SUM(C19:C21) -> 2811.99 | E22: =SUM(E19:E21) -> 1.6094565e+10 | F22: =SUM(F19:F21) -> 1623000 | G22: =SUM(G19:G21) -> 1615000 | H22: =IF(F22,($E22)/F22,0) -> 9916.5529 | I22: =IF(G22,($E22)/G22,0) -> 9965.6751
A23: Yabucoa 1-1 | B23: ULSD | C23: 0 | D23: 0 | E23: =C23*D23 -> 0 | F23: 0 | G23: 0 | H23: =IF(F23,($E23)/F23,0) -> 0 | I23: =IF(G23,($E23)/G23,0) -> 0
A24: Yabucoa 1-2 | B24: ULSD | C24: 1661.04 | D24: 5527948.2 | E24: =C24*D24 -> 9.1821431e+09 | F24: 601000 | G24: 600399 | H24: =IF(F24,($E24)/F24,0) -> 15278.108 | I24: =IF(G24,($E24)/G24,0) -> 15293.402
A25: Total Yabucoa - Gas | B25: ULSD | C25: =SUM(C23:C24) -> 1661.04 | E25: =SUM(E23:E24) -> 9.1821431e+09 | F25: =SUM(F23:F24) -> 601000 | G25: =SUM(G23:G24) -> 600399 | H25: =IF(F25,($E25)/F25,0) -> 15278.108 | I25: =IF(G25,($E25)/G25,0) -> 15293.402
A26: Vieques - Diesel | B26: ULSD | C26: 1.19 | D26: 0 | E26: 0 | F26: 0 | G26: 0 | H26: =IF(F26,($E26)/F26,0) -> 0 | I26: =IF(G26,($E26)/G26,0) -> 0
A27: Culebra - Diesel | B27: ULSD | C27: 2.19 | D27: 0 | E27: 0 | F27: 0 | G27: 0 | H27: =IF(F27,($E27)/F27,0) -> 0 | I27: =IF(G27,($E27)/G27,0) -> 0
A28: Total Peakers | B28: ULSD | C28: =SUM(C5,C8,C11,C14,C18,C22,C25,C26,C27) -> 22421.76 | E28: =SUM(E5,E8,E11,E14,E18,E22,E25,E26,E27) -> 1.2774625e+11 | F28: =SUM(F5,F8,F11,F14,F18,F22,F25,F26,F27) -> 8901000 | G28: =SUM(G5,G8,G11,G14,G18,G22,G25,G26,G27) -> 8885722 | H28: =IF(F28,($E28)/F28,0) -> 14351.898 | I28: =IF(G28,($E28)/G28,0) -> 14376.575
A30: August 2024
A31: Unit | B31: Fuel type | C31: Fuel consumed (Barrels) | D31: Heating Value (Btu/Barrels) | E31: Btu | F31: Gross Generation (kWh) | G31: Net Generation (kWh) | H31: Gross Heat Rate (Btu/kWh) | I31: Net Heat Rate (Btu/kWh)
A32: Aguirre 2-1 | B32: ULSD | C32: 0 | D32: 0 | E32: =C32*D32 -> 0 | F32: 0 | G32: 0 | H32: =IF(F32,($E32)/F32,0) -> 0 | I32: =IF(G32,($E32)/G32,0) -> 0
A33: Aguirre 2-2 | B33: ULSD | C33: 0 | D33: 0 | E33: =C33*D33 -> 0 | F33: 0 | G33: 0 | H33: =IF(F33,($E33)/F33,0) -> 0 | I33: =IF(G33,($E33)/G33,0) -> 0
A34: Total Aguirre - Gas | B34: ULSD | C34: =SUM(C32:C33) -> 0 | E34: =SUM(E32:E33) -> 0 | F34: =SUM(F32:F33) -> 0 | G34: =SUM(G32:G33) -> 0 | H34: =IF(F34,($E34)/F34,0) -> 0 | I34: =IF(G34,($E34)/G34,0) -> 0
A35: Costa Sur 1-1 | B35: ULSD | C35: 0 | D35: 0 | E35: =C35*D35 -> 0 | F35: 0 | G35: 0 | H35: =IF(F35,($E35)/F35,0) -> 0 | I35: =IF(G35,($E35)/G35,0) -> 0
A36: Costa Sur 1-2 | B36: ULSD | C36: 117.4 | D36: 5730795 | E36: =C36*D36 -> 672795333 | F36: 37000 | G36: 36963 | H36: =IF(F36,($E36)/F36,0) -> 18183.658 | I36: =IF(G36,($E36)/G36,0) -> 18201.86
A37: Total Costa Sur - Gas | B37: ULSD | C37: =SUM(C35:C36) -> 117.4 | E37: =SUM(E35:E36) -> 672795333 | F37: =SUM(F35:F36) -> 37000 | G37: =SUM(G35:G36) -> 36963 | H37: =IF(F37,($E37)/F37,0) -> 18183.658 | I37: =IF(G37,($E37)/G37,0) -> 18201.86
A38: Daguao 1-1 | B38: ULSD | C38: 8960.05 | D38: 5778518.6 | E38: =C38*D38 -> 5.1775815e+10 | F38: 3423000 | G38: 3419577 | H38: =IF(F38,($E38)/F38,0) -> 15125.859 | I38: =IF(G38,($E38)/G38,0) -> 15141
A39: Daguao 1-2 | B39: ULSD | C39: 0 | D39: 0 | E39: =C39*D39 -> 0 | F39: 0 | G39: 0 | H39: =IF(F39,($E39)/F39,0) -> 0 | I39: =IF(G39,($E39)/G39,0) -> 0
A40: Total Daguao - Gas | B40: ULSD | C40: =SUM(C38:C39) -> 8960.05 | E40: =SUM(E38:E39) -> 5.1775815e+10 | F40: =SUM(F38:F39) -> 3423000 | G40: =SUM(G38:G39) -> 3419577 | H40: =IF(F40,($E40)/F40,0) -> 15125.859 | I40: =IF(G40,($E40)/G40,0) -> 15141
A41: Jobos 1-1 | B41: ULSD | C41: 0 | D41: 0 | E41: =C41*D41 -> 0 | F41: 0 | G41: 0 | H41: =IF(F41,($E41)/F41,0) -> 0 | I41: =IF(G41,($E41)/G41,0) -> 0
A42: Jobos 1-2 | B42: ULSD | C42: 7980.47 | D42: 5513196.4 | E42: =C42*D42 -> 4.3997898e+10 | F42: 3078000 | G42: 3074922 | H42: =IF(F42,($E42)/F42,0) -> 14294.314 | I42: =IF(G42,($E42)/G42,0) -> 14308.623
A43: Total Jobos - Gas | B43: ULSD | C43: =SUM(C41:C42) -> 7980.47 | E43: =SUM(E41:E42) -> 4.3997898e+10 | F43: =SUM(F41:F42) -> 3078000 | G43: =SUM(G41:G42) -> 3074922 | H43: =IF(F43,($E43)/F43,0) -> 14294.314 | I43: =IF(G43,($E43)/G43,0) -> 14308.623
A44: Palo Seco 1-1 | B44: ULSD | C44: 10165.04 | D44: 5723550 | E44: =C44*D44 -> 5.8180115e+10 | F44: 3835000 | G44: 3831165 | H44: =IF(F44,($E44)/F44,0) -> 15170.825 | I44: =IF(G44,($E44)/G44,0) -> 15186.011
A45: Palo Seco 1-2 | B45: ULSD | C45: 9938.32 | D45: 5723550 | E45: =C45*D45 -> 56882471436 | F45: 3574000 | G45: 3570426 | H45: =IF(F45,($E45)/F45,0) -> 15915.633 | I45: =IF(G45,($E45)/G45,0) -> 15931.564
A46: Palo Seco 2-1 | B46: ULSD | C46: 9274.05 | D46: 5723550 | E46: =C46*D46 -> 5.3080489e+10 | F46: 3561000 | G46: 3557439 | H46: =IF(F46,($E46)/F46,0) -> 14906.063 | I46: =IF(G46,($E46)/G46,0) -> 14920.984
A47: Total Palo Seco - Gas | B47: ULSD | C47: =SUM(C44:C46) -> 29377.41 | E47: =SUM(E44:E46) -> 1.6814308e+11 | F47: =SUM(F44:F46) -> 10970000 | G47: =SUM(G44:G46) -> 10959030 | H47: =IF(F47,($E47)/F47,0) -> 15327.536 | I47: =IF(G47,($E47)/G47,0) -> 15342.879
A48: Palo Seco Mobile Pack 1 | B48: ULSD | C48: 9956.27 | D48: 5723550 | E48: =C48*D48 -> 5.6985209e+10 | F48: 5949000 | G48: 5947000 | H48: =IF(F48,($E48)/F48,0) -> 9578.956 | I48: =IF(G48,($E48)/G48,0) -> 9582.1774
A49: Palo Seco Mobile Pack 2 | B49: ULSD | C49: 9959.49 | D49: 5723550 | E49: =C49*D49 -> 5.7003639e+10 | F49: 5816000 | G49: 5814000 | H49: =IF(F49,($E49)/F49,0) -> 9801.1759 | I49: =IF(G49,($E49)/G49,0) -> 9804.5475
A50: Palo Seco Mobile Pack 3 | B50: ULSD | C50: 8182.21 | D50: 5723550 | E50: =C50*D50 -> 4.6831288e+10 | F50: 4360000 | G50: 4358000 | H50: =IF(F50,($E50)/F50,0) -> 10741.121 | I50: =IF(G50,($E50)/G50,0) -> 10746.05
A51: Total Palo Seco MPs - Gas | B51: ULSD | C51: =SUM(C48:C50) -> 28097.97 | E51: =SUM(E48:E50) -> 1.6082014e+11 | F51: =SUM(F48:F50) -> 16125000 | G51: =SUM(G48:G50) -> 16119000 | H51: =IF(F51,($E51)/F51,0) -> 9973.3418 | I51: =IF(G51,($E51)/G51,0) -> 9977.0542
A52: Yabucoa 1-1 | B52: ULSD | C52: 0 | D52: 0 | E52: =C52*D52 -> 0 | H52: =IF(F52,($E52)/F52,0) -> 0 | I52: =IF(G52,($E52)/G52,0) -> 0
A53: Yabucoa 1-2 | B53: ULSD | C53: 7146.13 | D53: 5527948.2 | E53: =C53*D53 -> 3.9503437e+10 | F53: 2615000 | G53: 2612385 | H53: =IF(F53,($E53)/F53,0) -> 15106.477 | I53: =IF(G53,($E53)/G53,0) -> 15121.598
A54: Total Yabucoa - Gas | B54: ULSD | C54: =SUM(C52:C53) -> 7146.13 | E54: =SUM(E52:E53) -> 3.9503437e+10 | F54: =SUM(F52:F53) -> 2615000 | G54: =SUM(G52:G53) -> 2612385 | H54: =IF(F54,($E54)/F54,0) -> 15106.477 | I54: =IF(G54,($E54)/G54,0) -> 15121.598
A55: Vieques - Diesel | B55: ULSD | C55: 12.98 | D55: 0 | E55: =C55*D55 -> 0 | F55: 3 | G55: 2.91 | H55: =IF(F55,($E55)/F55,0) -> 0 | I55: =IF(G55,($E55)/G55,0) -> 0
A56: Culebra - Diesel | B56: ULSD | C56: 110.88 | D56: 0 | E56: =C56*D56 -> 0 | F56: 46 | G56: 44.61 | H56: =IF(F56,($E56)/F56,0) -> 0 | I56: =IF(G56,($E56)/G56,0) -> 0
A57: Total Peakers | B57: ULSD | C57: =SUM(C34,C37,C40,C43,C47,C51,C54,C55,C56) -> 81803.29 | E57: =SUM(E34,E37,E40,E43,E47,E51,E54,E55,E56) -> 4.6491316e+11 | F57: =SUM(F34,F37,F40,F43,F47,F51,F54,F55,F56) -> 36248049 | G57: =SUM(G34,G37,G40,G43,G47,G51,G54,G55,G56) -> 36221925 | H57: =IF(F57,($E57)/F57,0) -> 12825.881 | I57: =IF(G57,($E57)/G57,0) -> 12835.131
A59: September 2024
A60: Unit | B60: Fuel type | C60: Fuel consumed (Barrels) | D60: Heating Value (Btu/Barrels) | E60: Btu | F60: Gross Generation (kWh) | G60: Net Generation (kWh) | H60: Gross Heat Rate (Btu/kWh) | I60: Net Heat Rate (Btu/kWh)
A61: Aguirre 2-1 | B61: ULSD | C61: 0 | D61: 0 | E61: =C61*D61 -> 0 | F61: 0 | G61: 0 | H61: =IF(F61,($E61)/F61,0) -> 0 | I61: =IF(G61,($E61)/G61,0) -> 0
A62: Aguirre 2-2 | B62: ULSD | C62: 0 | D62: 0 | E62: =C62*D62 -> 0 | F62: 0 | G62: 0 | H62: =IF(F62,($E62)/F62,0) -> 0 | I62: =IF(G62,($E62)/G62,0) -> 0
A63: Total Aguirre - Gas | B63: ULSD | C63: =SUM(C61:C62) -> 0 | E63: =SUM(E61:E62) -> 0 | F63: =SUM(F61:F62) -> 0 | G63: =SUM(G61:G62) -> 0 | H63: =IF(F63,($E63)/F63,0) -> 0 | I63: =IF(G63,($E63)/G63,0) -> 0
A64: Costa Sur 1-1 | B64: ULSD | C64: 0 | D64: 0 | E64: =C64*D64 -> 0 | F64: 0 | G64: 0 | H64: =IF(F64,($E64)/F64,0) -> 0 | I64: =IF(G64,($E64)/G64,0) -> 0
A65: Costa Sur 1-2 | B65: ULSD | C65: 515.29 | D65: 5730795 | E65: =C65*D65 -> 2.9530214e+09 | F65: 182200 | G65: 182017.8 | H65: =IF(F65,($E65)/F65,0) -> 16207.582 | I65: =IF(G65,($E65)/G65,0) -> 16223.805
A66: Total Costa Sur - Gas | B66: ULSD | C66: =SUM(C64:C65) -> 515.29 | E66: =SUM(E64:E65) -> 2.9530214e+09 | F66: =SUM(F64:F65) -> 182200 | G66: =SUM(G64:G65) -> 182017.8 | H66: =IF(F66,($E66)/F66,0) -> 16207.582 | I66: =IF(G66,($E66)/G66,0) -> 16223.805
A67: Daguao 1-1 | B67: ULSD | C67: 8283.02 | D67: 5778518.6 | E67: =C67*D67 -> 4.7863585e+10 | F67: 3190000 | G67: 3186810 | H67: =IF(F67,($E67)/F67,0) -> 15004.259 | I67: =IF(G67,($E67)/G67,0) -> 15019.278
A68: Daguao 1-2 | B68: ULSD | C68: 0 | D68: 0 | E68: =C68*D68 -> 0 | F68: 0 | G68: 0 | H68: =IF(F68,($E68)/F68,0) -> 0 | I68: =IF(G68,($E68)/G68,0) -> 0
A69: Total Daguao - Gas | B69: ULSD | C69: =SUM(C67:C68) -> 8283.02 | E69: =SUM(E67:E68) -> 4.7863585e+10 | F69: =SUM(F67:F68) -> 3190000 | G69: =SUM(G67:G68) -> 3186810 | H69: =IF(F69,($E69)/F69,0) -> 15004.259 | I69: =IF(G69,($E69)/G69,0) -> 15019.278
A70: Jobos 1-1 | B70: ULSD | C70: 0 | D70: 0 | E70: =C70*D70 -> 0 | F70: 0 | G70: 0 | H70: =IF(F70,($E70)/F70,0) -> 0 | I70: =IF(G70,($E70)/G70,0) -> 0
A71: Jobos 1-2 | B71: ULSD | C71: 8390.83 | D71: 5534842.3 | E71: =C71*D71 -> 4.6441921e+10 | F71: 3127000 | G71: 3123873 | H71: =IF(F71,($E71)/F71,0) -> 14851.909 | I71: =IF(G71,($E71)/G71,0) -> 14866.776
A72: Total Jobos - Gas | B72: ULSD | C72: =SUM(C70:C71) -> 8390.83 | E72: =SUM(E70:E71) -> 4.6441921e+10 | F72: =SUM(F70:F71) -> 3127000 | G72: =SUM(G70:G71) -> 3123873 | H72: =IF(F72,($E72)/F72,0) -> 14851.909 | I72: =IF(G72,($E72)/G72,0) -> 14866.776
A73: Palo Seco 1-1 | B73: ULSD | C73: 11165.44 | D73: 5723550 | E73: =C73*D73 -> 63905954112 | F73: 4211000 | G73: 4206789 | H73: =IF(F73,($E73)/F73,0) -> 15175.957 | I73: =IF(G73,($E73)/G73,0) -> 15191.148
A74: Palo Seco 1-2 | B74: ULSD | C74: 11274.15 | D74: 5723550 | E74: =C74*D74 -> 6.4528161e+10 | F74: 4252000 | G74: 4247748 | H74: =IF(F74,($E74)/F74,0) -> 15175.955 | I74: =IF(G74,($E74)/G74,0) -> 15191.146
A75: Palo Seco 2-1 | B75: ULSD | C75: 11653.31 | D75: 5723550 | E75: =C75*D75 -> 6.6698302e+10 | F75: 4144000 | G75: 4139856 | H75: =IF(F75,($E75)/F75,0) -> 16095.15 | I75: =IF(G75,($E75)/G75,0) -> 16111.261
A76: Total Palo Seco - Gas | B76: ULSD | C76: =SUM(C73:C75) -> 34092.9 | E76: =SUM(E73:E75) -> 195132417795 | F76: =SUM(F73:F75) -> 12607000 | G76: =SUM(G73:G75) -> 12594393 | H76: =IF(F76,($E76)/F76,0) -> 15478.101 | I76: =IF(G76,($E76)/G76,0) -> 15493.594
A77: Palo Seco Mobile Pack 1 | B77: ULSD | C77: 8835.69 | D77: 5723550 | E77: =C77*D77 -> 5.0571513e+10 | F77: 5000000 | G77: 4997000 | H77: =IF(F77,($E77)/F77,0) -> 10114.303 | I77: =IF(G77,($E77)/G77,0) -> 10120.375
A78: Palo Seco Mobile Pack 2 | B78: ULSD | C78: 8604.03 | D78: 5723550 | E78: =C78*D78 -> 4.9245596e+10 | F78: 4859000 | G78: 4857000 | H78: =IF(F78,($E78)/F78,0) -> 10134.924 | I78: =IF(G78,($E78)/G78,0) -> 10139.097
A79: Palo Seco Mobile Pack 3 | B79: ULSD | C79: 5727.47 | D79: 5723550 | E79: =C79*D79 -> 3.2781461e+10 | F79: 3206000 | G79: 3204000 | H79: =IF(F79,($E79)/F79,0) -> 10225.035 | I79: =IF(G79,($E79)/G79,0) -> 10231.417
A80: Total Palo Seco MPs - Gas | B80: ULSD | C80: =SUM(C77:C79) -> 23167.19 | E80: =SUM(E77:E79) -> 1.3259857e+11 | F80: =SUM(F77:F79) -> 13065000 | G80: =SUM(G77:G79) -> 13058000 | H80: =IF(F80,($E80)/F80,0) -> 10149.144 | I80: =IF(G80,($E80)/G80,0) -> 10154.585
A81: Yabucoa 1-1 | B81: ULSD | C81: 0 | D81: 0 | E81: =C81*D81 -> 0 | F81: 0 | G81: 0 | H81: =IF(F81,($E81)/F81,0) -> 0 | I81: =IF(G81,($E81)/G81,0) -> 0
A82: Yabucoa 1-2 | B82: ULSD | C82: 6346.2 | D82: 5527948.2 | E82: =C82*D82 -> 3.5081465e+10 | F82: 2291000 | G82: 2288709 | H82: =IF(F82,($E82)/F82,0) -> 15312.73 | I82: =IF(G82,($E82)/G82,0) -> 15328.058
A83: Total Yabucoa - Gas | B83: ULSD | C83: =SUM(C81:C82) -> 6346.2 | E83: =SUM(E81:E82) -> 3.5081465e+10 | F83: =SUM(F81:F82) -> 2291000 | G83: =SUM(G81:G82) -> 2288709 | H83: =IF(F83,($E83)/F83,0) -> 15312.73 | I83: =IF(G83,($E83)/G83,0) -> 15328.058
A84: Vieques - Diesel | B84: ULSD | C84: 0 | D84: 0 | E84: =C84*D84 -> 0 | F84: 0 | G84: 0 | H84: =IF(F84,($E84)/F84,0) -> 0 | I84: =IF(G84,($E84)/G84,0) -> 0
A85: Culebra - Diesel | B85: ULSD | C85: 2.19 | D85: 0 | E85: =C85*D85 -> 0 | F85: 0 | G85: 0 | H85: =IF(F85,($E85)/F85,0) -> 0 | I85: =IF(G85,($E85)/G85,0) -> 0
A86: Total Peakers | B86: ULSD | C86: =SUM(C63,C66,C69,C72,C76,C80,C83,C84,C85) -> 80797.62 | E86: =SUM(E63,E66,E69,E72,E76,E80,E83,E84,E85) -> 4.6007098e+11 | F86: =SUM(F63,F66,F69,F72,F76,F80,F83,F84,F85) -> 34462200 | G86: =SUM(G63,G66,G69,G72,G76,G80,G83,G84,G85) -> 34433803 | H86: =IF(F86,($E86)/F86,0) -> 13350.018 | I86: =IF(G86,($E86)/G86,0) -> 13361.027

Sheet TMs
A1: July 2024
A2: Unit | B2: Fuel type | C2: Fuel consumed (Barrels) | D2: Heating Value (Btu/Barrels) | E2: Btu | F2: Gross Generation (kWh) | G2: Net Generation (kWh) | H2: Gross Heat Rate (Btu/kWh) | I2: Net Heat Rate (Btu/kWh)
A3: San Juan TMs | B3: LNG | C3: 248057.32 | D3: 5800000 | E3: =C3*D3 -> 1438732456000 | F3: 132636818 | G3: 132504182 | H3: =IF(F3,($E3+$E4)/F3,0) -> 10847.158 | I3: =IF(G3,($E3+$E4)/G3,0) -> 10858.015
B4: ULSD | C4: 0 | D4: 0 | E4: =C4*D4 -> 0
A5: Palo Seco TMs | B5: LNG | C5: 114306.42 | D5: 5800000 | E5: =C5*D5 -> 662977236000 | F5: 59304705 | G5: 59245400 | H5: =IF(F5,($E5+$E6)/F5,0) -> 11179.168 | I5: =IF(G5,($E5+$E6)/G5,0) -> 11190.358
B6: ULSD | C6: 0 | D6: 0 | E6: =C6*D6 -> 0
A7: Total TMs | C7: =SUM(C3:C6) -> 362363.74 | E7: =SUM(E3:E6) -> 2101709692000 | F7: =SUM(F3:F6) -> 191941523 | G7: =SUM(G3:G6) -> 191749582 | H7: =$E7/F7 -> 10949.74 | I7: =$E7/G7 -> 10960.7
A9: August 2024
A10: Unit | B10: Fuel type | C10: Fuel consumed (Barrels) | D10: Heating Value (Btu/Barrels) | E10: Btu | F10: Gross Generation (kWh) | G10: Net Generation (kWh) | H10: Gross Heat Rate (Btu/kWh) | I10: Net Heat Rate (Btu/kWh)
A11: San Juan TMs | B11: LNG | C11: 253874.07 | D11: 5800000 | E11: =C11*D11 -> 1472469606000 | F11: 134807974 | G11: 134673166 | H11: =IF(F11,($E11+$E12)/F11,0) -> 10922.719 | I11: =IF(G11,($E11+$E12)/G11,0) -> 10933.653
B12: ULSD | C12: 0 | D12: 0 | E12: =C12*D12 -> 0
A13: Palo Seco TMs | B13: LNG | C13: 114666.85 | D13: 5800000 | E13: =C13*D13 -> 665067730000 | F13: 59819753 | G13: 59759933 | H13: =IF(F13,($E13+$E14)/F13,0) -> 11117.862 | I13: =IF(G13,($E13+$E14)/G13,0) -> 11128.991
B14: ULSD | C14: 0 | D14: 0 | E14: =C14*D14 -> 0
A15: Total TMs | C15: =SUM(C11:C14) -> 368540.92 | E15: =SUM(E11:E14) -> 2137537336000 | F15: =SUM(F11:F14) -> 194627727 | G15: =SUM(G11:G14) -> 194433099 | H15: =$E15/F15 -> 10982.697 | I15: =$E15/G15 -> 10993.691
A17: September 2024
A18: Unit | B18: Fuel type | C18: Fuel consumed (Barrels) | D18: Heating Value (Btu/Barrels) | E18: Btu | F18: Gross Generation (kWh) | G18: Net Generation (kWh) | H18: Gross Heat Rate (Btu/kWh) | I18: Net Heat Rate (Btu/kWh)
A19: San Juan TMs | B19: LNG | C19: 290527.36 | D19: 5800000 | E19: =C19*D19 -> 1685058688000 | F19: 154091492 | G19: 153937401 | H19: =IF(F19,($E19+$E20)/F19,0) -> 10935.443 | I19: =IF(G19,($E19+$E20)/G19,0) -> 10946.389
B20: ULSD | C20: 0 | D20: 0 | E20: =C20*D20 -> 0
A21: Palo Seco TMs | B21: LNG | C21: 107155.16 | D21: 5800000 | E21: =C21*D21 -> 621499928000 | F21: 55942286 | G21: 55886344 | H21: =IF(F21,($E21+$E22)/F21,0) -> 11109.663 | I21: =IF(G21,($E21+$E22)/G21,0) -> 11120.783
B22: ULSD | C22: 0 | D22: 0 | E22: =C22*D22 -> 0
A23: Total TMs | C23: =SUM(C19:C22) -> 397682.52 | E23: =SUM(E19:E22) -> 2306558616000 | F23: =SUM(F19:F22) -> 210033778 | G23: =SUM(G19:G22) -> 209823745 | H23: =$E23/F23 -> 10981.846 | I23: =$E23/G23 -> 10992.839

Sheet System
A1: July 2024
A2: Plant | B2: Btu | C2: Gross Generation (kWh) | D2: Net Generation (kWh) | E2: Gross Heat Rate (Btu/kWh) | F2: Net Heat Rate (Btu/kWh)
A3: San Juan CC | B3: ='San Juan'!E7 -> 2.0924242e+12 | C3: ='San Juan'!F7 -> 192997000 | D3: ='San Juan'!G7 -> 187946729 | E3: =IF(C3,B3/C3,0) -> 10841.745 | F3: =IF(D3,B3/D3,0) -> 11133.071
A4: San Juan Steam | B4: ='San Juan'!E12 -> 6.4198156e+11 | C4: ='San Juan'!F12 -> 59123000 | D4: ='San Juan'!G12 -> 55614684 | E4: =IF(C4,B4/C4,0) -> 10858.406 | F4: =IF(D4,B4/D4,0) -> 11543.382
A5: San Juan Plant | B5: =SUM(B3:B4) -> 2.7344058e+12 | C5: =SUM(C3:C4) -> 252120000 | D5: =SUM(D3:D4) -> 243561413 | E5: =B5/C5 -> 10845.652 | F5: =B5/D5 -> 11226.761
A6: Palo Seco Steam | B6: ='Palo Seco'!E7 -> 2.0742356e+11 | C6: ='Palo Seco'!F7 -> 20306000 | D6: ='Palo Seco'!G7 -> 16714587 | E6: =IF(C6,B6/C6,0) -> 10214.89 | F6: =IF(D6,B6/D6,0) -> 12409.733
A7: Aguirre Steam | B7: =Aguirre!E7 -> 2.929416e+12 | C7: =Aguirre!F7 -> 260890000 | D7: =Aguirre!G7 -> 241571841 | E7: =IF(C7,B7/C7,0) -> 11228.549 | F7: =IF(D7,B7/D7,0) -> 12126.48
A8: Costa Sur Steam | B8: ='Costa Sur'!E7 -> 3.7386467e+12 | C8: ='Costa Sur'!F7 -> 355280000 | D8: ='Costa Sur'!G7 -> 329945000 | E8: =IF(C8,B8/C8,0) -> 10523.099 | F8: =IF(D8,B8/D8,0) -> 11331.121
A9: Baseloads | B9: =SUM(B5:B8) -> 9.6098921e+12 | C9: =SUM(C5:C8) -> 888596000 | D9: =SUM(D5:D8) -> 831792841 | E9: =IF(C9,B9/C9,0) -> 10814.692 | F9: =IF(D9,B9/D9,0) -> 11553.228
A10: Aguirre CC | B10: ='Aguirre CC'!E13 -> 4.7446485e+11 | C10: ='Aguirre CC'!F13 -> 33926000 | D10: ='Aguirre CC'!G13 -> 32790780 | E10: =IF(C10,B10/C10,0) -> 13985.287 | F10: =IF(D10,B10/D10,0) -> 14469.459
A11: Cambalache Gas | B11: =Cambalache!E5 -> 2.4896135e+11 | C11: =Cambalache!F5 -> 19362000 | D11: =Cambalache!G5 -> 19004000 | E11: =IF(C11,B11/C11,0) -> 12858.245 | F11: =IF(D11,B11/D11,0) -> 13100.471
A12: Mayaguez Gas | B12: =Mayaguez!E7 -> 365565828465 | C12: =Mayaguez!F7 -> 35131800 | D12: =Mayaguez!G7 -> 35089642 | E12: =IF(C12,B12/C12,0) -> 10405.554 | F12: =IF(D12,B12/D12,0) -> 10418.055
A13: Total Peakers - Gas | B13: =Peakers!E28 -> 1.2774625e+11 | C13: =Peakers!F28 -> 8901000 | D13: =Peakers!G28 -> 8885722 | E13: =IF(C13,B13/C13,0) -> 14351.898 | F13: =IF(D13,B13/D13,0) -> 14376.575
A14: TMs - Gas | B14: =TMs!E7 -> 2101709692000 | C14: =TMs!F7 -> 191941523 | D14: =TMs!G7 -> 191749582 | E14: =IF(C14,B14/C14,0) -> 10949.74 | F14: =IF(D14,B14/D14,0) -> 10960.7
A15: Total System | B15: =SUM(B9:B14) -> 1.292834e+13 | C15: =SUM(C9:C14) -> 1177858323 | D15: =SUM(D9:D14) -> 1119312567 | E15: =IF(C15,B15/C15,0) -> 10976.142 | F15: =IF(D15,B15/D15,0) -> 11550.25
A17: August 2024
A18: Plant | B18: Btu | C18: Gross Generation (kWh) | D18: Net Generation (kWh) | E18: Gross Heat Rate (Btu/kWh) | F18: Net Heat Rate (Btu/kWh)
A19: San Juan CC | B19: ='San Juan'!E20 -> 1.2798813e+12 | C19: ='San Juan'!F20 -> 116725000 | D19: ='San Juan'!G20 -> 112637777 | E19: =IF(C19,B19/C19,0) -> 10964.928 | F19: =IF(D19,B19/D19,0) -> 11362.807
A20: San Juan Steam | B20: ='San Juan'!E25 -> 1.1685657e+12 | C20: ='San Juan'!F25 -> 104819000 | D20: ='San Juan'!G25 -> 98888715 | E20: =IF(C20,B20/C20,0) -> 11148.415 | F20: =IF(D20,B20/D20,0) -> 11816.977
A21: San Juan Plant | B21: =SUM(B19:B20) -> 2.4484469e+12 | C21: =SUM(C19:C20) -> 221544000 | D21: =SUM(D19:D20) -> 211526492 | E21: =B21/C21 -> 11051.741 | F21: =B21/D21 -> 11575.131
A22: Palo Seco Steam | B22: ='Palo Seco'!E15 -> 1.0046416e+12 | C22: ='Palo Seco'!F15 -> 103150000 | D22: ='Palo Seco'!G15 -> 94438646 | E22: =IF(C22,B22/C22,0) -> 9739.6184 | F22: =IF(D22,B22/D22,0) -> 10638.035
A23: Aguirre Steam | B23: =Aguirre!E15 -> 1.9718972e+12 | C23: =Aguirre!F15 -> 175155000 | D23: =Aguirre!G15 -> 157199901 | E23: =IF(C23,B23/C23,0) -> 11258.013 | F23: =IF(D23,B23/D23,0) -> 12543.883
A24: Costa Sur Steam | B24: ='Costa Sur'!E15 -> 3.5403131e+12 | C24: ='Costa Sur'!F15 -> 323200000 | D24: ='Costa Sur'!G15 -> 299121400 | E24: =IF(C24,B24/C24,0) -> 10953.939 | F24: =IF(D24,B24/D24,0) -> 11835.707
A25: Baseloads | B25: =SUM(B21:B24) -> 8.9652989e+12 | C25: =SUM(C21:C24) -> 823049000 | D25: =SUM(D21:D24) -> 762286439 | E25: =B25/C25 -> 10892.789 | F25: =B25/D25 -> 11761.063
A26: Aguirre CC | B26: ='Aguirre CC'!E27 -> 1.0099843e+12 | C26: ='Aguirre CC'!F27 -> 84013000 | D26: ='Aguirre CC'!G27 -> 81409440 | E26: =IF(C26,B26/C26,0) -> 12021.762 | F26: =IF(D26,B26/D26,0) -> 12406.231
A27: Cambalache Gas | B27: =Cambalache!E11 -> 6.1022316e+11 | C27: =Cambalache!F11 -> 49473000 | D27: =Cambalache!G11 -> 48931920 | E27: =IF(C27,B27/C27,0) -> 12334.468 | F27: =IF(D27,B27/D27,0) -> 12470.861
A28: Mayaguez Gas | B28: =Mayaguez!E15 -> 5.2049364e+11 | C28: =Mayaguez!F15 -> 50295200 | D28: =Mayaguez!G15 -> 50234845 | E28: =IF(C28,B28/C28,0) -> 10348.774 | F28: =IF(D28,B28/D28,0) -> 10361.207
A29: Total Peakers - Gas | B29: =Peakers!E57 -> 4.6491316e+11 | C29: =Peakers!F57 -> 36248049 | D29: =Peakers!G57 -> 36221925 | E29: =IF(C29,B29/C29,0) -> 12825.881 | F29: =IF(D29,B29/D29,0) -> 12835.131
A30: TMs - Gas | B30: =TMs!E15 -> 2137537336000 | C30: =TMs!F15 -> 194627727 | D30: =TMs!G15 -> 194433099 | E30: =IF(C30,B30/C30,0) -> 10982.697 | F30: =IF(D30,B30/D30,0) -> 10993.691
A31: Total System | B31: =SUM(B25:B30) -> 1.370845e+13 | C31: =SUM(C25:C30) -> 1237705976 | D31: =SUM(D25:D30) -> 1.1735177e+09 | E31: =IF(C31,B31/C31,0) -> 11075.692 | F31: =IF(D31,B31/D31,0) -> 11681.503
A33: September 2024
A34: Plant | B34: Btu | C34: Gross Generation (kWh) | D34: Net Generation (kWh) | E34: Gross Heat Rate (Btu/kWh) | F34: Net Heat Rate (Btu/kWh)
A35: San Juan CC | B35: ='San Juan'!E33 -> 1082627000000 | C35: ='San Juan'!F33 -> 131251000 | D35: ='San Juan'!G33 -> 127932440 | E35: =IF(C35,B35/C35,0) -> 8248.5238 | F35: =IF(D35,B35/D35,0) -> 8462.49
A36: San Juan Steam | B36: ='San Juan'!E38 -> 1.1505326e+12 | C36: ='San Juan'!F38 -> 103577000 | D36: ='San Juan'!G38 -> 98726166 | E36: =IF(C36,B36/C36,0) -> 11107.993 | F36: =IF(D36,B36/D36,0) -> 11653.776
A37: San Juan Plant | B37: =SUM(B35:B36) -> 2.2331596e+12 | C37: =SUM(C35:C36) -> 234828000 | D37: =SUM(D35:D36) -> 226658606 | E37: =B37/C37 -> 9509.7671 | F37: =B37/D37 -> 9852.5251
A38: Palo Seco Steam | B38: ='Palo Seco'!E23 -> 1039963292970 | C38: ='Palo Seco'!F23 -> 107723000 | D38: ='Palo Seco'!G23 -> 98600772 | E38: =IF(C38,B38/C38,0) -> 9654.0506 | F38: =IF(D38,B38/D38,0) -> 10547.212
A39: Aguirre Steam | B39: =Aguirre!E23 -> 1.0239112e+12 | C39: =Aguirre!F23 -> 91705000 | D39: =Aguirre!G23 -> 82502888 | E39: =IF(C39,B39/C39,0) -> 11165.271 | F39: =IF(D39,B39/D39,0) -> 12410.61
A40: Costa Sur Steam | B40: ='Costa Sur'!E23 -> 4.1956864e+12 | C40: ='Costa Sur'!F23 -> 386970000 | D40: ='Costa Sur'!G23 -> 359482500 | E40: =IF(C40,B40/C40,0) -> 10842.407 | F40: =IF(D40,B40/D40,0) -> 11671.462
A41: Baseloads | B41: =SUM(B37:B40) -> 8.4927205e+12 | C41: =SUM(C37:C40) -> 821226000 | D41: =SUM(D37:D40) -> 767244766 | E41: =B41/C41 -> 10341.514 | F41: =B41/D41 -> 11069.115
A42: Aguirre CC | B42: ='Aguirre CC'!E41 -> 1.0685187e+12 | C42: ='Aguirre CC'!F41 -> 85835000 | D42: ='Aguirre CC'!G41 -> 83653284 | E42: =IF(C42,B42/C42,0) -> 12448.52 | F42: =IF(D42,B42/D42,0) -> 12773.183
A43: Cambalache Gas | B43: =Cambalache!E17 -> 6.3801778e+11 | C43: =Cambalache!F17 -> 51840000 | D43: =Cambalache!G17 -> 51293740 | E43: =IF(C43,B43/C43,0) -> 12307.442 | F43: =IF(D43,B43/D43,0) -> 12438.512
A44: Mayaguez Gas | B44: =Mayaguez!E23 -> 4.9848529e+11 | C44: =Mayaguez!F23 -> 48259300 | D44: =Mayaguez!G23 -> 48201389 | E44: =IF(C44,B44/C44,0) -> 10329.31 | F44: =IF(D44,B44/D44,0) -> 10341.72
A45: Total Peakers - Gas | B45: =Peakers!E86 -> 4.6007098e+11 | C45: =Peakers!F86 -> 34462200 | D45: =Peakers!G86 -> 34433803 | E45: =IF(C45,B45/C45,0) -> 13350.018 | F45: =IF(D45,B45/D45,0) -> 13361.027
A46: TMs - Gas | B46: =TMs!E23 -> 2306558616000 | C46: =TMs!F23 -> 210033778 | D46: =TMs!G23 -> 209823745 | E46: =IF(C46,B46/C46,0) -> 10981.846 | F46: =IF(D46,B46/D46,0) -> 10992.839
A47: Total System | B47: =SUM(B41:B46) -> 1.3464372e+13 | C47: =SUM(C41:C46) -> 1251656278 | D47: =SUM(D41:D46) -> 1.1946507e+09 | E47: =IF(C47,B47/C47,0) -> 10757.244 | F47: =IF(D47,B47/D47,0) -> 11270.551
