Workbook

Sheet San Juan
A1: October 2024
A2: Unit | B2: Fuel type | C2: Fuel consumed (Barrels) | D2: Heating Value (Btu/Barrels) | E2: Btu | F2: Gross Generation (kWh) | G2: Net Generation (kWh) | H2: Gross Heat Rate (Btu/kWh) | I2: Net Heat Rate (Btu/kWh)
A3: San Juan 5 | B3: ULSD | C3: 46219.05 | D3: 5826191.8 | E3: =C3*D3 -> 2.6928105e+11 | F3: =89937000+26104000 -> 116041000 | G3: =86688720+26104000 -> 112792720 | H3: =($E3+$E4)/F3 -> 8508.1398 | I3: =($E3+$E4)/G3 -> 8753.1629
B4: LNG | C4: 123795.17 | D4: 5800000 | E4: =C4*D4 -> 718012000000
A5: San Juan 6 | B5: ULSD | C5: 0 | D5: 0 | E5: =C5*D5 -> 0 | F5: 0 | G5: 0 | H5: =IF(F5,(E5+E6)/F5,0) -> 0 | I5: =IF(G5,($E5+$E6)/G5,0) -> 0
B6: LNG | C6: 0 | D6: 0 | E6: =C6*D6 -> 0
A7: Total San Juan CC | C7: =SUM(C3:C6) -> 170014.22 | E7: =SUM(E3:E6) -> 9.8729305e+11 | F7: =SUM(F3:F6) -> 116041000 | G7: =SUM(G3:G6) -> 112792720 | H7: =$E7/F7 -> 8508.1398 | I7: =$E7/G7 -> 8753.1629
A9: Unit | B9: Fuel type | C9: Fuel consumed (Barrels) | D9: Heating Value (Btu/Barrels) | E9: Btu | F9: Gross Generation (kWh) | G9: Net Generation (kWh) | H9: Gross Heat Rate (Btu/kWh) | I9: Net Heat Rate (Btu/kWh)
A10: San Juan 7 | B10: Bunker C | C10: 4067.95 | D10: 6236836.9 | E10: =C10*D10 -> 2.5371141e+10 | F10: 2059000 | G10: 1651670 | H10: =IF(F10,$E10/F10,0) -> 12322.069 | I10: =IF(G10,$E10/G10,0) -> 15360.902
A11: San Juan 9 | B11: Bunker C | C11: 88769.4 | D11: 6236836.9 | E11: =C11*D11 -> 5.5364027e+11 | F11: 51572000 | G11: 47624004 | H11: =$E11/F11 -> 10735.288 | I11: =$E11/G11 -> 11625.236
A12: Total San Juan - Steam | C12: =SUM(C10:C11) -> 92837.35 | E12: =SUM(E10:E11) -> 5.7901141e+11 | F12: =SUM(F10:F11) -> 53631000 | G12: =SUM(G10:G11) -> 49275674 | H12: =$E12/F12 -> 10796.208 | I12: =$E12/G12 -> 11750.451
A14: November 2024
A15: Unit | B15: Fuel type | C15: Fuel consumed (Barrels) | D15: Heating Value (Btu/Barrels) | E15: Btu | F15: Gross Generation (kWh) | G15: Net Generation (kWh) | H15: Gross Heat Rate (Btu/kWh) | I15: Net Heat Rate (Btu/kWh)
A16: San Juan 5 | B16: ULSD | C16: 25285.71 | D16: 5829145.3 | E16: =C16*D16 -> 1.4739408e+11 | F16: =82868000+20022000 -> 102890000 | G16: =79973310+20022000 -> 99995310 | H16: =($E16+$E17)/F16 -> 8846.8666 | I16: =($E16+$E17)/G16 -> 9102.9679
B17: LNG | C17: 131527.59 | D17: 5800000 | E17: =C17*D17 -> 762860022000
A18: San Juan 6 | B18: ULSD | C18: 0 | D18: 0 | E18: =C18*D18 -> 0 | F18: 0 | G18: 0 | H18: =IF(F18,(E18+E19)/F18,0) -> 0 | I18: =IF(G18,($E18+$E19)/G18,0) -> 0
B19: LNG | C19: 0 | D19: 0 | E19: =C19*D19 -> 0
A20: Total San Juan CC | C20: =SUM(C16:C19) -> 156813.3 | E20: =SUM(E16:E19) -> 9.102541e+11 | F20: =SUM(F16:F19) -> 102890000 | G20: =SUM(G16:G19) -> 99995310 | H20: =$E20/F20 -> 8846.8666 | I20: =$E20/G20 -> 9102.9679
A22: Unit | B22: Fuel type | C22: Fuel consumed (Barrels) | D22: Heating Value (Btu/Barrels) | E22: Btu | F22: Gross Generation (kWh) | G22: Net Generation (kWh) | H22: Gross Heat Rate (Btu/kWh) | I22: Net Heat Rate (Btu/kWh)
A23: San Juan 7 | B23: Bunker C | C23: 0 | D23: 0 | E23: =C23*D23 -> 0 | F23: 0 | G23: 0 | H23: =IF(F23,$E23/F23,0) -> 0 | I23: =IF(G23,$E23/G23,0) -> 0
A24: San Juan 9 | B24: Bunker C | C24: 84470.89 | D24: 6262020.8 | E24: =C24*D24 -> 5.2895847e+11 | F24: 48471000 | G24: 44347199 | H24: =$E24/F24 -> 10912.886 | I24: =$E24/G24 -> 11927.664
A25: Total San Juan - Steam | C25: =SUM(C23:C24) -> 84470.89 | E25: =SUM(E23:E24) -> 5.2895847e+11 | F25: =SUM(F23:F24) -> 48471000 | G25: =SUM(G23:G24) -> 44347199 | H25: =$E25/F25 -> 10912.886 | I25: =$E25/G25 -> 11927.664
A27: December 2024
A28: Unit | B28: Fuel type | C28: Fuel consumed (Barrels) | D28: Heating Value (Btu/Barrels) | E28: Btu | F28: Gross Generation (kWh) | G28: Net Generation (kWh) | H28: Gross Heat Rate (Btu/kWh) | I28: Net Heat Rate (Btu/kWh)
A29: San Juan 5 | B29: ULSD | C29: 21624.88 | D29: 5828589.2 | E29: =C29*D29 -> 1.2604254e+11 | F29: =97920000+32687000 -> 130607000 | G29: =95067120+32687000 -> 127754120 | H29: =($E29+$E30)/F29 -> 8163.9999 | I29: =($E29+$E30)/G29 -> 8346.3104
B30: LNG | C30: 162109.14 | D30: 5800000 | E30: =C30*D30 -> 940233000000
A31: San Juan 6 | B31: ULSD | C31: 0 | D31: 0 | E31: =C31*D31 -> 0 | F31: 0 | G31: 0 | H31: =IF(F31,(E31+E32)/F31,0) -> 0 | I31: =IF(G31,($E31+$E32)/G31,0) -> 0
B32: LNG | C32: 0 | D32: 0 | E32: =C32*D32 -> 0
A33: Total San Juan CC | C33: =SUM(C29:C32) -> 183734.02 | E33: =SUM(E29:E32) -> 1.0662755e+12 | F33: =SUM(F29:F32) -> 130607000 | G33: =SUM(G29:G32) -> 127754120 | H33: =$E33/F33 -> 8163.9999 | I33: =$E33/G33 -> 8346.3104
A35: Unit | B35: Fuel type | C35: Fuel consumed (Barrels) | D35: Heating Value (Btu/Barrels) | E35: Btu | F35: Gross Generation (kWh) | G35: Net Generation (kWh) | H35: Gross Heat Rate (Btu/kWh) | I35: Net Heat Rate (Btu/kWh)
A36: San Juan 7 | B36: Bunker C | C36: 0 | D36: 0 | E36: =C36*D36 -> 0 | F36: 0 | G36: 0 | H36: =IF(F36,$E36/F36,0) -> 0 | I36: =IF(G36,$E36/G36,0) -> 0
A37: San Juan 9 | B37: Bunker C | C37: 0 | D37: 0 | E37: =C37*D37 -> 0 | F37: 0 | G37: 0 | H37: =IF(F37,$E37/F37,0) -> 0 | I37: =IF(G37,$E37/G37,0) -> 0
A38: Total San Juan - Steam | C38: =SUM(C36:C37) -> 0 | E38: =SUM(E36:E37) -> 0 | F38: =SUM(F36:F37) -> 0 | G38: =SUM(G36:G37) -> 0 | H38: =IF(F38,$E38/F38,0) -> 0 | I38: =IF(G38,$E38/G38,0) -> 0

Sheet Palo Seco
A1: October 2024
A2: Unit | B2: Fuel type | C2: Fuel consumed (Barrels) | D2: Heating Value (Btu/Barrels) | E2: Btu | F2: Gross Generation (kWh) | G2: Net Generation (kWh) | H2: Gross Heat Rate (Btu/kWh) | I2: Net Heat Rate (Btu/kWh)
A3: Palo Seco 3 | B3: ULSD | C3: 102.05 | D3: 5781960 | E3: =C3*D3 -> 590049018 | F3: 108311000 | G3: 98938276 | H3: =($E3+$E4)/F3 -> 9293.622 | I3: =($E3+$E4)/G3 -> 10174.035
B4: Bunker C | C4: 160253 | D4: 6277645 | E4: =C4*D4 -> 1006011444185
A5: Palo Seco 4 | B5: ULSD | C5: 0 | D5: 0 | E5: =C5*D5 -> 0 | F5: 0 | G5: 0 | H5: =IF(F5,(E5+E6)/F5,0) -> 0 | I5: =IF(G5,($E5+$E6)/G5,0) -> 0
B6: Bunker C | C6: 0 | D6: 0 | E6: =C6*D6 -> 0
A7: Total Palo Seco - Steam | C7: =SUM(C3:C6) -> 160355.05 | E7: =SUM(E3:E6) -> 1006601493203 | F7: =SUM(F3:F6) -> 108311000 | G7: =SUM(G3:G6) -> 98938276 | H7: =$E7/F7 -> 9293.622 | I7: =$E7/G7 -> 10174.035
A9: November 2024
A10: Unit | B10: Fuel type | C10: Fuel consumed (Barrels) | D10: Heating Value (Btu/Barrels) | E10: Btu | F10: Gross Generation (kWh) | G10: Net Generation (kWh) | H10: Gross Heat Rate (Btu/kWh) | I10: Net Heat Rate (Btu/kWh)
A11: Palo Seco 3 | B11: ULSD | C11: 221.47 | D11: 5839516 | E11: =C11*D11 -> 1.2932776e+09 | F11: 87795000 | G11: 80441043 | H11: =($E11+$E12)/F11 -> 9658.518 | I11: =($E11+$E12)/G11 -> 10541.504
B12: Bunker C | C12: 134862 | D12: 6278094 | E12: =C12*D12 -> 846676313028
A13: Palo Seco 4 | B13: ULSD | C13: 0 | D13: 0 | E13: =C13*D13 -> 0 | F13: 0 | G13: 0 | H13: =IF(F13,(E13+E14)/F13,0) -> 0 | I13: =IF(G13,($E13+$E14)/G13,0) -> 0
B14: Bunker C | C14: 0 | D14: 0 | E14: =C14*D14 -> 0
A15: Total Palo Seco - Steam | C15: =SUM(C11:C14) -> 135083.47 | E15: =SUM(E11:E14) -> 8.4796959e+11 | F15: =SUM(F11:F14) -> 87795000 | G15: =SUM(G11:G14) -> 80441043 | H15: =$E15/F15 -> 9658.518 | I15: =$E15/G15 -> 10541.504
A17: December 2024
A18: Unit | B18: Fuel type | C18: Fuel consumed (Barrels) | D18: Heating Value (Btu/Barrels) | E18: Btu | F18: Gross Generation (kWh) | G18: Net Generation (kWh) | H18: Gross Heat Rate (Btu/kWh) | I18: Net Heat Rate (Btu/kWh)
A19: Palo Seco 3 | B19: ULSD | C19: 663.24 | D19: 5796530 | E19: =C19*D19 -> 3.8444906e+09 | F19: 88173000 | G19: 80167780 | H19: =($E19+$E20)/F19 -> 9403.1459 | I19: =($E19+$E20)/G19 -> 10342.105
B20: Bunker C | C20: 131642 | D20: 6268965 | E20: =C20*D20 -> 825259090530
A21: Palo Seco 4 | B21: ULSD | C21: 0 | D21: 0 | E21: =C21*D21 -> 0 | F21: 0 | G21: 0 | H21: =IF(F21,(E21+E22)/F21,0) -> 0 | I21: =IF(G21,($E21+$E22)/G21,0) -> 0
B22: Bunker C | C22: 0 | D22: 0 | E22: =C22*D22 -> 0
A23: Total Palo Seco - Steam | C23: =SUM(C19:C22) -> 132305.24 | E23: =SUM(E19:E22) -> 8.2910358e+11 | F23: =SUM(F19:F22) -> 88173000 | G23: =SUM(G19:G22) -> 80167780 | H23: =$E23/F23 -> 9403.1459 | I23: =$E23/G23 -> 10342.105

Sheet Costa Sur
A1: October 2024
A2: Unit | B2: Fuel type | C2: Fuel consumed (Barrels) | D2: Heating Value (Btu/Barrels) | E2: Btu | F2: Gross Generation (kWh) | G2: Net Generation (kWh) | H2: Gross Heat Rate (Btu/kWh) | I2: Net Heat Rate (Btu/kWh)
A3: Costa Sur 5 | B3: LNG | C3: 224594.25 | D3: 5800000 | E3: =C3*D3 -> 1302646650000 | F3: 151580000 | G3: 140640000 | H3: =IF(F3,($E3+$E4)/F3,0) -> 10944.692 | I3: =IF(G3,($E3+$E4)/G3,0) -> 11796.049
B4: Bunker C | C4: 56835.96 | D4: 6269793 | E4: =C4*D4 -> 3.563497e+11
A5: Costa Sur 6 | B5: LNG | C5: 191117.18 | D5: 5800000 | E5: =C5*D5 -> 1108479644000 | F5: 213740000 | G5: 198896000 | H5: =IF(F5,($E5+$E6)/F5,0) -> 10225.082 | I5: =IF(G5,($E5+$E6)/G5,0) -> 10988.2
B6: Bunker C | C6: 171780.7 | D6: 6269793 | E6: =C6*D6 -> 1.0770294e+12
A7: Total Costa Sur - Steam | C7: =SUM(C3:C6) -> 644328.09 | E7: =SUM(E3:E6) -> 3.8445054e+12 | F7: =SUM(F3:F6) -> 365320000 | G7: =SUM(G3:G6) -> 339536000 | H7: =$E7/F7 -> 10523.665 | I7: =$E7/G7 -> 11322.821
A9: November 2024
A10: Unit | B10: Fuel type | C10: Fuel consumed (Barrels) | D10: Heating Value (Btu/Barrels) | E10: Btu | F10: Gross Generation (kWh) | G10: Net Generation (kWh) | H10: Gross Heat Rate (Btu/kWh) | I10: Net Heat Rate (Btu/kWh)
A11: Costa Sur 5 | B11: LNG | C11: 296153.07 | D11: 5800000 | E11: =C11*D11 -> 1717687806000 | F11: 163590000 | G11: 151209950 | H11: =IF(F11,($E11+$E12)/F11,0) -> 10782.018 | I11: =IF(G11,($E11+$E12)/G11,0) -> 11664.776
B12: Bunker C | C12: 7384.2 | D12: 6248807.3 | E12: =C12*D12 -> 4.6142443e+10
A13: Costa Sur 6 | B13: LNG | C13: 259875.34 | D13: 5800000 | E13: =C13*D13 -> 1507276972000 | F13: 186850000 | G13: 172409550 | H13: =IF(F13,($E13+$E14)/F13,0) -> 10046.84 | I13: =IF(G13,($E13+$E14)/G13,0) -> 10888.33
B14: Bunker C | C14: 59207.32 | D14: 6248807.3 | E14: =C14*D14 -> 3.6997514e+11
A15: Total Costa Sur - Steam | C15: =SUM(C11:C14) -> 622619.93 | E15: =SUM(E11:E14) -> 3.6410824e+12 | F15: =SUM(F11:F14) -> 350440000 | G15: =SUM(G11:G14) -> 323619500 | H15: =$E15/F15 -> 10390.031 | I15: =$E15/G15 -> 11251.122
A17: December 2024
A18: Unit | B18: Fuel type | C18: Fuel consumed (Barrels) | D18: Heating Value (Btu/Barrels) | E18: Btu | F18: Gross Generation (kWh) | G18: Net Generation (kWh) | H18: Gross Heat Rate (Btu/kWh) | I18: Net Heat Rate (Btu/kWh)
A19: Costa Sur 5 | B19: LNG | C19: 221325.9 | D19: 5800000 | E19: =C19*D19 -> 1283690220000 | F19: 121740000 | G19: 111566100 | H19: =IF(F19,($E19+$E20)/F19,0) -> 11240.48 | I19: =IF(G19,($E19+$E20)/G19,0) -> 12265.518
B20: Bunker C | C20: 13518.45 | D20: 6267420 | E20: =C20*D20 -> 84725803899
A21: Costa Sur 6 | B21: LNG | C21: 133027.75 | D21: 5800000 | E21: =C21*D21 -> 771560950000 | F21: 188170000 | G21: 174026300 | H21: =IF(F21,($E21+$E22)/F21,0) -> 10177.629 | I21: =IF(G21,($E21+$E22)/G21,0) -> 11004.799
B22: Bunker C | C22: 182461.6 | D22: 6267420 | E22: =C22*D22 -> 1143563481072
A23: Total Costa Sur - Steam | C23: =SUM(C19:C22) -> 550333.7 | E23: =SUM(E19:E22) -> 3283540454971 | F23: =SUM(F19:F22) -> 309910000 | G23: =SUM(G19:G22) -> 285592400 | H23: =$E23/F23 -> 10595.142 | I23: =$E23/G23 -> 11497.296

Sheet Aguirre
A1: October 2024
A2: Unit | B2: Fuel type | C2: Fuel consumed (Barrels) | D2: Heating Value (Btu/Barrels) | E2: Btu | F2: Gross Generation (kWh) | G2: Net Generation (kWh) | H2: Gross Heat Rate (Btu/kWh) | I2: Net Heat Rate (Btu/kWh)
A3: Aguirre 1 | B3: ULSD | C3: 625.91 | D3: 5801388 | E3: =C3*D3 -> 3.6311468e+09 | F3: 112265000 | G3: 100744841 | H3: =IF(F3,($E3+$E4)/F3,0) -> 11122.238 | I3: =IF(G3,($E3+$E4)/G3,0) -> 12394.064
B4: Bunker C | C4: 200009.14 | D4: 6224750 | E4: =C4*D4 -> 1245006894215
A5: Aguirre 2 | B5: ULSD | C5: 0 | D5: 0 | E5: =C5*D5 -> 0 | F5: 0 | G5: 0 | H5: =IF(F5,(E5+E6)/F5,0) -> 0 | I5: =IF(G5,($E5+$E6)/G5,0) -> 0
B6: Bunker C | C6: 0 | D6: 0 | E6: =C6*D6 -> 0
A7: Total Aguirre - Steam | C7: =SUM(C3:C6) -> 200635.05 | E7: =SUM(E3:E6) -> 1.248638e+12 | F7: =SUM(F3:F6) -> 112265000 | G7: =SUM(G3:G6) -> 100744841 | H7: =$E7/F7 -> 11122.238 | I7: =$E7/G7 -> 12394.064
A9: November 2024
A10: Unit | B10: Fuel type | C10: Fuel consumed (Barrels) | D10: Heating Value (Btu/Barrels) | E10: Btu | F10: Gross Generation (kWh) | G10: Net Generation (kWh) | H10: Gross Heat Rate (Btu/kWh) | I10: Net Heat Rate (Btu/kWh)
A11: Aguirre 1 | B11: ULSD | C11: 1040.71 | D11: 5802494 | E11: =C11*D11 -> 6.0387135e+09 | F11: 137990000 | G11: 126451403 | H11: =IF(F11,($E11+$E12)/F11,0) -> 10856.01 | I11: =IF(G11,($E11+$E12)/G11,0) -> 11846.612
B12: Bunker C | C12: 238487.95 | D12: 6256006 | E12: =C12*D12 -> 1.491982e+12
A13: Aguirre 2 | B13: ULSD | C13: 0 | D13: 0 | E13: =C13*D13 -> 0 | F13: 0 | G13: 0 | H13: =IF(F13,(E13+E14)/F13,0) -> 0 | I13: =IF(G13,($E13+$E14)/G13,0) -> 0
B14: Bunker C | C14: 0 | D14: 0 | E14: =C14*D14 -> 0
A15: Total Aguirre - Steam | C15: =SUM(C11:C14) -> 239528.66 | E15: =SUM(E11:E14) -> 1.4980208e+12 | F15: =SUM(F11:F14) -> 137990000 | G15: =SUM(G11:G14) -> 126451403 | H15: =$E15/F15 -> 10856.01 | I15: =$E15/G15 -> 11846.612
A17: December 2024
A18: Unit | B18: Fuel type | C18: Fuel consumed (Barrels) | D18: Heating Value (Btu/Barrels) | E18: Btu | F18: Gross Generation (kWh) | G18: Net Generation (kWh) | H18: Gross Heat Rate (Btu/kWh) | I18: Net Heat Rate (Btu/kWh)
A19: Aguirre 1 | B19: ULSD | C19: 0 | D19: 0 | E19: =C19*D19 -> 0 | F19: 0 | G19: 0 | H19: =IF(F19,($E19+$E20)/F19,0) -> 0 | I19: =IF(G19,($E19+$E20)/G19,0) -> 0
B20: Bunker C | C20: 0 | D20: 0 | E20: =C20*D20 -> 0
A21: Aguirre 2 | B21: ULSD | C21: 0 | D21: 0 | E21: =C21*D21 -> 0 | F21: 0 | G21: 0 | H21: =IF(F21,(E21+E22)/F21,0) -> 0 | I21: =IF(G21,($E21+$E22)/G21,0) -> 0
B22: Bunker C | C22: 0 | D22: 0 | E22: =C22*D22 -> 0
A23: Total Aguirre - Steam | C23: =SUM(C19:C22) -> 0 | E23: =SUM(E19:E22) -> 0 | F23: =SUM(F19:F22) -> 0 | G23: =SUM(G19:G22) -> 0 | H23: =IF(F23,$E23/F23,0) -> 0 | I23: =IF(G23,$E23/G23,0) -> 0

Sheet Aguirre CC
A1: October 2024
A2: Unit | B2: Fuel type | C2: Fuel consumed (Barrels) | D2: Heating Value (Btu/Barrels) | E2: Btu | F2: Gross Generation (kWh) | G2: Net Generation (kWh) | H2: Gross Heat Rate (Btu/kWh) | I2: Net Heat Rate (Btu/kWh)
A3: V-1 | B3: ULSD | C3: 0 | D3: 0 | E3: =C3*D3 -> 0 | F3: 16366000 | G3: 13380892 | H3: =IF(F3,($E3)/F3,0) -> 0 | I3: =IF(G3,($E3)/G3,0) -> 0
A4: 1-1 | B4: ULSD | C4: 55222.43 | D4: 5801388 | E4: =C4*D4 -> 3.2036674e+11 | F4: 24588000 | G4: 24489648 | H4: =IF(F4,($E4)/F4,0) -> 13029.394 | I4: =IF(G4,($E4)/G4,0) -> 13081.721
A5: 1-2 | B5: ULSD | C5: 75322.3 | D5: 5801388 | E5: =C5*D5 -> 4.3697389e+11 | F5: 30811000 | G5: 30687756 | H5: =IF(F5,($E5)/F5,0) -> 14182.399 | I5: =IF(G5,($E5)/G5,0) -> 14239.356
A6: 1-3 | B6: ULSD | C6: 0 | D6: 0 | E6: =C6*D6 -> 0 | F6: 0 | G6: 0 | H6: =IF(F6,($E6)/F6,0) -> 0 | I6: =IF(G6,($E6)/G6,0) -> 0
A7: 1-4 | B7: ULSD | C7: 35200.8 | D7: 5801388 | E7: =C7*D7 -> 2.042135e+11 | F7: 13824000 | G7: 13768704 | H7: =IF(F7,($E7)/F7,0) -> 14772.389 | I7: =IF(G7,($E7)/G7,0) -> 14831.715
A8: V-2 | B8: ULSD | C8: 0 | D8: 0 | E8: =C8*D8 -> 0 | F8: 0 | G8: 0 | H8: =IF(F8,($E8)/F8,0) -> 0 | I8: =IF(G8,($E8)/G8,0) -> 0
A9: 2-1 | B9: ULSD | C9: 26222.36 | D9: 5801388 | E9: =C9*D9 -> 1.5212608e+11 | F9: 10357000 | G9: 10315572 | H9: =IF(F9,($E9)/F9,0) -> 14688.238 | I9: =IF(G9,($E9)/G9,0) -> 14747.227
A10: 2-2 | B10: ULSD | C10: 141.63 | D10: 5801388 | E10: =C10*D10 -> 8.2165058e+08 | F10: 3000 | G10: 2988 | H10: =IF(F10,($E10)/F10,0) -> 273883.53 | I10: =IF(G10,($E10)/G10,0) -> 274983.46
A11: 2-3 | B11: ULSD | C11: 0 | D11: 0 | E11: =C11*D11 -> 0 | F11: 0 | G11: 0 | H11: =IF(F11,($E11)/F11,0) -> 0 | I11: =IF(G11,($E11)/G11,0) -> 0
A12: 2-4 | B12: ULSD | C12: 35381.5 | D12: 5801388 | E12: =C12*D12 -> 205261809522 | F12: 13981000 | G12: 13925076 | H12: =IF(F12,($E12)/F12,0) -> 14681.483 | I12: =IF(G12,($E12)/G12,0) -> 14740.444
A13: Total Aguirre CC | C13: =SUM(C3:C12) -> 227491.02 | E13: =SUM(E3:E12) -> 1.3197637e+12 | F13: =SUM(F3:F12) -> 109930000 | G13: =SUM(G3:G12) -> 106570636 | H13: =$E13/F13 -> 12005.491 | I13: =$E13/G13 -> 12383.934
A15: November 2024
A16: Unit | B16: Fuel type | C16: Fuel consumed (Barrels) | D16: Heating Value (Btu/Barrels) | E16: Btu | F16: Gross Generation (kWh) | G16: Net Generation (kWh) | H16: Gross Heat Rate (Btu/kWh) | I16: Net Heat Rate (Btu/kWh)
A17: V-1 | B17: ULSD | C17: 0 | D17: 0 | E17: =C17*D17 -> 0 | F17: 4435000 | G17: 2918136 | H17: =IF(F17,($E17)/F17,0) -> 0 | I17: =IF(G17,($E17)/G17,0) -> 0
A18: 1-1 | B18: ULSD | C18: 33354.18 | D18: 5801388 | E18: =C18*D18 -> 1.9350054e+11 | F18: 14076000 | G18: 14019696 | H18: =IF(F18,($E18)/F18,0) -> 13746.841 | I18: =IF(G18,($E18)/G18,0) -> 13802.05
A19: 1-2 | B19: ULSD | C19: 26042.96 | D19: 5801388 | E19: =C19*D19 -> 1.5108532e+11 | F19: 10253000 | G19: 10211988 | H19: =IF(F19,($E19)/F19,0) -> 14735.718 | I19: =IF(G19,($E19)/G19,0) -> 14794.897
A20: 1-3 | B20: ULSD | C20: 0 | D20: 0 | E20: =C20*D20 -> 0 | F20: 0 | G20: 0 | H20: =IF(F20,($E20)/F20,0) -> 0 | I20: =IF(G20,($E20)/G20,0) -> 0
A21: 1-4 | B21: ULSD | C21: 13004.46 | D21: 5801388 | E21: =C21*D21 -> 7.5443918e+10 | F21: 4955000 | G21: 4935180 | H21: =IF(F21,($E21)/F21,0) -> 15225.816 | I21: =IF(G21,($E21)/G21,0) -> 15286.964
A22: V-2 | B22: ULSD | C22: 0 | D22: 0 | E22: =C22*D22 -> 0 | F22: 0 | G22: 0 | H22: =IF(F22,($E22)/F22,0) -> 0 | I22: =IF(G22,($E22)/G22,0) -> 0
A23: 2-1 | B23: ULSD | C23: 8945.48 | D23: 5801388 | E23: =C23*D23 -> 5.18962e+10 | F23: 3354000 | G23: 3340584 | H23: =IF(F23,($E23)/F23,0) -> 15472.928 | I23: =IF(G23,($E23)/G23,0) -> 15535.068
A24: 2-2 | B24: ULSD | C24: 0 | D24: 0 | E24: =C24*D24 -> 0 | F24: 0 | G24: 0 | H24: =IF(F24,($E24)/F24,0) -> 0 | I24: =IF(G24,($E24)/G24,0) -> 0
A25: 2-3 | B25: ULSD | C25: 0 | D25: 0 | E25: =C25*D25 -> 0 | F25: 0 | G25: 0 | H25: =IF(F25,($E25)/F25,0) -> 0 | I25: =IF(G25,($E25)/G25,0) -> 0
A26: 2-4 | B26: ULSD | C26: 11734.1 | D26: 5801388 | E26: =C26*D26 -> 6.8074067e+10 | F26: 4477000 | G26: 4459092 | H26: =IF(F26,($E26)/F26,0) -> 15205.286 | I26: =IF(G26,($E26)/G26,0) -> 15266.352
A27: Total Aguirre CC | C27: =SUM(C17:C26) -> 93081.18 | E27: =SUM(E17:E26) -> 5.4000004e+11 | F27: =SUM(F17:F26) -> 41550000 | G27: =SUM(G17:G26) -> 39884676 | H27: =$E27/F27 -> 12996.391 | I27: =$E27/G27 -> 13539.035
A29: December 2024
A30: Unit | B30: Fuel type | C30: Fuel consumed (Barrels) | D30: Heating Value (Btu/Barrels) | E30: Btu | F30: Gross Generation (kWh) | G30: Net Generation (kWh) | H30: Gross Heat Rate (Btu/kWh) | I30: Net Heat Rate (Btu/kWh)
A31: V-1 | B31: ULSD | C31: 0 | D31: 0 | E31: =C31*D31 -> 0 | F31: 8301000 | G31: 6903004 | H31: =IF(F31,($E31)/F31,0) -> 0 | I31: =IF(G31,($E31)/G31,0) -> 0
A32: 1-1 | B32: ULSD | C32: 43640.87 | D32: 5793472 | E32: =C32*D32 -> 2.5283216e+11 | F32: 18258000 | G32: 17242000 | H32: =IF(F32,($E32)/F32,0) -> 13847.747 | I32: =IF(G32,($E32)/G32,0) -> 14663.737
A33: 1-2 | B33: ULSD | C33: 40434.97 | D33: 5793472 | E33: =C33*D33 -> 2.3425887e+11 | F33: 17242000 | G33: 17173032 | H33: =IF(F33,($E33)/F33,0) -> 13586.525 | I33: =IF(G33,($E33)/G33,0) -> 13641.09
A34: 1-3 | B34: ULSD | C34: 0 | D34: 0 | E34: =C34*D34 -> 0 | F34: 0 | G34: 0 | H34: =IF(F34,($E34)/F34,0) -> 0 | I34: =IF(G34,($E34)/G34,0) -> 0
A35: 1-4 | B35: ULSD | C35: 17298.76 | D35: 5793472 | E35: =C35*D35 -> 1.0021988e+11 | F35: 6501000 | G35: 6474996 | H35: =IF(F35,($E35)/F35,0) -> 15416.072 | I35: =IF(G35,($E35)/G35,0) -> 15477.984
A36: V-2 | B36: ULSD | C36: 0 | D36: 0 | E36: =C36*D36 -> 0 | F36: 0 | G36: 0 | H36: =IF(F36,($E36)/F36,0) -> 0 | I36: =IF(G36,($E36)/G36,0) -> 0
A37: 2-1 | B37: ULSD | C37: 11700.8 | D37: 5793472 | E37: =C37*D37 -> 6.7788257e+10 | F37: 4295000 | G37: 4277820 | H37: =IF(F37,($E37)/F37,0) -> 15783.063 | I37: =IF(G37,($E37)/G37,0) -> 15846.449
A38: 2-2 | B38: ULSD | C38: 1826.05 | D38: 5793472 | E38: =C38*D38 -> 1.057917e+10 | F38: 671000 | G38: 668316 | H38: =IF(F38,($E38)/F38,0) -> 15766.274 | I38: =IF(G38,($E38)/G38,0) -> 15829.592
A39: 2-3 | B39: ULSD | C39: 0 | D39: 0 | E39: =C39*D39 -> 0 | F39: 0 | G39: 0 | H39: =IF(F39,($E39)/F39,0) -> 0 | I39: =IF(G39,($E39)/G39,0) -> 0
A40: 2-4 | B40: ULSD | C40: 18067.24 | D40: 5793472 | E40: =C40*D40 -> 1.0467205e+11 | F40: 6506000 | G40: 6479976 | H40: =IF(F40,($E40)/F40,0) -> 16088.541 | I40: =IF(G40,($E40)/G40,0) -> 16153.154
A41: Total Aguirre CC | C41: =SUM(C31:C40) -> 132968.69 | E41: =SUM(E31:E40) -> 7.7035038e+11 | F41: =SUM(F31:F40) -> 61774000 | G41: =SUM(G31:G40) -> 59219144 | H41: =$E41/F41 -> 12470.463 | I41: =$E41/G41 -> 13008.469

Sheet Cambalache
A1: October 2024
A2: Unit | B2: Fuel type | C2: Fuel consumed (Barrels) | D2: Heating Value (Btu/Barrels) | E2: Btu | F2: Gross Generation (kWh) | G2: Net Generation (kWh) | H2: Gross Heat Rate (Btu/kWh) | I2: Net Heat Rate (Btu/kWh)
A3: Cambalache 2 | B3: ULSD | C3: 51994.16 | D3: 5827987 | E3: =C3*D3 -> 3.0302129e+11 | F3: 24574000 | G3: 24310543 | H3: =IF(F3,($E3)/F3,0) -> 12330.971 | I3: =IF(G3,($E3)/G3,0) -> 12464.604
A4: Cambalache 3 | B4: ULSD | C4: 51733.92 | D4: 5827987 | E4: =C4*D4 -> 3.0150461e+11 | F4: 24451000 | G4: 24184077 | H4: =IF(F4,($E4)/F4,0) -> 12330.973 | I4: =IF(G4,($E4)/G4,0) -> 12467.071
A5: Total Cambalache - Gas | C5: =SUM(C3:C4) -> 103728.08 | E5: =SUM(E3:E4) -> 6.045259e+11 | F5: =SUM(F3:F4) -> 49025000 | G5: =SUM(G3:G4) -> 48494620 | H5: =$E5/F5 -> 12330.972 | I5: =$E5/G5 -> 12465.834
A7: November 2024
A8: Unit | B8: Fuel type | C8: Fuel consumed (Barrels) | D8: Heating Value (Btu/Barrels) | E8: Btu | F8: Gross Generation (kWh) | G8: Net Generation (kWh) | H8: Gross Heat Rate (Btu/kWh) | I8: Net Heat Rate (Btu/kWh)
A9: Cambalache 2 | B9: ULSD | C9: 12384.98 | D9: 5817246 | E9: =C9*D9 -> 7.2046475e+10 | F9: 5456000 | G9: 5337968 | H9: =IF(F9,($E9)/F9,0) -> 13204.999 | I9: =IF(G9,($E9)/G9,0) -> 13496.985
A10: Cambalache 3 | B10: ULSD | C10: 18611.52 | D10: 5817246 | E10: =C10*D10 -> 1.0826779e+11 | F10: 8199000 | G10: 8043702 | H10: =IF(F10,($E10)/F10,0) -> 13204.999 | I10: =IF(G10,($E10)/G10,0) -> 13459.945
A11: Total Cambalache - Gas | C11: =SUM(C9:C10) -> 30996.5 | E11: =SUM(E9:E10) -> 180314265639 | F11: =SUM(F9:F10) -> 13655000 | G11: =SUM(G9:G10) -> 13381670 | H11: =$E11/F11 -> 13204.999 | I11: =$E11/G11 -> 13474.721
A13: December 2024
A14: Unit | B14: Fuel type | C14: Fuel consumed (Barrels) | D14: Heating Value (Btu/Barrels) | E14: Btu | F14: Gross Generation (kWh) | G14: Net Generation (kWh) | H14: Gross Heat Rate (Btu/kWh) | I14: Net Heat Rate (Btu/kWh)
A15: Cambalache 2 | B15: ULSD | C15: 37836.88 | D15: 5829758 | E15: =C15*D15 -> 2.2057985e+11 | F15: 17258000 | G15: 17047687 | H15: =IF(F15,($E15)/F15,0) -> 12781.31 | I15: =IF(G15,($E15)/G15,0) -> 12938.99
A16: Cambalache 3 | B16: ULSD | C16: 31614.78 | D16: 5829758 | E16: =C16*D16 -> 1.8430652e+11 | F16: 14420000 | G16: 14231333 | H16: =IF(F16,($E16)/F16,0) -> 12781.312 | I16: =IF(G16,($E16)/G16,0) -> 12950.756
A17: Total Cambalache - Gas | C17: =SUM(C15:C16) -> 69451.66 | E17: =SUM(E15:E16) -> 4.0488637e+11 | F17: =SUM(F15:F16) -> 31678000 | G17: =SUM(G15:G16) -> 31279020 | H17: =$E17/F17 -> 12781.311 | I17: =$E17/G17 -> 12944.343

Sheet Mayaguez
A1: October 2024
A2: Unit | B2: Fuel type | C2: Fuel consumed (Barrels) | D2: Heating Value (Btu/Barrels) | E2: Btu | F2: Gross Generation (kWh) | G2: Net Generation (kWh) | H2: Gross Heat Rate (Btu/kWh) | I2: Net Heat Rate (Btu/kWh)
A3: Mayaguez 1 | B3: ULSD | C3: 33915.34 | D3: 5492845 | E3: =C3*D3 -> 1.8629171e+11 | F3: 17811800 | G3: 17790426 | H3: =IF(F3,($E3)/F3,0) -> 10458.893 | I3: =IF(G3,($E3)/G3,0) -> 10471.458
A4: Mayaguez 2 | B4: ULSD | C4: 32518.66 | D4: 5492845 | E4: =C4*D4 -> 1.7861996e+11 | F4: 17071000 | G4: 17050515 | H4: =IF(F4,($E4)/F4,0) -> 10463.357 | I4: =IF(G4,($E4)/G4,0) -> 10475.928
A5: Mayaguez 3 | B5: ULSD | C5: 10525.02 | D5: 5492845 | E5: =C5*D5 -> 5.7812303e+10 | F5: 5709000 | G5: 5702149 | H5: =IF(F5,($E5)/F5,0) -> 10126.52 | I5: =IF(G5,($E5)/G5,0) -> 10138.687
A6: Mayaguez 4 | B6: ULSD | C6: 14108.18 | D6: 5492845 | E6: =C6*D6 -> 7.7494046e+10 | F6: 7749900 | G6: 7740600 | H6: =IF(F6,($E6)/F6,0) -> 9999.3608 | I6: =IF(G6,($E6)/G6,0) -> 10011.375
A7: Total Mayaguez - Gas | C7: =SUM(C3:C6) -> 91067.2 | E7: =SUM(E3:E6) -> 500218014184 | F7: =SUM(F3:F6) -> 48341700 | G7: =SUM(G3:G6) -> 48283690 | H7: =$E7/F7 -> 10347.547 | I7: =$E7/G7 -> 10359.979
A9: November 2024
A10: Unit | B10: Fuel type | C10: Fuel consumed (Barrels) | D10: Heating Value (Btu/Barrels) | E10: Btu | F10: Gross Generation (kWh) | G10: Net Generation (kWh) | H10: Gross Heat Rate (Btu/kWh) | I10: Net Heat Rate (Btu/kWh)
A11: Mayaguez 1 | B11: ULSD | C11: 24849.69 | D11: 5800000 | E11: =C11*D11 -> 144128202000 | F11: 13070200 | G11: 13054516 | H11: =IF(F11,($E11)/F11,0) -> 11027.238 | I11: =IF(G11,($E11)/G11,0) -> 11040.486
A12: Mayaguez 2 | B12: ULSD | C12: 19819.27 | D12: 5800000 | E12: =C12*D12 -> 114951766000 | F12: 10333700 | G12: 10321300 | H12: =IF(F12,($E12)/F12,0) -> 11123.97 | I12: =IF(G12,($E12)/G12,0) -> 11137.334
A13: Mayaguez 3 | B13: ULSD | C13: 8516.16 | D13: 5800000 | E13: =C13*D13 -> 49393728000 | F13: 4488100 | G13: 4482714 | H13: =IF(F13,($E13)/F13,0) -> 11005.487 | I13: =IF(G13,($E13)/G13,0) -> 11018.711
A14: Mayaguez 4 | B14: ULSD | C14: 7903.19 | D14: 5800000 | E14: =C14*D14 -> 45838502000 | F14: 4355900 | G14: 4350673 | H14: =IF(F14,($E14)/F14,0) -> 10523.314 | I14: =IF(G14,($E14)/G14,0) -> 10535.957
A15: Total Mayaguez - Gas | C15: =SUM(C11:C14) -> 61088.31 | E15: =SUM(E11:E14) -> 354312198000 | F15: =SUM(F11:F14) -> 32247900 | G15: =SUM(G11:G14) -> 32209203 | H15: =$E15/F15 -> 10987.14 | I15: =$E15/G15 -> 11000.34
A17: December 2024
A18: Unit | B18: Fuel type | C18: Fuel consumed (Barrels) | D18: Heating Value (Btu/Barrels) | E18: Btu | F18: Gross Generation (kWh) | G18: Net Generation (kWh) | H18: Gross Heat Rate (Btu/kWh) | I18: Net Heat Rate (Btu/kWh)
A19: Mayaguez 1 | B19: ULSD | C19: 32333.9 | D19: 5800000 | E19: =C19*D19 -> 187536620000 | F19: 17012800 | G19: 16992385 | H19: =IF(F19,($E19)/F19,0) -> 11023.266 | I19: =IF(G19,($E19)/G19,0) -> 11036.51
A20: Mayaguez 2 | B20: ULSD | C20: 23873.16 | D20: 5800000 | E20: =C20*D20 -> 138464328000 | F20: 12839100 | G20: 12823693 | H20: =IF(F20,($E20)/F20,0) -> 10784.582 | I20: =IF(G20,($E20)/G20,0) -> 10797.539
A21: Mayaguez 3 | B21: ULSD | C21: 10676.25 | D21: 5800000 | E21: =C21*D21 -> 61922250000 | F21: 5560000 | G21: 5553328 | H21: =IF(F21,($E21)/F21,0) -> 11137.095 | I21: =IF(G21,($E21)/G21,0) -> 11150.476
A22: Mayaguez 4 | B22: ULSD | C22: 12515.54 | D22: 5800000 | E22: =C22*D22 -> 72590132000 | F22: 6866000 | G22: 6857761 | H22: =IF(F22,($E22)/F22,0) -> 10572.405 | I22: =IF(G22,($E22)/G22,0) -> 10585.107
A23: Total Mayaguez - Gas | C23: =SUM(C19:C22) -> 79398.85 | E23: =SUM(E19:E22) -> 460513330000 | F23: =SUM(F19:F22) -> 42277900 | G23: =SUM(G19:G22) -> 42227167 | H23: =$E23/F23 -> 10892.531 | I23: =$E23/G23 -> 10905.617

Sheet Peakers
A1: October 2024
A2: Unit | B2: Fuel type | C2: Fuel consumed (Barrels) | D2: Heating Value (Btu/Barrels) | E2: Btu | F2: Gross Generation (kWh) | G2: Net Generation (kWh) | H2: Gross Heat Rate (Btu/kWh) | I2: Net Heat Rate (Btu/kWh)
A3: Aguirre 2-1 | B3: ULSD | C3: 0 | D3: 0 | E3: =C3*D3 -> 0 | F3: 0 | G3: 0 | H3: =IF(F3,($E3)/F3,0) -> 0 | I3: =IF(G3,($E3)/G3,0) -> 0
A4: Aguirre 2-2 | B4: ULSD | C4: 0 | D4: 0 | E4: =C4*D4 -> 0 | F4: 0 | G4: 0 | H4: =IF(F4,($E4)/F4,0) -> 0 | I4: =IF(G4,($E4)/G4,0) -> 0
A5: Total Aguirre - Gas | B5: ULSD | C5: =SUM(C3:C4) -> 0 | E5: =SUM(E3:E4) -> 0 | F5: =SUM(F3:F4) -> 0 | G5: =SUM(G3:G4) -> 0 | H5: =IF(F5,($E5)/F5,0) -> 0 | I5: =IF(G5,($E5)/G5,0) -> 0
A6: Costa Sur 1-1 | B6: ULSD | C6: 0 | D6: 0 | E6: =C6*D6 -> 0 | F6: 0 | G6: 0 | H6: =IF(F6,($E6)/F6,0) -> 0 | I6: =IF(G6,($E6)/G6,0) -> 0
A7: Costa Sur 1-2 | B7: ULSD | C7: 2033.1 | D7: 5730795 | E7: =C7*D7 -> 1.1651279e+10 | F7: 852000 | G7: 851148 | H7: =IF(F7,($E7)/F7,0) -> 13675.21 | I7: =IF(G7,($E7)/G7,0) -> 13688.899
A8: Total Costa Sur - Gas | B8: ULSD | C8: =SUM(C6:C7) -> 2033.1 | E8: =SUM(E6:E7) -> 1.1651279e+10 | F8: =SUM(F6:F7) -> 852000 | G8: =SUM(G6:G7) -> 851148 | H8: =IF(F8,($E8)/F8,0) -> 13675.21 | I8: =IF(G8,($E8)/G8,0) -> 13688.899
A9: Daguao 1-1 | B9: ULSD | C9: 7362.36 | D9: 5778518.6 | E9: =C9*D9 -> 4.2543534e+10 | F9: 2744000 | G9: 2741256 | H9: =IF(F9,($E9)/F9,0) -> 15504.203 | I9: =IF(G9,($E9)/G9,0) -> 15519.723
A10: Daguao 1-2 | B10: ULSD | C10: 0 | D10: 0 | E10: =C10*D10 -> 0 | F10: 0 | G10: 0 | H10: =IF(F10,($E10)/F10,0) -> 0 | I10: =IF(G10,($E10)/G10,0) -> 0
A11: Total Daguao - Gas | B11: ULSD | C11: =SUM(C9:C10) -> 7362.36 | E11: =SUM(E9:E10) -> 4.2543534e+10 | F11: =SUM(F9:F10) -> 2744000 | G11: =SUM(G9:G10) -> 2741256 | H11: =IF(F11,($E11)/F11,0) -> 15504.203 | I11: =IF(G11,($E11)/G11,0) -> 15519.723
A12: Jobos 1-1 | B12: ULSD | C12: 0 | D12: 0 | E12: =C12*D12 -> 0 | F12: 0 | G12: 0 | H12: =IF(F12,($E12)/F12,0) -> 0 | I12: =IF(G12,($E12)/G12,0) -> 0
A13: Jobos 1-2 | B13: ULSD | C13: 6643.35 | D13: 5800000 | E13: =C13*D13 -> 38531430000 | F13: 2631000 | G13: 2628369 | H13: =IF(F13,($E13)/F13,0) -> 14645.165 | I13: =IF(G13,($E13)/G13,0) -> 14659.825
A14: Total Jobos - Gas | B14: ULSD | C14: =SUM(C12:C13) -> 6643.35 | E14: =SUM(E12:E13) -> 38531430000 | F14: =SUM(F12:F13) -> 2631000 | G14: =SUM(G12:G13) -> 2628369 | H14: =IF(F14,($E14)/F14,0) -> 14645.165 | I14: =IF(G14,($E14)/G14,0) -> 14659.825
A15: Palo Seco 1-1 | B15: ULSD | C15: 11927.44 | D15: 5723550 | E15: =C15*D15 -> 68267299212 | F15: 4414000 | G15: 4409586 | H15: =IF(F15,($E15)/F15,0) -> 15466.085 | I15: =IF(G15,($E15)/G15,0) -> 15481.567
A16: Palo Seco 1-2 | B16: ULSD | C16: 11361.49 | D16: 5723550 | E16: =C16*D16 -> 6.5028056e+10 | F16: 4206000 | G16: 4201794 | H16: =IF(F16,($E16)/F16,0) -> 15460.784 | I16: =IF(G16,($E16)/G16,0) -> 15476.26
A17: Palo Seco 2-1 | B17: ULSD | C17: 11681.28 | D17: 5723550 | E17: =C17*D17 -> 66858390144 | F17: 4482000 | G17: 4477518 | H17: =IF(F17,($E17)/F17,0) -> 14917.088 | I17: =IF(G17,($E17)/G17,0) -> 14932.02
A18: Total Palo Seco - Gas | B18: ULSD | C18: =SUM(C15:C17) -> 34970.21 | E18: =SUM(E15:E17) -> 2.0015375e+11 | F18: =SUM(F15:F17) -> 13102000 | G18: =SUM(G15:G17) -> 13088898 | H18: =IF(F18,($E18)/F18,0) -> 15276.58 | I18: =IF(G18,($E18)/G18,0) -> 15291.871
A19: Palo Seco Mobile Pack 1 | B19: ULSD | C19: 8275.62 | D19: 5723550 | E19: =C19*D19 -> 4.7365925e+10 | F19: 4513000 | G19: 4511000 | H19: =IF(F19,($E19)/F19,0) -> 10495.441 | I19: =IF(G19,($E19)/G19,0) -> 10500.094
A20: Palo Seco Mobile Pack 2 | B20: ULSD | C20: 8183.48 | D20: 5723550 | E20: =C20*D20 -> 46838556954 | F20: 4544000 | G20: 4542000 | H20: =IF(F20,($E20)/F20,0) -> 10307.781 | I20: =IF(G20,($E20)/G20,0) -> 10312.32
A21: Palo Seco Mobile Pack 3 | B21: ULSD | C21: 8357.01 | D21: 5723550 | E21: =C21*D21 -> 4.7831765e+10 | F21: 4603000 | G21: 4600000 | H21: =IF(F21,($E21)/F21,0) -> 10391.433 | I21: =IF(G21,($E21)/G21,0) -> 10398.21
A22: Total Palo Seco MPs - Gas | B22: ULSD | C22: =SUM(C19:C21) -> 24816.11 | E22: =SUM(E19:E21) -> 1.4203625e+11 | F22: =SUM(F19:F21) -> 13660000 | G22: =SUM(G19:G21) -> 13653000 | H22: =IF(F22,($E22)/F22,0) -> 10397.968 | I22: =IF(G22,($E22)/G22,0) -> 10403.299
A23: Yabucoa 1-1 | B23: ULSD | C23: 0 | D23: 0 | E23: =C23*D23 -> 0 | F23: 0 | G23: 0 | H23: =IF(F23,($E23)/F23,0) -> 0 | I23: =IF(G23,($E23)/G23,0) -> 0
A24: Yabucoa 1-2 | B24: ULSD | C24: 3824.26 | D24: 5527948.2 | E24: =C24*D24 -> 2.1140311e+10 | F24: 1316000 | G24: 1314684 | H24: =IF(F24,($E24)/F24,0) -> 16064.066 | I24: =IF(G24,($E24)/G24,0) -> 16080.146
A25: Total Yabucoa - Gas | B25: ULSD | C25: =SUM(C23:C24) -> 3824.26 | E25: =SUM(E23:E24) -> 2.1140311e+10 | F25: =SUM(F23:F24) -> 1316000 | G25: =SUM(G23:G24) -> 1314684 | H25: =IF(F25,($E25)/F25,0) -> 16064.066 | I25: =IF(G25,($E25)/G25,0) -> 16080.146
A26: Vieques - Diesel | B26: ULSD | C26: 13.49 | D26: 0 | E26: 0 | F26: 0 | G26: 0 | H26: =IF(F26,($E26)/F26,0) -> 0 | I26: =IF(G26,($E26)/G26,0) -> 0
A27: Culebra - Diesel | B27: ULSD | C27: 34.21 | D27: 0 | E27: 0 | F27: 15 | G27: 14.55 | H27: =IF(F27,($E27)/F27,0) -> 0 | I27: =IF(G27,($E27)/G27,0) -> 0
A28: Total Peakers | B28: ULSD | C28: =SUM(C5,C8,C11,C14,C18,C22,C25,C26,C27) -> 79697.09 | E28: =SUM(E5,E8,E11,E14,E18,E22,E25,E26,E27) -> 4.5605655e+11 | F28: =SUM(F5,F8,F11,F14,F18,F22,F25,F26,F27) -> 34305015 | G28: =SUM(G5,G8,G11,G14,G18,G22,G25,G26,G27) -> 34277370 | H28: =IF(F28,($E28)/F28,0) -> 13294.165 | I28: =IF(G28,($E28)/G28,0) -> 13304.888
A30: November 2024
A31: Unit | B31: Fuel type | C31: Fuel consumed (Barrels) | D31: Heating Value (Btu/Barrels) | E31: Btu | F31: Gross Generation (kWh) | G31: Net Generation (kWh) | H31: Gross Heat Rate (Btu/kWh) | I31: Net Heat Rate (Btu/kWh)
A32: Aguirre 2-1 | B32: ULSD | C32: 0 | D32: 0 | E32: =C32*D32 -> 0 | F32: 0 | G32: 0 | H32: =IF(F32,($E32)/F32,0) -> 0 | I32: =IF(G32,($E32)/G32,0) -> 0
A33: Aguirre 2-2 | B33: ULSD | C33: 0 | D33: 0 | E33: =C33*D33 -> 0 | F33: 0 | G33: 0 | H33: =IF(F33,($E33)/F33,0) -> 0 | I33: =IF(G33,($E33)/G33,0) -> 0
A34: Total Aguirre - Gas | B34: ULSD | C34: =SUM(C32:C33) -> 0 | E34: =SUM(E32:E33) -> 0 | F34: =SUM(F32:F33) -> 0 | G34: =SUM(G32:G33) -> 0 | H34: =IF(F34,($E34)/F34,0) -> 0 | I34: =IF(G34,($E34)/G34,0) -> 0
A35: Costa Sur 1-1 | B35: ULSD | C35: 0 | D35: 0 | E35: =C35*D35 -> 0 | F35: 0 | G35: 0 | H35: =IF(F35,($E35)/F35,0) -> 0 | I35: =IF(G35,($E35)/G35,0) -> 0
A36: Costa Sur 1-2 | B36: ULSD | C36: 324.52 | D36: 5730795 | E36: =C36*D36 -> 1.8597576e+09 | F36: 120000 | G36: 119880 | H36: =IF(F36,($E36)/F36,0) -> 15497.98 | I36: =IF(G36,($E36)/G36,0) -> 15513.493
A37: Total Costa Sur - Gas | B37: ULSD | C37: =SUM(C35:C36) -> 324.52 | E37: =SUM(E35:E36) -> 1.8597576e+09 | F37: =SUM(F35:F36) -> 120000 | G37: =SUM(G35:G36) -> 119880 | H37: =IF(F37,($E37)/F37,0) -> 15497.98 | I37: =IF(G37,($E37)/G37,0) -> 15513.493
A38: Daguao 1-1 | B38: ULSD | C38: 1659.95 | D38: 5778518.6 | E38: =C38*D38 -> 9.5920519e+09 | F38: 668000 | G38: 667332 | H38: =IF(F38,($E38)/F38,0) -> 14359.359 | I38: =IF(G38,($E38)/G38,0) -> 14373.733
A39: Daguao 1-2 | B39: ULSD | C39: 45 | D39: 5778518.6 | E39: =C39*D39 -> 2.6003334e+08 | F39: 1000 | G39: 999 | H39: =IF(F39,($E39)/F39,0) -> 260033.34 | I39: =IF(G39,($E39)/G39,0) -> 260293.63
A40: Total Daguao - Gas | B40: ULSD | C40: =SUM(C38:C39) -> 1704.95 | E40: =SUM(E38:E39) -> 9.8520853e+09 | F40: =SUM(F38:F39) -> 669000 | G40: =SUM(G38:G39) -> 668331 | H40: =IF(F40,($E40)/F40,0) -> 14726.585 | I40: =IF(G40,($E40)/G40,0) -> 14741.326
A41: Jobos 1-1 | B41: ULSD | C41: 0 | D41: 0 | E41: =C41*D41 -> 0 | F41: 0 | G41: 0 | H41: =IF(F41,($E41)/F41,0) -> 0 | I41: =IF(G41,($E41)/G41,0) -> 0
A42: Jobos 1-2 | B42: ULSD | C42: 1159.71 | D42: 5534842.3 | E42: =C42*D42 -> 6.418812e+09 | F42: 387000 | G42: 386613 | H42: =IF(F42,($E42)/F42,0) -> 16586.077 | I42: =IF(G42,($E42)/G42,0) -> 16602.68
A43: Total Jobos - Gas | B43: ULSD | C43: =SUM(C41:C42) -> 1159.71 | E43: =SUM(E41:E42) -> 6.418812e+09 | F43: =SUM(F41:F42) -> 387000 | G43: =SUM(G41:G42) -> 386613 | H43: =IF(F43,($E43)/F43,0) -> 16586.077 | I43: =IF(G43,($E43)/G43,0) -> 16602.68
A44: Palo Seco 1-1 | B44: ULSD | C44: 3351.41 | D44: 5723550 | E44: =C44*D44 -> 1.9181963e+10 | F44: 1221000 | G44: 1219779 | H44: =IF(F44,($E44)/F44,0) -> 15710.043 | I44: =IF(G44,($E44)/G44,0) -> 15725.769
A45: Palo Seco 1-2 | B45: ULSD | C45: 3367.71 | D45: 5723550 | E45: =C45*D45 -> 1.9275257e+10 | F45: 1229000 | G45: 1227771 | H45: =IF(F45,($E45)/F45,0) -> 15683.691 | I45: =IF(G45,($E45)/G45,0) -> 15699.391
A46: Palo Seco 2-1 | B46: ULSD | C46: 3219.94 | D46: 5723550 | E46: =C46*D46 -> 18429487587 | F46: 1221000 | G46: 1219779 | H46: =IF(F46,($E46)/F46,0) -> 15093.765 | I46: =IF(G46,($E46)/G46,0) -> 15108.874
A47: Total Palo Seco - Gas | B47: ULSD | C47: =SUM(C44:C46) -> 9939.06 | E47: =SUM(E44:E46) -> 56886706863 | F47: =SUM(F44:F46) -> 3671000 | G47: =SUM(G44:G46) -> 3667329 | H47: =IF(F47,($E47)/F47,0) -> 15496.243 | I47: =IF(G47,($E47)/G47,0) -> 15511.754
A48: Palo Seco Mobile Pack 1 | B48: ULSD | C48: 2942.05 | D48: 5723550 | E48: =C48*D48 -> 1.683897e+10 | F48: 1651000 | G48: 1649000 | H48: =IF(F48,($E48)/F48,0) -> 10199.255 | I48: =IF(G48,($E48)/G48,0) -> 10211.625
A49: Palo Seco Mobile Pack 2 | B49: ULSD | C49: 2960.2 | D49: 5723550 | E49: =C49*D49 -> 1.6942853e+10 | F49: 1575000 | G49: 1573000 | H49: =IF(F49,($E49)/F49,0) -> 10757.367 | I49: =IF(G49,($E49)/G49,0) -> 10771.044
A50: Palo Seco Mobile Pack 3 | B50: ULSD | C50: 2914.18 | D50: 5723550 | E50: =C50*D50 -> 16679454939 | F50: 1597000 | G50: 1595000 | H50: =IF(F50,($E50)/F50,0) -> 10444.242 | I50: =IF(G50,($E50)/G50,0) -> 10457.339
A51: Total Palo Seco MPs - Gas | B51: ULSD | C51: =SUM(C48:C50) -> 8816.43 | E51: =SUM(E48:E50) -> 5.0461278e+10 | F51: =SUM(F48:F50) -> 4823000 | G51: =SUM(G48:G50) -> 4817000 | H51: =IF(F51,($E51)/F51,0) -> 10462.633 | I51: =IF(G51,($E51)/G51,0) -> 10475.665
A52: Yabucoa 1-1 | B52: ULSD | C52: 0 | D52: 0 | E52: =C52*D52 -> 0 | F52: 0 | G52: 0 | H52: =IF(F52,($E52)/F52,0) -> 0 | I52: =IF(G52,($E52)/G52,0) -> 0
A53: Yabucoa 1-2 | B53: ULSD | C53: 928.07 | D53: 5527948.2 | E53: =C53*D53 -> 5.1303229e+09 | F53: 262000 | G53: 261738 | H53: =IF(F53,($E53)/F53,0) -> 19581.385 | I53: =IF(G53,($E53)/G53,0) -> 19600.986
A54: Total Yabucoa - Gas | B54: ULSD | C54: =SUM(C52:C53) -> 928.07 | E54: =SUM(E52:E53) -> 5.1303229e+09 | F54: =SUM(F52:F53) -> 262000 | G54: =SUM(G52:G53) -> 261738 | H54: =IF(F54,($E54)/F54,0) -> 19581.385 | I54: =IF(G54,($E54)/G54,0) -> 19600.986
A55: Vieques - Diesel | B55: ULSD | C55: 14.33 | D55: 0 | E55: =C55*D55 -> 0 | F55: 0 | G55: 0 | H55: =IF(F55,($E55)/F55,0) -> 0 | I55: =IF(G55,($E55)/G55,0) -> 0
A56: Culebra - Diesel | B56: ULSD | C56: 0 | D56: 0 | E56: =C56*D56 -> 0 | F56: 0 | G56: 0 | H56: =IF(F56,($E56)/F56,0) -> 0 | I56: =IF(G56,($E56)/G56,0) -> 0
A57: Total Peakers | B57: ULSD | C57: =SUM(C34,C37,C40,C43,C47,C51,C54,C55,C56) -> 22887.07 | E57: =SUM(E34,E37,E40,E43,E47,E51,E54,E55,E56) -> 1.3060896e+11 | F57: =SUM(F34,F37,F40,F43,F47,F51,F54,F55,F56) -> 9932000 | G57: =SUM(G34,G37,G40,G43,G47,G51,G54,G55,G56) -> 9920891 | H57: =IF(F57,($E57)/F57,0) -> 13150.318 | I57: =IF(G57,($E57)/G57,0) -> 13165.044
A59: December 2024
A60: Unit | B60: Fuel type | C60: Fuel consumed (Barrels) | D60: Heating Value (Btu/Barrels) | E60: Btu | F60: Gross Generation (kWh) | G60: Net Generation (kWh) | H60: Gross Heat Rate (Btu/kWh) | I60: Net Heat Rate (Btu/kWh)
A61: Aguirre 2-1 | B61: ULSD | C61: 0 | D61: 0 | E61: =C61*D61 -> 0 | F61: 0 | G61: 0 | H61: =IF(F61,($E61)/F61,0) -> 0 | I61: =IF(G61,($E61)/G61,0) -> 0
A62: Aguirre 2-2 | B62: ULSD | C62: 0 | D62: 0 | E62: =C62*D62 -> 0 | F62: 0 | G62: 0 | H62: =IF(F62,($E62)/F62,0) -> 0 | I62: =IF(G62,($E62)/G62,0) -> 0
A63: Total Aguirre - Gas | B63: ULSD | C63: =SUM(C61:C62) -> 0 | E63: =SUM(E61:E62) -> 0 | F63: =SUM(F61:F62) -> 0 | G63: =SUM(G61:G62) -> 0 | H63: =IF(F63,($E63)/F63,0) -> 0 | I63: =IF(G63,($E63)/G63,0) -> 0
A64: Costa Sur 1-1 | B64: ULSD | C64: 0 | D64: 0 | E64: =C64*D64 -> 0 | F64: 0 | G64: 0 | H64: =IF(F64,($E64)/F64,0) -> 0 | I64: =IF(G64,($E64)/G64,0) -> 0
A65: Costa Sur 1-2 | B65: ULSD | C65: 343.05 | D65: 5730795 | E65: =C65*D65 -> 1.9659492e+09 | F65: 58000 | G65: 57942 | H65: =IF(F65,($E65)/F65,0) -> 33895.676 | I65: =IF(G65,($E65)/G65,0) -> 33929.606
A66: Total Costa Sur - Gas | B66: ULSD | C66: =SUM(C64:C65) -> 343.05 | E66: =SUM(E64:E65) -> 1.9659492e+09 | F66: =SUM(F64:F65) -> 58000 | G66: =SUM(G64:G65) -> 57942 | H66: =IF(F66,($E66)/F66,0) -> 33895.676 | I66: =IF(G66,($E66)/G66,0) -> 33929.606
A67: Daguao 1-1 | B67: ULSD | C67: 2823.36 | D67: 5778518.6 | E67: =C67*D67 -> 1.6314838e+10 | F67: 1064000 | G67: 1062936 | H67: =IF(F67,($E67)/F67,0) -> 15333.495 | I67: =IF(G67,($E67)/G67,0) -> 15348.843
A68: Daguao 1-2 | B68: ULSD | C68: 472.43 | D68: 5778518.6 | E68: =C68*D68 -> 2.7299455e+09 | F68: 185000 | G68: 184815 | H68: =IF(F68,($E68)/F68,0) -> 14756.462 | I68: =IF(G68,($E68)/G68,0) -> 14771.234
A69: Total Daguao - Gas | B69: ULSD | C69: =SUM(C67:C68) -> 3295.79 | E69: =SUM(E67:E68) -> 1.9044784e+10 | F69: =SUM(F67:F68) -> 1249000 | G69: =SUM(G67:G68) -> 1247751 | H69: =IF(F69,($E69)/F69,0) -> 15248.025 | I69: =IF(G69,($E69)/G69,0) -> 15263.289
A70: Jobos 1-1 | B70: ULSD | C70: 0 | D70: 0 | E70: =C70*D70 -> 0 | F70: 0 | G70: 0 | H70: =IF(F70,($E70)/F70,0) -> 0 | I70: =IF(G70,($E70)/G70,0) -> 0
A71: Jobos 1-2 | B71: ULSD | C71: 2036.48 | D71: 5800000 | E71: =C71*D71 -> 11811584000 | F71: 814000 | G71: 813186 | H71: =IF(F71,($E71)/F71,0) -> 14510.545 | I71: =IF(G71,($E71)/G71,0) -> 14525.071
A72: Total Jobos - Gas | B72: ULSD | C72: =SUM(C70:C71) -> 2036.48 | E72: =SUM(E70:E71) -> 11811584000 | F72: =SUM(F70:F71) -> 814000 | G72: =SUM(G70:G71) -> 813186 | H72: =IF(F72,($E72)/F72,0) -> 14510.545 | I72: =IF(G72,($E72)/G72,0) -> 14525.071
A73: Palo Seco 1-1 | B73: ULSD | C73: 5140.03 | D73: 5723550 | E73: =C73*D73 -> 2.9419219e+10 | F73: 1899000 | G73: 1897101 | H73: =IF(F73,($E73)/F73,0) -> 15491.953 | I73: =IF(G73,($E73)/G73,0) -> 15507.46
A74: Palo Seco 1-2 | B74: ULSD | C74: 5071.55 | D74: 5723550 | E74: =C74*D74 -> 2.902727e+10 | F74: 1872000 | G74: 1870128 | H74: =IF(F74,($E74)/F74,0) -> 15506.02 | I74: =IF(G74,($E74)/G74,0) -> 15521.542
A75: Palo Seco 2-1 | B75: ULSD | C75: 5228.68 | D75: 5723550 | E75: =C75*D75 -> 29926611414 | F75: 1948000 | G75: 1946052 | H75: =IF(F75,($E75)/F75,0) -> 15362.737 | I75: =IF(G75,($E75)/G75,0) -> 15378.115
A76: Total Palo Seco - Gas | B76: ULSD | C76: =SUM(C73:C75) -> 15440.26 | E76: =SUM(E73:E75) -> 88373100123 | F76: =SUM(F73:F75) -> 5719000 | G76: =SUM(G73:G75) -> 5713281 | H76: =IF(F76,($E76)/F76,0) -> 15452.544 | I76: =IF(G76,($E76)/G76,0) -> 15468.012
A77: Palo Seco Mobile Pack 1 | B77: ULSD | C77: 4432.6 | D77: 5723550 | E77: =C77*D77 -> 2.5370208e+10 | F77: 2524000 | G77: 2521000 | H77: =IF(F77,($E77)/F77,0) -> 10051.588 | I77: =IF(G77,($E77)/G77,0) -> 10063.549
A78: Palo Seco Mobile Pack 2 | B78: ULSD | C78: 4623.49 | D78: 5723550 | E78: =C78*D78 -> 2.6462776e+10 | F78: 2609000 | G78: 2607000 | H78: =IF(F78,($E78)/F78,0) -> 10142.881 | I78: =IF(G78,($E78)/G78,0) -> 10150.662
A79: Palo Seco Mobile Pack 3 | B79: ULSD | C79: 4621.75 | D79: 5723550 | E79: =C79*D79 -> 2.6452817e+10 | F79: 2632000 | G79: 2630000 | H79: =IF(F79,($E79)/F79,0) -> 10050.462 | I79: =IF(G79,($E79)/G79,0) -> 10058.105
A80: Total Palo Seco MPs - Gas | B80: ULSD | C80: =SUM(C77:C79) -> 13677.84 | E80: =SUM(E77:E79) -> 78285801132 | F80: =SUM(F77:F79) -> 7765000 | G80: =SUM(G77:G79) -> 7758000 | H80: =IF(F80,($E80)/F80,0) -> 10081.88 | I80: =IF(G80,($E80)/G80,0) -> 10090.977
A81: Yabucoa 1-1 | B81: ULSD | C81: 0 | D81: 0 | E81: =C81*D81 -> 0 | F81: 0 | G81: 0 | H81: =IF(F81,($E81)/F81,0) -> 0 | I81: =IF(G81,($E81)/G81,0) -> 0
A82: Yabucoa 1-2 | B82: ULSD | C82: 1218.74 | D82: 5800000 | E82: =C82*D82 -> 7068692000 | F82: 487000 | G82: 486513 | H82: =IF(F82,($E82)/F82,0) -> 14514.768 | I82: =IF(G82,($E82)/G82,0) -> 14529.297
A83: Total Yabucoa - Gas | B83: ULSD | C83: =SUM(C81:C82) -> 1218.74 | E83: =SUM(E81:E82) -> 7068692000 | F83: =SUM(F81:F82) -> 487000 | G83: =SUM(G81:G82) -> 486513 | H83: =IF(F83,($E83)/F83,0) -> 14514.768 | I83: =IF(G83,($E83)/G83,0) -> 14529.297
A84: Vieques - Diesel | B84: ULSD | C84: 9.82 | D84: 0 | E84: 0 | F84: 0 | G84: 0 | H84: =IF(F84,($E84)/F84,0) -> 0 | I84: =IF(G84,($E84)/G84,0) -> 0
A85: Culebra - Diesel | B85: ULSD | C85: 36.95 | D85: 0 | E85: 0 | F85: 18 | G85: 0 | H85: =IF(F85,($E85)/F85,0) -> 0 | I85: =IF(G85,($E85)/G85,0) -> 0
A86: Total Peakers | B86: ULSD | C86: =SUM(C63,C66,C69,C72,C76,C80,C83,C84,C85) -> 36058.93 | E86: =SUM(E63,E66,E69,E72,E76,E80,E83,E84,E85) -> 2.0654991e+11 | F86: =SUM(F63,F66,F69,F72,F76,F80,F83,F84,F85) -> 16092018 | G86: =SUM(G63,G66,G69,G72,G76,G80,G83,G84,G85) -> 16076673 | H86: =IF(F86,($E86)/F86,0) -> 12835.551 | I86: =IF(G86,($E86)/G86,0) -> 12847.802

Sheet TMs
A1: October 2024
A2: Unit | B2: Fuel type | C2: Fuel consumed (Barrels) | D2: Heating Value (Btu/Barrels) | E2: Btu | F2: Gross Generation (kWh) | G2: Net Generation (kWh) | H2: Gross Heat Rate (Btu/kWh) | I2: Net Heat Rate (Btu/kWh)
A3: San Juan TMs | B3: LNG | C3: 251272.77 | D3: 5800000 | E3: =C3*D3 -> 1457382066000 | F3: 133301209 | G3: 133167908 | H3: =IF(F3,($E3+$E4)/F3,0) -> 11610.486 | I3: =IF(G3,($E3+$E4)/G3,0) -> 11622.108
B4: ULSD | C4: 15570.64 | D4: 5800000 | E4: =C4*D4 -> 90309712000
A5: Palo Seco TMs | B5: LNG | C5: 109356.01 | D5: 5800000 | E5: =C5*D5 -> 634264858000 | F5: 57171039 | G5: 57113868 | H5: =IF(F5,($E5+$E6)/F5,0) -> 11315.638 | I5: =IF(G5,($E5+$E6)/G5,0) -> 11326.965
B6: ULSD | C6: 2183.09 | D6: 5800000 | E6: =C6*D6 -> 12661922000
A7: Total TMs | C7: =SUM(C3:C6) -> 378382.51 | E7: =SUM(E3:E6) -> 2194618558000 | F7: =SUM(F3:F6) -> 190472248 | G7: =SUM(G3:G6) -> 190281776 | H7: =$E7/F7 -> 11521.986 | I7: =$E7/G7 -> 11533.519
A9: November 2024
A10: Unit | B10: Fuel type | C10: Fuel consumed (Barrels) | D10: Heating Value (Btu/Barrels) | E10: Btu | F10: Gross Generation (kWh) | G10: Net Generation (kWh) | H10: Gross Heat Rate (Btu/kWh) | I10: Net Heat Rate (Btu/kWh)
A11: San Juan TMs | B11: LNG | C11: 225360.75 | D11: 5800000 | E11: =C11*D11 -> 1307092350000 | F11: 118905367 | G11: 118786462 | H11: =IF(F11,($E11+$E12)/F11,0) -> 11320.306 | I11: =IF(G11,($E11+$E12)/G11,0) -> 11331.637
B12: ULSD | C12: 6715.99 | D12: 5800000 | E12: =C12*D12 -> 38952742000
A13: Palo Seco TMs | B13: LNG | C13: 109500.48 | D13: 5800000 | E13: =C13*D13 -> 635102784000 | F13: 57293554 | G13: 57236260 | H13: =IF(F13,($E13+$E14)/F13,0) -> 11085.065 | I13: =IF(G13,($E13+$E14)/G13,0) -> 11096.161
B14: ULSD | C14: 0 | D14: 0 | E14: =C14*D14 -> 0
A15: Total TMs | C15: =SUM(C11:C14) -> 341577.22 | E15: =SUM(E11:E14) -> 1981147876000 | F15: =SUM(F11:F14) -> 176198921 | G15: =SUM(G11:G14) -> 176022722 | H15: =$E15/F15 -> 11243.814 | I15: =$E15/G15 -> 11255.069
A17: December 2024
A18: Unit | B18: Fuel type | C18: Fuel consumed (Barrels) | D18: Heating Value (Btu/Barrels) | E18: Btu | F18: Gross Generation (kWh) | G18: Net Generation (kWh) | H18: Gross Heat Rate (Btu/kWh) | I18: Net Heat Rate (Btu/kWh)
A19: San Juan TMs | B19: LNG | C19: 247837.96 | D19: 5800000 | E19: =C19*D19 -> 1437460168000 | F19: 131319018 | G19: 131187699 | H19: =IF(F19,($E19+$E20)/F19,0) -> 10946.321 | I19: =IF(G19,($E19+$E20)/G19,0) -> 10957.279
B20: ULSD | C20: 0 | D20: 0 | E20: =C20*D20 -> 0
A21: Palo Seco TMs | B21: LNG | C21: 100540.74 | D21: 5800000 | E21: =C21*D21 -> 583136292000 | F21: 52811355 | G21: 52758544 | H21: =IF(F21,($E21+$E22)/F21,0) -> 11041.873 | I21: =IF(G21,($E21+$E22)/G21,0) -> 11052.926
B22: ULSD | C22: 0 | D22: 0 | E22: =C22*D22 -> 0
A23: Total TMs | C23: =SUM(C19:C22) -> 348378.7 | E23: =SUM(E19:E22) -> 2020596460000 | F23: =SUM(F19:F22) -> 184130373 | G23: =SUM(G19:G22) -> 183946243 | H23: =$E23/F23 -> 10973.727 | I23: =$E23/G23 -> 10984.712

Sheet System
A1: October 2024
A2: Plant | B2: Btu | C2: Gross Generation (kWh) | D2: Net Generation (kWh) | E2: Gross Heat Rate (Btu/kWh) | F2: Net Heat Rate (Btu/kWh)
A3: San Juan CC | B3: ='San Juan'!E7 -> 9.8729305e+11 | C3: ='San Juan'!F7 -> 116041000 | D3: ='San Juan'!G7 -> 112792720 | E3: =IF(C3,B3/C3,0) -> 8508.1398 | F3: =IF(D3,B3/D3,0) -> 8753.1629
A4: San Juan Steam | B4: ='San Juan'!E12 -> 5.7901141e+11 | C4: ='San Juan'!F12 -> 53631000 | D4: ='San Juan'!G12 -> 49275674 | E4: =IF(C4,B4/C4,0) -> 10796.208 | F4: =IF(D4,B4/D4,0) -> 11750.451
A5: San Juan Plant | B5: =SUM(B3:B4) -> 1.5663045e+12 | C5: =SUM(C3:C4) -> 169672000 | D5: =SUM(D3:D4) -> 162068394 | E5: =B5/C5 -> 9231.3668 | F5: =B5/D5 -> 9664.4659
A6: Palo Seco Steam | B6: ='Palo Seco'!E7 -> 1006601493203 | C6: ='Palo Seco'!F7 -> 108311000 | D6: ='Palo Seco'!G7 -> 98938276 | E6: =IF(C6,B6/C6,0) -> 9293.622 | F6: =IF(D6,B6/D6,0) -> 10174.035
A7: Aguirre Steam | B7: =Aguirre!E7 -> 1.248638e+12 | C7: =Aguirre!F7 -> 112265000 | D7: =Aguirre!G7 -> 100744841 | E7: =IF(C7,B7/C7,0) -> 11122.238 | F7: =IF(D7,B7/D7,0) -> 12394.064
A8: Costa Sur Steam | B8: ='Costa Sur'!E7 -> 3.8445054e+12 | C8: ='Costa Sur'!F7 -> 365320000 | D8: ='Costa Sur'!G7 -> 339536000 | E8: =IF(C8,B8/C8,0) -> 10523.665 | F8: =IF(D8,B8/D8,0) -> 11322.821
A9: Baseloads | B9: =SUM(B5:B8) -> 7.6660494e+12 | C9: =SUM(C5:C8) -> 755568000 | D9: =SUM(D5:D8) -> 701287511 | E9: =IF(C9,B9/C9,0) -> 10146.075 | F9: =IF(D9,B9/D9,0) -> 10931.393
A10: Aguirre CC | B10: ='Aguirre CC'!E13 -> 1.3197637e+12 | C10: ='Aguirre CC'!F13 -> 109930000 | D10: ='Aguirre CC'!G13 -> 106570636 | E10: =IF(C10,B10/C10,0) -> 12005.491 | F10: =IF(D10,B10/D10,0) -> 12383.934
A11: Cambalache Gas | B11: =Cambalache!E5 -> 6.045259e+11 | C11: =Cambalache!F5 -> 49025000 | D11: =Cambalache!G5 -> 48494620 | E11: =IF(C11,B11/C11,0) -> 12330.972 | F11: =IF(D11,B11/D11,0) -> 12465.834
A12: Mayaguez Gas | B12: =Mayaguez!E7 -> 500218014184 | C12: =Mayaguez!F7 -> 48341700 | D12: =Mayaguez!G7 -> 48283690 | E12: =IF(C12,B12/C12,0) -> 10347.547 | F12: =IF(D12,B12/D12,0) -> 10359.979
A13: Total Peakers - Gas | B13: =Peakers!E28 -> 4.5605655e+11 | C13: =Peakers!F28 -> 34305015 | D13: =Peakers!G28 -> 34277370 | E13: =IF(C13,B13/C13,0) -> 13294.165 | F13: =IF(D13,B13/D13,0) -> 13304.888
A14: TMs - Gas | B14: =TMs!E7 -> 2194618558000 | C14: =TMs!F7 -> 190472248 | D14: =TMs!G7 -> 190281776 | E14: =IF(C14,B14/C14,0) -> 11521.986 | F14: =IF(D14,B14/D14,0) -> 11533.519
A15: Total System | B15: =SUM(B9:B14) -> 1.2741232e+13 | C15: =SUM(C9:C14) -> 1187641963 | D15: =SUM(D9:D14) -> 1.1291956e+09 | E15: =IF(C15,B15/C15,0) -> 10728.176 | F15: =IF(D15,B15/D15,0) -> 11283.459
A17: November 2024
A18: Plant | B18: Btu | C18: Gross Generation (kWh) | D18: Net Generation (kWh) | E18: Gross Heat Rate (Btu/kWh) | F18: Net Heat Rate (Btu/kWh)
A19: San Juan CC | B19: ='San Juan'!E20 -> 9.102541e+11 | C19: ='San Juan'!F20 -> 102890000 | D19: ='San Juan'!G20 -> 99995310 | E19: =IF(C19,B19/C19,0) -> 8846.8666 | F19: =IF(D19,B19/D19,0) -> 9102.9679
A20: San Juan Steam | B20: ='San Juan'!E25 -> 5.2895847e+11 | C20: ='San Juan'!F25 -> 48471000 | D20: ='San Juan'!G25 -> 44347199 | E20: =IF(C20,B20/C20,0) -> 10912.886 | F20: =IF(D20,B20/D20,0) -> 11927.664
A21: San Juan Plant | B21: =SUM(B19:B20) -> 1.4392126e+12 | C21: =SUM(C19:C20) -> 151361000 | D21: =SUM(D19:D20) -> 144342509 | E21: =B21/C21 -> 9508.4769 | F21: =B21/D21 -> 9970.8158
A22: Palo Seco Steam | B22: ='Palo Seco'!E15 -> 8.4796959e+11 | C22: ='Palo Seco'!F15 -> 87795000 | D22: ='Palo Seco'!G15 -> 80441043 | E22: =IF(C22,B22/C22,0) -> 9658.518 | F22: =IF(D22,B22/D22,0) -> 10541.504
A23: Aguirre Steam | B23: =Aguirre!E15 -> 1.4980208e+12 | C23: =Aguirre!F15 -> 137990000 | D23: =Aguirre!G15 -> 126451403 | E23: =IF(C23,B23/C23,0) -> 10856.01 | F23: =IF(D23,B23/D23,0) -> 11846.612
A24: Costa Sur Steam | B24: ='Costa Sur'!E15 -> 3.6410824e+12 | C24: ='Costa Sur'!F15 -> 350440000 | D24: ='Costa Sur'!G15 -> 323619500 | E24: =IF(C24,B24/C24,0) -> 10390.031 | F24: =IF(D24,B24/D24,0) -> 11251.122
A25: Baseloads | B25: =SUM(B21:B24) -> 7.4262853e+12 | C25: =SUM(C21:C24) -> 727586000 | D25: =SUM(D21:D24) -> 6.7485445e+08 | E25: =B25/C25 -> 10206.746 | F25: =B25/D25 -> 11004.277
A26: Aguirre CC | B26: ='Aguirre CC'!E27 -> 5.4000004e+11 | C26: ='Aguirre CC'!F27 -> 41550000 | D26: ='Aguirre CC'!G27 -> 39884676 | E26: =IF(C26,B26/C26,0) -> 12996.391 | F26: =IF(D26,B26/D26,0) -> 13539.035
A27: Cambalache Gas | B27: =Cambalache!E11 -> 180314265639 | C27: =Cambalache!F11 -> 13655000 | D27: =Cambalache!G11 -> 13381670 | E27: =IF(C27,B27/C27,0) -> 13204.999 | F27: =IF(D27,B27/D27,0) -> 13474.721
A28: Mayaguez Gas | B28: =Mayaguez!E15 -> 354312198000 | C28: =Mayaguez!F15 -> 32247900 | D28: =Mayaguez!G15 -> 32209203 | E28: =IF(C28,B28/C28,0) -> 10987.14 | F28: =IF(D28,B28/D28,0) -> 11000.34
A29: Total Peakers - Gas | B29: =Peakers!E57 -> 1.3060896e+11 | C29: =Peakers!F57 -> 9932000 | D29: =Peakers!G57 -> 9920891 | E29: =IF(C29,B29/C29,0) -> 13150.318 | F29: =IF(D29,B29/D29,0) -> 13165.044
A30: TMs - Gas | B30: =TMs!E15 -> 1981147876000 | C30: =TMs!F15 -> 176198921 | D30: =TMs!G15 -> 176022722 | E30: =IF(C30,B30/C30,0) -> 11243.814 | F30: =IF(D30,B30/D30,0) -> 11255.069
A31: Total System | B31: =SUM(B25:B30) -> 1.0612669e+13 | C31: =SUM(C25:C30) -> 1001169821 | D31: =SUM(D25:D30) -> 9.4627362e+08 | E31: =IF(C31,B31/C31,0) -> 10600.268 | F31: =IF(D31,B31/D31,0) -> 11215.222
A33: December 2024
A34: Plant | B34: Btu | C34: Gross Generation (kWh) | D34: Net Generation (kWh) | E34: Gross Heat Rate (Btu/kWh) | F34: Net Heat Rate (Btu/kWh)
A35: San Juan CC | B35: ='San Juan'!E33 -> 1.0662755e+12 | C35: ='San Juan'!F33 -> 130607000 | D35: ='San Juan'!G33 -> 127754120 | E35: =IF(C35,B35/C35,0) -> 8163.9999 | F35: =IF(D35,B35/D35,0) -> 8346.3104
A36: San Juan Steam | B36: ='San Juan'!E38 -> 0 | C36: ='San Juan'!F38 -> 0 | D36: ='San Juan'!G38 -> 0 | E36: =IF(C36,B36/C36,0) -> 0 | F36: =IF(D36,B36/D36,0) -> 0
A37: San Juan Plant | B37: =SUM(B35:B36) -> 1.0662755e+12 | C37: =SUM(C35:C36) -> 130607000 | D37: =SUM(D35:D36) -> 127754120 | E37: =B37/C37 -> 8163.9999 | F37: =B37/D37 -> 8346.3104
A38: Palo Seco Steam | B38: ='Palo Seco'!E23 -> 8.2910358e+11 | C38: ='Palo Seco'!F23 -> 88173000 | D38: ='Palo Seco'!G23 -> 80167780 | E38: =IF(C38,B38/C38,0) -> 9403.1459 | F38: =IF(D38,B38/D38,0) -> 10342.105
A39: Aguirre Steam | B39: =Aguirre!E23 -> 0 | C39: =Aguirre!F23 -> 0 | D39: =Aguirre!G23 -> 0 | E39: =IF(C39,B39/C39,0) -> 0 | F39: =IF(D39,B39/D39,0) -> 0
A40: Costa Sur Steam | B40: ='Costa Sur'!E23 -> 3283540454971 | C40: ='Costa Sur'!F23 -> 309910000 | D40: ='Costa Sur'!G23 -> 285592400 | E40: =IF(C40,B40/C40,0) -> 10595.142 | F40: =IF(D40,B40/D40,0) -> 11497.296
A41: Baseloads | B41: =SUM(B37:B40) -> 5.1789196e+12 | C41: =SUM(C37:C40) -> 528690000 | D41: =SUM(D37:D40) -> 493514300 | E41: =B41/C41 -> 9795.7585 | F41: =B41/D41 -> 10493.961
A42: Aguirre CC | B42: ='Aguirre CC'!E41 -> 7.7035038e+11 | C42: ='Aguirre CC'!F41 -> 61774000 | D42: ='Aguirre CC'!G41 -> 59219144 | E42: =IF(C42,B42/C42,0) -> 12470.463 | F42: =IF(D42,B42/D42,0) -> 13008.469
A43: Cambalache Gas | B43: =Cambalache!E17 -> 4.0488637e+11 | C43: =Cambalache!F17 -> 31678000 | D43: =Cambalache!G17 -> 31279020 | E43: =IF(C43,B43/C43,0) -> 12781.311 | F43: =IF(D43,B43/D43,0) -> 12944.343
A44: Mayaguez Gas | B44: =Mayaguez!E23 -> 460513330000 | C44: =Mayaguez!F23 -> 42277900 | D44: =Mayaguez!G23 -> 42227167 | E44: =IF(C44,B44/C44,0) -> 10892.531 | F44: =IF(D44,B44/D44,0) -> 10905.617
A45: Total Peakers - Gas | B45: =Peakers!E86 -> 2.0654991e+11 | C45: =Peakers!F86 -> 16092018 | D45: =Peakers!G86 -> 16076673 | E45: =IF(C45,B45/C45,0) -> 12835.551 | F45: =IF(D45,B45/D45,0) -> 12847.802
A46: TMs - Gas | B46: =TMs!E23 -> 2020596460000 | C46: =TMs!F23 -> 184130373 | D46: =TMs!G23 -> 183946243 | E46: =IF(C46,B46/C46,0) -> 10973.727 | F46: =IF(D46,B46/D46,0) -> 10984.712
A47: Total System | B47: =SUM(B41:B46) -> 9.041816e+12 | C47: =SUM(C41:C46) -> 864642291 | D47: =SUM(D41:D46) -> 826262547 | E47: =IF(C47,B47/C47,0) -> 10457.291 | F47: =IF(D47,B47/D47,0) -> 10943.03
