Workbook
Name \A: #N/A
Name \B: #N/A

Sheet 2024-Formato 2M
A1: 2024 | B1: Inventario de Emisiones
B2: January | C2: February | D2: March | E2: April | F2: May | G2: June | H2: July | I2: August | J2: September | K2: October | L2: November | M2: December | N2: Total Emisiones (tons/year) | O2: Total Emisiones Permisibles (tons/year)
A3: Pollutant | B3: San Juan | C3: San Juan | D3: San Juan | E3: San Juan | F3: San Juan | G3: San Juan | H3: San Juan | I3: San Juan | J3: San Juan | K3: San Juan | L3: San Juan | M3: San Juan | N3: San Juan | O3: San Juan
A4: PM | B4: ='Mensual 2024'!C51 -> 23.752561 | C4: ='Mensual 2024'!D51 -> 16.820023 | D4: ='Mensual 2024'!E51 -> 14.051295 | E4: ='Mensual 2024'!F51 -> 11.260861 | F4: ='Mensual 2024'!G51 -> 12.176052 | G4: ='Mensual 2024'!H51 -> 15.063634 | H4: ='Mensual 2024'!I51 -> 20.231114 | I4: ='Mensual 2024'!J51 -> 24.649714 | ... M4: ='Mensual 2024'!N51 -> 4.953036 | N4: =SUM(B4:M4) -> 191.69801 | O4: 2946.22
A5: PM10 | B5: ='Mensual 2024'!C52 -> 29.327562 | C5: ='Mensual 2024'!D52 -> 20.423255 | D5: ='Mensual 2024'!E52 -> 16.441371 | E5: ='Mensual 2024'!F52 -> 13.964866 | F5: ='Mensual 2024'!G52 -> 14.978609 | G5: ='Mensual 2024'!H52 -> 18.165004 | H5: ='Mensual 2024'!I52 -> 24.633262 | I5: ='Mensual 2024'!J52 -> 31.428617 | ... M5: ='Mensual 2024'!N52 -> 5.410519 | N5: =SUM(B5:M5) -> 236.43175 | O5: 1430.51
A6: SO2 | B6: ='Mensual 2024'!C54 -> 290.86405 | C6: ='Mensual 2024'!D54 -> 189.69453 | D6: ='Mensual 2024'!E54 -> 94.949672 | E6: ='Mensual 2024'!F54 -> 138.1077 | F6: ='Mensual 2024'!G54 -> 140.44739 | G6: ='Mensual 2024'!H54 -> 148.87549 | H6: ='Mensual 2024'!I54 -> 171.57079 | I6: ='Mensual 2024'!J54 -> 308.83578 | ... M6: ='Mensual 2024'!N54 -> 1.4095183 | N6: =SUM(B6:M6) -> 2097.7098 | O6: 7619.76
A7: NOx | B7: ='Mensual 2024'!C55 -> 244.32783 | C7: ='Mensual 2024'!D55 -> 176.68904 | D7: ='Mensual 2024'!E55 -> 143.66272 | E7: ='Mensual 2024'!F55 -> 101.22745 | F7: ='Mensual 2024'!G55 -> 110.886 | G7: ='Mensual 2024'!H55 -> 140.00663 | H7: ='Mensual 2024'!I55 -> 186.54259 | I7: ='Mensual 2024'!J55 -> 217.47411 | ... M7: ='Mensual 2024'!N55 -> 51.052726 | N7: =SUM(B7:M7) -> 1790.4369 | O7: 6739.2
A8: CO | B8: ='Mensual 2024'!C57 -> 42.236408 | C8: ='Mensual 2024'!D57 -> 32.392571 | D8: ='Mensual 2024'!E57 -> 28.407299 | E8: ='Mensual 2024'!F57 -> 19.608029 | F8: ='Mensual 2024'!G57 -> 21.750916 | G8: ='Mensual 2024'!H57 -> 28.167006 | H8: ='Mensual 2024'!I57 -> 32.68325 | I8: ='Mensual 2024'!J57 -> 32.805204 | ... M8: ='Mensual 2024'!N57 -> 11.375809 | N8: =SUM(B8:M8) -> 318.75258 | O8: 1654.73
A9: VOC | B9: ='Mensual 2024'!C56 -> 5.0764372 | C9: ='Mensual 2024'!D56 -> 3.7410227 | D9: ='Mensual 2024'!E56 -> 3.6020982 | E9: ='Mensual 2024'!F56 -> 2.3792285 | F9: ='Mensual 2024'!G56 -> 2.6462245 | G9: ='Mensual 2024'!H56 -> 3.5234179 | H9: ='Mensual 2024'!I56 -> 4.8671883 | I9: ='Mensual 2024'!J56 -> 5.111692 | ... M9: ='Mensual 2024'!N56 -> 1.5298189 | N9: =SUM(B9:M9) -> 42.724014 | O9: 190.7
A10: Pb | B10: ='Mensual 2024'!C59 -> 0.0056224223 | C10: ='Mensual 2024'!D59 -> 0.0036292143 | D10: ='Mensual 2024'!E59 -> 0.0025374932 | E10: ='Mensual 2024'!F59 -> 0.0027267859 | F10: ='Mensual 2024'!G59 -> 0.0028389923 | G10: ='Mensual 2024'!H59 -> 0.0031999345 | H10: ='Mensual 2024'!I59 -> 0.004693324 | I10: ='Mensual 2024'!J59 -> 0.0070227446 | ... M10: ='Mensual 2024'!N59 -> 0.00056402012 | N10: =SUM(B10:M10) -> 0.046182212 | O10: 3.54
A11: CO2e | B11: ='Mensual 2024'!C60 -> 217837.51 | C11: ='Mensual 2024'!D60 -> 167281.63 | D11: ='Mensual 2024'!E60 -> 156941.67 | E11: ='Mensual 2024'!F60 -> 101018.1 | F11: ='Mensual 2024'!G60 -> 113160.93 | G11: ='Mensual 2024'!H60 -> 151068.24 | H11: ='Mensual 2024'!I60 -> 187070.04 | I11: ='Mensual 2024'!J60 -> 180801.18 | ... M11: ='Mensual 2024'!N60 -> 67050.101 | N11: =SUM(B11:M11) -> 1719981 | O11: N/A
A12: Total | B12: =SUM(B4:B10) -> 635.59048 | C12: =SUM(C4:C10) -> 439.76407 | D12: =SUM(D4:D10) -> 301.11699 | E12: =SUM(E4:E10) -> 286.55086 | F12: =SUM(F4:F10) -> 302.88804 | G12: =SUM(G4:G10) -> 353.80438 | H12: =SUM(H4:H10) -> 440.53289 | I12: =SUM(I4:I10) -> 620.31213 | ... O12: =SUM(O4:O10) -> 20584.66
B14: Palo Seco | C14: Palo Seco | D14: Palo Seco | E14: Palo Seco | F14: Palo Seco | G14: Palo Seco | H14: Palo Seco | I14: Palo Seco | J14: Palo Seco | K14: Palo Seco | L14: Palo Seco | M14: Palo Seco | N14: Palo Seco | O14: Palo Seco
A15: PM10 | B15: ='Mensual 2024'!C80 -> 0.61505273 | C15: ='Mensual 2024'!D80 -> 0.85778412 | D15: ='Mensual 2024'!E80 -> 1.1439406 | E15: ='Mensual 2024'!F80 -> 1.1000339 | F15: ='Mensual 2024'!G80 -> 2.2078397 | G15: ='Mensual 2024'!H80 -> 1.3830386 | H15: ='Mensual 2024'!I80 -> 5.7061543 | I15: ='Mensual 2024'!J80 -> 28.276773 | ... M15: ='Mensual 2024'!N80 -> 23.085342 | N15: =SUM(B15:M15) -> 144.96472 | O15: 1387.38
A16: SO2 | B16: ='Mensual 2024'!C81 -> 0.19808314 | C16: ='Mensual 2024'!D81 -> 0.28878732 | D16: ='Mensual 2024'!E81 -> 0.096318742 | E16: ='Mensual 2024'!F81 -> 0.092753089 | F16: ='Mensual 2024'!G81 -> 0.22194436 | G16: ='Mensual 2024'!H81 -> 0.13629672 | H16: ='Mensual 2024'!I81 -> 50.443374 | I16: ='Mensual 2024'!J81 -> 257.36653 | ... M16: ='Mensual 2024'!N81 -> 226.37247 | N16: =SUM(B16:M16) -> 1283.8176 | O16: 17464.39
A17: NOx | B17: ='Mensual 2024'!C82 -> 42.837263 | C17: ='Mensual 2024'!D82 -> 62.904169 | D17: ='Mensual 2024'!E82 -> 79.819771 | E17: ='Mensual 2024'!F82 -> 62.352056 | F17: ='Mensual 2024'!G82 -> 111.33998 | G17: ='Mensual 2024'!H82 -> 62.702734 | H17: ='Mensual 2024'!I82 -> 68.250419 | I17: ='Mensual 2024'!J82 -> 254.46479 | ... M17: ='Mensual 2024'!N82 -> 182.25553 | N17: =SUM(B17:M17) -> 1635.4646 | O17: 12276.89
A18: VOC | B18: ='Mensual 2024'!C83 -> 0.034101828 | C18: ='Mensual 2024'!D83 -> 0.029307624 | D18: ='Mensual 2024'!E83 -> 0.062580516 | E18: ='Mensual 2024'!F83 -> 0.14334866 | F18: ='Mensual 2024'!G83 -> 0.36741919 | G18: ='Mensual 2024'!H83 -> 0.27082634 | H18: ='Mensual 2024'!I83 -> 0.58166845 | I18: ='Mensual 2024'!J83 -> 3.1532856 | ... M18: ='Mensual 2024'!N83 -> 2.2162273 | N18: =SUM(B18:M18) -> 15.469078 | O18: 130.04
A19: CO | B19: ='Mensual 2024'!C84 -> 0.22844416 | C19: ='Mensual 2024'!D84 -> 0.23589063 | D19: ='Mensual 2024'!E84 -> 0.42105261 | E19: ='Mensual 2024'!F84 -> 0.78176784 | F19: ='Mensual 2024'!G84 -> 1.9302518 | G19: ='Mensual 2024'!H84 -> 1.3934295 | H19: ='Mensual 2024'!I84 -> 3.7487418 | I19: ='Mensual 2024'!J84 -> 19.786042 | ... M19: ='Mensual 2024'!N84 -> 14.595696 | N19: =SUM(B19:M19) -> 97.863241 | O19: 856.94
A20: Pb | B20: ='Mensual 2024'!C85 -> 0.00070416218 | C20: ='Mensual 2024'!D85 -> 0.0010007481 | D20: ='Mensual 2024'!E85 -> 0.0013105417 | E20: ='Mensual 2024'!F85 -> 0.0011750888 | F20: ='Mensual 2024'!G85 -> 0.0022768718 | G20: ='Mensual 2024'!H85 -> 0.0013846459 | H20: ='Mensual 2024'!I85 -> 0.0016604646 | I20: ='Mensual 2024'!J85 -> 0.0073789538 | ... M20: ='Mensual 2024'!N85 -> 0.0049931965 | N20: =SUM(B20:M20) -> 0.041993236 | O20: 0.37
A21: CO2e | B21: ='Mensual 2024'!C86 -> 8229.2252 | C21: ='Mensual 2024'!D86 -> 11695.296 | D21: ='Mensual 2024'!E86 -> 15315.709 | E21: ='Mensual 2024'!F86 -> 13732.71 | F21: ='Mensual 2024'!G86 -> 26608.705 | G21: ='Mensual 2024'!H86 -> 16181.678 | H21: ='Mensual 2024'!I86 -> 24074.792 | I21: ='Mensual 2024'!J86 -> 109581.12 | ... M21: ='Mensual 2024'!N86 -> 78491.851 | N21: =SUM(B21:M21) -> 606441.89 | O21: 5418568.6
A22: Subtotal | B22: =SUM(B15:B20) -> 43.913649 | C22: =SUM(C15:C20) -> 64.316939 | D22: =SUM(D15:D20) -> 81.544974 | E22: =SUM(E15:E20) -> 64.471134 | F22: =SUM(F15:F20) -> 116.06971 | G22: =SUM(G15:G20) -> 65.88771 | H22: =SUM(H15:H20) -> 128.73202 | I22: =SUM(I15:I20) -> 563.0548 | ... O22: =SUM(O15:O20) -> 32116.01
A23: Ni Comp | B23: 0 | C23: 0 | D23: 0 | E23: 0 | F23: 0 | G23: 0 | H23: 0 | I23: 0 | J23: 0 | K23: 0 | L23: 0 | M23: 0 | N23: =SUM(B23:M23) -> 0 | O23: N/A
A24: Mn Comp | B24: 0 | C24: 0 | D24: 0 | E24: 0 | F24: 0 | G24: 0 | H24: 0 | I24: 0 | J24: 0 | K24: 0 | L24: 0 | M24: 0 | N24: =SUM(B24:M24) -> 0 | O24: N/A
A25: Formaldehido | B25: 0 | C25: 0 | D25: 0 | E25: 0 | F25: 0 | G25: 0 | H25: 0 | I25: 0 | J25: 0 | K25: 0 | L25: 0 | M25: 0 | N25: =SUM(B25:M25) -> 0 | O25: N/A
A26: Tolueno | B26: 0 | C26: 0 | D26: 0 | E26: 0 | F26: 0 | G26: 0 | H26: 0 | I26: 0 | J26: 0 | K26: 0 | L26: 0 | M26: 0 | N26: =SUM(B26:M26) -> 0 | O26: N/A
A27: POM | B27: 0 | C27: 0 | D27: 0 | E27: 0 | F27: 0 | G27: 0 | H27: 0 | I27: 0 | J27: 0 | K27: 0 | L27: 0 | M27: 0 | N27: =SUM(B27:M27) -> 0 | O27: N/A
A28: CAPs Total | B28: 0 | C28: 0 | D28: 0 | E28: 0 | F28: 0 | G28: 0 | H28: 0 | I28: 0 | J28: 0 | K28: 0 | L28: 0 | M28: 0 | N28: =SUM(B28:M28) -> 0 | O28: N/A
A29: Subtotal CAPs | B29: =B28 -> 0 | C29: =C28 -> 0 | D29: =D28 -> 0 | E29: =E28 -> 0 | F29: =F28 -> 0 | G29: =G28 -> 0 | H29: =H28 -> 0 | I29: =I28 -> 0 | ... O29: =O28 -> N/A
A30: Total | B30: =SUM(B22,B29) -> 43.913649 | C30: =SUM(C22,C29) -> 64.316939 | D30: =SUM(D22,D29) -> 81.544974 | E30: =SUM(E22,E29) -> 64.471134 | F30: =SUM(F22,F29) -> 116.06971 | G30: =SUM(G22,G29) -> 65.88771 | H30: =SUM(H22,H29) -> 128.73202 | I30: =SUM(I22,I29) -> 563.0548 | ... O30: =SUM(O22,O29) -> 32116.01
B32: Aguirre | C32: Aguirre | D32: Aguirre | E32: Aguirre | F32: Aguirre | G32: Aguirre | H32: Aguirre | I32: Aguirre | J32: Aguirre | K32: Aguirre | L32: Aguirre | M32: Aguirre | N32: Aguirre | O32: Aguirre
A33: PM Total | B33: ='Mensual 2024'!C66 -> 31.720553 | C33: ='Mensual 2024'!D66 -> 59.972639 | D33: ='Mensual 2024'!E66 -> 53.178978 | E33: ='Mensual 2024'!F66 -> 47.698893 | F33: ='Mensual 2024'!G66 -> 93.051841 | G33: ='Mensual 2024'!H66 -> 98.245783 | H33: ='Mensual 2024'!I66 -> 78.946523 | I33: ='Mensual 2024'!J66 -> 57.154032 | ... M33: ='Mensual 2024'!N66 -> 4.5606174 | N33: =SUM(B33:M33) -> 640.14482 | O33: 2194.88
A34: SO2 | B34: ='Mensual 2024'!C67 -> 286.51132 | C34: ='Mensual 2024'!D67 -> 567.1207 | D34: ='Mensual 2024'!E67 -> 508.05586 | E34: ='Mensual 2024'!F67 -> 427.24842 | F34: ='Mensual 2024'!G67 -> 866.83982 | G34: ='Mensual 2024'!H67 -> 939.59763 | H34: ='Mensual 2024'!I67 -> 758.29799 | I34: ='Mensual 2024'!J67 -> 509.39644 | ... M34: ='Mensual 2024'!N67 -> 0.38385196 | N34: =SUM(B34:M34) -> 5845.6688 | O34: 30608.58
A35: NOx | B35: ='Mensual 2024'!C68 -> 416.93517 | C35: ='Mensual 2024'!D68 -> 560.54406 | D35: ='Mensual 2024'!E68 -> 485.30014 | E35: ='Mensual 2024'!F68 -> 585.65075 | F35: ='Mensual 2024'!G68 -> 959.08372 | G35: ='Mensual 2024'!H68 -> 894.15978 | H35: ='Mensual 2024'!I68 -> 696.33122 | I35: ='Mensual 2024'!J68 -> 772.3033 | ... M35: ='Mensual 2024'!N68 -> 334.44527 | N35: =SUM(B35:M35) -> 7613.0415 | O35: 28867.78
A36: VOC | B36: ='Mensual 2024'!C69 -> 2.8813998 | C36: ='Mensual 2024'!D69 -> 5.8048641 | D36: ='Mensual 2024'!E69 -> 5.1002571 | E36: ='Mensual 2024'!F69 -> 4.5363409 | F36: ='Mensual 2024'!G69 -> 8.9192039 | G36: ='Mensual 2024'!H69 -> 9.4141224 | H36: ='Mensual 2024'!I69 -> 7.5861172 | I36: ='Mensual 2024'!J69 -> 5.2346063 | ... M36: ='Mensual 2024'!N69 -> 0.15582109 | N36: =SUM(B36:M36) -> 59.841376 | O36: 195.32
A37: CO | B37: ='Mensual 2024'!C70 -> 19.118494 | C37: ='Mensual 2024'!D70 -> 38.318759 | D37: ='Mensual 2024'!E70 -> 33.662457 | E37: ='Mensual 2024'!F70 -> 30.049293 | F37: ='Mensual 2024'!G70 -> 58.946046 | G37: ='Mensual 2024'!H70 -> 62.133471 | H37: ='Mensual 2024'!I70 -> 50.051492 | I37: ='Mensual 2024'!J70 -> 34.742847 | ... M37: ='Mensual 2024'!N70 -> 1.2541698 | N37: =SUM(B37:M37) -> 396.31728 | O37: 1299.54
A38: Pb | B38: ='Mensual 2024'!C71 -> 0.009267561 | C38: ='Mensual 2024'!D71 -> 0.01435284 | D38: ='Mensual 2024'!E71 -> 0.012499345 | E38: ='Mensual 2024'!F71 -> 0.013497125 | F38: ='Mensual 2024'!G71 -> 0.023564524 | G38: ='Mensual 2024'!H71 -> 0.023046522 | H38: ='Mensual 2024'!I71 -> 0.018197421 | I38: ='Mensual 2024'!J71 -> 0.017065924 | ... M38: ='Mensual 2024'!N71 -> 0.0053207203 | N38: =SUM(B38:M38) -> 0.17630808 | O38: 0.63
A39: CO2e | B39: ='Mensual 2024'!C72 -> 135251.54 | C39: ='Mensual 2024'!D72 -> 223323.14 | D39: ='Mensual 2024'!E72 -> 194948.39 | E39: ='Mensual 2024'!F72 -> 200486.89 | F39: ='Mensual 2024'!G72 -> 360343.03 | G39: ='Mensual 2024'!H72 -> 359554.45 | H39: ='Mensual 2024'!I72 -> 285479.41 | I39: ='Mensual 2024'!J72 -> 248324.45 | ... M39: ='Mensual 2024'!N72 -> 62183.394 | N39: =SUM(B39:M39) -> 2624924.4 | O39: 10093497
A40: Subtotal | B40: =SUM(B33:B38) -> 757.17621 | C40: =SUM(C33:C38) -> 1231.7754 | D40: =SUM(D33:D38) -> 1085.3102 | E40: =SUM(E33:E38) -> 1095.1972 | F40: =SUM(F33:F38) -> 1986.8642 | G40: =SUM(G33:G38) -> 2003.5738 | H40: =SUM(H33:H38) -> 1591.2315 | I40: =SUM(I33:I38) -> 1378.8483 | ... O40: =SUM(O33:O38) -> 63166.73
A41: Ni Comp | B41: 0 | C41: 0 | D41: 0 | E41: 0 | F41: 0 | G41: 0 | H41: 0 | I41: 0 | J41: 0 | K41: 0 | L41: 0 | M41: 0 | N41: =SUM(B41:M41) -> 0 | O41: 20.71
A42: Mn Comp | B42: 0 | C42: 0 | D42: 0 | E42: 0 | F42: 0 | G42: 0 | H42: 0 | I42: 0 | J42: 0 | K42: 0 | L42: 0 | M42: 0 | N42: =SUM(B42:M42) -> 0 | O42: 19.62
...

Sheet Costa Sur
A2: Costa Sur BC Consumption 2024
A3: Galones | F3: Azufre | L3: Barrels
A4: year | B4: CS3 | C4: CS4 | D4: CS5 | E4: CS6 | F4: CS3 | G4: CS4 | H4: CS5 | I4: CS6 | J4: CS3 | K4: CS4 | L4: CS5 | M4: CS6
A5: 45292 | B5: 0 | C5: 0 | D5: =SUM(L5*42) -> 0 | E5: =SUM(M5*42) -> 0 | F5: 0 | G5: 0 | H5: 0.5 | I5: 0.5 | J5: 0 | K5: 0 | L5: 0 | M5: 0
A6: 45323 | B6: 0 | C6: 0 | D6: =SUM(L6*42) -> 1867.74 | E6: =SUM(M6*42) -> 0 | F6: 0 | G6: 0 | H6: 0.5 | I6: 0.5 | J6: 0 | K6: 0 | L6: 44.47 | M6: 0
A7: 45352 | B7: 0 | C7: 0 | D7: =SUM(L7*42) -> 0 | E7: =SUM(M7*42) -> 0 | F7: 0 | G7: 0 | H7: 0.49 | I7: 0.49 | J7: 0 | K7: 0 | L7: 0 | M7: 0
A8: 45383 | B8: 0 | C8: 0 | D8: =SUM(L8*42) -> 789179.16 | E8: =SUM(M8*42) -> 0 | F8: 0 | G8: 0 | H8: 0.49 | I8: 0.49 | J8: 0 | K8: 0 | L8: 18789.98 | M8: 0
A9: 45413 | B9: 0 | C9: 0 | D9: =SUM(L9*42) -> 10722632 | E9: =SUM(M9*42) -> 3992586.8 | F9: 0 | G9: 0 | H9: 0.49 | I9: 0.49 | J9: 0 | K9: 0 | L9: 255300.75 | M9: 95061.59
A10: 45444 | B10: 0 | C10: 0 | D10: =SUM(L10*42) -> 4873351.1 | E10: =SUM(M10*42) -> 10911365 | F10: 0 | G10: 0 | H10: 0.49 | I10: 0.49 | J10: 0 | K10: 0 | L10: 116032.17 | M10: 259794.41
A11: 45474 | B11: 0 | C11: 0 | D11: =SUM(L11*42) -> 5422408.3 | E11: =SUM(M11*42) -> 14119245 | F11: 0 | G11: 0 | H11: 0.5 | I11: 0.5 | J11: 0 | K11: 0 | L11: 129104.96 | M11: 336172.5
A12: 45505 | B12: 0 | C12: 0 | D12: =SUM(L12*42) -> 6083690.3 | E12: =SUM(M12*42) -> 4551498.8 | F12: 0 | G12: 0 | H12: 0.5 | I12: 0.5 | J12: 0 | K12: 0 | L12: 144849.77 | M12: 108369.02
A13: 45536 | B13: 0 | C13: 0 | D13: =SUM(L13*42) -> 6636131.5 | E13: =SUM(M13*42) -> 9927512.3 | F13: 0 | G13: 0 | H13: 0.5 | I13: 0.5 | J13: 0 | K13: 0 | L13: 158003.13 | M13: 236369.34
A14: 45566 | B14: 0 | C14: 0 | D14: =SUM(L14*42) -> 2387110.3 | E14: =SUM(M14*42) -> 7214789.4 | F14: 0 | G14: 0 | H14: 0.49 | I14: 0.49 | J14: 0 | K14: 0 | L14: 56835.96 | M14: 171780.7
A15: 45597 | B15: 0 | C15: 0 | D15: =SUM(L15*42) -> 310128 | E15: =SUM(M15*42) -> 2486694 | F15: 0 | G15: 0 | H15: 0.49 | I15: 0.49 | J15: 0 | K15: 0 | L15: 7384 | M15: 59207
A16: 45627 | B16: 0 | C16: 0 | D16: =SUM(L16*42) -> 567774.9 | E16: =SUM(M16*42) -> 7663387.2 | F16: 0 | G16: 0 | H16: 0.49 | I16: 0.49 | J16: 0 | K16: 0 | L16: 13518.45 | M16: 182461.6
A17: Total | B17: =SUM(B5:B16) -> 0 | C17: =SUM(C5:C16) -> 0 | D17: =SUM(D5:D16) -> 37794273 | E17: =SUM(E5:E16) -> 60867079 | F17: =AVERAGE(F5:F16) -> 0 | G17: =AVERAGE(G5:G16) -> 0 | H17: =AVERAGE(H5:H16) -> 0.49416667 | I17: =AVERAGE(I5:I16) -> 0.49416667
A21: CS #2 FO Consumption 2024
A22: year | B22: Galones | D22: Azufre | G22: Barrels
B23: SCGT1-1 | C23: SCGT1-2 | D23: SCGT1-1 | E23: SCGT1-2 | G23: SCGT1-1 | H23: SCGT1-2
A24: =A5 -> 45292 | B24: 0 | C24: 0 | D24: 0.0008 | E24: 0.0008 | G24: 0 | H24: 0
A25: =A6 -> 45323 | B25: 0 | C25: 0 | D25: 0.0008 | E25: 0.0008 | G25: 0 | H25: 0
A26: =A7 -> 45352 | B26: 0 | C26: 0 | D26: 0.0008 | E26: 0.0008 | G26: 0 | H26: 0
A27: =A8 -> 45383 | B27: 0 | C27: 0 | D27: 0.0008 | E27: 0.0008 | G27: 0 | H27: 0
A28: =A9 -> 45413 | B28: 0 | C28: 0 | D28: 0.0008 | E28: 0.0008 | G28: 0 | H28: 0
A29: =A10 -> 45444 | B29: 0 | C29: 0 | D29: 0.0008 | E29: 0.0008 | G29: 0 | H29: 0
A30: =A11 -> 45474 | B30: 0 | C30: 4650 | D30: 0.0008 | E30: 0.0008 | G30: 0.001 | H30: 0.001
A31: =A12 -> 45505 | B31: 0 | C31: 4931 | D31: 0.0008 | E31: 0.0008
A32: =A13 -> 45536 | B32: 0 | C32: 21642 | D32: 0.0008 | E32: 0.0008
A33: =A14 -> 45566 | B33: 0 | C33: 85390 | D33: 0.0008 | E33: 0.0008
A34: =A15 -> 45597 | B34: 0 | C34: 13630 | D34: 0.0008 | E34: 0.0008
A35: =A16 -> 45627 | B35: 0 | C35: 0 | D35: 0.0008 | E35: 0.0008
A36: Total | B36: =SUM(B30:B35) -> 0 | C36: =SUM(C30:C35) -> 130243 | D36: =SUM(D24:D35) -> 0.0096 | E36: =SUM(E24:E35) -> 0.0096
A39: Costa Sur Natural Gas Consumtion 2024
A40: year | B40: SCF | D40: Azufre
B41: Unit 5 | C41: Unit 6 | D41: Unit 5 | E41: Unit 6
A42: =A5 -> 45292 | B42: 0 | C42: 274565 | D42: 0.00047 | E42: 0.00047
A43: =A6 -> 45323 | B43: 71709 | C43: 0 | D43: 0.0001 | E43: 0.0001
A44: =A7 -> 45352 | B44: 853651500 | C44: 0 | D44: 6.9e-05 | E44: 6.9e-05
A45: =A8 -> 45383 | B45: 1876856600 | C45: 0 | D45: 6.9e-05 | E45: 6.9e-05
A46: =A9 -> 45413 | B46: 265688800 | C46: 369161400 | D46: 0.00017 | E46: 0.00017
...

Sheet Turbinas CS
B1: Cómputo de Emisiones Actuales - Costa Sur (Turbinas 1-1 & 1-2) DICIEMBRE
B3: Factores de Emisión AP-42 Section 3.1
B5: PM | C5: 0.012lb/MMBTU
B6: SOx | C6: 1.01*%S lb/MMBTU
B7: NOx | C7: 0.880 lb/MMBTU
B8: VOC | C8: 0.00041 lb/MMBTU
B9: C0 | C9: 0.0033 lb/MMBTU
B10: Pb | C10: 0.0000140 lb MMBTU
B11: CO2e | C11: 163.61 lb/MMBtu (40 CFR 98, Subpart C)
R12: =(73.96+0.003*25+0.0006*298)*2.2046 -> 163.61174
B13: Combustible #2 | C13: ='Costa Sur'!B36+'Costa Sur'!C36 -> 130243 | D13: gal/year
B14: Azufre % | C14: =MAX('Costa Sur'!D35:E35) -> 0.0008
B17: Cálculos Emisiones PM
B19: = | C19: 0.012 | D19: lb | E19: =C13 -> 130243 | F19: gal | G19: 0.138 | H19: MMBTU | I19: ton
C20: MMBTU | E20: year | G20: gal | I20: 2000 | J20: lb
B23: = | C23: =C19*E19*G19/I20 -> 0.1078412 | D23: ton | E23: = | F23: =C23*2000/8760 -> 0.024621279 | G23: lb
D24: year | G24: hr
B26: Cálculos Emisiones SOx
B28: = | C28: =1.01*C14 -> 0.000808 | D28: lb | E28: =E19 -> 130243 | F28: gal | G28: 0.138 | H28: MMBTU | I28: ton
C29: MMBTU | E29: year | G29: gal | I29: 2000 | J29: lb
B32: = | C32: =C28*E28*G28/I29 -> 0.0072613077 | D32: ton | E32: = | F32: =C32*2000/8760 -> 0.0016578328 | G32: lb
D33: year | G33: hr
B35: Cálculos Emisiones NOx
B37: = | C37: 0.88 | D37: lb | E37: =E19 -> 130243 | F37: gal | G37: 0.138 | H37: MMBTU | I37: ton
C38: MMBTU | E38: year | G38: gal | I38: 2000 | J38: lb
B41: = | C41: =C37*E37*G37/I38 -> 7.908355 | D41: ton | E41: = | F41: =C41*2000/8760 -> 1.8055605 | G41: lb
D42: year | G42: hr
B44: Cálculos Emisiones VOC
B46: = | C46: 0.00041 | D46: lb | E46: =E19 -> 130243 | F46: gal | G46: 0.138 | H46: MMBTU | I46: ton
C47: MMBTU | E47: year | G47: gal | I47: 2000 | J47: lb
B50: = | C50: =C46*E46*G46/I47 -> 0.0036845745 | D50: ton | E50: = | F50: =C50*2000/8760 -> 0.00084122705 | G50: lb
D51: year | G51: hr
B53: Cálculos Emisiones CO
B55: = | C55: 0.0033 | D55: lb | E55: =E19 -> 130243 | F55: gal | G55: 0.138 | H55: MMBTU | I55: ton
C56: MMBTU | E56: year | G56: gal | I56: 2000 | J56: lb
B59: = | C59: =C55*E55*G55/I56 -> 0.029656331 | D59: ton | E59: = | F59: =C59*2000/8760 -> 0.0067708518 | G59: lb
D60: year | G60: hr
B62: Cálculos Emisiones Pb
B64: = | C64: 1.4e-05 | D64: lb | E64: =E19 -> 130243 | F64: gal | G64: 0.138 | H64: MMBTU | I64: ton
C65: MMBTU | E65: year | G65: gal | I65: 2000 | J65: lb
...

Sheet CS 5
A1: Cómputo de Emisiones Actuales para Bunker C y Gas Natural - Costa Sur year 2024 - Unidad 5*
A3: Parametro | B3: Factor de Emisión Combustible Natural Gas | C3: Factor de Emisión Combustible No. 6 Oil | D3: Emisiones Actuales (ton/year) | E3: Emisiones Actuales (lb/hr)
A4: NOx | B4: 0.35 | C4: 0.35 | D4: =B23 -> 3017.4407 | E4: =F23 -> 688.9134
A5: CO | B5: 0.009 | C5: 0.0038 | D5: =B29 -> 62.851566 | E5: =F29 -> 14.349673
A6: VOC | B6: 0.0008 | C6: 0.0013 | D6: =B35 -> 8.3142926 | E6: =F35 -> 1.8982403 | F6: Ecuación para el Cómputo
A7: PM | B7: 0.005 | C7: 0.0275 | D7: =B41 -> 106.88413 | E7: =F41 -> 24.40277 | F7: ton/year = | G7: [Consumo de Combustible #6 en galones/year) * ( Valor Calorífico BC 0.15 MMBtu/gal)
A8: PM10 | B8: 0.0081 | C8: 0.04 | D8: =B47 -> 160.255 | E8: =F47 -> 36.587899 | G8: + (Consumo Gas Natural SCF/year) * (Valor Calorífico GN 1,040 MMBtu/SCF*10^6)]
A9: PM2.5 | B9: 0.0075 | C9: 0.033 | D9: =B53 -> 136.94099 | E9: =F53 -> 31.265066 | G9: * FE en lbs/MMBtu * 1 ton/2,000 lbs
A10: SO2 | B10: 0.004 | C10: 157*%S | D10: =B59 -> 1489.2653 | E10: =F59 -> 340.01492
A11: H2SO4 | B11: 0.00043 | C11: 0.02259 | D11: =B65 -> 66.521223 | E11: =F65 -> 15.187494 | F11: lbs/hr = | G11: (Toneladas Contaminante / year) * (1 year / 8,760 hr) * (2000 lb / ton) | V11: CO2e | W11: =(157765.7+153.2+365.3)*2204.6/13621578 -> 25.617689 | X11: lbs/gal
A12: Pb | B12: 0 | C12: 4.63e-06 | D12: =B71 -> 0.013124061 | E12: =F71 -> 0.002996361 | W12: =(989989.8+466.4+556)*2204.62/18132099995 -> 0.12049378 | X12: lbs/scf
A13: CO2e | B13: 25.618 lbs/gal | C13: 0.1205 lbs/SCF | D13: =B77 -> 1154543.3 | E13: =F77 -> 263594.36
A14: Fluoruro | B14: 0 | C14: 0 | D14: 0 | E14: 0
A16: Consumo #6 = | B16: =SUM('Costa Sur'!D17) -> 37794273 | D16: gal/year
A17: Consumo NG = | B17: =SUM('Costa Sur'!B54) -> 1.1128248e+10 | D17: SCF/year
A18: #6 Azufre = | B18: =SUM('Costa Sur'!H17) -> 0.49416667 | D18: %
A20: NOx = | B20: =B16 -> 37794273 | D20: galones | E20: 0.15 | F20: MMBtu | G20: * | H20: =C4 -> 0.35 | I20: lbs | J20: 1 | K20: ton | L20: + | M20: =B17 -> 1.1128248e+10 | N20: SCF | O20: 1040 | P20: MMBtu | Q20: * | R20: =B4 -> 0.35 | S20: lbs | T20: 1 | U20: ton
D21: year | F21: gal | I21: MMBtu | J21: 2000 | K21: lbs | N21: year | O21: 1000000 | P21: SCF | S21: MMBtu | T21: 2000 | U21: lbs
B23: =(B20*E20*H20+M20*O20*R20/1000000)/2000 -> 3017.4407 | D23: ton/year | E23: = | F23: =B23*(2000/8760) -> 688.9134 | G23: lb/hr
A26: CO = | B26: =B16 -> 37794273 | D26: galones | E26: 0.15 | F26: MMBtu | G26: * | H26: =C5 -> 0.0038 | I26: lbs | J26: 1 | K26: ton | L26: + | M26: =B17 -> 1.1128248e+10 | N26: SCF | O26: 1040 | P26: MMBtu | Q26: * | R26: =B5 -> 0.009 | S26: lbs | T26: 1 | U26: ton
D27: year | F27: gal | I27: MMBtu | J27: 2000 | K27: lbs | N27: year | O27: 1000000 | P27: SCF | S27: MMBtu | T27: 2000 | U27: lbs
B29: =(B26*E26*H26+M26*O26*R26/1000000)/2000 -> 62.851566 | D29: ton/year | E29: = | F29: =B29*(2000/8760) -> 14.349673 | G29: lb/hr
A32: VOC = | B32: =B16 -> 37794273 | D32: galones | E32: 0.15 | F32: MMBtu | G32: * | H32: =C6 -> 0.0013 | I32: lbs | J32: 1 | K32: ton | L32: + | M32: =B17 -> 1.1128248e+10 | N32: SCF | O32: 1040 | P32: MMBtu | Q32: * | R32: =B6 -> 0.0008 | S32: lbs | T32: 1 | U32: ton
D33: year | F33: gal | I33: MMBtu | J33: 2000 | K33: lbs | N33: year | O33: 1000000 | P33: SCF | S33: MMBtu | T33: 2000 | U33: lbs
B35: =(B32*E32*H32+M32*O32*R32/1000000)/2000 -> 8.3142926 | D35: ton/year | E35: = | F35: =B35*(2000/8760) -> 1.8982403 | G35: lb/hr
A38: PM = | B38: =B16 -> 37794273 | D38: galones | E38: 0.15 | F38: MMBtu | G38: * | H38: =C7 -> 0.0275 | I38: lbs | J38: 1 | K38: ton | L38: + | M38: =B17 -> 1.1128248e+10 | N38: SCF | O38: 1040 | P38: MMBtu | Q38: * | R38: =B7 -> 0.005 | S38: lbs | T38: 1 | U38: ton
D39: year | F39: gal | I39: MMBtu | J39: 2000 | K39: lbs | N39: year | O39: 1000000 | P39: SCF | S39: MMBtu | T39: 2000 | U39: lbs
B41: =(B38*E38*H38+M38*O38*R38/1000000)/2000 -> 106.88413 | D41: ton/year | E41: = | F41: =B41*(2000/8760) -> 24.40277 | G41: lb/hr | L41: lb/hr
A44: PM10 = | B44: =B16 -> 37794273 | D44: galones | E44: 0.15 | F44: MMBtu | G44: * | H44: =C8 -> 0.04 | I44: lbs | J44: 1 | K44: ton | L44: + | M44: =B17 -> 1.1128248e+10 | N44: SCF | O44: 1040 | P44: MMBtu | Q44: * | R44: =B8 -> 0.0081 | S44: lbs | T44: 1 | U44: ton
D45: year | F45: gal | I45: MMBtu | J45: 2000 | K45: lbs | N45: year | O45: 1000000 | P45: SCF | S45: MMBtu | T45: 2000 | U45: lbs
B47: =(B44*E44*H44+M44*O44*R44/1000000)/2000 -> 160.255 | D47: ton/year | E47: = | F47: =B47*(2000/8760) -> 36.587899 | G47: lb/hr | L47: lb/hr
A50: PM2.5 = | B50: =B16 -> 37794273 | D50: galones | E50: 0.15 | F50: MMBtu | G50: * | H50: =C9 -> 0.033 | I50: lbs | J50: 1 | K50: ton | L50: + | M50: =B17 -> 1.1128248e+10 | N50: SCF | O50: 1040 | P50: MMBtu | Q50: * | R50: =B9 -> 0.0075 | S50: lbs | T50: 1 | U50: ton
D51: year | F51: gal | I51: MMBtu | J51: 2000 | K51: lbs | N51: year | O51: 1000000 | P51: SCF | S51: MMBtu | T51: 2000 | U51: lbs
B53: =(B50*E50*H50+M50*O50*R50/1000000)/2000 -> 136.94099 | D53: ton/year | E53: = | F53: =B53*(2000/8760) -> 31.265066 | G53: lb/hr | L53: lb/hr
A56: SO2 = | B56: =B16 -> 37794273 | D56: galones | G56: * | H56: =(157)*B18 -> 77.584167 | I56: lbs | J56: 1 | K56: ton | L56: + | M56: =B17 -> 1.1128248e+10 | N56: SCF | O56: 1040 | P56: MMBtu | Q56: * | R56: =B10 -> 0.004 | S56: lbs | T56: 1 | U56: ton
D57: year | H57: 1000 | I57: gals | J57: 2000 | K57: lbs | N57: year | O57: 1000000 | P57: SCF | S57: MMBtu | T57: 2000 | U57: lbs
B59: =(B56*H56/H57+M56*O56*R56/1000000)/2000 -> 1489.2653 | D59: ton/year | E59: = | F59: =B59*(2000/8760) -> 340.01492 | G59: lb/hr | L59: lb/hr
A62: H2SO4 = | B62: =B16 -> 37794273 | D62: galones | E62: 0.15 | F62: MMBtu | G62: * | H62: =C11 -> 0.02259 | I62: lbs | J62: 1 | K62: ton | L62: + | M62: =B17 -> 1.1128248e+10 | N62: SCF | O62: 1040 | P62: MMBtu | Q62: * | R62: =B11 -> 0.00043 | S62: lbs | T62: 1 | U62: ton
D63: year | F63: gal | I63: MMBtu | J63: 2000 | K63: lbs | N63: year | O63: 1000000 | P63: SCF | S63: MMBtu | T63: 2000 | U63: lbs
B65: =(B62*E62*H62+M62*O62*R62/1000000)/2000 -> 66.521223 | D65: ton/year | E65: = | F65: =B65*(2000/8760) -> 15.187494 | G65: lb/hr | L65: lb/hr
...

Sheet CS6
A1: Cómputo de Emisiones Actuales para Bunker C y Gas Natural - Costa Sur year 2024 - Unidad 6*
A3: Parametro | B3: Factor de Emisión Combustible Natural Gas | C3: Factor de Emisión Combustible No. 6 Oil | D3: Emisiones Actuales (ton/year) | E3: Emisiones Actuales (lb/hr)
A4: NOx | B4: 0.35 | C4: 0.35 | D4: =B23 -> 2717.8448 | E4: =F23 -> 620.51251
A5: CO | B5: 0.009 | C5: 0.0038 | D5: =B29 -> 46.149277 | E5: =F29 -> 10.536365
A6: VOC | B6: 0.0008 | C6: 0.0013 | D6: =B35 -> 8.4947322 | E6: =F35 -> 1.9394366 | F6: Ecuación para el Cómputo
A7: PM | B7: 0.005 | C7: 0.0275 | D7: =B41 -> 141.53955 | E7: =F41 -> 32.314966 | F7: ton/year = | G7: [Consumo de Combustible #6 en galones/year) * ( Valor Calorífico BC 0.15 MMBtu/gal)
A8: PM10 | B8: 0.0081 | C8: 0.04 | D8: =B47 -> 208.52318 | E8: =F47 -> 47.608032 | G8: + (Consumo Gas Natural SCF/year) * (Valor Calorífico GN 1,040 MMBtu/SCF*10^6)]
A9: PM2.5 | B9: 0.0075 | C9: 0.033 | D9: =B53 -> 174.64782 | E9: =F53 -> 39.873931 | G9: * FE en lbs/MMBtu * 1 ton/2,000 lbs
A10: SO2 | B10: 0.004 | C10: 157*%S | D10: =B59 -> 2373.9617 | E10: =F59 -> 542.0004
A11: H2SO4 | B11: 0.00043 | C11: 0.02259 | D11: =B65 -> 104.50015 | E11: =F65 -> 23.858482 | F11: lbs/hr = | G11: (Toneladas Contaminante / year) * (1 year / 8,760 hr) * (2000 lb / ton) | V11: CO2e | W11: =(157765.7+153.2+365.3)*2204.6/13621578 -> 25.617689 | X11: lbs/gal
A12: Pb | B12: 0 | C12: 4.63e-06 | D12: =B71 -> 0.021136093 | E12: =F71 -> 0.004825592 | W12: =(989989.8+466.4+556)*2204.62/18132099995 -> 0.12049378 | X12: lbs/scf
A13: CO2e | B13: 25.618 lbs/gal | C13: 0.1205 lbs/SCF | D13: =B77 -> 1150414.8 | E13: =F77 -> 262651.79
A14: Fluoruro | B14: 0 | C14: 0 | D14: 0 | E14: 0
A16: Consumo #6 = | B16: =SUM('Costa Sur'!E17) -> 60867079 | D16: gal/year
A17: Consumo NG = | B17: =SUM('Costa Sur'!C54) -> 6.1543077e+09 | D17: SCF/year
A18: #6 Azufre = | B18: =SUM('Costa Sur'!I17) -> 0.49416667 | D18: %
A20: NOx = | B20: =B16 -> 60867079 | D20: galones | E20: 0.15 | F20: MMBtu | G20: * | H20: =C4 -> 0.35 | I20: lbs | J20: 1 | K20: ton | L20: + | M20: =B17 -> 6.1543077e+09 | N20: SCF | O20: 1040 | P20: MMBtu | Q20: * | R20: =B4 -> 0.35 | S20: lbs | T20: 1 | U20: ton
D21: year | F21: gal | I21: MMBtu | J21: 2000 | K21: lbs | N21: year | O21: 1000000 | P21: SCF | S21: MMBtu | T21: 2000 | U21: lbs
B23: =(B20*E20*H20+M20*O20*R20/1000000)/2000 -> 2717.8448 | D23: ton/year | E23: = | F23: =B23*(2000/8760) -> 620.51251 | G23: lb/hr
A26: CO = | B26: =B16 -> 60867079 | D26: galones | E26: 0.15 | F26: MMBtu | G26: * | H26: =C5 -> 0.0038 | I26: lbs | J26: 1 | K26: ton | L26: + | M26: =B17 -> 6.1543077e+09 | N26: SCF | O26: 1040 | P26: MMBtu | Q26: * | R26: =B5 -> 0.009 | S26: lbs | T26: 1 | U26: ton
D27: year | F27: gal | I27: MMBtu | J27: 2000 | K27: lbs | N27: year | O27: 1000000 | P27: SCF | S27: MMBtu | T27: 2000 | U27: lbs
B29: =(B26*E26*H26+M26*O26*R26/1000000)/2000 -> 46.149277 | D29: ton/year | E29: = | F29: =B29*(2000/8760) -> 10.536365 | G29: lb/hr
A32: VOC = | B32: =B16 -> 60867079 | D32: galones | E32: 0.15 | F32: MMBtu | G32: * | H32: =C6 -> 0.0013 | I32: lbs | J32: 1 | K32: ton | L32: + | M32: =B17 -> 6.1543077e+09 | N32: SCF | O32: 1040 | P32: MMBtu | Q32: * | R32: =B6 -> 0.0008 | S32: lbs | T32: 1 | U32: ton
D33: year | F33: gal | I33: MMBtu | J33: 2000 | K33: lbs | N33: year | O33: 1000000 | P33: SCF | S33: MMBtu | T33: 2000 | U33: lbs
B35: =(B32*E32*H32+M32*O32*R32/1000000)/2000 -> 8.4947322 | D35: ton/year | E35: = | F35: =B35*(2000/8760) -> 1.9394366 | G35: lb/hr
A38: PM = | B38: =B16 -> 60867079 | D38: galones | E38: 0.15 | F38: MMBtu | G38: * | H38: =C7 -> 0.0275 | I38: lbs | J38: 1 | K38: ton | L38: + | M38: =B17 -> 6.1543077e+09 | N38: SCF | O38: 1040 | P38: MMBtu | Q38: * | R38: =B7 -> 0.005 | S38: lbs | T38: 1 | U38: ton
D39: year | F39: gal | I39: MMBtu | J39: 2000 | K39: lbs | N39: year | O39: 1000000 | P39: SCF | S39: MMBtu | T39: 2000 | U39: lbs
B41: =(B38*E38*H38+M38*O38*R38/1000000)/2000 -> 141.53955 | D41: ton/year | E41: = | F41: =B41*(2000/8760) -> 32.314966 | G41: lb/hr | L41: lb/hr
A44: PM10 = | B44: =B16 -> 60867079 | D44: galones | E44: 0.15 | F44: MMBtu | G44: * | H44: =C8 -> 0.04 | I44: lbs | J44: 1 | K44: ton | L44: + | M44: =B17 -> 6.1543077e+09 | N44: SCF | O44: 1040 | P44: MMBtu | Q44: * | R44: =B8 -> 0.0081 | S44: lbs | T44: 1 | U44: ton
D45: year | F45: gal | I45: MMBtu | J45: 2000 | K45: lbs | N45: year | O45: 1000000 | P45: SCF | S45: MMBtu | T45: 2000 | U45: lbs
B47: =(B44*E44*H44+M44*O44*R44/1000000)/2000 -> 208.52318 | D47: ton/year | E47: = | F47: =B47*(2000/8760) -> 47.608032 | G47: lb/hr | L47: lb/hr
A50: PM2.5 = | B50: =B16 -> 60867079 | D50: galones | E50: 0.15 | F50: MMBtu | G50: * | H50: =C9 -> 0.033 | I50: lbs | J50: 1 | K50: ton | L50: + | M50: =B17 -> 6.1543077e+09 | N50: SCF | O50: 1040 | P50: MMBtu | Q50: * | R50: =B9 -> 0.0075 | S50: lbs | T50: 1 | U50: ton
D51: year | F51: gal | I51: MMBtu | J51: 2000 | K51: lbs | N51: year | O51: 1000000 | P51: SCF | S51: MMBtu | T51: 2000 | U51: lbs
B53: =(B50*E50*H50+M50*O50*R50/1000000)/2000 -> 174.64782 | D53: ton/year | E53: = | F53: =B53*(2000/8760) -> 39.873931 | G53: lb/hr | L53: lb/hr
A56: SO2 = | B56: =B16 -> 60867079 | D56: galones | G56: * | H56: =(157)*B18 -> 77.584167 | I56: lbs | J56: 1 | K56: ton | L56: + | M56: =B17 -> 6.1543077e+09 | N56: SCF | O56: 1040 | P56: MMBtu | Q56: * | R56: =B10 -> 0.004 | S56: lbs | T56: 1 | U56: ton
D57: year | H57: 1000 | I57: gals | J57: 2000 | K57: lbs | N57: year | O57: 1000000 | P57: SCF | S57: MMBtu | T57: 2000 | U57: lbs
B59: =(B56*H56/H57+M56*O56*R56/1000000)/2000 -> 2373.9617 | D59: ton/year | E59: = | F59: =B59*(2000/8760) -> 542.0004 | G59: lb/hr | L59: lb/hr
A62: H2SO4 = | B62: =B16 -> 60867079 | D62: galones | E62: 0.15 | F62: MMBtu | G62: * | H62: =C11 -> 0.02259 | I62: lbs | J62: 1 | K62: ton | L62: + | M62: =B17 -> 6.1543077e+09 | N62: SCF | O62: 1040 | P62: MMBtu | Q62: * | R62: =B11 -> 0.00043 | S62: lbs | T62: 1 | U62: ton
D63: year | F63: gal | I63: MMBtu | J63: 2000 | K63: lbs | N63: year | O63: 1000000 | P63: SCF | S63: MMBtu | T63: 2000 | U63: lbs
B65: =(B62*E62*H62+M62*O62*R62/1000000)/2000 -> 104.50015 | D65: ton/year | E65: = | F65: =B65*(2000/8760) -> 23.858482 | G65: lb/hr | L65: lb/hr
...

Sheet San Juan
A2: San Juan BC Consumption 2024
A3: year | B3: Barrels | F3: Galones | J3: Azufre
B4: SJ7 | C4: SJ8 | D4: SJ9 | E4: SJ10 | F4: SJ7 | G4: SJ8 | H4: SJ9 | I4: SJ10 | J4: SJ7 | K4: SJ8 | L4: SJ9 | M4: SJ10
A5: 45292 | B5: 89485.77 | C5: 0 | D5: 86059.41 | E5: 0 | F5: =B5*42 -> 3758402.3 | G5: 0 | H5: =D5*42 -> 3614495.2 | I5: =E5*42 -> 0 | J5: 0.48 | K5: * | L5: 0.48 | M5: *
A6: 45323 | B6: 51154.23 | C6: 0 | D6: 62958.87 | E6: 0 | F6: =B6*42 -> 2148477.7 | G6: =C6*42 -> 0 | H6: =D6*42 -> 2644272.5 | I6: =E6*42 -> 0 | J6: 0.48 | K6: * | L6: 0.48 | M6: *
A7: 45352 | B7: 24352.33 | C7: 0 | D7: 33070.88 | E7: 0 | F7: =B7*42 -> 1022797.9 | G7: =C7*42 -> 0 | H7: =D7*42 -> 1388977 | I7: =E7*42 -> 0 | J7: 0.47 | K7: * | L7: 0.47 | M7: *
A8: 45383 | B8: 0 | C8: 0 | D8: 85174.17 | E8: 0 | F8: =B8*42 -> 0 | G8: =C8*42 -> 0 | H8: =D8*42 -> 3577315.1 | I8: =E8*42 -> 0 | J8: 0.47 | K8: * | L8: 0.47 | M8: *
A9: 45413 | B9: 0 | C9: 0 | D9: 86478.75 | E9: 0 | F9: =B9*42 -> 0 | G9: =C9*42 -> 0 | H9: =D9*42 -> 3632107.5 | I9: =E9*42 -> 0 | J9: 0.47 | K9: * | L9: 0.47 | M9: *
A10: 45444 | B10: 0 | C10: 0 | D10: 87525.4 | E10: 0 | F10: =B10*42 -> 0 | G10: =C10*42 -> 0 | H10: =D10*42 -> 3676066.8 | I10: =E10*42 -> 0 | J10: 0.49 | K10: * | L10: 0.49 | M10: *
A11: 45474 | B11: 52525.05 | C11: 0 | D11: 50481.12 | E11: 0 | F11: =B11*42 -> 2206052.1 | G11: =C11*42 -> 0 | H11: =D11*42 -> 2120207 | I11: =E11*42 -> 0 | J11: 0.48 | K11: * | L11: 0.48 | M11: *
A12: 45505 | B12: 93073.96 | C12: 0 | D12: 94251.19 | E12: 0 | F12: =B12*42 -> 3909106.3 | G12: =C12*42 -> 0 | H12: =D12*42 -> 3958550 | I12: =E12*42 -> 0 | J12: 0.48 | K12: * | L12: 0.48 | M12: *
A13: 45536 | B13: 98577.1 | C13: 0 | D13: 85947.91 | E13: 0 | F13: =B13*42 -> 4140238.2 | G13: =C13*42 -> 0 | H13: =D13*42 -> 3609812.2 | I13: =E13*42 -> 0 | J13: 0.49 | K13: * | L13: 0.49 | M13: *
A14: 45566 | B14: 4067.95 | C14: 0 | D14: 88769.4 | E14: 0 | F14: =B14*42 -> 170853.9 | G14: =C14*42 -> 0 | H14: =D14*42 -> 3728314.8 | I14: =E14*42 -> 0 | J14: 0.49 | K14: * | L14: 0.49 | M14: *
A15: 45597 | B15: 0 | C15: 0 | D15: 84740.89 | E15: 0 | F15: =B15*42 -> 0 | G15: =C15*42 -> 0 | H15: =D15*42 -> 3559117.4 | I15: =E15*42 -> 0 | J15: 0.5 | K15: * | L15: 0.5 | M15: *
A16: 45627 | B16: 0 | C16: 0 | D16: 0 | E16: 0 | F16: =B16*42 -> 0 | G16: =C16*42 -> 0 | H16: =D16*42 -> 0 | I16: =E16*42 -> 0 | J16: 0.5 | K16: * | L16: 0.5 | M16: *
A17: Total | B17: =SUM(B5:B16) -> 413236.39 | C17: =SUM(C5:C16) -> 0 | D17: =SUM(D5:D16) -> 845457.99 | E17: =SUM(E5:E16) -> 0 | F17: =SUM(F5:F16) -> 17355928 | G17: =SUM(G5:G16) -> 0 | H17: =D17*42 -> 35509236 | I17: =SUM(I5:I16) -> 0 | J17: =AVERAGE(J5:J16) -> 0.48333333 | K17: *** | L17: =AVERAGE(L5:L16) -> 0.48333333 | M17: ***
A20: SJ #2FO Consumption 2024 | M20: San Juan Natural Gas Consumtion 2024
A21: year | B21: Barrels | D21: Galones | F21: Azufre | H21: Horas | M21: year | N21: SCF | P21: Azufre
B22: SJCC5 | C22: SJCC6 | D22: SJCC5 | E22: SJCC6 | F22: SJCC5 | G22: SJCC6 | H22: SJCC5 | I22: SJCC6 | N22: Unit 5 | O22: Unit 6 | P22: Unit 5 | Q22: Unit 6
A23: =A5 -> 45292 | B23: 0 | C23: 2142.65 | D23: =SUM(B23*42) -> 0 | E23: =SUM(C23*42) -> 89991.3 | F23: 0.00046 | G23: 0.00046 | H23: 697.9 | I23: 739.9 | M23: =A5 -> 45292 | N23: 1.0041675e+09 | O23: 1.0716477e+09 | P23: 0.001 | Q23: 0.001
A24: =A6 -> 45323 | B24: 0 | C24: 409.78 | D24: =SUM(B24*42) -> 0 | E24: =SUM(C24*42) -> 17210.76 | F24: 0.00055 | G24: 0.00055 | H24: 658.3 | I24: 566.6 | M24: =A6 -> 45323 | N24: 9.7156313e+08 | O24: 8.1174319e+08 | P24: 0.001 | Q24: 0.001
A25: =A7 -> 45352 | B25: 3920.41 | C25: 23554.6 | D25: =SUM(B25*42) -> 164657.22 | E25: =SUM(C25*42) -> 989293.2 | F25: 0.00046 | G25: 0.00046 | H25: 711.8 | I25: 656.7 | M25: =A7 -> 45352 | N25: 1.039795e+09 | O25: 8.5073384e+08 | P25: 0.001 | Q25: 0.001
A26: =A8 -> 45383 | B26: 993.52 | C26: 0 | D26: =SUM(B26*42) -> 41727.84 | E26: =SUM(C26*42) -> 0 | F26: 0.001 | G26: 0.001 | H26: 591 | I26: 0 | M26: =A8 -> 45383 | N26: 9.2992645e+08 | O26: 0 | P26: 0.001 | Q26: 0.001
A27: =A9 -> 45413 | B27: 3709.5 | C27: 0 | D27: =SUM(B27*42) -> 155799 | E27: =SUM(C27*42) -> 0 | F27: 0.0006 | G27: 0.0006 | H27: 731.5 | I27: 0 | M27: =A9 -> 45413 | N27: 1098783938 | O27: 0 | P27: 0.001 | Q27: 0.001
A28: =A10 -> 45444 | B28: 7493.46 | C28: 8782.29 | D28: =SUM(B28*42) -> 314725.32 | E28: =SUM(C28*42) -> 368856.18 | F28: 0.0006 | G28: 0.0006 | H28: 668.3 | I28: 470.5 | M28: =A10 -> 45444 | N28: 9.6730026e+08 | O28: 6.527048e+08 | P28: 0.001 | Q28: 0.001
A29: =A11 -> 45474 | B29: 54712 | C29: 0 | D29: =SUM(B29*42) -> 2297904 | E29: =SUM(C29*42) -> 0 | F29: 0.0006 | G29: 0.0006 | H29: 725.2 | I29: 695.5 | M29: =A11 -> 45474 | N29: 7.2940927e+08 | O29: 1.0513566e+09 | P29: 0.001 | Q29: 0.001
A30: =A12 -> 45505 | B30: 40693 | C30: 817.01 | D30: =SUM(B30*42) -> 1709106 | E30: =SUM(C30*42) -> 34314.42 | F30: 0.001 | G30: 0.001 | H30: 732.1 | I30: 167.2 | M30: =A12 -> 45505 | N30: 8.1466636e+08 | O30: 2.3437724e+08 | P30: 0.001 | Q30: 0.001
A31: =A13 -> 45536 | B31: 0 | C31: 0 | D31: =SUM(B31*42) -> 0 | E31: =SUM(C31*42) -> 0 | F31: 0.001 | G31: 0.001 | H31: 720 | I31: 0 | M31: =A13 -> 45536 | N31: 1.0862795e+09 | O31: 0 | P31: 0.001 | Q31: 0.001
A32: =A14 -> 45566 | B32: 46219.05 | C32: 0 | D32: =SUM(B32*42) -> 1941200.1 | E32: =SUM(C32*42) -> 0 | F32: 0.0007 | G32: 0.0007 | H32: 693.1 | I32: 0 | M32: =A14 -> 45566 | N32: 7.1786081e+08 | O32: 0 | P32: 0.001 | Q32: 0.001
A33: =A15 -> 45597 | B33: 25285.71 | C33: 0 | D33: =SUM(B33*42) -> 1061999.8 | E33: =SUM(C33*42) -> 0 | F33: 0.001 | G33: 0.001 | H33: 632.8 | I33: 0 | M33: =A15 -> 45597 | N33: 7.6148538e+08 | O33: 0 | P33: 0.001 | Q33: 0.001
A34: =A16 -> 45627 | B34: 21624.88 | C34: 0 | D34: =SUM(B34*42) -> 908244.96 | E34: =SUM(C34*42) -> 0 | F34: 0.001 | G34: 0.001 | H34: 726.4 | I34: 0 | M34: =A16 -> 45627 | N34: 9.4273297e+08 | O34: 0 | P34: 0.001 | Q34: 0.001
A35: Total | B35: =SUM(B23:B34) -> 204651.53 | C35: =SUM(C23:C34) -> 35706.33 | D35: =SUM(D23:D34) -> 8595364.3 | E35: =SUM(E23:E34) -> 1499665.9 | F35: =AVERAGE(F23:F34) -> 0.0007475 | G35: =AVERAGE(G23:G34) -> 0.0007475 | H35: =SUM(H23:H34) -> 8288.4 | I35: =SUM(I23:I34) -> 3296.4 | M35: TOTAL | N35: =SUM(N23:N34) -> 1.1063971e+10 | O35: =SUM(O23:O34) -> 4.6725634e+09 | P35: 0.001 | Q35: 0.001

Sheet Cálculos SJ
A1: Cómputo de Emisiones Actuales year 2024 - San Juan 7-10
A3: Factores de Emisión de acuerdo a Permiso Título V
A5: PM10 | B5: 0.040 lbs/MMBtu | D5: MATS Emission Limit + AP-42 Section 1.3 Condensable PM
A6: PM | B6: 0.030 lbs/MMBtu | D6: MATS Emission Limit
A7: SO2 | B7: 157*%S lbs/1000gal | D7: AP-42 Section 1.3
A8: H2SO4 | B8: 0.0405 lbs/MMBtu
A9: NOx (7&8) | B9: 47 lbs/1000gal | D9: AP-42 Section 1.3 wall fired boilers
A10: NOx (9&10) | B10: 32 lbs/1000gal | D10: AP-42 Section 1.3 tangential fired boilers
A11: VOC | B11: 0.76 lbs/1000gal | D11: AP-42 Section 1.3
A12: CO | B12: 5 lbs/1000gal | D12: AP-42 Section 1.3
A13: Pb | B13: 0.00151 lbs/1000gal
A14: CO2e | B14: 24.891 lbs/gal | D14: eGGRT GHG Report | R14: =(515657.4+515.5+1229.1)*2204.6/45826002 -> 24.891206 | S14: lbs/gal
A16: Combustible #6 | B16: =SUM('San Juan'!F17+'San Juan'!G17) -> 17355928 | C16: gal/year 7&8
A17: Combustible #6 | B17: =SUM('San Juan'!H17+'San Juan'!I17) -> 35509236 | C17: gal/year 9&10
A18: % Azufre | B18: =SUM('San Juan'!J17+'San Juan'!L17)/2 -> 0.48333333 | D18: NO INCLUIR EN PRINT OUT"=('San Juan'!J17+'San Juan'!K17+'San Juan'!L17+'San Juan'!M17)/4" se saco del promedio a la u-10 ya que estubo apagada
A21: Cálculos Emisiones PM10
A23: = | B23: 0.04 | C23: lbs | D23: =B16+B17 -> 52865164 | E23: gal | F23: ton | H23: 0.15 | I23: MMBtu
B24: MMBtu | D24: year | F24: 2000 | G24: lbs | H24: gal
A26: = | B26: =((B23*D23*H23)/F24) -> 158.59549 | C26: ton
C27: year
A29: Cálculos Emisiones PM
A31: = | B31: 0.03 | C31: lbs | D31: =D23 -> 52865164 | E31: gal | F31: ton | H31: 0.15 | I31: MMBtu
B32: MMBtu | D32: year | F32: 2000 | G32: lbs | H32: gal
A34: = | B34: =((B31*D31*H31)/F32) -> 118.94662 | C34: ton
C35: year
A38: Cálculos Emisiones H2SO4
A40: = | B40: 0.0405 | C40: lbs | D40: =D31 -> 52865164 | E40: gal | F40: ton | H40: 0.15 | I40: MMBtu
B41: MMBtu | D41: year | F41: 2000 | G41: lbs | H41: gal
A43: = | B43: =((B40*D40*H40)/F41) -> 160.57794 | C43: ton
C44: year
A46: Cálculos Emisiones SO2
I47: NOTA PARA EFECTOS DE CALCULO SE SUBSTITUYO EL PROMEDIO DE AZUFRE POR EL CALCULO A MANO = .47; LA CELDA DEBE SER =B14
A48: = | B48: =(157+5.7)*B18 -> 78.638333 | C48: lbs | D48: =D40 -> 52865164 | E48: gal | F48: ton
B49: 1000 | C49: gals | D49: year | F49: 2000 | G49: lbs
A51: = | B51: =((B48/B49*D48)/F49) -> 2078.6142 | C51: ton
C52: year
A57: Cálculos Emisiones Nox (7&8)
A59: = | B59: 47 | C59: lbs | D59: =B16 -> 17355928 | E59: gal | F59: ton
B60: 1000 | C60: gal | D60: year | F60: 2000 | G60: lbs
A62: = | B62: =((B59/B60)*D59)/F60 -> 407.86432 | C62: ton
...

Sheet Cálculos SJ5
A1: Cómputo de Emisiones Actuales para Distillate Oil y Gas Natural - San Juan year 2024 - Unidad 5
A3: Parametro | B3: Factor de Emisión Combustible Natural Gas | C3: Factor de Emisión Combustible No. 2 Oil | D3: Emisiones Actuales (ton/year) | E3: Emisiones Actuales (lb/hr)
A4: NOx | B4: 0.092099392 | C4: 0.10805849 | D4: =B23 -> 583.76968 | E4: =F23 -> 133.28075
A5: CO | B5: 0.022429677 | C5: 0.0094426363 | D5: =B29 -> 132.16249 | E5: =F29 -> 30.174085
A6: VOC | B6: 0.0021 | C6: 0.0083 | D6: =B35 -> 16.772078 | E6: =F35 -> 3.8292415 | F6: Ecuación para el Cómputo
A7: PM | B7: 0.0066 | C7: 0.0284 | D7: =B41 -> 54.084801 | E7: =F41 -> 12.348128 | F7: ton/year = | G7: [Consumo de Combustible #6 en galones/year) * ( Valor Calorífico BC 0.138 MMBtu/gal)
A8: PM10 | B8: 0.0066 | C8: 0.0357 | D8: =B47 -> 58.414286 | E8: =F47 -> 13.336595 | G8: + (Consumo Gas Natural SCF/year) * (Valor Calorífico GN 1,020 MMBtu/SCF*10^6)]
A9: PM2.5 | B9: 0.0066 | C9: 0.0357 | D9: =B53 -> 58.414286 | E9: =F53 -> 13.336595 | G9: * FE en lbs/MMBtu * 1 ton/2,000 lbs
A10: SO2 | B10: 0.0028 | C10: 1.01*%S | D10: =B59 -> 16.247111 | E10: =F59 -> 3.709386
A11: H2SO4 | B11: 0.00043 | C11: 0.0077 | D11: =B65 -> 6.9930458 | E11: =F65 -> 1.5965858 | F11: lbs/hr = | G11: (Toneladas Contaminante / year) * (1 year / 8,760 hr) * (2000 lb / ton) | V11: CO2e | W11: =(73.96+0.003*25+0.0006*298)*2.2046*0.138 -> 22.578421 | X11: lbs/gal
A12: Pb | B12: 0 | C12: 9e-06 | D12: =B71 -> 0.0053377212 | E12: =F71 -> 0.0012186578 | W12: =(475409.8+224+267)*2204.62/8707340462.38 -> 0.12049379 | X12: lbs/scf
A13: CO2e | B13: 22.578 lbs/gal | C13: 0.1205 lbs/SCF | D13: =B77 -> 763604.73 | E13: =F77 -> 174338.98
A14: Fluoruro | B14: 0 | C14: 0 | D14: 0 | E14: 0 | H14: =B23+'Cálculos SJ'!B62+'Cálculos SJ6'!D4+'Cálculos SJ'!B70 -> 1790.4369
A16: Consumo #2 = | B16: =SUM('San Juan'!D35) -> 8595364.3 | D16: gal/year
A17: Consumo NG = | B17: =SUM('San Juan'!N35) -> 1.1063971e+10 | D17: SCF/year
A18: #2 Azufre = | B18: =SUM('San Juan'!F35) -> 0.0007475 | D18: %
A20: NOx = | B20: =B16 -> 8595364.3 | D20: galones | E20: 0.138 | F20: MMBtu | G20: * | H20: =C4 -> 0.10805849 | I20: lbs | J20: 1 | K20: ton | L20: + | M20: =B17 -> 1.1063971e+10 | N20: SCF | O20: 1020 | P20: MMBtu | Q20: * | R20: =B4 -> 0.092099392 | S20: lbs | T20: 1 | U20: ton
D21: year | F21: gal | I21: MMBtu | J21: 2000 | K21: lbs | N21: year | O21: 1000000 | P21: SCF | S21: MMBtu | T21: 2000 | U21: lbs
B23: =(B20*E20*H20+M20*O20*R20/1000000)/2000 -> 583.76968 | D23: ton/year | E23: = | F23: =B23*(2000/8760) -> 133.28075 | G23: lb/hr
A26: CO = | B26: =B16 -> 8595364.3 | D26: galones | E26: 0.138 | F26: MMBtu | G26: * | H26: =C5 -> 0.0094426363 | I26: lbs | J26: 1 | K26: ton | L26: + | M26: =B17 -> 1.1063971e+10 | N26: SCF | O26: 1020 | P26: MMBtu | Q26: * | R26: =B5 -> 0.022429677 | S26: lbs | T26: 1 | U26: ton
D27: year | F27: gal | I27: MMBtu | J27: 2000 | K27: lbs | N27: year | O27: 1000000 | P27: SCF | S27: MMBtu | T27: 2000 | U27: lbs
B29: =(B26*E26*H26+M26*O26*R26/1000000)/2000 -> 132.16249 | D29: ton/year | E29: = | F29: =B29*(2000/8760) -> 30.174085 | G29: lb/hr
A32: VOC = | B32: =B16 -> 8595364.3 | D32: galones | E32: 0.138 | F32: MMBtu | G32: * | H32: =C6 -> 0.0083 | I32: lbs | J32: 1 | K32: ton | L32: + | M32: =B17 -> 1.1063971e+10 | N32: SCF | O32: 1020 | P32: MMBtu | Q32: * | R32: =B6 -> 0.0021 | S32: lbs | T32: 1 | U32: ton
D33: year | F33: gal | I33: MMBtu | J33: 2000 | K33: lbs | N33: year | O33: 1000000 | P33: SCF | S33: MMBtu | T33: 2000 | U33: lbs
B35: =(B32*E32*H32+M32*O32*R32/1000000)/2000 -> 16.772078 | D35: ton/year | E35: = | F35: =B35*(2000/8760) -> 3.8292415 | G35: lb/hr
A38: PM = | B38: =B16 -> 8595364.3 | D38: galones | E38: 0.138 | F38: MMBtu | G38: * | H38: =C7 -> 0.0284 | I38: lbs | J38: 1 | K38: ton | L38: + | M38: =B17 -> 1.1063971e+10 | N38: SCF | O38: 1020 | P38: MMBtu | Q38: * | R38: =B7 -> 0.0066 | S38: lbs | T38: 1 | U38: ton
D39: year | F39: gal | I39: MMBtu | J39: 2000 | K39: lbs | N39: year | O39: 1000000 | P39: SCF | S39: MMBtu | T39: 2000 | U39: lbs
B41: =(B38*E38*H38+M38*O38*R38/1000000)/2000 -> 54.084801 | D41: ton/year | E41: = | F41: =B41*(2000/8760) -> 12.348128 | G41: lb/hr | L41: lb/hr
A44: PM10 = | B44: =B16 -> 8595364.3 | D44: galones | E44: 0.138 | F44: MMBtu | G44: * | H44: =C8 -> 0.0357 | I44: lbs | J44: 1 | K44: ton | L44: + | M44: =B17 -> 1.1063971e+10 | N44: SCF | O44: 1020 | P44: MMBtu | Q44: * | R44: =B8 -> 0.0066 | S44: lbs | T44: 1 | U44: ton
D45: year | F45: gal | I45: MMBtu | J45: 2000 | K45: lbs | N45: year | O45: 1000000 | P45: SCF | S45: MMBtu | T45: 2000 | U45: lbs
B47: =(B44*E44*H44+M44*O44*R44/1000000)/2000 -> 58.414286 | D47: ton/year | E47: = | F47: =B47*(2000/8760) -> 13.336595 | G47: lb/hr | L47: lb/hr
A50: PM2.5 = | B50: =B16 -> 8595364.3 | D50: galones | E50: 0.138 | F50: MMBtu | G50: * | H50: =C9 -> 0.0357 | I50: lbs | J50: 1 | K50: ton | L50: + | M50: =B17 -> 1.1063971e+10 | N50: SCF | O50: 1020 | P50: MMBtu | Q50: * | R50: =B9 -> 0.0066 | S50: lbs | T50: 1 | U50: ton
D51: year | F51: gal | I51: MMBtu | J51: 2000 | K51: lbs | N51: year | O51: 1000000 | P51: SCF | S51: MMBtu | T51: 2000 | U51: lbs
B53: =(B50*E50*H50+M50*O50*R50/1000000)/2000 -> 58.414286 | D53: ton/year | E53: = | F53: =B53*(2000/8760) -> 13.336595 | G53: lb/hr | L53: lb/hr
A56: SO2 = | B56: =B16 -> 8595364.3 | D56: galones | E56: 0.138 | F56: MMBtu | G56: * | H56: =1.01*B18 -> 0.000754975 | I56: lbs | J56: 1 | K56: ton | L56: + | M56: =B17 -> 1.1063971e+10 | N56: SCF | O56: 1020 | P56: MMBtu | Q56: * | R56: =B10 -> 0.0028 | S56: lbs | T56: 1 | U56: ton
D57: year | F57: gal | I57: MMBtu | J57: 2000 | K57: lbs | N57: year | O57: 1000000 | P57: SCF | S57: MMBtu | T57: 2000 | U57: lbs
B59: =(B56*E56*H56+M56*O56*R56/1000000)/2000 -> 16.247111 | D59: ton/year | E59: = | F59: =B59*(2000/8760) -> 3.709386 | G59: lb/hr | L59: lb/hr
A62: H2SO4 = | B62: =B16 -> 8595364.3 | D62: galones | E62: 0.138 | F62: MMBtu | G62: * | H62: =C11 -> 0.0077 | I62: lbs | J62: 1 | K62: ton | L62: + | M62: =B17 -> 1.1063971e+10 | N62: SCF | O62: 1020 | P62: MMBtu | Q62: * | R62: =B11 -> 0.00043 | S62: lbs | T62: 1 | U62: ton
D63: year | F63: gal | I63: MMBtu | J63: 2000 | K63: lbs | N63: year | O63: 1000000 | P63: SCF | S63: MMBtu | T63: 2000 | U63: lbs
B65: =(B62*E62*H62+M62*O62*R62/1000000)/2000 -> 6.9930458 | D65: ton/year | E65: = | F65: =B65*(2000/8760) -> 1.5965858 | G65: lb/hr | L65: lb/hr
...

Sheet Cálculos SJ6
A1: Cómputo de Emisiones Actuales para Distillate Oil y Gas Natural - San Juan year 2024 - Unidad 6
A3: Parametro | B3: Factor de Emisión Combustible Natural Gas | C3: Factor de Emisión Combustible No. 2 Oil | D3: Emisiones Actuales (ton/year) | E3: Emisiones Actuales (lb/hr)
A4: NOx | B4: 0.092099392 | C4: 0.10805849 | D4: =B23 -> 230.65509 | E4: =F23 -> 52.660979
A5: CO | B5: 0.022429677 | C5: 0.0094426363 | D5: =B29 -> 54.427179 | E5: =F29 -> 12.426296
A6: VOC | B6: 0.0021 | C6: 0.0083 | D6: =B35 -> 5.863174 | E6: =F35 -> 1.3386242 | F6: Ecuación para el Cómputo
A7: PM | B7: 0.0066 | C7: 0.0284 | D7: =B41 -> 18.666594 | E7: =F41 -> 4.2617793 | F7: ton/year = | G7: [Consumo de Combustible #6 en galones/year) * ( Valor Calorífico BC 0.138 MMBtu/gal)
A8: PM10 | B8: 0.0066 | C8: 0.0357 | D8: =B47 -> 19.421975 | E8: =F47 -> 4.4342409 | G8: + (Consumo Gas Natural SCF/year) * (Valor Calorífico GN 1,020 MMBtu/SCF*10^6)]
A9: PM2.5 | B9: 0.0066 | C9: 0.0357 | D9: =B53 -> 19.421975 | E9: =F53 -> 4.4342409 | G9: * FE en lbs/MMBtu * 1 ton/2,000 lbs
A10: SO2 | B10: 0.0028 | C10: 1.01*%S | D10: =B59 -> 6.750543 | E10: =F59 -> 1.5412199
A11: H2SO4 | B11: 0.00043 | C11: 0.0077 | D11: =B65 -> 1.8214656 | E11: =F65 -> 0.41585973 | F11: lbs/hr = | G11: (Toneladas Contaminante / year) * (1 year / 8,760 hr) * (2000 lb / ton) | V11: CO2e | W11: =(73.96+0.003*25+0.0006*298)*2.2046*0.138 -> 22.578421 | X11: lbs/gal
A12: Pb | B12: 0 | C12: 9e-06 | D12: =B71 -> 0.0009312925 | E12: =F71 -> 0.00021262386 | W12: =(475409.8+224+267)*2204.62/8707340462.38 -> 0.12049379 | X12: lbs/scf
A13: CO2e | B13: 22.578 lbs/gal | C13: 0.1205 lbs/SCF | D13: =B77 -> 298437.47 | E13: =F77 -> 68136.409
A14: Fluoruro | B14: 0 | C14: 0 | D14: 0 | E14: 0
A16: Consumo #2 = | B16: =SUM('San Juan'!E35) -> 1499665.9 | D16: gal/year
A17: Consumo NG = | B17: =SUM('San Juan'!O35) -> 4.6725634e+09 | D17: SCF/year
A18: #2 Azufre = | B18: =SUM('San Juan'!G35) -> 0.0007475 | D18: %
A20: NOx = | B20: =B16 -> 1499665.9 | D20: galones | E20: 0.138 | F20: MMBtu | G20: * | H20: =C4 -> 0.10805849 | I20: lbs | J20: 1 | K20: ton | L20: + | M20: =B17 -> 4.6725634e+09 | N20: SCF | O20: 1020 | P20: MMBtu | Q20: * | R20: =B4 -> 0.092099392 | S20: lbs | T20: 1 | U20: ton
D21: year | F21: gal | I21: MMBtu | J21: 2000 | K21: lbs | N21: year | O21: 1000000 | P21: SCF | S21: MMBtu | T21: 2000 | U21: lbs
B23: =(B20*E20*H20+M20*O20*R20/1000000)/2000 -> 230.65509 | D23: ton/year | E23: = | F23: =B23*(2000/8760) -> 52.660979 | G23: lb/hr
A26: CO = | B26: =B16 -> 1499665.9 | D26: galones | E26: 0.138 | F26: MMBtu | G26: * | H26: =C5 -> 0.0094426363 | I26: lbs | J26: 1 | K26: ton | L26: + | M26: =B17 -> 4.6725634e+09 | N26: SCF | O26: 1020 | P26: MMBtu | Q26: * | R26: =B5 -> 0.022429677 | S26: lbs | T26: 1 | U26: ton
D27: year | F27: gal | I27: MMBtu | J27: 2000 | K27: lbs | N27: year | O27: 1000000 | P27: SCF | S27: MMBtu | T27: 2000 | U27: lbs
B29: =(B26*E26*H26+M26*O26*R26/1000000)/2000 -> 54.427179 | D29: ton/year | E29: = | F29: =B29*(2000/8760) -> 12.426296 | G29: lb/hr
A32: VOC = | B32: =B16 -> 1499665.9 | D32: galones | E32: 0.138 | F32: MMBtu | G32: * | H32: =C6 -> 0.0083 | I32: lbs | J32: 1 | K32: ton | L32: + | M32: =B17 -> 4.6725634e+09 | N32: SCF | O32: 1020 | P32: MMBtu | Q32: * | R32: =B6 -> 0.0021 | S32: lbs | T32: 1 | U32: ton
D33: year | F33: gal | I33: MMBtu | J33: 2000 | K33: lbs | N33: year | O33: 1000000 | P33: SCF | S33: MMBtu | T33: 2000 | U33: lbs
B35: =(B32*E32*H32+M32*O32*R32/1000000)/2000 -> 5.863174 | D35: ton/year | E35: = | F35: =B35*(2000/8760) -> 1.3386242 | G35: lb/hr
A38: PM = | B38: =B16 -> 1499665.9 | D38: galones | E38: 0.138 | F38: MMBtu | G38: * | H38: =C7 -> 0.0284 | I38: lbs | J38: 1 | K38: ton | L38: + | M38: =B17 -> 4.6725634e+09 | N38: SCF | O38: 1020 | P38: MMBtu | Q38: * | R38: =B7 -> 0.0066 | S38: lbs | T38: 1 | U38: ton
D39: year | F39: gal | I39: MMBtu | J39: 2000 | K39: lbs | N39: year | O39: 1000000 | P39: SCF | S39: MMBtu | T39: 2000 | U39: lbs
B41: =(B38*E38*H38+M38*O38*R38/1000000)/2000 -> 18.666594 | D41: ton/year | E41: = | F41: =B41*(2000/8760) -> 4.2617793 | G41: lb/hr | L41: lb/hr
A44: PM10 = | B44: =B16 -> 1499665.9 | D44: galones | E44: 0.138 | F44: MMBtu | G44: * | H44: =C8 -> 0.0357 | I44: lbs | J44: 1 | K44: ton | L44: + | M44: =B17 -> 4.6725634e+09 | N44: SCF | O44: 1020 | P44: MMBtu | Q44: * | R44: =B8 -> 0.0066 | S44: lbs | T44: 1 | U44: ton
D45: year | F45: gal | I45: MMBtu | J45: 2000 | K45: lbs | N45: year | O45: 1000000 | P45: SCF | S45: MMBtu | T45: 2000 | U45: lbs
B47: =(B44*E44*H44+M44*O44*R44/1000000)/2000 -> 19.421975 | D47: ton/year | E47: = | F47: =B47*(2000/8760) -> 4.4342409 | G47: lb/hr | L47: lb/hr
A50: PM2.5 = | B50: =B16 -> 1499665.9 | D50: galones | E50: 0.138 | F50: MMBtu | G50: * | H50: =C9 -> 0.0357 | I50: lbs | J50: 1 | K50: ton | L50: + | M50: =B17 -> 4.6725634e+09 | N50: SCF | O50: 1020 | P50: MMBtu | Q50: * | R50: =B9 -> 0.0066 | S50: lbs | T50: 1 | U50: ton
D51: year | F51: gal | I51: MMBtu | J51: 2000 | K51: lbs | N51: year | O51: 1000000 | P51: SCF | S51: MMBtu | T51: 2000 | U51: lbs
B53: =(B50*E50*H50+M50*O50*R50/1000000)/2000 -> 19.421975 | D53: ton/year | E53: = | F53: =B53*(2000/8760) -> 4.4342409 | G53: lb/hr | L53: lb/hr
A56: SO2 = | B56: =B16 -> 1499665.9 | D56: galones | E56: 0.138 | F56: MMBtu | G56: * | H56: =1.01*B18 -> 0.000754975 | I56: lbs | J56: 1 | K56: ton | L56: + | M56: =B17 -> 4.6725634e+09 | N56: SCF | O56: 1020 | P56: MMBtu | Q56: * | R56: =B10 -> 0.0028 | S56: lbs | T56: 1 | U56: ton
D57: year | F57: gal | I57: MMBtu | J57: 2000 | K57: lbs | N57: year | O57: 1000000 | P57: SCF | S57: MMBtu | T57: 2000 | U57: lbs
B59: =(B56*E56*H56+M56*O56*R56/1000000)/2000 -> 6.750543 | D59: ton/year | E59: = | F59: =B59*(2000/8760) -> 1.5412199 | G59: lb/hr | L59: lb/hr
A62: H2SO4 = | B62: =B16 -> 1499665.9 | D62: galones | E62: 0.138 | F62: MMBtu | G62: * | H62: =C11 -> 0.0077 | I62: lbs | J62: 1 | K62: ton | L62: + | M62: =B17 -> 4.6725634e+09 | N62: SCF | O62: 1020 | P62: MMBtu | Q62: * | R62: =B11 -> 0.00043 | S62: lbs | T62: 1 | U62: ton
D63: year | F63: gal | I63: MMBtu | J63: 2000 | K63: lbs | N63: year | O63: 1000000 | P63: SCF | S63: MMBtu | T63: 2000 | U63: lbs
B65: =(B62*E62*H62+M62*O62*R62/1000000)/2000 -> 1.8214656 | D65: ton/year | E65: = | F65: =B65*(2000/8760) -> 0.41585973 | G65: lb/hr | L65: lb/hr
...

Sheet Aguirre
A2: Aguirre BC Consumption 2024 | H2: Azufre % por peso
A3: year | B3: Barrels | D3: Galones | F3: Total gal/year
B4: AG-1 | C4: AG-2 | D4: AG-1 | E4: AG-2 | H4: AG-1 | I4: AG-2
A5: 45292 | B5: 0 | C5: 173636.61 | D5: =SUM(B5*42) -> 0 | E5: =SUM(C5*42) -> 7292737.6 | F5: =D5+E5 -> 7292737.6 | H5: 0.5 | I5: 0.5
A6: 45323 | B6: 70456.36 | C6: 287763.69 | D6: =SUM(B6*42) -> 2959167.1 | E6: =SUM(C6*42) -> 12086075 | F6: =D6+E6 -> 15045242 | H6: 0.48 | I6: 0.48
A7: 45352 | B7: 28670.62 | C7: 286284.78 | D7: =SUM(B7*42) -> 1204166 | E7: =SUM(C7*42) -> 12023961 | F7: =D7+E7 -> 13228127 | H7: 0.48 | I7: 0.49
A8: 45383 | B8: 4943.54 | C8: 270551.87 | D8: =SUM(B8*42) -> 207628.68 | E8: =SUM(C8*42) -> 11363179 | F8: =D8+E8 -> 11570807 | H8: 0.47 | I8: 0.47
A9: 45413 | B9: 262847.08 | C9: 284615.39 | D9: =SUM(B9*42) -> 11039577 | E9: =SUM(C9*42) -> 11953846 | F9: =D9+E9 -> 22993424 | H9: 0.48 | I9: 0.48
A10: 45444 | B10: 273570.78 | C10: 307826.67 | D10: =SUM(B10*42) -> 11489973 | E10: =SUM(C10*42) -> 12928720 | F10: =D10+E10 -> 24418693 | H10: 0.49 | I10: 0.49
A11: 45474 | B11: 233430.72 | C11: 235801.43 | D11: =SUM(B11*42) -> 9804090.2 | E11: =SUM(C11*42) -> 9903660.1 | F11: =D11+E11 -> 19707750 | H11: 0.49 | I11: 0.49
A12: 45505 | B12: 198510.38 | C12: 116485.85 | D12: =SUM(B12*42) -> 8337436 | E12: =SUM(C12*42) -> 4892405.7 | F12: =D12+E12 -> 13229842 | H12: 0.49 | I12: 0.49 | N12: =SUM(B17:E17) -> 1.5641688e+08
A13: 45536 | B13: 153911.23 | C13: 9797.82 | D13: =SUM(B13*42) -> 6464271.7 | E13: =SUM(C13*42) -> 411508.44 | F13: =D13+E13 -> 6875780.1 | H13: 0.49 | I13: 0.49
A14: 45566 | B14: 200009.14 | C14: 0 | D14: =SUM(B14*42) -> 8400383.9 | E14: =SUM(C14*42) -> 0 | F14: =D14+E14 -> 8400383.9 | H14: 0.49 | I14: 0.49 | O14: =SUM(N12,N15) -> 2.1952219e+08
A15: 45597 | B15: 238487.95 | C15: 0 | D15: =SUM(B15*42) -> 10016494 | E15: =SUM(C15*42) -> 0 | F15: =D15+E15 -> 10016494 | H15: 0.5 | I15: 0.5 | N15: =SUM(B35:J35) -> 63105308
A16: 45627 | B16: 0 | C16: 0 | D16: =SUM(B16*42) -> 0 | E16: =SUM(C16*42) -> 0 | F16: 0 | H16: 0.5 | I16: 0.5
A17: Total | B17: =SUM(B5:B16) -> 1664837.8 | C17: =SUM(C5:C16) -> 1972764.1 | D17: =SUM(D5:D16) -> 69923188 | E17: =SUM(E5:E16) -> 82856093 | F17: =D17+E17 -> 1.5277928e+08 | H17: =AVERAGE(H5:H16) -> 0.48833333 | I17: =AVERAGE(I5:I16) -> 0.48916667 | J17: avg
F18: =SUM(F5:F16) -> 1.5277928e+08
A20: Aguirre CC #2 FO Consumption 2024
A21: Galones | K21: Azufre | V21: Azufre Average
A22: year | B22: CC1-1 | C22: CC1-2 | D22: CC1-3 | E22: CC1-4 | F22: CC2-1 | H22: CC2-2 | I22: CC2-3 | J22: CC2-4 | K22: CC1-1 | L22: CC1-2 | M22: CC1-3 | N22: CC1-4 | O22: CC2-1 | P22: CC2-2 | Q22: CC2-3 | R22: CC2-4 | V22: CC1-1 | W22: CC1-2 | X22: CC1-3 | Y22: CC1-4 | Z22: CC2-1 | AA22: CC2-2 | AB22: CC2-3 | AC22: CC2-4
A23: 45292 | B23: 1472494 | C23: 1330659 | D23: 0 | E23: 0 | F23: 0 | G23: 45292 | H23: 0 | I23: 0 | J23: 1090785 | K23: 0.001 | L23: 0.001 | M23: 0.001 | N23: 0.001 | O23: 0.001 | P23: 0.001 | Q23: 0.001 | R23: 0.001 | V23: 0.0039 | W23: 0.0039 | X23: 0.0039 | Y23: 0.0039 | Z23: 0.0039 | AA23: 0 | AB23: 0.0039 | AC23: 0
A24: 45323 | B24: 965131 | C24: 1091093 | D24: 0 | E24: 0 | F24: 0 | G24: 45323 | H24: 0 | I24: 0 | J24: 1042826 | K24: 0.001 | L24: 0.001 | M24: 0.001 | N24: 0.001 | O24: 0.001 | P24: 0.001 | Q24: 0.001 | R24: 0.001 | V24: 0.0044803387 | W24: 0.0044803387 | X24: 0.0041487674 | Y24: 0.0044988309 | Z24: 0.0043206426 | AA24: 0 | AB24: 0.0045345685 | AC24: 0
A25: 45352 | B25: 634192 | C25: 1087440 | D25: 0 | E25: 0 | F25: 0 | G25: 45352 | H25: 0 | I25: 0 | J25: 878895 | K25: 0.001 | L25: 0.001 | M25: 0.001 | N25: 0.001 | O25: 0.001 | P25: 0.001 | Q25: 0.001 | R25: 0.001 | V25: 0.0044909213 | W25: 0.0044822349 | X25: 0 | Y25: 0.0046234638 | Z25: 0.0044822349 | AA25: 0 | AB25: 0.0044822349 | AC25: 0.0042703915
A26: 45383 | B26: 1784121 | C26: 1858575 | D26: 0 | E26: 0 | F26: 0 | G26: 45383 | H26: 0 | I26: 0 | J26: 1286047 | K26: 0.001 | L26: 0.001 | M26: 0.001 | N26: 0.001 | O26: 0.001 | P26: 0.001 | Q26: 0.001 | R26: 0.001 | V26: 0.0041843664 | W26: 0.0041826294 | X26: 0.0041895776 | Y26: 0.0041843664 | Z26: 0.0041821331 | AA26: 0 | AB26: 0.0041831638 | AC26: 0.0041687329
A27: 45413 | B27: 2103953 | C27: 2598753 | D27: 0 | E27: 0 | F27: 0 | G27: 45413 | H27: 0 | I27: 0 | J27: 1720161 | K27: 0.001 | L27: 0.001 | M27: 0.001 | N27: 0.001 | O27: 0.001 | P27: 0.001 | Q27: 0.001 | R27: 0.001 | V27: 0.0041947855 | W27: 0.0041 | X27: 0.0041924159 | Y27: 0.0041896154 | Z27: 0.0042129527 | AA27: 0 | AB27: 0.0041770132 | AC27: 0.0042232212
A28: 45444 | B28: 1434791 | C28: 1762103 | D28: 0 | E28: 623180 | F28: 0 | G28: 45444 | H28: 0 | I28: 0 | J28: 952606 | K28: 0.001 | L28: 0.001 | M28: 0.001 | N28: 0.001 | O28: 0.001 | P28: 0.001 | Q28: 0.001 | R28: 0.001 | V28: 0.0042693321 | W28: 0 | X28: 0.004261152 | Y28: 0.0042614306 | Z28: 0.0042670622 | AA28: 0 | AB28: 0.0042647449 | AC28: 0.0042668295
A29: 45474 | B29: 640742 | C29: 1314872 | D29: 0 | E29: 704288 | F29: 0 | G29: 45474 | H29: 0 | I29: 0 | J29: 774953 | K29: 0.001 | L29: 0.001 | M29: 0.001 | N29: 0.001 | O29: 0.001 | P29: 0.001 | Q29: 0.001 | R29: 0.001 | V29: 0.0041484189 | W29: 0.0041203132 | X29: 0.0041355044 | Y29: 0.0041366182 | Z29: 0.004124547 | AA29: 0 | AB29: 0.0041230985 | AC29: 0.0041531995
A30: 45505 | B30: 1896499 | C30: 2641025 | D30: 0 | E30: 1449242 | F30: 0 | G30: 45505 | H30: 0 | I30: 0 | J30: 1339728 | K30: 0.001 | L30: 0.001 | M30: 0.001 | N30: 0.001 | O30: 0.001 | P30: 0.001 | Q30: 0.001 | R30: 0.001 | V30: 0.0045350538 | W30: 0.0045970635 | X30: 0.0046397544 | Y30: 0.0045832145 | Z30: 0.0045440445 | AA30: 0 | AB30: 0.0045505545 | AC30: 0.0045737741
A31: 45536 | B31: 2376050 | C31: 2736834 | D31: 0 | E31: 1253908 | F31: 48334 | G31: 45536 | H31: 0 | I31: 0 | J31: 1340023 | K31: 0.001 | L31: 0.001 | M31: 0.001 | N31: 0.001 | O31: 0.001 | P31: 0.001 | Q31: 0.001 | R31: 0.001 | V31: 0.0028938693 | W31: 0.0032466574 | X31: 0.0042429148 | Y31: 0.0034112672 | Z31: 0.0030495641 | AA31: 0 | AB31: 0.0030131938 | AC31: 0.0033391204
