Workbook
Name \A: #N/A
Name \B: #N/A

Sheet 2024-Formato 2M
A1: 2024 | B1: Inventario de Emisiones
B2: January | C2: February | D2: March | E2: April | F2: May | G2: June | H2: July | I2: August | J2: September | K2: October | L2: November | M2: December | N2: Total Emisiones (tons/year) | O2: Total Emisiones Permisibles (tons/year)
A3: Pollutant | B3: San Juan | C3: San Juan | D3: San Juan | E3: San Juan | F3: San Juan | G3: San Juan | H3: San Juan | I3: San Juan | J3: San Juan | K3: San Juan | L3: San Juan | M3: San Juan | N3: San Juan | O3: San Juan
A4: PM | B4: ='Mensual 2024'!C51 -> 23.752561 | C4: ='Mensual 2024'!D51 -> 16.820023 | D4: ='Mensual 2024'!E51 -> 14.051295 | E4: ='Mensual 2024'!F51 -> 11.260861 | F4: ='Mensual 2024'!G51 -> 12.176052 | G4: ='Mensual 2024'!H51 -> 15.063634 | H4: ='Mensual 2024'!I51 -> 20.231114 | I4: ='Mensual 2024'!J51 -> 24.649714 | ... M4: ='Mensual 2024'!N51 -> 4.953036 | N4: =SUM(B4:M4) -> 191.69801 | O4: 2946.22
A5: PM10 | B5: ='Mensual 2024'!C52 -> 29.327562 | C5: ='Mensual 2024'!D52 -> 20.423255 | D5: ='Mensual 2024'!E52 -> 16.441371 | E5: ='Mensual 2024'!F52 -> 13.964866 | F5: ='Mensual 2024'!G52 -> 14.978609 | G5: ='Mensual 2024'!H52 -> 18.165004 | H5: ='Mensual 2024'!I52 -> 24.633262 | I5: ='Mensual 2024'!J52 -> 31.428617 | ... M5: ='Mensual 2024'!N52 -> 5.410519 | N5: =SUM(B5:M5) -> 236.43175 | O5: 1430.51
A6: SO2 | B6: ='Mensual 2024'!C54 -> 290.86405 | C6: ='Mensual 2024'!D54 -> 189.69453 | D6: ='Mensual 2024'!E54 -> 94.949672 | E6: ='Mensual 2024'!F54 -> 138.1077 | F6: ='Mensual 2024'!G54 -> 140.44739 | G6: ='Mensual 2024'!H54 -> 148.87549 | H6: ='Mensual 2024'!I54 -> 171.57079 | I6: ='Mensual 2024'!J54 -> 308.83578 | ... M6: ='Mensual 2024'!N54 -> 1.4095183 | N6: =SUM(B6:M6) -> 2097.7098 | O6: 7619.76
A7: NOx | B7: ='Mensual 2024'!C55 -> 244.32783 | C7: ='Mensual 2024'!D55 -> 176.68904 | D7: ='Mensual 2024'!E55 -> 143.66272 | E7: ='Mensual 2024'!F55 -> 101.22745 | F7: ='Mensual 2024'!G55 -> 110.886 | G7: ='Mensual 2024'!H55 -> 140.00663 | H7: ='Mensual 2024'!I55 -> 186.54259 | I7: ='Mensual 2024'!J55 -> 217.47411 | ... M7: ='Mensual 2024'!N55 -> 51.052726 | N7: =SUM(B7:M7) -> 1790.4369 | O7: 6739.2
A8: CO | B8: ='Mensual 2024'!C57 -> 42.236408 | C8: ='Mensual 2024'!D57 -> 32.392571 | D8: ='Mensual 2024'!E57 -> 28.407299 | E8: ='Mensual 2024'!F57 -> 19.608029 | F8: ='Mensual 2024'!G57 -> 21.750916 | G8: ='Mensual 2024'!H57 -> 28.167006 | H8: ='Mensual 2024'!I57 -> 32.68325 | I8: ='Mensual 2024'!J57 -> 32.805204 | ... M8: ='Mensual 2024'!N57 -> 11.375809 | N8: =SUM(B8:M8) -> 318.75258 | O8: 1654.73
A9: VOC | B9: ='Mensual 2024'!C56 -> 5.0764372 | C9: ='Mensual 2024'!D56 -> 3.7410227 | D9: ='Mensual 2024'!E56 -> 3.6020982 | E9: ='Mensual 2024'!F56 -> 2.3792285 | F9: ='Mensual 2024'!G56 -> 2.6462245 | G9: ='Mensual 2024'!H56 -> 3.5234179 | H9: ='Mensual 2024'!I56 -> 4.8671883 | I9: ='Mensual 2024'!J56 -> 5.111692 | ... M9: ='Mensual 2024'!N56 -> 1.5298189 | N9: =SUM(B9:M9) -> 42.724014 | O9: 190.7
A10: Pb | B10: ='Mensual 2024'!C59 -> 0.0056224223 | C10: ='Mensual 2024'!D59 -> 0.0036292143 | D10: ='Mensual 2024'!E59 -> 0.0025374932 | E10: ='Mensual 2024'!F59 -> 0.0027267859 | F10: ='Mensual 2024'!G59 -> 0.0028389923 | G10: ='Mensual 2024'!H59 -> 0.0031999345 | H10: ='Mensual 2024'!I59 -> 0.004693324 | I10: ='Mensual 2024'!J59 -> 0.0070227446 | ... M10: ='Mensual 2024'!N59 -> 0.00056402012 | N10: =SUM(B10:M10) -> 0.046182212 | O10: 3.54
A11: CO2e | B11: ='Mensual 2024'!C60 -> 217837.51 | C11: ='Mensual 2024'!D60 -> 167281.63 | D11: ='Mensual 2024'!E60 -> 156941.67 | E11: ='Mensual 2024'!F60 -> 101018.1 | F11: ='Mensual 2024'!G60 -> 113160.93 | G11: ='Mensual 2024'!H60 -> 151068.24 | H11: ='Mensual 2024'!I60 -> 187070.04 | I11: ='Mensual 2024'!J60 -> 180801.18 | ... M11: ='Mensual 2024'!N60 -> 67050.101 | N11: =SUM(B11:M11) -> 1719981 | O11: N/A
A12: Total | B12: =SUM(B4:B10) -> 635.59048 | C12: =SUM(C4:C10) -> 439.76407 | D12: =SUM(D4:D10) -> 301.11699 | E12: =SUM(E4:E10) -> 286.55086 | F12: =SUM(F4:F10) -> 302.88804 | G12: =SUM(G4:G10) -> 353.80438 | H12: =SUM(H4:H10) -> 440.53289 | I12: =SUM(I4:I10) -> 620.31213 | ... O12: =SUM(O4:O10) -> 20584.66
B14: Palo Seco | C14: Palo Seco | D14: Palo Seco | E14: Palo Seco | F14: Palo Seco | G14: Palo Seco | H14: Palo Seco | I14: Palo Seco | J14: Palo Seco | K14: Palo Seco | L14: Palo Seco | M14: Palo Seco | N14: Palo Seco | O14: Palo Seco
A15: PM10 | B15: ='Mensual 2024'!C80 -> 0.61505273 | C15: ='Mensual 2024'!D80 -> 0.85778412 | D15: ='Mensual 2024'!E80 -> 1.1439406 | E15: ='Mensual 2024'!F80 -> 1.1000339 | F15: ='Mensual 2024'!G80 -> 2.2078397 | G15: ='Mensual 2024'!H80 -> 1.3830386 | H15: ='Mensual 2024'!I80 -> 5.7061543 | I15: ='Mensual 2024'!J80 -> 28.276773 | ... M15: ='Mensual 2024'!N80 -> 23.085342 | N15: =SUM(B15:M15) -> 144.96472 | O15: 1387.38
A16: SO2 | B16: ='Mensual 2024'!C81 -> 0.19808314 | C16: ='Mensual 2024'!D81 -> 0.28878732 | D16: ='Mensual 2024'!E81 -> 0.096318742 | E16: ='Mensual 2024'!F81 -> 0.092753089 | F16: ='Mensual 2024'!G81 -> 0.22194436 | G16: ='Mensual 2024'!H81 -> 0.13629672 | H16: ='Mensual 2024'!I81 -> 50.443374 | I16: ='Mensual 2024'!J81 -> 257.36653 | ... M16: ='Mensual 2024'!N81 -> 226.37247 | N16: =SUM(B16:M16) -> 1283.8176 | O16: 17464.39
A17: NOx | B17: ='Mensual 2024'!C82 -> 42.837263 | C17: ='Mensual 2024'!D82 -> 62.904169 | D17: ='Mensual 2024'!E82 -> 79.819771 | E17: ='Mensual 2024'!F82 -> 62.352056 | F17: ='Mensual 2024'!G82 -> 111.33998 | G17: ='Mensual 2024'!H82 -> 62.702734 | H17: ='Mensual 2024'!I82 -> 68.250419 | I17: ='Mensual 2024'!J82 -> 254.46479 | ... M17: ='Mensual 2024'!N82 -> 182.25553 | N17: =SUM(B17:M17) -> 1635.4646 | O17: 12276.89
A18: VOC | B18: ='Mensual 2024'!C83 -> 0.034101828 | C18: ='Mensual 2024'!D83 -> 0.029307624 | D18: ='Mensual 2024'!E83 -> 0.062580516 | E18: ='Mensual 2024'!F83 -> 0.14334866 | F18: ='Mensual 2024'!G83 -> 0.36741919 | G18: ='Mensual 2024'!H83 -> 0.27082634 | H18: ='Mensual 2024'!I83 -> 0.58166845 | I18: ='Mensual 2024'!J83 -> 3.1532856 | ... M18: ='Mensual 2024'!N83 -> 2.2162273 | N18: =SUM(B18:M18) -> 15.469078 | O18: 130.04
A19: CO | B19: ='Mensual 2024'!C84 -> 0.22844416 | C19: ='Mensual 2024'!D84 -> 0.23589063 | D19: ='Mensual 2024'!E84 -> 0.42105261 | E19: ='Mensual 2024'!F84 -> 0.78176784 | F19: ='Mensual 2024'!G84 -> 1.9302518 | G19: ='Mensual 2024'!H84 -> 1.3934295 | H19: ='Mensual 2024'!I84 -> 3.7487418 | I19: ='Mensual 2024'!J84 -> 19.786042 | ... M19: ='Mensual 2024'!N84 -> 14.595696 | N19: =SUM(B19:M19) -> 97.863241 | O19: 856.94
A20: Pb | B20: ='Mensual 2024'!C85 -> 0.00070416218 | C20: ='Mensual 2024'!D85 -> 0.0010007481 | D20: ='Mensual 2024'!E85 -> 0.0013105417 | E20: ='Mensual 2024'!F85 -> 0.0011750888 | F20: ='Mensual 2024'!G85 -> 0.0022768718 | G20: ='Mensual 2024'!H85 -> 0.0013846459 | H20: ='Mensual 2024'!I85 -> 0.0016604646 | I20: ='Mensual 2024'!J85 -> 0.0073789538 | ... M20: ='Mensual 2024'!N85 -> 0.0049931965 | N20: =SUM(B20:M20) -> 0.041993236 | O20: 0.37
A21: CO2e | B21: ='Mensual 2024'!C86 -> 8229.2252 | C21: ='Mensual 2024'!D86 -> 11695.296 | D21: ='Mensual 2024'!E86 -> 15315.709 | E21: ='Mensual 2024'!F86 -> 13732.71 | F21: ='Mensual 2024'!G86 -> 26608.705 | G21: ='Mensual 2024'!H86 -> 16181.678 | H21: ='Mensual 2024'!I86 -> 24074.792 | I21: ='Mensual 2024'!J86 -> 109581.12 | ... M21: ='Mensual 2024'!N86 -> 78491.851 | N21: =SUM(B21:M21) -> 606441.89 | O21: 5418568.6
A22: Subtotal | B22: =SUM(B15:B20) -> 43.913649 | C22: =SUM(C15:C20) -> 64.316939 | D22: =SUM(D15:D20) -> 81.544974 | E22: =SUM(E15:E20) -> 64.471134 | F22: =SUM(F15:F20) -> 116.06971 | G22: =SUM(G15:G20) -> 65.88771 | H22: =SUM(H15:H20) -> 128.73202 | I22: =SUM(I15:I20) -> 563.0548 | ... O22: =SUM(O15:O20) -> 32116.01
A23: Ni Comp | B23: 0 | C23: 0 | D23: 0 | E23: 0 | F23: 0 | G23: 0 | H23: 0 | I23: 0 | J23: 0 | K23: 0 | L23: 0 | M23: 0 | N23: =SUM(B23:M23) -> 0 | O23: N/A
A24: Mn Comp | B24: 0 | C24: 0 | D24: 0 | E24: 0 | F24: 0 | G24: 0 | H24: 0 | I24: 0 | J24: 0 | K24: 0 | L24: 0 | M24: 0 | N24: =SUM(B24:M24) -> 0 | O24: N/A
A25: Formaldehido | B25: 0 | C25: 0 | D25: 0 | E25: 0 | F25: 0 | G25: 0 | H25: 0 | I25: 0 | J25: 0 | K25: 0 | L25: 0 | M25: 0 | N25: =SUM(B25:M25) -> 0 | O25: N/A
A26: Tolueno | B26: 0 | C26: 0 | D26: 0 | E26: 0 | F26: 0 | G26: 0 | H26: 0 | I26: 0 | J26: 0 | K26: 0 | L26: 0 | M26: 0 | N26: =SUM(B26:M26) -> 0 | O26: N/A
A27: POM | B27: 0 | C27: 0 | D27: 0 | E27: 0 | F27: 0 | G27: 0 | H27: 0 | I27: 0 | J27: 0 | K27: 0 | L27: 0 | M27: 0 | N27: =SUM(B27:M27) -> 0 | O27: N/A
A28: CAPs Total | B28: 0 | C28: 0 | D28: 0 | E28: 0 | F28: 0 | G28: 0 | H28: 0 | I28: 0 | J28: 0 | K28: 0 | L28: 0 | M28: 0 | N28: =SUM(B28:M28) -> 0 | O28: N/A
A29: Subtotal CAPs | B29: =B28 -> 0 | C29: =C28 -> 0 | D29: =D28 -> 0 | E29: =E28 -> 0 | F29: =F28 -> 0 | G29: =G28 -> 0 | H29: =H28 -> 0 | I29: =I28 -> 0 | ... O29: =O28 -> N/A
A30: Total | B30: =SUM(B22,B29) -> 43.913649 | C30: =SUM(C22,C29) -> 64.316939 | D30: =SUM(D22,D29) -> 81.544974 | E30: =SUM(E22,E29) -> 64.471134 | F30: =SUM(F22,F29) -> 116.06971 | G30: =SUM(G22,G29) -> 65.88771 | H30: =SUM(H22,H29) -> 128.73202 | I30: =SUM(I22,I29) -> 563.0548 | ... O30: =SUM(O22,O29) -> 32116.01
B32: Aguirre | C32: Aguirre | D32: Aguirre | E32: Aguirre | F32: Aguirre | G32: Aguirre | H32: Aguirre | I32: Aguirre | J32: Aguirre | K32: Aguirre | L32: Aguirre | M32: Aguirre | N32: Aguirre | O32: Aguirre
A33: PM Total | B33: ='Mensual 2024'!C66 -> 31.720553 | C33: ='Mensual 2024'!D66 -> 59.972639 | D33: ='Mensual 2024'!E66 -> 53.178978 | E33: ='Mensual 2024'!F66 -> 47.698893 | F33: ='Mensual 2024'!G66 -> 93.051841 | G33: ='Mensual 2024'!H66 -> 98.245783 | H33: ='Mensual 2024'!I66 -> 78.946523 | I33: ='Mensual 2024'!J66 -> 57.154032 | ... M33: ='Mensual 2024'!N66 -> 4.5606174 | N33: =SUM(B33:M33) -> 640.14482 | O33: 2194.88
A34: SO2 | B34: ='Mensual 2024'!C67 -> 286.51132 | C34: ='Mensual 2024'!D67 -> 567.1207 | D34: ='Mensual 2024'!E67 -> 508.05586 | E34: ='Mensual 2024'!F67 -> 427.24842 | F34: ='Mensual 2024'!G67 -> 866.83982 | G34: ='Mensual 2024'!H67 -> 939.59763 | H34: ='Mensual 2024'!I67 -> 758.29799 | I34: ='Mensual 2024'!J67 -> 509.39644 | ... M34: ='Mensual 2024'!N67 -> 0.38385196 | N34: =SUM(B34:M34) -> 5845.6688 | O34: 30608.58
A35: NOx | B35: ='Mensual 2024'!C68 -> 416.93517 | C35: ='Mensual 2024'!D68 -> 560.54406 | D35: ='Mensual 2024'!E68 -> 485.30014 | E35: ='Mensual 2024'!F68 -> 585.65075 | F35: ='Mensual 2024'!G68 -> 959.08372 | G35: ='Mensual 2024'!H68 -> 894.15978 | H35: ='Mensual 2024'!I68 -> 696.33122 | I35: ='Mensual 2024'!J68 -> 772.3033 | ... M35: ='Mensual 2024'!N68 -> 334.44527 | N35: =SUM(B35:M35) -> 7613.0415 | O35: 28867.78
A36: VOC | B36: ='Mensual 2024'!C69 -> 2.8813998 | C36: ='Mensual 2024'!D69 -> 5.8048641 | D36: ='Mensual 2024'!E69 -> 5.1002571 | E36: ='Mensual 2024'!F69 -> 4.5363409 | F36: ='Mensual 2024'!G69 -> 8.9192039 | G36: ='Mensual 2024'!H69 -> 9.4141224 | H36: ='Mensual 2024'!I69 -> 7.5861172 | I36: ='Mensual 2024'!J69 -> 5.2346063 | ... M36: ='Mensual 2024'!N69 -> 0.15582109 | N36: =SUM(B36:M36) -> 59.841376 | O36: 195.32
A37: CO | B37: ='Mensual 2024'!C70 -> 19.118494 | C37: ='Mensual 2024'!D70 -> 38.318759 | D37: ='Mensual 2024'!E70 -> 33.662457 | E37: ='Mensual 2024'!F70 -> 30.049293 | F37: ='Mensual 2024'!G70 -> 58.946046 | G37: ='Mensual 2024'!H70 -> 62.133471 | H37: ='Mensual 2024'!I70 -> 50.051492 | I37: ='Mensual 2024'!J70 -> 34.742847 | ... M37: ='Mensual 2024'!N70 -> 1.2541698 | N37: =SUM(B37:M37) -> 396.31728 | O37: 1299.54
A38: Pb | B38: ='Mensual 2024'!C71 -> 0.009267561 | C38: ='Mensual 2024'!D71 -> 0.01435284 | D38: ='Mensual 2024'!E71 -> 0.012499345 | E38: ='Mensual 2024'!F71 -> 0.013497125 | F38: ='Mensual 2024'!G71 -> 0.023564524 | G38: ='Mensual 2024'!H71 -> 0.023046522 | H38: ='Mensual 2024'!I71 -> 0.018197421 | I38: ='Mensual 2024'!J71 -> 0.017065924 | ... M38: ='Mensual 2024'!N71 -> 0.0053207203 | N38: =SUM(B38:M38) -> 0.17630808 | O38: 0.63
A39: CO2e | B39: ='Mensual 2024'!C72 -> 135251.54 | C39: ='Mensual 2024'!D72 -> 223323.14 | D39: ='Mensual 2024'!E72 -> 194948.39 | E39: ='Mensual 2024'!F72 -> 200486.89 | F39: ='Mensual 2024'!G72 -> 360343.03 | G39: ='Mensual 2024'!H72 -> 359554.45 | H39: ='Mensual 2024'!I72 -> 285479.41 | I39: ='Mensual 2024'!J72 -> 248324.45 | ... M39: ='Mensual 2024'!N72 -> 62183.394 | N39: =SUM(B39:M39) -> 2624924.4 | O39: 10093497
A40: Subtotal | B40: =SUM(B33:B38) -> 757.17621 | C40: =SUM(C33:C38) -> 1231.7754 | D40: =SUM(D33:D38) -> 1085.3102 | E40: =SUM(E33:E38) -> 1095.1972 | F40: =SUM(F33:F38) -> 1986.8642 | G40: =SUM(G33:G38) -> 2003.5738 | H40: =SUM(H33:H38) -> 1591.2315 | I40: =SUM(I33:I38) -> 1378.8483 | ... O40: =SUM(O33:O38) -> 63166.73
A41: Ni Comp | B41: 0 | C41: 0 | D41: 0 | E41: 0 | F41: 0 | G41: 0 | H41: 0 | I41: 0 | J41: 0 | K41: 0 | L41: 0 | M41: 0 | N41: =SUM(B41:M41) -> 0 | O41: 20.71
A42: Mn Comp | B42: 0 | C42: 0 | D42: 0 | E42: 0 | F42: 0 | G42: 0 | H42: 0 | I42: 0 | J42: 0 | K42: 0 | L42: 0 | M42: 0 | N42: =SUM(B42:M42) -> 0 | O42: 19.62
A43: Formaldehido | B43: 0 | C43: 0 | D43: 0 | E43: 0 | F43: 0 | G43: 0 | H43: 0 | I43: 0 | J43: 0 | K43: 0 | L43: 0 | M43: 0 | N43: =SUM(B43:M43) -> 0 | O43: 14.75
A44: Chloride | B44: 0 | C44: 0 | D44: 0 | E44: 0 | F44: 0 | G44: 0 | H44: 0 | I44: 0 | J44: 0 | K44: 0 | L44: 0 | M44: 0 | N44: =SUM(B44:M44) -> 0 | O44: 84.71
A45: CAPs Total | B45: 0 | C45: 0 | D45: 0 | E45: 0 | F45: 0 | G45: 0 | H45: 0 | I45: 0 | J45: 0 | K45: 0 | L45: 0 | M45: 0 | N45: =SUM(B45:M45) -> 0 | O45: 177.73
A46: Subtotal CAPs | B46: =B45 -> 0 | C46: =C45 -> 0 | D46: =D45 -> 0 | E46: =E45 -> 0 | F46: =F45 -> 0 | G46: =G45 -> 0 | H46: =H45 -> 0 | I46: =I45 -> 0 | ... O46: =O45 -> 177.73
A47: Total | B47: =SUM(B46,B40) -> 757.17621 | C47: =SUM(C46,C40) -> 1231.7754 | D47: =SUM(D46,D40) -> 1085.3102 | E47: =SUM(E46,E40) -> 1095.1972 | F47: =SUM(F46,F40) -> 1986.8642 | G47: =SUM(G46,G40) -> 2003.5738 | H47: =SUM(H46,H40) -> 1591.2315 | I47: =SUM(I46,I40) -> 1378.8483 | ... O47: =SUM(O46,O40) -> 63344.46
B49: Costa Sur | C49: Costa Sur | D49: Costa Sur | E49: Costa Sur | F49: Costa Sur | G49: Costa Sur | H49: Costa Sur | I49: Costa Sur | J49: Costa Sur | K49: Costa Sur | L49: Costa Sur | M49: Costa Sur | N49: Costa Sur | O49: Costa Sur
A50: PM | B50: ='Mensual 2024'!C21+'Mensual 2024'!C34 -> 0.000713869 | C50: ='Mensual 2024'!D21+'Mensual 2024'!D34 -> 0.0040386572 | D50: ='Mensual 2024'!E21+'Mensual 2024'!E34 -> 2.2194939 | E50: ='Mensual 2024'!F21+'Mensual 2024'!F34 -> 6.5075092 | F50: ='Mensual 2024'!G21+'Mensual 2024'!G34 -> 32.000748 | G50: ='Mensual 2024'!H21+'Mensual 2024'!H34 -> 36.040287 | H50: ='Mensual 2024'!I21+'Mensual 2024'!I34 -> 42.378271 | I50: ='Mensual 2024'!J21+'Mensual 2024'!J34 -> 26.609216 | ... M50: ='Mensual 2024'!N21+'Mensual 2024'!N34 -> 22.798489 | N50: =SUM(B50:M50) -> 248.53152 | O50: 590
A51: PM10 | B51: ='Mensual 2024'!C22 -> 0.0011564678 | C51: ='Mensual 2024'!D22 -> 0.0059052583 | D51: ='Mensual 2024'!E22 -> 3.5955801 | E51: ='Mensual 2024'!F22 -> 10.272857 | F51: ='Mensual 2024'!G22 -> 46.819644 | G51: ='Mensual 2024'!H22 -> 52.99873 | H51: ='Mensual 2024'!I22 -> 61.977973 | I51: ='Mensual 2024'!J22 -> 39.471057 | ... M51: ='Mensual 2024'!N22 -> 34.124667 | N51: =SUM(B51:M51) -> 368.77818 | O51: 1038
A52: PM2.5 | B52: ='Mensual 2024'!C23 -> 0.0010708035 | C52: ='Mensual 2024'!D23 -> 0.0049023216 | D52: ='Mensual 2024'!E23 -> 3.3292409 | E52: ='Mensual 2024'!F23 -> 9.2729592 | F52: ='Mensual 2024'!G23 -> 38.896081 | G52: ='Mensual 2024'!H23 -> 44.293637 | H52: ='Mensual 2024'!I23 -> 51.470233 | I52: ='Mensual 2024'!J23 -> 33.327176 | ... M52: ='Mensual 2024'!N23 -> 29.104701 | N52: =SUM(B52:M52) -> 311.58881 | O52: 803
A53: SOx | B53: ='Mensual 2024'!C24+'Mensual 2024'!C35 -> 0.0005710952 | C53: ='Mensual 2024'!D24+'Mensual 2024'!D35 -> 0.07345795 | D53: ='Mensual 2024'!E24+'Mensual 2024'!E35 -> 1.7755951 | E53: ='Mensual 2024'!F24+'Mensual 2024'!F35 -> 34.259638 | F53: ='Mensual 2024'!G24+'Mensual 2024'!G35 -> 567.34136 | G53: ='Mensual 2024'!H24+'Mensual 2024'!H35 -> 609.94656 | H53: ='Mensual 2024'!I24+'Mensual 2024'!I35 -> 768.66596 | I53: ='Mensual 2024'!J24+'Mensual 2024'!J35 -> 421.16749 | ... M53: ='Mensual 2024'!N24+'Mensual 2024'!N35 -> 321.26902 | N53: =SUM(B53:M53) -> 3867.6566 | O53: 9884
A54: NOx | B54: ='Mensual 2024'!C25+'Mensual 2024'!C36 -> 0.04997083 | C54: ='Mensual 2024'!D25+'Mensual 2024'!D36 -> 0.062079213 | D54: ='Mensual 2024'!E25+'Mensual 2024'!E36 -> 155.36457 | E54: ='Mensual 2024'!F25+'Mensual 2024'!F36 -> 362.30385 | F54: ='Mensual 2024'!G25+'Mensual 2024'!G36 -> 501.81722 | G54: ='Mensual 2024'!H25+'Mensual 2024'!H36 -> 658.25046 | H54: ='Mensual 2024'!I25+'Mensual 2024'!I36 -> 658.13401 | I54: ='Mensual 2024'!J25+'Mensual 2024'!J36 -> 606.37699 | ... M54: ='Mensual 2024'!N25+'Mensual 2024'!N36 -> 623.58817 | N54: =SUM(B54:M54) -> 5743.1939 | O54: 10521
A55: VOC | B55: ='Mensual 2024'!C26+'Mensual 2024'!C37 -> 0.00011421904 | C55: ='Mensual 2024'!D26+'Mensual 2024'!D37 -> 0.00021193559 | D55: ='Mensual 2024'!E26+'Mensual 2024'!E37 -> 0.35511902 | E55: ='Mensual 2024'!F26+'Mensual 2024'!F37 -> 0.85771731 | F55: ='Mensual 2024'!G26+'Mensual 2024'!G37 -> 1.6988315 | G55: ='Mensual 2024'!H26+'Mensual 2024'!H37 -> 2.0964993 | H55: ='Mensual 2024'!I26+'Mensual 2024'!I37 -> 2.2366045 | I55: ='Mensual 2024'!J26+'Mensual 2024'!J37 -> 1.7842793 | ... M55: ='Mensual 2024'!N26+'Mensual 2024'!N37 -> 1.734013 | N55: =SUM(B55:M55) -> 16.812709 | O55: 36
A56: CO | B56: ='Mensual 2024'!C27+'Mensual 2024'!C38 -> 0.0012849642 | C56: ='Mensual 2024'!D27+'Mensual 2024'!D38 -> 0.00086790402 | D56: ='Mensual 2024'!E27+'Mensual 2024'!E38 -> 3.995089 | E56: ='Mensual 2024'!F27+'Mensual 2024'!F38 -> 9.0086049 | F56: ='Mensual 2024'!G27+'Mensual 2024'!G38 -> 7.1649361 | G56: ='Mensual 2024'!H27+'Mensual 2024'!H38 -> 10.770401 | H56: ='Mensual 2024'!I27+'Mensual 2024'!I38 -> 9.2959997 | I56: ='Mensual 2024'!J27+'Mensual 2024'!J38 -> 11.438251 | ... M56: ='Mensual 2024'!N27+'Mensual 2024'!N38 -> 12.824971 | N56: =SUM(B56:M56) -> 109.0305 | O56: 388
A57: H2SO4 | B57: ='Mensual 2024'!C28 -> 6.1392734e-05 | C57: ='Mensual 2024'!D28 -> 0.0031804526 | D57: ='Mensual 2024'!E28 -> 0.19087648 | E57: ='Mensual 2024'!F28 -> 1.7567319 | F57: ='Mensual 2024'!G28 -> 25.073211 | G57: ='Mensual 2024'!H28 -> 27.042906 | H57: ='Mensual 2024'!I28 -> 33.286446 | I57: ='Mensual 2024'!J28 -> 18.420294 | ... M57: ='Mensual 2024'!N28 -> 14.446314 | N57: =SUM(B57:M57) -> 171.02137 | O57: 469
A58: Pb | B58: ='Mensual 2024'!C29+'Mensual 2024'!C39 -> 0 | C58: ='Mensual 2024'!D29+'Mensual 2024'!D39 -> 6.4857272e-07 | D58: ='Mensual 2024'!E29+'Mensual 2024'!E39 -> 0 | E58: ='Mensual 2024'!F29+'Mensual 2024'!F39 -> 0.00027404246 | F58: ='Mensual 2024'!G29+'Mensual 2024'!G39 -> 0.0051098595 | G58: ='Mensual 2024'!H29+'Mensual 2024'!H39 -> 0.0054812428 | H58: ='Mensual 2024'!I29+'Mensual 2024'!I39 -> 0.006790331 | I58: ='Mensual 2024'!J29+'Mensual 2024'!J39 -> 0.0036978328 | ... M58: ='Mensual 2024'!N29+'Mensual 2024'!N39 -> 0.002858271 | N58: =SUM(B58:M58) -> 0.034385969 | O58: 0.08
A59: Fluoruro | B59: =('Tasas 2024'!C110*'CS 5'!$C$14+'Tasas 2024'!C111*'CS 5'!$B$14+'Tasas 2024'!C112*'CS6'!$C$14+'Tasas 2024'!C113*'CS6'!$B$14)/2000 -> 0 | C59: =('Tasas 2024'!D110*'CS 5'!$C$14+'Tasas 2024'!D111*'CS 5'!$B$14+'Tasas 2024'!D112*'CS6'!$C$14+'Tasas 2024'!D113*'CS6'!$B$14)/2000 -> 0 | D59: =('Tasas 2024'!E110*'CS 5'!$C$14+'Tasas 2024'!E111*'CS 5'!$B$14+'Tasas 2024'!E112*'CS6'!$C$14+'Tasas 2024'!E113*'CS6'!$B$14)/2000 -> 0 | E59: =('Tasas 2024'!F110*'CS 5'!$C$14+'Tasas 2024'!F111*'CS 5'!$B$14+'Tasas 2024'!F112*'CS6'!$C$14+'Tasas 2024'!F113*'CS6'!$B$14)/2000 -> 0 | F59: =('Tasas 2024'!G110*'CS 5'!$C$14+'Tasas 2024'!G111*'CS 5'!$B$14+'Tasas 2024'!G112*'CS6'!$C$14+'Tasas 2024'!G113*'CS6'!$B$14)/2000 -> 0 | G59: =('Tasas 2024'!H110*'CS 5'!$C$14+'Tasas 2024'!H111*'CS 5'!$B$14+'Tasas 2024'!H112*'CS6'!$C$14+'Tasas 2024'!H113*'CS6'!$B$14)/2000 -> 0 | H59: =('Tasas 2024'!I110*'CS 5'!$C$14+'Tasas 2024'!I111*'CS 5'!$B$14+'Tasas 2024'!I112*'CS6'!$C$14+'Tasas 2024'!I113*'CS6'!$B$14)/2000 -> 0 | I59: =('Tasas 2024'!J110*'CS 5'!$C$14+'Tasas 2024'!J111*'CS 5'!$B$14+'Tasas 2024'!J112*'CS6'!$C$14+'Tasas 2024'!J113*'CS6'!$B$14)/2000 -> 0 | ... M59: =('Tasas 2024'!N110*'CS 5'!$C$14+'Tasas 2024'!N111*'CS 5'!$B$14+'Tasas 2024'!N112*'CS6'!$C$14+'Tasas 2024'!N113*'CS6'!$B$14)/2000 -> 0 | N59: =SUM(B59:M59) -> 0 | O59: 0
A60: CO2e | B60: ='Mensual 2024'!C30+'Mensual 2024'!C40 -> 16.541688 | C60: ='Mensual 2024'!D30+'Mensual 2024'!D40 -> 28.243835 | D60: ='Mensual 2024'!E30+'Mensual 2024'!E40 -> 51429.849 | E60: ='Mensual 2024'!F30+'Mensual 2024'!F40 -> 123183.25 | F60: ='Mensual 2024'!G30+'Mensual 2024'!G40 -> 226732.69 | G60: ='Mensual 2024'!H30+'Mensual 2024'!H40 -> 282921.98 | H60: ='Mensual 2024'!I30+'Mensual 2024'!I40 -> 298318.75 | I60: ='Mensual 2024'!J30+'Mensual 2024'!J40 -> 244494.12 | ... M60: ='Mensual 2024'!N30+'Mensual 2024'!N40 -> 240331.8 | N60: =SUM(B60:M60) -> 2306428.5 | O60: N/A
A61: Total | B61: =SUM(B50:B59) -> 0.054943641 | C61: =SUM(C50:C59) -> 0.15464434 | D61: =SUM(D50:D59) -> 170.82557 | E61: =SUM(E50:E59) -> 434.24015 | F61: =SUM(F50:F59) -> 1220.8171 | G61: =SUM(G50:G59) -> 1441.445 | H61: =SUM(H50:H59) -> 1627.4523 | I61: =SUM(I50:I59) -> 1158.5985 | ... O61: =SUM(O50:O59) -> 23729.08
B63: Cambalache | C63: Cambalache | D63: Cambalache | E63: Cambalache | F63: Cambalache | G63: Cambalache | H63: Cambalache | I63: Cambalache | J63: Cambalache | K63: Cambalache | L63: Cambalache | M63: Cambalache | N63: Cambalache | O63: Cambalache
A64: PM10 | B64: ='Mensual 2024'!C98 -> 8.874 | C64: ='Mensual 2024'!D98 -> 9.996 | D64: ='Mensual 2024'!E98 -> 7.242 | E64: ='Mensual 2024'!F98 -> 18.666 | F64: ='Mensual 2024'!G98 -> 21.9045 | G64: ='Mensual 2024'!H98 -> 11.067 | H64: ='Mensual 2024'!I98 -> 7.6245 | I64: ='Mensual 2024'!J98 -> 20.1195 | ... M64: ='Mensual 2024'!N98 -> 13.923 | N64: =SUM(B64:M64) -> 167.4075 | O64: 670
A65: SOx | B65: ='Mensual 2024'!C99 -> 23.838 | C65: ='Mensual 2024'!D99 -> 26.852 | D65: ='Mensual 2024'!E99 -> 19.454 | E65: ='Mensual 2024'!F99 -> 50.142 | F65: ='Mensual 2024'!G99 -> 58.8415 | G65: ='Mensual 2024'!H99 -> 29.729 | H65: ='Mensual 2024'!I99 -> 20.4815 | I65: ='Mensual 2024'!J99 -> 54.0465 | ... M65: ='Mensual 2024'!N99 -> 37.401 | N65: =SUM(B65:M65) -> 449.7025 | O65: 1800
A66: NOx | B66: ='Mensual 2024'!C103 -> 25.9987 | C66: ='Mensual 2024'!D103 -> 24.9344 | D66: ='Mensual 2024'!E103 -> 22.71125 | E66: ='Mensual 2024'!F103 -> 36.0804 | F66: ='Mensual 2024'!G103 -> 40.5892 | G66: ='Mensual 2024'!H103 -> 24.0455 | H66: ='Mensual 2024'!I103 -> 19.27905 | I66: ='Mensual 2024'!J103 -> 36.58035 | ... M66: ='Mensual 2024'!N103 -> 26.88765 | N66: =SUM(B66:M66) -> 344.04065 | O66: 1801
A67: VOC | B67: ='Mensual 2024'!C100 -> 2.024 | C67: ='Mensual 2024'!D100 -> 2.241 | D67: ='Mensual 2024'!E100 -> 1.599 | E67: ='Mensual 2024'!F100 -> 4.166 | F67: ='Mensual 2024'!G100 -> 4.9885 | G67: ='Mensual 2024'!H100 -> 2.499 | H67: ='Mensual 2024'!I100 -> 1.7245 | I67: ='Mensual 2024'!J100 -> 4.6295 | ... M67: ='Mensual 2024'!N100 -> 3.061 | N67: =SUM(B67:M67) -> 37.8695 | O67: 180
A68: CO | B68: ='Mensual 2024'!C104 -> 4.7995 | C68: ='Mensual 2024'!D104 -> 4.4205 | D68: ='Mensual 2024'!E104 -> 4.6535 | E68: ='Mensual 2024'!F104 -> 4.529 | F68: ='Mensual 2024'!G104 -> 4.0465 | G68: ='Mensual 2024'!H104 -> 3.9935 | H68: ='Mensual 2024'!I104 -> 4.343 | I68: ='Mensual 2024'!J104 -> 3.9045 | ... M68: ='Mensual 2024'!N104 -> 3.5305 | N68: =SUM(B68:M68) -> 47.0455 | O68: 713
A69: Pb | B69: ='Mensual 2024'!C101 -> 0.003169 | C69: ='Mensual 2024'!D101 -> 0.0034335 | D69: ='Mensual 2024'!E101 -> 0.0024015 | E69: ='Mensual 2024'!F101 -> 0.006346 | F69: ='Mensual 2024'!G101 -> 0.007796 | G69: ='Mensual 2024'!H101 -> 0.003864 | H69: ='Mensual 2024'!I101 -> 0.002672 | I69: ='Mensual 2024'!J101 -> 0.007327 | ... M69: ='Mensual 2024'!N101 -> 0.004571 | N69: =SUM(B69:M69) -> 0.058687 | O69: 0.3
A70: CO2e | B70: ='Mensual 2024'!C102 -> 23963.243 | C70: ='Mensual 2024'!D102 -> 24889.817 | D70: ='Mensual 2024'!E102 -> 21756.747 | E70: ='Mensual 2024'!F102 -> 43306.433 | F70: ='Mensual 2024'!G102 -> 53639.18 | G70: ='Mensual 2024'!H102 -> 27506.879 | H70: ='Mensual 2024'!I102 -> 20153.335 | I70: ='Mensual 2024'!J102 -> 49434.448 | ... M70: ='Mensual 2024'!N102 -> 32929.671 | N70: =SUM(B70:M70) -> 413266.48 | O70: N/A
A71: Total | B71: =SUM(B64:B69) -> 65.537369 | C71: =SUM(C64:C69) -> 68.447333 | D71: =SUM(D64:D69) -> 55.662152 | E71: =SUM(E64:E69) -> 113.58975 | F71: =SUM(F64:F69) -> 130.378 | G71: =SUM(G64:G69) -> 71.337864 | H71: =SUM(H64:H69) -> 53.455222 | I71: =SUM(I64:I69) -> 119.28768 | ... O71: =SUM(O64:O69) -> 5164.3
B73: Mayagüez | C73: Mayagüez | D73: Mayagüez | E73: Mayagüez | F73: Mayagüez | G73: Mayagüez | H73: Mayagüez | I73: Mayagüez | J73: Mayagüez | K73: Mayagüez | L73: Mayagüez | M73: Mayagüez | N73: Mayagüez | O73: Mayagüez
A74: PM | B74: ='Mensual 2024'!C162 -> 3.7655568 | C74: ='Mensual 2024'!D162 -> 3.278738 | D74: ='Mensual 2024'!E162 -> 2.8912947 | E74: ='Mensual 2024'!F162 -> 3.873089 | F74: ='Mensual 2024'!G162 -> 4.3965871 | G74: ='Mensual 2024'!H162 -> 3.0876863 | H74: ='Mensual 2024'!I162 -> 2.2909135 | I74: ='Mensual 2024'!J162 -> 3.3124832 | ... M74: ='Mensual 2024'!N162 -> 2.7511937 | N74: =SUM(B74:M74) -> 38.084548 | O74: 83.1
A75: SOx | B75: ='Mensual 2024'!C163 -> 3.1693436 | C75: ='Mensual 2024'!D163 -> 2.7596045 | D75: ='Mensual 2024'!E163 -> 2.4335064 | E75: ='Mensual 2024'!F163 -> 3.2598499 | F75: ='Mensual 2024'!G163 -> 3.7004608 | G75: ='Mensual 2024'!H163 -> 2.5988026 | H75: ='Mensual 2024'!I163 -> 1.9281855 | I75: ='Mensual 2024'!J163 -> 2.7880067 | ... M75: ='Mensual 2024'!N163 -> 2.315588 | N75: =SUM(B75:M75) -> 32.054494 | O75: 304.82
A76: NOx | B76: ='Mensual 2024'!C164 -> 90.259679 | C76: ='Mensual 2024'!D164 -> 78.590725 | D76: ='Mensual 2024'!E164 -> 69.303784 | E76: ='Mensual 2024'!F164 -> 92.837207 | F76: ='Mensual 2024'!G164 -> 105.38536 | G76: ='Mensual 2024'!H164 -> 74.011252 | H76: ='Mensual 2024'!I164 -> 54.912761 | I76: ='Mensual 2024'!J164 -> 79.399592 | ... M76: ='Mensual 2024'!N164 -> 65.945589 | N76: =SUM(B76:M76) -> 912.87936 | O76: 796.29
A77: VOC | B77: ='Mensual 2024'!C165 -> 0.12865652 | C77: ='Mensual 2024'!D165 -> 0.11202355 | D77: ='Mensual 2024'!E165 -> 0.098785903 | E77: ='Mensual 2024'!F165 -> 0.13233054 | F77: ='Mensual 2024'!G165 -> 0.15021673 | G77: ='Mensual 2024'!H165 -> 0.10549595 | H77: ='Mensual 2024'!I165 -> 0.078272878 | I77: ='Mensual 2024'!J165 -> 0.11317651 | ... M77: ='Mensual 2024'!N165 -> 0.093999118 | N77: =SUM(B77:M77) -> 1.301222 | O77: 25.06
A78: CO | B78: ='Mensual 2024'!C166 -> 1.0355281 | C78: ='Mensual 2024'!D166 -> 0.90165294 | D78: ='Mensual 2024'!E166 -> 0.79510605 | E78: ='Mensual 2024'!F166 -> 1.0650995 | F78: ='Mensual 2024'!G166 -> 1.2090615 | G78: ='Mensual 2024'!H166 -> 0.84911372 | H78: ='Mensual 2024'!I166 -> 0.63000122 | I78: ='Mensual 2024'!J166 -> 0.91093288 | ... M78: ='Mensual 2024'!N166 -> 0.75657827 | N78: =SUM(B78:M78) -> 10.473251 | O78: 93.93
A79: Pb | B79: ='Mensual 2024'!C167 -> 0.0043931495 | C79: ='Mensual 2024'!D167 -> 0.0038251943 | D79: ='Mensual 2024'!E167 -> 0.0033731772 | E79: ='Mensual 2024'!F167 -> 0.0045186039 | F79: ='Mensual 2024'!G167 -> 0.0051293516 | G79: ='Mensual 2024'!H167 -> 0.0036023007 | H79: ='Mensual 2024'!I167 -> 0.0026727324 | I79: ='Mensual 2024'!J167 -> 0.0038645637 | ... M79: ='Mensual 2024'!N167 -> 0.003209726 | N79: =SUM(B79:M79) -> 0.044431972 | O79: 0.017
A80: CO2e | B80: ='Mensual 2024'!C168 -> 51340.776 | C80: ='Mensual 2024'!D168 -> 44703.336 | D80: ='Mensual 2024'!E168 -> 39420.814 | E80: ='Mensual 2024'!F168 -> 52806.904 | F80: ='Mensual 2024'!G168 -> 59944.44 | G80: ='Mensual 2024'!H168 -> 42098.478 | H80: ='Mensual 2024'!I168 -> 31235.03 | I80: ='Mensual 2024'!J168 -> 45163.429 | ... M80: ='Mensual 2024'!N168 -> 37510.633 | N80: =SUM(B80:M80) -> 519256.6 | O80: N/A
A81: Total | B81: =SUM(B74:B79) -> 98.363157 | C81: =SUM(C74:C79) -> 85.646569 | D81: =SUM(D74:D79) -> 75.525851 | E81: =SUM(E74:E79) -> 101.17209 | F81: =SUM(F74:F79) -> 114.84681 | G81: =SUM(G74:G79) -> 80.655953 | H81: =SUM(H74:H79) -> 59.842807 | I81: =SUM(I74:I79) -> 86.528056 | ... O81: =SUM(O74:O79) -> 1303.217
B83: Dagüao | C83: Dagüao | D83: Dagüao | E83: Dagüao | F83: Dagüao | G83: Dagüao | H83: Dagüao | I83: Dagüao | J83: Dagüao | K83: Dagüao | L83: Dagüao | M83: Dagüao | N83: Dagüao | O83: Dagüao
A84: PM | B84: ='Mensual 2024'!C110 -> 0.45654489 | C84: ='Mensual 2024'!D110 -> 0.31168164 | D84: ='Mensual 2024'!E110 -> 0.31788011 | E84: ='Mensual 2024'!F110 -> 0.53260592 | F84: ='Mensual 2024'!G110 -> 0.8179962 | G84: ='Mensual 2024'!H110 -> 0.15025075 | H84: ='Mensual 2024'!I110 -> 0.095054284 | I84: ='Mensual 2024'!J110 -> 0.3115947 | ... M84: ='Mensual 2024'!N110 -> 0.11461439 | N84: =SUM(B84:M84) -> 3.711598 | O84: 9.41
A85: SOx | B85: ='Mensual 2024'!C111 -> 0.38425862 | C85: ='Mensual 2024'!D111 -> 0.26233205 | D85: ='Mensual 2024'!E111 -> 0.2675491 | E85: ='Mensual 2024'!F111 -> 0.44827665 | F85: ='Mensual 2024'!G111 -> 0.68848014 | G85: ='Mensual 2024'!H111 -> 0.12646105 | H85: ='Mensual 2024'!I111 -> 0.080004022 | I85: ='Mensual 2024'!J111 -> 0.26225887 | ... M85: ='Mensual 2024'!N111 -> 0.096467114 | N85: =SUM(B85:M85) -> 3.1239283 | O85: 395.87
A86: NOx | B86: ='Mensual 2024'!C112 -> 33.479959 | C86: ='Mensual 2024'!D112 -> 22.856654 | D86: ='Mensual 2024'!E112 -> 23.311208 | E86: ='Mensual 2024'!F112 -> 39.057767 | F86: ='Mensual 2024'!G112 -> 59.986388 | G86: ='Mensual 2024'!H112 -> 11.018388 | H86: ='Mensual 2024'!I112 -> 6.9706475 | I86: ='Mensual 2024'!J112 -> 22.850278 | ... M86: ='Mensual 2024'!N112 -> 8.4050555 | N86: =SUM(B86:M86) -> 272.18385 | O86: 689.83
A87: VOC | B87: ='Mensual 2024'!C113 -> 0.015598617 | C87: ='Mensual 2024'!D113 -> 0.010649123 | D87: ='Mensual 2024'!E113 -> 0.010860904 | E87: ='Mensual 2024'!F113 -> 0.018197369 | F87: ='Mensual 2024'!G113 -> 0.027948204 | G87: ='Mensual 2024'!H113 -> 0.0051335673 | H87: ='Mensual 2024'!I113 -> 0.003247688 | I87: ='Mensual 2024'!J113 -> 0.010646152 | ... M87: ='Mensual 2024'!N113 -> 0.0039159918 | N87: =SUM(B87:M87) -> 0.12681293 | O87: 0.32
A88: CO | B88: ='Mensual 2024'!C114 -> 0.12554985 | C88: ='Mensual 2024'!D114 -> 0.085712451 | D88: ='Mensual 2024'!E114 -> 0.087417031 | E88: ='Mensual 2024'!F114 -> 0.14646663 | F88: ='Mensual 2024'!G114 -> 0.22494896 | G88: ='Mensual 2024'!H114 -> 0.041318957 | H88: ='Mensual 2024'!I114 -> 0.026139928 | I88: ='Mensual 2024'!J114 -> 0.085688542 | ... M88: ='Mensual 2024'!N114 -> 0.031518958 | N88: =SUM(B88:M88) -> 1.0206894 | O88: 2.59
A89: Pb | B89: ='Mensual 2024'!C115 -> 0.00053263571 | C89: ='Mensual 2024'!D115 -> 0.00036362858 | D89: ='Mensual 2024'!E115 -> 0.00037086013 | E89: ='Mensual 2024'!F115 -> 0.00062137357 | F89: ='Mensual 2024'!G115 -> 0.0009543289 | G89: ='Mensual 2024'!H115 -> 0.00017529254 | H89: ='Mensual 2024'!I115 -> 0.00011089666 | I89: ='Mensual 2024'!J115 -> 0.00036352715 | ... M89: ='Mensual 2024'!N115 -> 0.00013371679 | N89: =SUM(B89:M89) -> 0.0043301976 | O89: 0.011
A90: CO2e | B90: ='Mensual 2024'!C116 -> 6224.6755 | C90: ='Mensual 2024'!D116 -> 4249.5647 | D90: ='Mensual 2024'!E116 -> 4334.0766 | E90: ='Mensual 2024'!F116 -> 7261.7152 | F90: ='Mensual 2024'!G116 -> 11152.815 | G90: ='Mensual 2024'!H116 -> 2048.5656 | H90: ='Mensual 2024'!I116 -> 1295.9998 | I90: ='Mensual 2024'!J116 -> 4248.3793 | ... M90: ='Mensual 2024'!N116 -> 1562.6884 | N90: =SUM(B90:M90) -> 50605.085 | O90: N/A
A91: Total | B91: =SUM(B84:B89) -> 34.462443 | C91: =SUM(C84:C89) -> 23.527392 | D91: =SUM(D84:D89) -> 23.995286 | E91: =SUM(E84:E89) -> 40.203935 | F91: =SUM(F84:F89) -> 61.746716 | G91: =SUM(G84:G89) -> 11.341728 | H91: =SUM(H84:H89) -> 7.1752043 | I91: =SUM(I84:I89) -> 23.52083 | ... O91: =SUM(O84:O89) -> 1098.031
B93: Jobos | C93: Jobos | D93: Jobos | E93: Jobos | F93: Jobos | G93: Jobos | H93: Jobos | I93: Jobos | J93: Jobos | K93: Jobos | L93: Jobos | M93: Jobos | N93: Jobos | O93: Jobos
A94: PM | B94: ='Mensual 2024'!C146 -> 0 | C94: ='Mensual 2024'!D146 -> 0.12105108 | D94: ='Mensual 2024'!E146 -> 0.10451405 | E94: ='Mensual 2024'!F146 -> 0.21653694 | F94: ='Mensual 2024'!G146 -> 0.34049529 | G94: ='Mensual 2024'!H146 -> 0.15323245 | H94: ='Mensual 2024'!I146 -> 0.064908361 | I94: ='Mensual 2024'!J146 -> 0.27752882 | ... M94: ='Mensual 2024'!N146 -> 0.070820628 | N94: =SUM(B94:M94) -> 1.9122463 | O94: 9.86
A95: SOx | B95: ='Mensual 2024'!C147 -> 0 | C95: ='Mensual 2024'!D147 -> 0.10188466 | D95: ='Mensual 2024'!E147 -> 0.087965993 | E95: ='Mensual 2024'!F147 -> 0.18225192 | F95: ='Mensual 2024'!G147 -> 0.28658354 | G95: ='Mensual 2024'!H147 -> 0.12897064 | H95: ='Mensual 2024'!I147 -> 0.054631204 | I95: ='Mensual 2024'!J147 -> 0.23358676 | ... M95: ='Mensual 2024'!N147 -> 0.059607362 | N95: =SUM(B95:M95) -> 1.609474 | O95: 414.78
A96: NOx | B96: ='Mensual 2024'!C148 -> 0 | C96: ='Mensual 2024'!D148 -> 8.8770794 | D96: ='Mensual 2024'!E148 -> 7.6643638 | E96: ='Mensual 2024'!F148 -> 15.879375 | F96: ='Mensual 2024'!G148 -> 24.969655 | G96: ='Mensual 2024'!H148 -> 11.237046 | H96: ='Mensual 2024'!I148 -> 4.7599465 | I96: ='Mensual 2024'!J148 -> 20.352114 | ... M96: ='Mensual 2024'!N148 -> 5.1935128 | N96: =SUM(B96:M96) -> 140.2314 | O96: 722.78
A97: VOC | B97: ='Mensual 2024'!C149 -> 0 | C97: ='Mensual 2024'!D149 -> 0.004135912 | D97: ='Mensual 2024'!E149 -> 0.0035708968 | E97: ='Mensual 2024'!F149 -> 0.0073983454 | F97: ='Mensual 2024'!G149 -> 0.011633589 | G97: ='Mensual 2024'!H149 -> 0.0052354419 | H97: ='Mensual 2024'!I149 -> 0.0022177023 | I97: ='Mensual 2024'!J149 -> 0.0094822348 | ... M97: ='Mensual 2024'!N149 -> 0.0024197048 | N97: =SUM(B97:M97) -> 0.065335083 | O97: 0.34
A98: CO | B98: ='Mensual 2024'!C150 -> 0 | C98: ='Mensual 2024'!D150 -> 0.033289048 | D98: ='Mensual 2024'!E150 -> 0.028741364 | E98: ='Mensual 2024'!F150 -> 0.059547658 | F98: ='Mensual 2024'!G150 -> 0.093636206 | G98: ='Mensual 2024'!H150 -> 0.042138923 | H98: ='Mensual 2024'!I150 -> 0.017849799 | I98: ='Mensual 2024'!J150 -> 0.076320427 | ... M98: ='Mensual 2024'!N150 -> 0.019475673 | N98: =SUM(B98:M98) -> 0.52586774 | O98: 2.71
A99: Pb | B99: ='Mensual 2024'!C151 -> 0 | C99: ='Mensual 2024'!D151 -> 0.00014122626 | D99: ='Mensual 2024'!E151 -> 0.00012193306 | E99: ='Mensual 2024'!F151 -> 0.00025262643 | F99: ='Mensual 2024'!G151 -> 0.00039724451 | G99: ='Mensual 2024'!H151 -> 0.00017877119 | H99: ='Mensual 2024'!I151 -> 7.5726421e-05 | I99: ='Mensual 2024'!J151 -> 0.00032378363 | ... M99: ='Mensual 2024'!N151 -> 8.2624067e-05 | N99: =SUM(B99:M99) -> 0.0022309541 | O99: 0.011
A100: CO2e | B100: ='Mensual 2024'!C152 -> 0 | C100: ='Mensual 2024'!D152 -> 1650.4482 | D100: ='Mensual 2024'!E152 -> 1424.9772 | E100: ='Mensual 2024'!F152 -> 2952.3322 | F100: ='Mensual 2024'!G152 -> 4642.4191 | G100: ='Mensual 2024'!H152 -> 2089.219 | H100: ='Mensual 2024'!I152 -> 884.98084 | I100: ='Mensual 2024'!J152 -> 3783.9146 | ... M100: ='Mensual 2024'!N152 -> 965.59054 | N100: =SUM(B100:M100) -> 26072.163 | O100: N/A
A101: Total | B101: =SUM(B94:B99) -> 0 | C101: =SUM(C94:C99) -> 9.1375813 | D101: =SUM(D94:D99) -> 7.889278 | E101: =SUM(E94:E99) -> 16.345363 | F101: =SUM(F94:F99) -> 25.702401 | G101: =SUM(G94:G99) -> 11.566802 | H101: =SUM(H94:H99) -> 4.8996292 | I101: =SUM(I94:I99) -> 20.949356 | ... O101: =SUM(O94:O99) -> 1150.481
B103: Vega Baja | C103: Vega Baja | D103: Vega Baja | E103: Vega Baja | F103: Vega Baja | G103: Vega Baja | H103: Vega Baja | I103: Vega Baja | J103: Vega Baja | K103: Vega Baja | L103: Vega Baja | M103: Vega Baja | N103: Vega Baja | O103: Vega Baja
A104: PM | B104: ='Mensual 2024'!C134 -> 0 | C104: ='Mensual 2024'!D134 -> 0 | D104: ='Mensual 2024'!E134 -> 0 | E104: ='Mensual 2024'!F134 -> 0 | F104: ='Mensual 2024'!G134 -> 0 | G104: ='Mensual 2024'!H134 -> 0 | H104: ='Mensual 2024'!I134 -> 0 | I104: ='Mensual 2024'!J134 -> 0 | ... M104: ='Mensual 2024'!N134 -> 0 | N104: =SUM(B104:M104) -> 0 | O104: 9.41
A105: SOx | B105: ='Mensual 2024'!C135 -> 0 | C105: ='Mensual 2024'!D135 -> 0 | D105: ='Mensual 2024'!E135 -> 0 | E105: ='Mensual 2024'!F135 -> 0 | F105: ='Mensual 2024'!G135 -> 0 | G105: ='Mensual 2024'!H135 -> 0 | H105: ='Mensual 2024'!I135 -> 0 | I105: ='Mensual 2024'!J135 -> 0 | ... M105: ='Mensual 2024'!N135 -> 0 | N105: =SUM(B105:M105) -> 0 | O105: 395.87
A106: NOx | B106: ='Mensual 2024'!C136 -> 0 | C106: ='Mensual 2024'!D136 -> 0 | D106: ='Mensual 2024'!E136 -> 0 | E106: ='Mensual 2024'!F136 -> 0 | F106: ='Mensual 2024'!G136 -> 0 | G106: ='Mensual 2024'!H136 -> 0 | H106: ='Mensual 2024'!I136 -> 0 | I106: ='Mensual 2024'!J136 -> 0 | ... M106: ='Mensual 2024'!N136 -> 0 | N106: =SUM(B106:M106) -> 0 | O106: 689.83
A107: VOC | B107: ='Mensual 2024'!C137 -> 0 | C107: ='Mensual 2024'!D137 -> 0 | D107: ='Mensual 2024'!E137 -> 0 | E107: ='Mensual 2024'!F137 -> 0 | F107: ='Mensual 2024'!G137 -> 0 | G107: ='Mensual 2024'!H137 -> 0 | H107: ='Mensual 2024'!I137 -> 0 | I107: ='Mensual 2024'!J137 -> 0 | ... M107: ='Mensual 2024'!N137 -> 0 | N107: =SUM(B107:M107) -> 0 | O107: 0.32
A108: CO | B108: ='Mensual 2024'!C138 -> 0 | C108: ='Mensual 2024'!D138 -> 0 | D108: ='Mensual 2024'!E138 -> 0 | E108: ='Mensual 2024'!F138 -> 0 | F108: ='Mensual 2024'!G138 -> 0 | G108: ='Mensual 2024'!H138 -> 0 | H108: ='Mensual 2024'!I138 -> 0 | I108: ='Mensual 2024'!J138 -> 0 | ... M108: ='Mensual 2024'!N138 -> 0 | N108: =SUM(B108:M108) -> 0 | O108: 2.59
...

Sheet Costa Sur
A2: Costa Sur BC Consumption 2024
A3: Galones | F3: Azufre | L3: Barrels
A4: year | B4: CS3 | C4: CS4 | D4: CS5 | E4: CS6 | F4: CS3 | G4: CS4 | H4: CS5 | I4: CS6 | J4: CS3 | K4: CS4 | L4: CS5 | M4: CS6
A5: 45292 | B5: 0 | C5: 0 | D5: =SUM(L5*42) -> 0 | E5: =SUM(M5*42) -> 0 | F5: 0 | G5: 0 | H5: 0.5 | I5: 0.5 | J5: 0 | K5: 0 | L5: 0 | M5: 0
A6: 45323 | B6: 0 | C6: 0 | D6: =SUM(L6*42) -> 1867.74 | E6: =SUM(M6*42) -> 0 | F6: 0 | G6: 0 | H6: 0.5 | I6: 0.5 | J6: 0 | K6: 0 | L6: 44.47 | M6: 0
A7: 45352 | B7: 0 | C7: 0 | D7: =SUM(L7*42) -> 0 | E7: =SUM(M7*42) -> 0 | F7: 0 | G7: 0 | H7: 0.49 | I7: 0.49 | J7: 0 | K7: 0 | L7: 0 | M7: 0
A8: 45383 | B8: 0 | C8: 0 | D8: =SUM(L8*42) -> 789179.16 | E8: =SUM(M8*42) -> 0 | F8: 0 | G8: 0 | H8: 0.49 | I8: 0.49 | J8: 0 | K8: 0 | L8: 18789.98 | M8: 0
A9: 45413 | B9: 0 | C9: 0 | D9: =SUM(L9*42) -> 10722632 | E9: =SUM(M9*42) -> 3992586.8 | F9: 0 | G9: 0 | H9: 0.49 | I9: 0.49 | J9: 0 | K9: 0 | L9: 255300.75 | M9: 95061.59
A10: 45444 | B10: 0 | C10: 0 | D10: =SUM(L10*42) -> 4873351.1 | E10: =SUM(M10*42) -> 10911365 | F10: 0 | G10: 0 | H10: 0.49 | I10: 0.49 | J10: 0 | K10: 0 | L10: 116032.17 | M10: 259794.41
A11: 45474 | B11: 0 | C11: 0 | D11: =SUM(L11*42) -> 5422408.3 | E11: =SUM(M11*42) -> 14119245 | F11: 0 | G11: 0 | H11: 0.5 | I11: 0.5 | J11: 0 | K11: 0 | L11: 129104.96 | M11: 336172.5
A12: 45505 | B12: 0 | C12: 0 | D12: =SUM(L12*42) -> 6083690.3 | E12: =SUM(M12*42) -> 4551498.8 | F12: 0 | G12: 0 | H12: 0.5 | I12: 0.5 | J12: 0 | K12: 0 | L12: 144849.77 | M12: 108369.02
A13: 45536 | B13: 0 | C13: 0 | D13: =SUM(L13*42) -> 6636131.5 | E13: =SUM(M13*42) -> 9927512.3 | F13: 0 | G13: 0 | H13: 0.5 | I13: 0.5 | J13: 0 | K13: 0 | L13: 158003.13 | M13: 236369.34
A14: 45566 | B14: 0 | C14: 0 | D14: =SUM(L14*42) -> 2387110.3 | E14: =SUM(M14*42) -> 7214789.4 | F14: 0 | G14: 0 | H14: 0.49 | I14: 0.49 | J14: 0 | K14: 0 | L14: 56835.96 | M14: 171780.7
A15: 45597 | B15: 0 | C15: 0 | D15: =SUM(L15*42) -> 310128 | E15: =SUM(M15*42) -> 2486694 | F15: 0 | G15: 0 | H15: 0.49 | I15: 0.49 | J15: 0 | K15: 0 | L15: 7384 | M15: 59207
A16: 45627 | B16: 0 | C16: 0 | D16: =SUM(L16*42) -> 567774.9 | E16: =SUM(M16*42) -> 7663387.2 | F16: 0 | G16: 0 | H16: 0.49 | I16: 0.49 | J16: 0 | K16: 0 | L16: 13518.45 | M16: 182461.6
A17: Total | B17: =SUM(B5:B16) -> 0 | C17: =SUM(C5:C16) -> 0 | D17: =SUM(D5:D16) -> 37794273 | E17: =SUM(E5:E16) -> 60867079 | F17: =AVERAGE(F5:F16) -> 0 | G17: =AVERAGE(G5:G16) -> 0 | H17: =AVERAGE(H5:H16) -> 0.49416667 | I17: =AVERAGE(I5:I16) -> 0.49416667
A21: CS #2 FO Consumption 2024
A22: year | B22: Galones | D22: Azufre | G22: Barrels
B23: SCGT1-1 | C23: SCGT1-2 | D23: SCGT1-1 | E23: SCGT1-2 | G23: SCGT1-1 | H23: SCGT1-2
A24: =A5 -> 45292 | B24: 0 | C24: 0 | D24: 0.0008 | E24: 0.0008 | G24: 0 | H24: 0
A25: =A6 -> 45323 | B25: 0 | C25: 0 | D25: 0.0008 | E25: 0.0008 | G25: 0 | H25: 0
A26: =A7 -> 45352 | B26: 0 | C26: 0 | D26: 0.0008 | E26: 0.0008 | G26: 0 | H26: 0
A27: =A8 -> 45383 | B27: 0 | C27: 0 | D27: 0.0008 | E27: 0.0008 | G27: 0 | H27: 0
A28: =A9 -> 45413 | B28: 0 | C28: 0 | D28: 0.0008 | E28: 0.0008 | G28: 0 | H28: 0
A29: =A10 -> 45444 | B29: 0 | C29: 0 | D29: 0.0008 | E29: 0.0008 | G29: 0 | H29: 0
A30: =A11 -> 45474 | B30: 0 | C30: 4650 | D30: 0.0008 | E30: 0.0008 | G30: 0.001 | H30: 0.001
A31: =A12 -> 45505 | B31: 0 | C31: 4931 | D31: 0.0008 | E31: 0.0008
A32: =A13 -> 45536 | B32: 0 | C32: 21642 | D32: 0.0008 | E32: 0.0008
A33: =A14 -> 45566 | B33: 0 | C33: 85390 | D33: 0.0008 | E33: 0.0008
A34: =A15 -> 45597 | B34: 0 | C34: 13630 | D34: 0.0008 | E34: 0.0008
A35: =A16 -> 45627 | B35: 0 | C35: 0 | D35: 0.0008 | E35: 0.0008
A36: Total | B36: =SUM(B30:B35) -> 0 | C36: =SUM(C30:C35) -> 130243 | D36: =SUM(D24:D35) -> 0.0096 | E36: =SUM(E24:E35) -> 0.0096
A39: Costa Sur Natural Gas Consumtion 2024
A40: year | B40: SCF | D40: Azufre
B41: Unit 5 | C41: Unit 6 | D41: Unit 5 | E41: Unit 6
A42: =A5 -> 45292 | B42: 0 | C42: 274565 | D42: 0.00047 | E42: 0.00047
A43: =A6 -> 45323 | B43: 71709 | C43: 0 | D43: 0.0001 | E43: 0.0001
A44: =A7 -> 45352 | B44: 853651500 | C44: 0 | D44: 6.9e-05 | E44: 6.9e-05
A45: =A8 -> 45383 | B45: 1876856600 | C45: 0 | D45: 6.9e-05 | E45: 6.9e-05
A46: =A9 -> 45413 | B46: 265688800 | C46: 369161400 | D46: 0.00017 | E46: 0.00017
A47: =A10 -> 45444 | B47: 785814100 | C47: 554304900 | D47: 0.00013 | E47: 0.00013
A48: =A11 -> 45474 | B48: 732909900 | C48: 63152000 | D48: 0.00087 | E48: 0.00087
A49: =A12 -> 45505 | B49: 903647500 | C49: 892527600 | D49: 0.0009 | E49: 0.0009
A50: =A13 -> 45536 | B50: 1024263900 | C50: 587255900 | D50: 0.0009 | E50: 0.0009
A51: =A14 -> 45566 | B51: 1398501544 | C51: 1190046839 | D51: 0.0007 | E51: 0.0007
A52: =A15 -> 45597 | B52: 1.8883079e+09 | C52: 1.6569967e+09 | D52: 0.0008 | E52: 0.0008
A53: =A16 -> 45627 | B53: 1.3985341e+09 | C53: 8.4058776e+08 | D53: 0.001 | E53: 0.001
A54: TOTAL | B54: =SUM(B42:B53) -> 1.1128248e+10 | C54: =SUM(C42:C53) -> 6.1543077e+09 | D54: =SUM(D42:D53) -> 0.006178 | E54: =SUM(E42:E53) -> 0.006178

Sheet Turbinas CS
B1: Cómputo de Emisiones Actuales - Costa Sur (Turbinas 1-1 & 1-2) DICIEMBRE
B3: Factores de Emisión AP-42 Section 3.1
B5: PM | C5: 0.012lb/MMBTU
B6: SOx | C6: 1.01*%S lb/MMBTU
B7: NOx | C7: 0.880 lb/MMBTU
B8: VOC | C8: 0.00041 lb/MMBTU
B9: C0 | C9: 0.0033 lb/MMBTU
B10: Pb | C10: 0.0000140 lb MMBTU
B11: CO2e | C11: 163.61 lb/MMBtu (40 CFR 98, Subpart C)
R12: =(73.96+0.003*25+0.0006*298)*2.2046 -> 163.61174
B13: Combustible #2 | C13: ='Costa Sur'!B36+'Costa Sur'!C36 -> 130243 | D13: gal/year
B14: Azufre % | C14: =MAX('Costa Sur'!D35:E35) -> 0.0008
B17: Cálculos Emisiones PM
B19: = | C19: 0.012 | D19: lb | E19: =C13 -> 130243 | F19: gal | G19: 0.138 | H19: MMBTU | I19: ton
C20: MMBTU | E20: year | G20: gal | I20: 2000 | J20: lb
B23: = | C23: =C19*E19*G19/I20 -> 0.1078412 | D23: ton | E23: = | F23: =C23*2000/8760 -> 0.024621279 | G23: lb
D24: year | G24: hr
B26: Cálculos Emisiones SOx
B28: = | C28: =1.01*C14 -> 0.000808 | D28: lb | E28: =E19 -> 130243 | F28: gal | G28: 0.138 | H28: MMBTU | I28: ton
C29: MMBTU | E29: year | G29: gal | I29: 2000 | J29: lb
B32: = | C32: =C28*E28*G28/I29 -> 0.0072613077 | D32: ton | E32: = | F32: =C32*2000/8760 -> 0.0016578328 | G32: lb
D33: year | G33: hr
B35: Cálculos Emisiones NOx
B37: = | C37: 0.88 | D37: lb | E37: =E19 -> 130243 | F37: gal | G37: 0.138 | H37: MMBTU | I37: ton
C38: MMBTU | E38: year | G38: gal | I38: 2000 | J38: lb
B41: = | C41: =C37*E37*G37/I38 -> 7.908355 | D41: ton | E41: = | F41: =C41*2000/8760 -> 1.8055605 | G41: lb
D42: year | G42: hr
B44: Cálculos Emisiones VOC
B46: = | C46: 0.00041 | D46: lb | E46: =E19 -> 130243 | F46: gal | G46: 0.138 | H46: MMBTU | I46: ton
C47: MMBTU | E47: year | G47: gal | I47: 2000 | J47: lb
B50: = | C50: =C46*E46*G46/I47 -> 0.0036845745 | D50: ton | E50: = | F50: =C50*2000/8760 -> 0.00084122705 | G50: lb
D51: year | G51: hr
B53: Cálculos Emisiones CO
B55: = | C55: 0.0033 | D55: lb | E55: =E19 -> 130243 | F55: gal | G55: 0.138 | H55: MMBTU | I55: ton
C56: MMBTU | E56: year | G56: gal | I56: 2000 | J56: lb
B59: = | C59: =C55*E55*G55/I56 -> 0.029656331 | D59: ton | E59: = | F59: =C59*2000/8760 -> 0.0067708518 | G59: lb
D60: year | G60: hr
B62: Cálculos Emisiones Pb
B64: = | C64: 1.4e-05 | D64: lb | E64: =E19 -> 130243 | F64: gal | G64: 0.138 | H64: MMBTU | I64: ton
C65: MMBTU | E65: year | G65: gal | I65: 2000 | J65: lb
B68: = | C68: =C64*E64*G64/I65 -> 0.00012581474 | D68: ton | E68: = | F68: =C68*2000/8760 -> 2.8724826e-05 | G68: lb
D69: year | G69: hr
B71: Cálculos Emisiones CO2e
B73: = | C73: =R12 -> 163.61174 | D73: lb | E73: =E19 -> 130243 | F73: gal | G73: 0.138 | H73: MMBTU | I73: ton
C74: MMBTU | E74: year | G74: gal | I74: 2000 | J74: lb
B77: = | C77: =C73*E73*G73/I74 -> 1470.3406 | D77: ton | E77: = | F77: =C77*2000/8760 -> 335.6942 | G77: lb
D78: year | G78: hr

Sheet CS 5
A1: Cómputo de Emisiones Actuales para Bunker C y Gas Natural - Costa Sur year 2024 - Unidad 5*
A3: Parametro | B3: Factor de Emisión Combustible Natural Gas | C3: Factor de Emisión Combustible No. 6 Oil | D3: Emisiones Actuales (ton/year) | E3: Emisiones Actuales (lb/hr)
A4: NOx | B4: 0.35 | C4: 0.35 | D4: =B23 -> 3017.4407 | E4: =F23 -> 688.9134
A5: CO | B5: 0.009 | C5: 0.0038 | D5: =B29 -> 62.851566 | E5: =F29 -> 14.349673
A6: VOC | B6: 0.0008 | C6: 0.0013 | D6: =B35 -> 8.3142926 | E6: =F35 -> 1.8982403 | F6: Ecuación para el Cómputo
A7: PM | B7: 0.005 | C7: 0.0275 | D7: =B41 -> 106.88413 | E7: =F41 -> 24.40277 | F7: ton/year = | G7: [Consumo de Combustible #6 en galones/year) * ( Valor Calorífico BC 0.15 MMBtu/gal)
A8: PM10 | B8: 0.0081 | C8: 0.04 | D8: =B47 -> 160.255 | E8: =F47 -> 36.587899 | G8: + (Consumo Gas Natural SCF/year) * (Valor Calorífico GN 1,040 MMBtu/SCF*10^6)]
A9: PM2.5 | B9: 0.0075 | C9: 0.033 | D9: =B53 -> 136.94099 | E9: =F53 -> 31.265066 | G9: * FE en lbs/MMBtu * 1 ton/2,000 lbs
A10: SO2 | B10: 0.004 | C10: 157*%S | D10: =B59 -> 1489.2653 | E10: =F59 -> 340.01492
A11: H2SO4 | B11: 0.00043 | C11: 0.02259 | D11: =B65 -> 66.521223 | E11: =F65 -> 15.187494 | F11: lbs/hr = | G11: (Toneladas Contaminante / year) * (1 year / 8,760 hr) * (2000 lb / ton) | V11: CO2e | W11: =(157765.7+153.2+365.3)*2204.6/13621578 -> 25.617689 | X11: lbs/gal
A12: Pb | B12: 0 | C12: 4.63e-06 | D12: =B71 -> 0.013124061 | E12: =F71 -> 0.002996361 | W12: =(989989.8+466.4+556)*2204.62/18132099995 -> 0.12049378 | X12: lbs/scf
A13: CO2e | B13: 25.618 lbs/gal | C13: 0.1205 lbs/SCF | D13: =B77 -> 1154543.3 | E13: =F77 -> 263594.36
A14: Fluoruro | B14: 0 | C14: 0 | D14: 0 | E14: 0
A16: Consumo #6 = | B16: =SUM('Costa Sur'!D17) -> 37794273 | D16: gal/year
A17: Consumo NG = | B17: =SUM('Costa Sur'!B54) -> 1.1128248e+10 | D17: SCF/year
A18: #6 Azufre = | B18: =SUM('Costa Sur'!H17) -> 0.49416667 | D18: %
A20: NOx = | B20: =B16 -> 37794273 | D20: galones | E20: 0.15 | F20: MMBtu | G20: * | H20: =C4 -> 0.35 | I20: lbs | J20: 1 | K20: ton | L20: + | M20: =B17 -> 1.1128248e+10 | N20: SCF | O20: 1040 | P20: MMBtu | Q20: * | R20: =B4 -> 0.35 | S20: lbs | T20: 1 | U20: ton
D21: year | F21: gal | I21: MMBtu | J21: 2000 | K21: lbs | N21: year | O21: 1000000 | P21: SCF | S21: MMBtu | T21: 2000 | U21: lbs
B23: =(B20*E20*H20+M20*O20*R20/1000000)/2000 -> 3017.4407 | D23: ton/year | E23: = | F23: =B23*(2000/8760) -> 688.9134 | G23: lb/hr
A26: CO = | B26: =B16 -> 37794273 | D26: galones | E26: 0.15 | F26: MMBtu | G26: * | H26: =C5 -> 0.0038 | I26: lbs | J26: 1 | K26: ton | L26: + | M26: =B17 -> 1.1128248e+10 | N26: SCF | O26: 1040 | P26: MMBtu | Q26: * | R26: =B5 -> 0.009 | S26: lbs | T26: 1 | U26: ton
D27: year | F27: gal | I27: MMBtu | J27: 2000 | K27: lbs | N27: year | O27: 1000000 | P27: SCF | S27: MMBtu | T27: 2000 | U27: lbs
B29: =(B26*E26*H26+M26*O26*R26/1000000)/2000 -> 62.851566 | D29: ton/year | E29: = | F29: =B29*(2000/8760) -> 14.349673 | G29: lb/hr
A32: VOC = | B32: =B16 -> 37794273 | D32: galones | E32: 0.15 | F32: MMBtu | G32: * | H32: =C6 -> 0.0013 | I32: lbs | J32: 1 | K32: ton | L32: + | M32: =B17 -> 1.1128248e+10 | N32: SCF | O32: 1040 | P32: MMBtu | Q32: * | R32: =B6 -> 0.0008 | S32: lbs | T32: 1 | U32: ton
D33: year | F33: gal | I33: MMBtu | J33: 2000 | K33: lbs | N33: year | O33: 1000000 | P33: SCF | S33: MMBtu | T33: 2000 | U33: lbs
B35: =(B32*E32*H32+M32*O32*R32/1000000)/2000 -> 8.3142926 | D35: ton/year | E35: = | F35: =B35*(2000/8760) -> 1.8982403 | G35: lb/hr
A38: PM = | B38: =B16 -> 37794273 | D38: galones | E38: 0.15 | F38: MMBtu | G38: * | H38: =C7 -> 0.0275 | I38: lbs | J38: 1 | K38: ton | L38: + | M38: =B17 -> 1.1128248e+10 | N38: SCF | O38: 1040 | P38: MMBtu | Q38: * | R38: =B7 -> 0.005 | S38: lbs | T38: 1 | U38: ton
D39: year | F39: gal | I39: MMBtu | J39: 2000 | K39: lbs | N39: year | O39: 1000000 | P39: SCF | S39: MMBtu | T39: 2000 | U39: lbs
B41: =(B38*E38*H38+M38*O38*R38/1000000)/2000 -> 106.88413 | D41: ton/year | E41: = | F41: =B41*(2000/8760) -> 24.40277 | G41: lb/hr | L41: lb/hr
A44: PM10 = | B44: =B16 -> 37794273 | D44: galones | E44: 0.15 | F44: MMBtu | G44: * | H44: =C8 -> 0.04 | I44: lbs | J44: 1 | K44: ton | L44: + | M44: =B17 -> 1.1128248e+10 | N44: SCF | O44: 1040 | P44: MMBtu | Q44: * | R44: =B8 -> 0.0081 | S44: lbs | T44: 1 | U44: ton
D45: year | F45: gal | I45: MMBtu | J45: 2000 | K45: lbs | N45: year | O45: 1000000 | P45: SCF | S45: MMBtu | T45: 2000 | U45: lbs
B47: =(B44*E44*H44+M44*O44*R44/1000000)/2000 -> 160.255 | D47: ton/year | E47: = | F47: =B47*(2000/8760) -> 36.587899 | G47: lb/hr | L47: lb/hr
A50: PM2.5 = | B50: =B16 -> 37794273 | D50: galones | E50: 0.15 | F50: MMBtu | G50: * | H50: =C9 -> 0.033 | I50: lbs | J50: 1 | K50: ton | L50: + | M50: =B17 -> 1.1128248e+10 | N50: SCF | O50: 1040 | P50: MMBtu | Q50: * | R50: =B9 -> 0.0075 | S50: lbs | T50: 1 | U50: ton
D51: year | F51: gal | I51: MMBtu | J51: 2000 | K51: lbs | N51: year | O51: 1000000 | P51: SCF | S51: MMBtu | T51: 2000 | U51: lbs
B53: =(B50*E50*H50+M50*O50*R50/1000000)/2000 -> 136.94099 | D53: ton/year | E53: = | F53: =B53*(2000/8760) -> 31.265066 | G53: lb/hr | L53: lb/hr
A56: SO2 = | B56: =B16 -> 37794273 | D56: galones | G56: * | H56: =(157)*B18 -> 77.584167 | I56: lbs | J56: 1 | K56: ton | L56: + | M56: =B17 -> 1.1128248e+10 | N56: SCF | O56: 1040 | P56: MMBtu | Q56: * | R56: =B10 -> 0.004 | S56: lbs | T56: 1 | U56: ton
D57: year | H57: 1000 | I57: gals | J57: 2000 | K57: lbs | N57: year | O57: 1000000 | P57: SCF | S57: MMBtu | T57: 2000 | U57: lbs
B59: =(B56*H56/H57+M56*O56*R56/1000000)/2000 -> 1489.2653 | D59: ton/year | E59: = | F59: =B59*(2000/8760) -> 340.01492 | G59: lb/hr | L59: lb/hr
A62: H2SO4 = | B62: =B16 -> 37794273 | D62: galones | E62: 0.15 | F62: MMBtu | G62: * | H62: =C11 -> 0.02259 | I62: lbs | J62: 1 | K62: ton | L62: + | M62: =B17 -> 1.1128248e+10 | N62: SCF | O62: 1040 | P62: MMBtu | Q62: * | R62: =B11 -> 0.00043 | S62: lbs | T62: 1 | U62: ton
D63: year | F63: gal | I63: MMBtu | J63: 2000 | K63: lbs | N63: year | O63: 1000000 | P63: SCF | S63: MMBtu | T63: 2000 | U63: lbs
B65: =(B62*E62*H62+M62*O62*R62/1000000)/2000 -> 66.521223 | D65: ton/year | E65: = | F65: =B65*(2000/8760) -> 15.187494 | G65: lb/hr | L65: lb/hr
A68: Pb = | B68: =B16 -> 37794273 | D68: galones | E68: 0.15 | F68: MMBtu | G68: * | H68: =C12 -> 4.63e-06 | I68: lbs | J68: 1 | K68: ton | L68: + | M68: =B17 -> 1.1128248e+10 | N68: SCF | O68: 1040 | P68: MMBtu | Q68: * | R68: =B12 -> 0 | S68: lbs | T68: 1 | U68: ton
D69: year | F69: gal | I69: MMBtu | J69: 2000 | K69: lbs | N69: year | O69: 1000000 | P69: SCF | S69: MMBtu | T69: 2000 | U69: lbs
B71: =(B68*E68*H68+M68*O68*R68/1000000)/2000 -> 0.013124061 | D71: ton/year | E71: = | F71: =B71*(2000/8760) -> 0.002996361 | G71: lb/hr
A74: CO2e = | B74: =B16 -> 37794273 | D74: galones | E74: =W11 -> 25.617689 | F74: lbs | G74: * | H74: 1 | I74: ton | J74: + | M74: =B17 -> 1.1128248e+10 | N74: SCF | O74: =W12 -> 0.12049378 | P74: lbs | Q74: * | R74: 1 | S74: ton
D75: year | F75: gal | H75: 2000 | I75: lbs | N75: year | P75: SCF | R75: 2000 | S75: lbs
B77: =(B74*E74+M74*O74)/H75 -> 1154543.3 | D77: ton/year | E77: = | F77: =B77*(2000/8760) -> 263594.36 | G77: lb/hr
B80: Nota:
B81: * La formula y los factores de emisión utilizados son los aprobados en la última revisión del permiso
B82: de construcción PFE-31-0810-0455-II-C, con fecha del 21 de DICIEMBRE de 2012, para la quema dual
B83: de combustible 100% Bunker C y 100% Gas Natural, según corresponda.

Sheet CS6
A1: Cómputo de Emisiones Actuales para Bunker C y Gas Natural - Costa Sur year 2024 - Unidad 6*
A3: Parametro | B3: Factor de Emisión Combustible Natural Gas | C3: Factor de Emisión Combustible No. 6 Oil | D3: Emisiones Actuales (ton/year) | E3: Emisiones Actuales (lb/hr)
A4: NOx | B4: 0.35 | C4: 0.35 | D4: =B23 -> 2717.8448 | E4: =F23 -> 620.51251
A5: CO | B5: 0.009 | C5: 0.0038 | D5: =B29 -> 46.149277 | E5: =F29 -> 10.536365
A6: VOC | B6: 0.0008 | C6: 0.0013 | D6: =B35 -> 8.4947322 | E6: =F35 -> 1.9394366 | F6: Ecuación para el Cómputo
A7: PM | B7: 0.005 | C7: 0.0275 | D7: =B41 -> 141.53955 | E7: =F41 -> 32.314966 | F7: ton/year = | G7: [Consumo de Combustible #6 en galones/year) * ( Valor Calorífico BC 0.15 MMBtu/gal)
A8: PM10 | B8: 0.0081 | C8: 0.04 | D8: =B47 -> 208.52318 | E8: =F47 -> 47.608032 | G8: + (Consumo Gas Natural SCF/year) * (Valor Calorífico GN 1,040 MMBtu/SCF*10^6)]
A9: PM2.5 | B9: 0.0075 | C9: 0.033 | D9: =B53 -> 174.64782 | E9: =F53 -> 39.873931 | G9: * FE en lbs/MMBtu * 1 ton/2,000 lbs
A10: SO2 | B10: 0.004 | C10: 157*%S | D10: =B59 -> 2373.9617 | E10: =F59 -> 542.0004
A11: H2SO4 | B11: 0.00043 | C11: 0.02259 | D11: =B65 -> 104.50015 | E11: =F65 -> 23.858482 | F11: lbs/hr = | G11: (Toneladas Contaminante / year) * (1 year / 8,760 hr) * (2000 lb / ton) | V11: CO2e | W11: =(157765.7+153.2+365.3)*2204.6/13621578 -> 25.617689 | X11: lbs/gal
A12: Pb | B12: 0 | C12: 4.63e-06 | D12: =B71 -> 0.021136093 | E12: =F71 -> 0.004825592 | W12: =(989989.8+466.4+556)*2204.62/18132099995 -> 0.12049378 | X12: lbs/scf
A13: CO2e | B13: 25.618 lbs/gal | C13: 0.1205 lbs/SCF | D13: =B77 -> 1150414.8 | E13: =F77 -> 262651.79
A14: Fluoruro | B14: 0 | C14: 0 | D14: 0 | E14: 0
A16: Consumo #6 = | B16: =SUM('Costa Sur'!E17) -> 60867079 | D16: gal/year
A17: Consumo NG = | B17: =SUM('Costa Sur'!C54) -> 6.1543077e+09 | D17: SCF/year
A18: #6 Azufre = | B18: =SUM('Costa Sur'!I17) -> 0.49416667 | D18: %
A20: NOx = | B20: =B16 -> 60867079 | D20: galones | E20: 0.15 | F20: MMBtu | G20: * | H20: =C4 -> 0.35 | I20: lbs | J20: 1 | K20: ton | L20: + | M20: =B17 -> 6.1543077e+09 | N20: SCF | O20: 1040 | P20: MMBtu | Q20: * | R20: =B4 -> 0.35 | S20: lbs | T20: 1 | U20: ton
D21: year | F21: gal | I21: MMBtu | J21: 2000 | K21: lbs | N21: year | O21: 1000000 | P21: SCF | S21: MMBtu | T21: 2000 | U21: lbs
B23: =(B20*E20*H20+M20*O20*R20/1000000)/2000 -> 2717.8448 | D23: ton/year | E23: = | F23: =B23*(2000/8760) -> 620.51251 | G23: lb/hr
A26: CO = | B26: =B16 -> 60867079 | D26: galones | E26: 0.15 | F26: MMBtu | G26: * | H26: =C5 -> 0.0038 | I26: lbs | J26: 1 | K26: ton | L26: + | M26: =B17 -> 6.1543077e+09 | N26: SCF | O26: 1040 | P26: MMBtu | Q26: * | R26: =B5 -> 0.009 | S26: lbs | T26: 1 | U26: ton
D27: year | F27: gal | I27: MMBtu | J27: 2000 | K27: lbs | N27: year | O27: 1000000 | P27: SCF | S27: MMBtu | T27: 2000 | U27: lbs
B29: =(B26*E26*H26+M26*O26*R26/1000000)/2000 -> 46.149277 | D29: ton/year | E29: = | F29: =B29*(2000/8760) -> 10.536365 | G29: lb/hr
A32: VOC = | B32: =B16 -> 60867079 | D32: galones | E32: 0.15 | F32: MMBtu | G32: * | H32: =C6 -> 0.0013 | I32: lbs | J32: 1 | K32: ton | L32: + | M32: =B17 -> 6.1543077e+09 | N32: SCF | O32: 1040 | P32: MMBtu | Q32: * | R32: =B6 -> 0.0008 | S32: lbs | T32: 1 | U32: ton
D33: year | F33: gal | I33: MMBtu | J33: 2000 | K33: lbs | N33: year | O33: 1000000 | P33: SCF | S33: MMBtu | T33: 2000 | U33: lbs
B35: =(B32*E32*H32+M32*O32*R32/1000000)/2000 -> 8.4947322 | D35: ton/year | E35: = | F35: =B35*(2000/8760) -> 1.9394366 | G35: lb/hr
A38: PM = | B38: =B16 -> 60867079 | D38: galones | E38: 0.15 | F38: MMBtu | G38: * | H38: =C7 -> 0.0275 | I38: lbs | J38: 1 | K38: ton | L38: + | M38: =B17 -> 6.1543077e+09 | N38: SCF | O38: 1040 | P38: MMBtu | Q38: * | R38: =B7 -> 0.005 | S38: lbs | T38: 1 | U38: ton
D39: year | F39: gal | I39: MMBtu | J39: 2000 | K39: lbs | N39: year | O39: 1000000 | P39: SCF | S39: MMBtu | T39: 2000 | U39: lbs
B41: =(B38*E38*H38+M38*O38*R38/1000000)/2000 -> 141.53955 | D41: ton/year | E41: = | F41: =B41*(2000/8760) -> 32.314966 | G41: lb/hr | L41: lb/hr
A44: PM10 = | B44: =B16 -> 60867079 | D44: galones | E44: 0.15 | F44: MMBtu | G44: * | H44: =C8 -> 0.04 | I44: lbs | J44: 1 | K44: ton | L44: + | M44: =B17 -> 6.1543077e+09 | N44: SCF | O44: 1040 | P44: MMBtu | Q44: * | R44: =B8 -> 0.0081 | S44: lbs | T44: 1 | U44: ton
D45: year | F45: gal | I45: MMBtu | J45: 2000 | K45: lbs | N45: year | O45: 1000000 | P45: SCF | S45: MMBtu | T45: 2000 | U45: lbs
B47: =(B44*E44*H44+M44*O44*R44/1000000)/2000 -> 208.52318 | D47: ton/year | E47: = | F47: =B47*(2000/8760) -> 47.608032 | G47: lb/hr | L47: lb/hr
A50: PM2.5 = | B50: =B16 -> 60867079 | D50: galones | E50: 0.15 | F50: MMBtu | G50: * | H50: =C9 -> 0.033 | I50: lbs | J50: 1 | K50: ton | L50: + | M50: =B17 -> 6.1543077e+09 | N50: SCF | O50: 1040 | P50: MMBtu | Q50: * | R50: =B9 -> 0.0075 | S50: lbs | T50: 1 | U50: ton
D51: year | F51: gal | I51: MMBtu | J51: 2000 | K51: lbs | N51: year | O51: 1000000 | P51: SCF | S51: MMBtu | T51: 2000 | U51: lbs
B53: =(B50*E50*H50+M50*O50*R50/1000000)/2000 -> 174.64782 | D53: ton/year | E53: = | F53: =B53*(2000/8760) -> 39.873931 | G53: lb/hr | L53: lb/hr
A56: SO2 = | B56: =B16 -> 60867079 | D56: galones | G56: * | H56: =(157)*B18 -> 77.584167 | I56: lbs | J56: 1 | K56: ton | L56: + | M56: =B17 -> 6.1543077e+09 | N56: SCF | O56: 1040 | P56: MMBtu | Q56: * | R56: =B10 -> 0.004 | S56: lbs | T56: 1 | U56: ton
D57: year | H57: 1000 | I57: gals | J57: 2000 | K57: lbs | N57: year | O57: 1000000 | P57: SCF | S57: MMBtu | T57: 2000 | U57: lbs
B59: =(B56*H56/H57+M56*O56*R56/1000000)/2000 -> 2373.9617 | D59: ton/year | E59: = | F59: =B59*(2000/8760) -> 542.0004 | G59: lb/hr | L59: lb/hr
A62: H2SO4 = | B62: =B16 -> 60867079 | D62: galones | E62: 0.15 | F62: MMBtu | G62: * | H62: =C11 -> 0.02259 | I62: lbs | J62: 1 | K62: ton | L62: + | M62: =B17 -> 6.1543077e+09 | N62: SCF | O62: 1040 | P62: MMBtu | Q62: * | R62: =B11 -> 0.00043 | S62: lbs | T62: 1 | U62: ton
D63: year | F63: gal | I63: MMBtu | J63: 2000 | K63: lbs | N63: year | O63: 1000000 | P63: SCF | S63: MMBtu | T63: 2000 | U63: lbs
B65: =(B62*E62*H62+M62*O62*R62/1000000)/2000 -> 104.50015 | D65: ton/year | E65: = | F65: =B65*(2000/8760) -> 23.858482 | G65: lb/hr | L65: lb/hr
A68: Pb = | B68: =B16 -> 60867079 | D68: galones | E68: 0.15 | F68: MMBtu | G68: * | H68: =C12 -> 4.63e-06 | I68: lbs | J68: 1 | K68: ton | L68: + | M68: =B17 -> 6.1543077e+09 | N68: SCF | O68: 1040 | P68: MMBtu | Q68: * | R68: =B12 -> 0 | S68: lbs | T68: 1 | U68: ton
D69: year | F69: gal | I69: MMBtu | J69: 2000 | K69: lbs | N69: year | O69: 1000000 | P69: SCF | S69: MMBtu | T69: 2000 | U69: lbs
B71: =(B68*E68*H68+M68*O68*R68/1000000)/2000 -> 0.021136093 | D71: ton/year | E71: = | F71: =B71*(2000/8760) -> 0.004825592 | G71: lb/hr
A74: CO2e = | B74: =B16 -> 60867079 | D74: galones | E74: =W11 -> 25.617689 | F74: lbs | G74: * | H74: 1 | I74: ton | J74: + | M74: =B17 -> 6.1543077e+09 | N74: SCF | O74: =W12 -> 0.12049378 | P74: lbs | Q74: * | R74: 1 | S74: ton
D75: year | F75: gal | H75: 2000 | I75: lbs | N75: year | P75: SCF | R75: 2000 | S75: lbs
B77: =(B74*E74+M74*O74)/H75 -> 1150414.8 | D77: ton/year | E77: = | F77: =B77*(2000/8760) -> 262651.79 | G77: lb/hr
B80: Nota:
B81: * La formula y los factores de emisión utilizados son los aprobados en la última revisión del permiso
B82: de construcción PFE-31-0810-0455-II-C, con fecha del 21 de DICIEMBRE de 2012, para la quema dual
B83: de combustible 100% Bunker C y 100% Gas Natural, según corresponda.

Sheet San Juan
A2: San Juan BC Consumption 2024
A3: year | B3: Barrels | F3: Galones | J3: Azufre
B4: SJ7 | C4: SJ8 | D4: SJ9 | E4: SJ10 | F4: SJ7 | G4: SJ8 | H4: SJ9 | I4: SJ10 | J4: SJ7 | K4: SJ8 | L4: SJ9 | M4: SJ10
A5: 45292 | B5: 89485.77 | C5: 0 | D5: 86059.41 | E5: 0 | F5: =B5*42 -> 3758402.3 | G5: 0 | H5: =D5*42 -> 3614495.2 | I5: =E5*42 -> 0 | J5: 0.48 | K5: * | L5: 0.48 | M5: *
A6: 45323 | B6: 51154.23 | C6: 0 | D6: 62958.87 | E6: 0 | F6: =B6*42 -> 2148477.7 | G6: =C6*42 -> 0 | H6: =D6*42 -> 2644272.5 | I6: =E6*42 -> 0 | J6: 0.48 | K6: * | L6: 0.48 | M6: *
A7: 45352 | B7: 24352.33 | C7: 0 | D7: 33070.88 | E7: 0 | F7: =B7*42 -> 1022797.9 | G7: =C7*42 -> 0 | H7: =D7*42 -> 1388977 | I7: =E7*42 -> 0 | J7: 0.47 | K7: * | L7: 0.47 | M7: *
A8: 45383 | B8: 0 | C8: 0 | D8: 85174.17 | E8: 0 | F8: =B8*42 -> 0 | G8: =C8*42 -> 0 | H8: =D8*42 -> 3577315.1 | I8: =E8*42 -> 0 | J8: 0.47 | K8: * | L8: 0.47 | M8: *
A9: 45413 | B9: 0 | C9: 0 | D9: 86478.75 | E9: 0 | F9: =B9*42 -> 0 | G9: =C9*42 -> 0 | H9: =D9*42 -> 3632107.5 | I9: =E9*42 -> 0 | J9: 0.47 | K9: * | L9: 0.47 | M9: *
A10: 45444 | B10: 0 | C10: 0 | D10: 87525.4 | E10: 0 | F10: =B10*42 -> 0 | G10: =C10*42 -> 0 | H10: =D10*42 -> 3676066.8 | I10: =E10*42 -> 0 | J10: 0.49 | K10: * | L10: 0.49 | M10: *
A11: 45474 | B11: 52525.05 | C11: 0 | D11: 50481.12 | E11: 0 | F11: =B11*42 -> 2206052.1 | G11: =C11*42 -> 0 | H11: =D11*42 -> 2120207 | I11: =E11*42 -> 0 | J11: 0.48 | K11: * | L11: 0.48 | M11: *
A12: 45505 | B12: 93073.96 | C12: 0 | D12: 94251.19 | E12: 0 | F12: =B12*42 -> 3909106.3 | G12: =C12*42 -> 0 | H12: =D12*42 -> 3958550 | I12: =E12*42 -> 0 | J12: 0.48 | K12: * | L12: 0.48 | M12: *
A13: 45536 | B13: 98577.1 | C13: 0 | D13: 85947.91 | E13: 0 | F13: =B13*42 -> 4140238.2 | G13: =C13*42 -> 0 | H13: =D13*42 -> 3609812.2 | I13: =E13*42 -> 0 | J13: 0.49 | K13: * | L13: 0.49 | M13: *
A14: 45566 | B14: 4067.95 | C14: 0 | D14: 88769.4 | E14: 0 | F14: =B14*42 -> 170853.9 | G14: =C14*42 -> 0 | H14: =D14*42 -> 3728314.8 | I14: =E14*42 -> 0 | J14: 0.49 | K14: * | L14: 0.49 | M14: *
A15: 45597 | B15: 0 | C15: 0 | D15: 84740.89 | E15: 0 | F15: =B15*42 -> 0 | G15: =C15*42 -> 0 | H15: =D15*42 -> 3559117.4 | I15: =E15*42 -> 0 | J15: 0.5 | K15: * | L15: 0.5 | M15: *
A16: 45627 | B16: 0 | C16: 0 | D16: 0 | E16: 0 | F16: =B16*42 -> 0 | G16: =C16*42 -> 0 | H16: =D16*42 -> 0 | I16: =E16*42 -> 0 | J16: 0.5 | K16: * | L16: 0.5 | M16: *
A17: Total | B17: =SUM(B5:B16) -> 413236.39 | C17: =SUM(C5:C16) -> 0 | D17: =SUM(D5:D16) -> 845457.99 | E17: =SUM(E5:E16) -> 0 | F17: =SUM(F5:F16) -> 17355928 | G17: =SUM(G5:G16) -> 0 | H17: =D17*42 -> 35509236 | I17: =SUM(I5:I16) -> 0 | J17: =AVERAGE(J5:J16) -> 0.48333333 | K17: *** | L17: =AVERAGE(L5:L16) -> 0.48333333 | M17: ***
A20: SJ #2FO Consumption 2024 | M20: San Juan Natural Gas Consumtion 2024
A21: year | B21: Barrels | D21: Galones | F21: Azufre | H21: Horas | M21: year | N21: SCF | P21: Azufre
B22: SJCC5 | C22: SJCC6 | D22: SJCC5 | E22: SJCC6 | F22: SJCC5 | G22: SJCC6 | H22: SJCC5 | I22: SJCC6 | N22: Unit 5 | O22: Unit 6 | P22: Unit 5 | Q22: Unit 6
A23: =A5 -> 45292 | B23: 0 | C23: 2142.65 | D23: =SUM(B23*42) -> 0 | E23: =SUM(C23*42) -> 89991.3 | F23: 0.00046 | G23: 0.00046 | H23: 697.9 | I23: 739.9 | M23: =A5 -> 45292 | N23: 1.0041675e+09 | O23: 1.0716477e+09 | P23: 0.001 | Q23: 0.001
A24: =A6 -> 45323 | B24: 0 | C24: 409.78 | D24: =SUM(B24*42) -> 0 | E24: =SUM(C24*42) -> 17210.76 | F24: 0.00055 | G24: 0.00055 | H24: 658.3 | I24: 566.6 | M24: =A6 -> 45323 | N24: 9.7156313e+08 | O24: 8.1174319e+08 | P24: 0.001 | Q24: 0.001
A25: =A7 -> 45352 | B25: 3920.41 | C25: 23554.6 | D25: =SUM(B25*42) -> 164657.22 | E25: =SUM(C25*42) -> 989293.2 | F25: 0.00046 | G25: 0.00046 | H25: 711.8 | I25: 656.7 | M25: =A7 -> 45352 | N25: 1.039795e+09 | O25: 8.5073384e+08 | P25: 0.001 | Q25: 0.001
A26: =A8 -> 45383 | B26: 993.52 | C26: 0 | D26: =SUM(B26*42) -> 41727.84 | E26: =SUM(C26*42) -> 0 | F26: 0.001 | G26: 0.001 | H26: 591 | I26: 0 | M26: =A8 -> 45383 | N26: 9.2992645e+08 | O26: 0 | P26: 0.001 | Q26: 0.001
A27: =A9 -> 45413 | B27: 3709.5 | C27: 0 | D27: =SUM(B27*42) -> 155799 | E27: =SUM(C27*42) -> 0 | F27: 0.0006 | G27: 0.0006 | H27: 731.5 | I27: 0 | M27: =A9 -> 45413 | N27: 1098783938 | O27: 0 | P27: 0.001 | Q27: 0.001
A28: =A10 -> 45444 | B28: 7493.46 | C28: 8782.29 | D28: =SUM(B28*42) -> 314725.32 | E28: =SUM(C28*42) -> 368856.18 | F28: 0.0006 | G28: 0.0006 | H28: 668.3 | I28: 470.5 | M28: =A10 -> 45444 | N28: 9.6730026e+08 | O28: 6.527048e+08 | P28: 0.001 | Q28: 0.001
A29: =A11 -> 45474 | B29: 54712 | C29: 0 | D29: =SUM(B29*42) -> 2297904 | E29: =SUM(C29*42) -> 0 | F29: 0.0006 | G29: 0.0006 | H29: 725.2 | I29: 695.5 | M29: =A11 -> 45474 | N29: 7.2940927e+08 | O29: 1.0513566e+09 | P29: 0.001 | Q29: 0.001
A30: =A12 -> 45505 | B30: 40693 | C30: 817.01 | D30: =SUM(B30*42) -> 1709106 | E30: =SUM(C30*42) -> 34314.42 | F30: 0.001 | G30: 0.001 | H30: 732.1 | I30: 167.2 | M30: =A12 -> 45505 | N30: 8.1466636e+08 | O30: 2.3437724e+08 | P30: 0.001 | Q30: 0.001
A31: =A13 -> 45536 | B31: 0 | C31: 0 | D31: =SUM(B31*42) -> 0 | E31: =SUM(C31*42) -> 0 | F31: 0.001 | G31: 0.001 | H31: 720 | I31: 0 | M31: =A13 -> 45536 | N31: 1.0862795e+09 | O31: 0 | P31: 0.001 | Q31: 0.001
A32: =A14 -> 45566 | B32: 46219.05 | C32: 0 | D32: =SUM(B32*42) -> 1941200.1 | E32: =SUM(C32*42) -> 0 | F32: 0.0007 | G32: 0.0007 | H32: 693.1 | I32: 0 | M32: =A14 -> 45566 | N32: 7.1786081e+08 | O32: 0 | P32: 0.001 | Q32: 0.001
A33: =A15 -> 45597 | B33: 25285.71 | C33: 0 | D33: =SUM(B33*42) -> 1061999.8 | E33: =SUM(C33*42) -> 0 | F33: 0.001 | G33: 0.001 | H33: 632.8 | I33: 0 | M33: =A15 -> 45597 | N33: 7.6148538e+08 | O33: 0 | P33: 0.001 | Q33: 0.001
A34: =A16 -> 45627 | B34: 21624.88 | C34: 0 | D34: =SUM(B34*42) -> 908244.96 | E34: =SUM(C34*42) -> 0 | F34: 0.001 | G34: 0.001 | H34: 726.4 | I34: 0 | M34: =A16 -> 45627 | N34: 9.4273297e+08 | O34: 0 | P34: 0.001 | Q34: 0.001
A35: Total | B35: =SUM(B23:B34) -> 204651.53 | C35: =SUM(C23:C34) -> 35706.33 | D35: =SUM(D23:D34) -> 8595364.3 | E35: =SUM(E23:E34) -> 1499665.9 | F35: =AVERAGE(F23:F34) -> 0.0007475 | G35: =AVERAGE(G23:G34) -> 0.0007475 | H35: =SUM(H23:H34) -> 8288.4 | I35: =SUM(I23:I34) -> 3296.4 | M35: TOTAL | N35: =SUM(N23:N34) -> 1.1063971e+10 | O35: =SUM(O23:O34) -> 4.6725634e+09 | P35: 0.001 | Q35: 0.001

Sheet Cálculos SJ
A1: Cómputo de Emisiones Actuales year 2024 - San Juan 7-10
A3: Factores de Emisión de acuerdo a Permiso Título V
A5: PM10 | B5: 0.040 lbs/MMBtu | D5: MATS Emission Limit + AP-42 Section 1.3 Condensable PM
A6: PM | B6: 0.030 lbs/MMBtu | D6: MATS Emission Limit
A7: SO2 | B7: 157*%S lbs/1000gal | D7: AP-42 Section 1.3
A8: H2SO4 | B8: 0.0405 lbs/MMBtu
A9: NOx (7&8) | B9: 47 lbs/1000gal | D9: AP-42 Section 1.3 wall fired boilers
A10: NOx (9&10) | B10: 32 lbs/1000gal | D10: AP-42 Section 1.3 tangential fired boilers
A11: VOC | B11: 0.76 lbs/1000gal | D11: AP-42 Section 1.3
A12: CO | B12: 5 lbs/1000gal | D12: AP-42 Section 1.3
A13: Pb | B13: 0.00151 lbs/1000gal
A14: CO2e | B14: 24.891 lbs/gal | D14: eGGRT GHG Report | R14: =(515657.4+515.5+1229.1)*2204.6/45826002 -> 24.891206 | S14: lbs/gal
A16: Combustible #6 | B16: =SUM('San Juan'!F17+'San Juan'!G17) -> 17355928 | C16: gal/year 7&8
A17: Combustible #6 | B17: =SUM('San Juan'!H17+'San Juan'!I17) -> 35509236 | C17: gal/year 9&10
A18: % Azufre | B18: =SUM('San Juan'!J17+'San Juan'!L17)/2 -> 0.48333333 | D18: NO INCLUIR EN PRINT OUT"=('San Juan'!J17+'San Juan'!K17+'San Juan'!L17+'San Juan'!M17)/4" se saco del promedio a la u-10 ya que estubo apagada
A21: Cálculos Emisiones PM10
A23: = | B23: 0.04 | C23: lbs | D23: =B16+B17 -> 52865164 | E23: gal | F23: ton | H23: 0.15 | I23: MMBtu
B24: MMBtu | D24: year | F24: 2000 | G24: lbs | H24: gal
A26: = | B26: =((B23*D23*H23)/F24) -> 158.59549 | C26: ton
C27: year
A29: Cálculos Emisiones PM
A31: = | B31: 0.03 | C31: lbs | D31: =D23 -> 52865164 | E31: gal | F31: ton | H31: 0.15 | I31: MMBtu
B32: MMBtu | D32: year | F32: 2000 | G32: lbs | H32: gal
A34: = | B34: =((B31*D31*H31)/F32) -> 118.94662 | C34: ton
C35: year
A38: Cálculos Emisiones H2SO4
A40: = | B40: 0.0405 | C40: lbs | D40: =D31 -> 52865164 | E40: gal | F40: ton | H40: 0.15 | I40: MMBtu
B41: MMBtu | D41: year | F41: 2000 | G41: lbs | H41: gal
A43: = | B43: =((B40*D40*H40)/F41) -> 160.57794 | C43: ton
C44: year
A46: Cálculos Emisiones SO2
I47: NOTA PARA EFECTOS DE CALCULO SE SUBSTITUYO EL PROMEDIO DE AZUFRE POR EL CALCULO A MANO = .47; LA CELDA DEBE SER =B14
A48: = | B48: =(157+5.7)*B18 -> 78.638333 | C48: lbs | D48: =D40 -> 52865164 | E48: gal | F48: ton
B49: 1000 | C49: gals | D49: year | F49: 2000 | G49: lbs
A51: = | B51: =((B48/B49*D48)/F49) -> 2078.6142 | C51: ton
C52: year
A57: Cálculos Emisiones Nox (7&8)
A59: = | B59: 47 | C59: lbs | D59: =B16 -> 17355928 | E59: gal | F59: ton
B60: 1000 | C60: gal | D60: year | F60: 2000 | G60: lbs
A62: = | B62: =((B59/B60)*D59)/F60 -> 407.86432 | C62: ton
C63: year
A65: Cálculos Emisiones Nox (9&10)
A67: = | B67: 32 | C67: lbs | D67: =B17 -> 35509236 | E67: gal | F67: ton
B68: 1000 | C68: gal | D68: year | F68: 2000 | G68: lbs
A70: = | B70: =((B67/B68)*D67)/F68 -> 568.14777 | C70: ton
C71: year
A73: Cálculos Emisiones VOC
A75: = | B75: 0.76 | C75: lbs | D75: =D48 -> 52865164 | E75: gal | F75: ton
B76: 1000 | C76: gal | D76: year | F76: 2000 | G76: lbs
A78: = | B78: =((B75/B76)*D75)/F76 -> 20.088762 | C78: ton
C79: year
A81: Cálculos Emisiones CO
A83: = | B83: 5 | C83: lbs | D83: =D75 -> 52865164 | E83: gal | F83: ton
B84: 1000 | C84: gal | D84: year | F84: 2000 | G84: lbs
A86: = | B86: =((B83/B84)*D83)/F84 -> 132.16291 | C86: ton
C87: year
A89: Cálculos Emisiones Pb
A91: = | B91: 0.00151 | C91: lbs | D91: =D83 -> 52865164 | E91: gal | F91: ton
B92: 1000 | C92: gal | D92: year | F92: 2000 | G92: lbs
A94: = | B94: =((B91/B92)*D91)/F92 -> 0.039913199 | C94: ton
C95: year
A98: Cálculos Emisiones CO2e
A100: = | B100: =R14 -> 24.891206 | C100: lbs | D100: =D91 -> 52865164 | E100: gal | F100: ton
C101: gal | D101: year | F101: 2000 | G101: lbs
A103: = | B103: =B100*D100/F101 -> 657938.84 | C103: ton
C104: year

Sheet Cálculos SJ5
A1: Cómputo de Emisiones Actuales para Distillate Oil y Gas Natural - San Juan year 2024 - Unidad 5
A3: Parametro | B3: Factor de Emisión Combustible Natural Gas | C3: Factor de Emisión Combustible No. 2 Oil | D3: Emisiones Actuales (ton/year) | E3: Emisiones Actuales (lb/hr)
A4: NOx | B4: 0.092099392 | C4: 0.10805849 | D4: =B23 -> 583.76968 | E4: =F23 -> 133.28075
A5: CO | B5: 0.022429677 | C5: 0.0094426363 | D5: =B29 -> 132.16249 | E5: =F29 -> 30.174085
A6: VOC | B6: 0.0021 | C6: 0.0083 | D6: =B35 -> 16.772078 | E6: =F35 -> 3.8292415 | F6: Ecuación para el Cómputo
A7: PM | B7: 0.0066 | C7: 0.0284 | D7: =B41 -> 54.084801 | E7: =F41 -> 12.348128 | F7: ton/year = | G7: [Consumo de Combustible #6 en galones/year) * ( Valor Calorífico BC 0.138 MMBtu/gal)
A8: PM10 | B8: 0.0066 | C8: 0.0357 | D8: =B47 -> 58.414286 | E8: =F47 -> 13.336595 | G8: + (Consumo Gas Natural SCF/year) * (Valor Calorífico GN 1,020 MMBtu/SCF*10^6)]
A9: PM2.5 | B9: 0.0066 | C9: 0.0357 | D9: =B53 -> 58.414286 | E9: =F53 -> 13.336595 | G9: * FE en lbs/MMBtu * 1 ton/2,000 lbs
A10: SO2 | B10: 0.0028 | C10: 1.01*%S | D10: =B59 -> 16.247111 | E10: =F59 -> 3.709386
A11: H2SO4 | B11: 0.00043 | C11: 0.0077 | D11: =B65 -> 6.9930458 | E11: =F65 -> 1.5965858 | F11: lbs/hr = | G11: (Toneladas Contaminante / year) * (1 year / 8,760 hr) * (2000 lb / ton) | V11: CO2e | W11: =(73.96+0.003*25+0.0006*298)*2.2046*0.138 -> 22.578421 | X11: lbs/gal
A12: Pb | B12: 0 | C12: 9e-06 | D12: =B71 -> 0.0053377212 | E12: =F71 -> 0.0012186578 | W12: =(475409.8+224+267)*2204.62/8707340462.38 -> 0.12049379 | X12: lbs/scf
A13: CO2e | B13: 22.578 lbs/gal | C13: 0.1205 lbs/SCF | D13: =B77 -> 763604.73 | E13: =F77 -> 174338.98
A14: Fluoruro | B14: 0 | C14: 0 | D14: 0 | E14: 0 | H14: =B23+'Cálculos SJ'!B62+'Cálculos SJ6'!D4+'Cálculos SJ'!B70 -> 1790.4369
A16: Consumo #2 = | B16: =SUM('San Juan'!D35) -> 8595364.3 | D16: gal/year
A17: Consumo NG = | B17: =SUM('San Juan'!N35) -> 1.1063971e+10 | D17: SCF/year
A18: #2 Azufre = | B18: =SUM('San Juan'!F35) -> 0.0007475 | D18: %
A20: NOx = | B20: =B16 -> 8595364.3 | D20: galones | E20: 0.138 | F20: MMBtu | G20: * | H20: =C4 -> 0.10805849 | I20: lbs | J20: 1 | K20: ton | L20: + | M20: =B17 -> 1.1063971e+10 | N20: SCF | O20: 1020 | P20: MMBtu | Q20: * | R20: =B4 -> 0.092099392 | S20: lbs | T20: 1 | U20: ton
D21: year | F21: gal | I21: MMBtu | J21: 2000 | K21: lbs | N21: year | O21: 1000000 | P21: SCF | S21: MMBtu | T21: 2000 | U21: lbs
B23: =(B20*E20*H20+M20*O20*R20/1000000)/2000 -> 583.76968 | D23: ton/year | E23: = | F23: =B23*(2000/8760) -> 133.28075 | G23: lb/hr
A26: CO = | B26: =B16 -> 8595364.3 | D26: galones | E26: 0.138 | F26: MMBtu | G26: * | H26: =C5 -> 0.0094426363 | I26: lbs | J26: 1 | K26: ton | L26: + | M26: =B17 -> 1.1063971e+10 | N26: SCF | O26: 1020 | P26: MMBtu | Q26: * | R26: =B5 -> 0.022429677 | S26: lbs | T26: 1 | U26: ton
D27: year | F27: gal | I27: MMBtu | J27: 2000 | K27: lbs | N27: year | O27: 1000000 | P27: SCF | S27: MMBtu | T27: 2000 | U27: lbs
B29: =(B26*E26*H26+M26*O26*R26/1000000)/2000 -> 132.16249 | D29: ton/year | E29: = | F29: =B29*(2000/8760) -> 30.174085 | G29: lb/hr
A32: VOC = | B32: =B16 -> 8595364.3 | D32: galones | E32: 0.138 | F32: MMBtu | G32: * | H32: =C6 -> 0.0083 | I32: lbs | J32: 1 | K32: ton | L32: + | M32: =B17 -> 1.1063971e+10 | N32: SCF | O32: 1020 | P32: MMBtu | Q32: * | R32: =B6 -> 0.0021 | S32: lbs | T32: 1 | U32: ton
D33: year | F33: gal | I33: MMBtu | J33: 2000 | K33: lbs | N33: year | O33: 1000000 | P33: SCF | S33: MMBtu | T33: 2000 | U33: lbs
B35: =(B32*E32*H32+M32*O32*R32/1000000)/2000 -> 16.772078 | D35: ton/year | E35: = | F35: =B35*(2000/8760) -> 3.8292415 | G35: lb/hr
A38: PM = | B38: =B16 -> 8595364.3 | D38: galones | E38: 0.138 | F38: MMBtu | G38: * | H38: =C7 -> 0.0284 | I38: lbs | J38: 1 | K38: ton | L38: + | M38: =B17 -> 1.1063971e+10 | N38: SCF | O38: 1020 | P38: MMBtu | Q38: * | R38: =B7 -> 0.0066 | S38: lbs | T38: 1 | U38: ton
D39: year | F39: gal | I39: MMBtu | J39: 2000 | K39: lbs | N39: year | O39: 1000000 | P39: SCF | S39: MMBtu | T39: 2000 | U39: lbs
B41: =(B38*E38*H38+M38*O38*R38/1000000)/2000 -> 54.084801 | D41: ton/year | E41: = | F41: =B41*(2000/8760) -> 12.348128 | G41: lb/hr | L41: lb/hr
A44: PM10 = | B44: =B16 -> 8595364.3 | D44: galones | E44: 0.138 | F44: MMBtu | G44: * | H44: =C8 -> 0.0357 | I44: lbs | J44: 1 | K44: ton | L44: + | M44: =B17 -> 1.1063971e+10 | N44: SCF | O44: 1020 | P44: MMBtu | Q44: * | R44: =B8 -> 0.0066 | S44: lbs | T44: 1 | U44: ton
D45: year | F45: gal | I45: MMBtu | J45: 2000 | K45: lbs | N45: year | O45: 1000000 | P45: SCF | S45: MMBtu | T45: 2000 | U45: lbs
B47: =(B44*E44*H44+M44*O44*R44/1000000)/2000 -> 58.414286 | D47: ton/year | E47: = | F47: =B47*(2000/8760) -> 13.336595 | G47: lb/hr | L47: lb/hr
A50: PM2.5 = | B50: =B16 -> 8595364.3 | D50: galones | E50: 0.138 | F50: MMBtu | G50: * | H50: =C9 -> 0.0357 | I50: lbs | J50: 1 | K50: ton | L50: + | M50: =B17 -> 1.1063971e+10 | N50: SCF | O50: 1020 | P50: MMBtu | Q50: * | R50: =B9 -> 0.0066 | S50: lbs | T50: 1 | U50: ton
D51: year | F51: gal | I51: MMBtu | J51: 2000 | K51: lbs | N51: year | O51: 1000000 | P51: SCF | S51: MMBtu | T51: 2000 | U51: lbs
B53: =(B50*E50*H50+M50*O50*R50/1000000)/2000 -> 58.414286 | D53: ton/year | E53: = | F53: =B53*(2000/8760) -> 13.336595 | G53: lb/hr | L53: lb/hr
A56: SO2 = | B56: =B16 -> 8595364.3 | D56: galones | E56: 0.138 | F56: MMBtu | G56: * | H56: =1.01*B18 -> 0.000754975 | I56: lbs | J56: 1 | K56: ton | L56: + | M56: =B17 -> 1.1063971e+10 | N56: SCF | O56: 1020 | P56: MMBtu | Q56: * | R56: =B10 -> 0.0028 | S56: lbs | T56: 1 | U56: ton
D57: year | F57: gal | I57: MMBtu | J57: 2000 | K57: lbs | N57: year | O57: 1000000 | P57: SCF | S57: MMBtu | T57: 2000 | U57: lbs
B59: =(B56*E56*H56+M56*O56*R56/1000000)/2000 -> 16.247111 | D59: ton/year | E59: = | F59: =B59*(2000/8760) -> 3.709386 | G59: lb/hr | L59: lb/hr
A62: H2SO4 = | B62: =B16 -> 8595364.3 | D62: galones | E62: 0.138 | F62: MMBtu | G62: * | H62: =C11 -> 0.0077 | I62: lbs | J62: 1 | K62: ton | L62: + | M62: =B17 -> 1.1063971e+10 | N62: SCF | O62: 1020 | P62: MMBtu | Q62: * | R62: =B11 -> 0.00043 | S62: lbs | T62: 1 | U62: ton
D63: year | F63: gal | I63: MMBtu | J63: 2000 | K63: lbs | N63: year | O63: 1000000 | P63: SCF | S63: MMBtu | T63: 2000 | U63: lbs
B65: =(B62*E62*H62+M62*O62*R62/1000000)/2000 -> 6.9930458 | D65: ton/year | E65: = | F65: =B65*(2000/8760) -> 1.5965858 | G65: lb/hr | L65: lb/hr
A68: Pb = | B68: =B16 -> 8595364.3 | D68: galones | E68: 0.138 | F68: MMBtu | G68: * | H68: =C12 -> 9e-06 | I68: lbs | J68: 1 | K68: ton | L68: + | M68: =B17 -> 1.1063971e+10 | N68: SCF | O68: 1020 | P68: MMBtu | Q68: * | R68: =B12 -> 0 | S68: lbs | T68: 1 | U68: ton
D69: year | F69: gal | I69: MMBtu | J69: 2000 | K69: lbs | N69: year | O69: 1000000 | P69: SCF | S69: MMBtu | T69: 2000 | U69: lbs
B71: =(B68*E68*H68+M68*O68*R68/1000000)/2000 -> 0.0053377212 | D71: ton/year | E71: = | F71: =B71*(2000/8760) -> 0.0012186578 | G71: lb/hr
A74: CO2e = | B74: =B16 -> 8595364.3 | D74: galones | E74: =W11 -> 22.578421 | F74: lbs | G74: * | H74: 1 | I74: ton | J74: + | M74: =B17 -> 1.1063971e+10 | N74: SCF | O74: =W12 -> 0.12049379 | P74: lbs | Q74: * | R74: 1 | S74: ton
D75: year | F75: gal | H75: 2000 | I75: lbs | N75: year | P75: SCF | R75: 2000 | S75: lbs
B77: =(B74*E74+M74*O74)/H75 -> 763604.73 | D77: ton/year | E77: = | F77: =B77*(2000/8760) -> 174338.98 | G77: lb/hr
B80: Nota:
B81: * La formula y los factores de emisión utilizados son los aprobados en la última revisión del permiso
B82: de construcción PFE-31-0810-0455-II-C, con fecha del 21 de DICIEMBRE de 2012, para la quema dual
B83: de combustible 100% Bunker C y 100% Gas Natural, según corresponda.

Sheet Cálculos SJ6
A1: Cómputo de Emisiones Actuales para Distillate Oil y Gas Natural - San Juan year 2024 - Unidad 6
A3: Parametro | B3: Factor de Emisión Combustible Natural Gas | C3: Factor de Emisión Combustible No. 2 Oil | D3: Emisiones Actuales (ton/year) | E3: Emisiones Actuales (lb/hr)
A4: NOx | B4: 0.092099392 | C4: 0.10805849 | D4: =B23 -> 230.65509 | E4: =F23 -> 52.660979
A5: CO | B5: 0.022429677 | C5: 0.0094426363 | D5: =B29 -> 54.427179 | E5: =F29 -> 12.426296
A6: VOC | B6: 0.0021 | C6: 0.0083 | D6: =B35 -> 5.863174 | E6: =F35 -> 1.3386242 | F6: Ecuación para el Cómputo
A7: PM | B7: 0.0066 | C7: 0.0284 | D7: =B41 -> 18.666594 | E7: =F41 -> 4.2617793 | F7: ton/year = | G7: [Consumo de Combustible #6 en galones/year) * ( Valor Calorífico BC 0.138 MMBtu/gal)
A8: PM10 | B8: 0.0066 | C8: 0.0357 | D8: =B47 -> 19.421975 | E8: =F47 -> 4.4342409 | G8: + (Consumo Gas Natural SCF/year) * (Valor Calorífico GN 1,020 MMBtu/SCF*10^6)]
A9: PM2.5 | B9: 0.0066 | C9: 0.0357 | D9: =B53 -> 19.421975 | E9: =F53 -> 4.4342409 | G9: * FE en lbs/MMBtu * 1 ton/2,000 lbs
A10: SO2 | B10: 0.0028 | C10: 1.01*%S | D10: =B59 -> 6.750543 | E10: =F59 -> 1.5412199
A11: H2SO4 | B11: 0.00043 | C11: 0.0077 | D11: =B65 -> 1.8214656 | E11: =F65 -> 0.41585973 | F11: lbs/hr = | G11: (Toneladas Contaminante / year) * (1 year / 8,760 hr) * (2000 lb / ton) | V11: CO2e | W11: =(73.96+0.003*25+0.0006*298)*2.2046*0.138 -> 22.578421 | X11: lbs/gal
A12: Pb | B12: 0 | C12: 9e-06 | D12: =B71 -> 0.0009312925 | E12: =F71 -> 0.00021262386 | W12: =(475409.8+224+267)*2204.62/8707340462.38 -> 0.12049379 | X12: lbs/scf
A13: CO2e | B13: 22.578 lbs/gal | C13: 0.1205 lbs/SCF | D13: =B77 -> 298437.47 | E13: =F77 -> 68136.409
A14: Fluoruro | B14: 0 | C14: 0 | D14: 0 | E14: 0
A16: Consumo #2 = | B16: =SUM('San Juan'!E35) -> 1499665.9 | D16: gal/year
A17: Consumo NG = | B17: =SUM('San Juan'!O35) -> 4.6725634e+09 | D17: SCF/year
A18: #2 Azufre = | B18: =SUM('San Juan'!G35) -> 0.0007475 | D18: %
A20: NOx = | B20: =B16 -> 1499665.9 | D20: galones | E20: 0.138 | F20: MMBtu | G20: * | H20: =C4 -> 0.10805849 | I20: lbs | J20: 1 | K20: ton | L20: + | M20: =B17 -> 4.6725634e+09 | N20: SCF | O20: 1020 | P20: MMBtu | Q20: * | R20: =B4 -> 0.092099392 | S20: lbs | T20: 1 | U20: ton
D21: year | F21: gal | I21: MMBtu | J21: 2000 | K21: lbs | N21: year | O21: 1000000 | P21: SCF | S21: MMBtu | T21: 2000 | U21: lbs
B23: =(B20*E20*H20+M20*O20*R20/1000000)/2000 -> 230.65509 | D23: ton/year | E23: = | F23: =B23*(2000/8760) -> 52.660979 | G23: lb/hr
A26: CO = | B26: =B16 -> 1499665.9 | D26: galones | E26: 0.138 | F26: MMBtu | G26: * | H26: =C5 -> 0.0094426363 | I26: lbs | J26: 1 | K26: ton | L26: + | M26: =B17 -> 4.6725634e+09 | N26: SCF | O26: 1020 | P26: MMBtu | Q26: * | R26: =B5 -> 0.022429677 | S26: lbs | T26: 1 | U26: ton
D27: year | F27: gal | I27: MMBtu | J27: 2000 | K27: lbs | N27: year | O27: 1000000 | P27: SCF | S27: MMBtu | T27: 2000 | U27: lbs
B29: =(B26*E26*H26+M26*O26*R26/1000000)/2000 -> 54.427179 | D29: ton/year | E29: = | F29: =B29*(2000/8760) -> 12.426296 | G29: lb/hr
A32: VOC = | B32: =B16 -> 1499665.9 | D32: galones | E32: 0.138 | F32: MMBtu | G32: * | H32: =C6 -> 0.0083 | I32: lbs | J32: 1 | K32: ton | L32: + | M32: =B17 -> 4.6725634e+09 | N32: SCF | O32: 1020 | P32: MMBtu | Q32: * | R32: =B6 -> 0.0021 | S32: lbs | T32: 1 | U32: ton
D33: year | F33: gal | I33: MMBtu | J33: 2000 | K33: lbs | N33: year | O33: 1000000 | P33: SCF | S33: MMBtu | T33: 2000 | U33: lbs
B35: =(B32*E32*H32+M32*O32*R32/1000000)/2000 -> 5.863174 | D35: ton/year | E35: = | F35: =B35*(2000/8760) -> 1.3386242 | G35: lb/hr
A38: PM = | B38: =B16 -> 1499665.9 | D38: galones | E38: 0.138 | F38: MMBtu | G38: * | H38: =C7 -> 0.0284 | I38: lbs | J38: 1 | K38: ton | L38: + | M38: =B17 -> 4.6725634e+09 | N38: SCF | O38: 1020 | P38: MMBtu | Q38: * | R38: =B7 -> 0.0066 | S38: lbs | T38: 1 | U38: ton
D39: year | F39: gal | I39: MMBtu | J39: 2000 | K39: lbs | N39: year | O39: 1000000 | P39: SCF | S39: MMBtu | T39: 2000 | U39: lbs
B41: =(B38*E38*H38+M38*O38*R38/1000000)/2000 -> 18.666594 | D41: ton/year | E41: = | F41: =B41*(2000/8760) -> 4.2617793 | G41: lb/hr | L41: lb/hr
A44: PM10 = | B44: =B16 -> 1499665.9 | D44: galones | E44: 0.138 | F44: MMBtu | G44: * | H44: =C8 -> 0.0357 | I44: lbs | J44: 1 | K44: ton | L44: + | M44: =B17 -> 4.6725634e+09 | N44: SCF | O44: 1020 | P44: MMBtu | Q44: * | R44: =B8 -> 0.0066 | S44: lbs | T44: 1 | U44: ton
D45: year | F45: gal | I45: MMBtu | J45: 2000 | K45: lbs | N45: year | O45: 1000000 | P45: SCF | S45: MMBtu | T45: 2000 | U45: lbs
B47: =(B44*E44*H44+M44*O44*R44/1000000)/2000 -> 19.421975 | D47: ton/year | E47: = | F47: =B47*(2000/8760) -> 4.4342409 | G47: lb/hr | L47: lb/hr
A50: PM2.5 = | B50: =B16 -> 1499665.9 | D50: galones | E50: 0.138 | F50: MMBtu | G50: * | H50: =C9 -> 0.0357 | I50: lbs | J50: 1 | K50: ton | L50: + | M50: =B17 -> 4.6725634e+09 | N50: SCF | O50: 1020 | P50: MMBtu | Q50: * | R50: =B9 -> 0.0066 | S50: lbs | T50: 1 | U50: ton
D51: year | F51: gal | I51: MMBtu | J51: 2000 | K51: lbs | N51: year | O51: 1000000 | P51: SCF | S51: MMBtu | T51: 2000 | U51: lbs
B53: =(B50*E50*H50+M50*O50*R50/1000000)/2000 -> 19.421975 | D53: ton/year | E53: = | F53: =B53*(2000/8760) -> 4.4342409 | G53: lb/hr | L53: lb/hr
A56: SO2 = | B56: =B16 -> 1499665.9 | D56: galones | E56: 0.138 | F56: MMBtu | G56: * | H56: =1.01*B18 -> 0.000754975 | I56: lbs | J56: 1 | K56: ton | L56: + | M56: =B17 -> 4.6725634e+09 | N56: SCF | O56: 1020 | P56: MMBtu | Q56: * | R56: =B10 -> 0.0028 | S56: lbs | T56: 1 | U56: ton
D57: year | F57: gal | I57: MMBtu | J57: 2000 | K57: lbs | N57: year | O57: 1000000 | P57: SCF | S57: MMBtu | T57: 2000 | U57: lbs
B59: =(B56*E56*H56+M56*O56*R56/1000000)/2000 -> 6.750543 | D59: ton/year | E59: = | F59: =B59*(2000/8760) -> 1.5412199 | G59: lb/hr | L59: lb/hr
A62: H2SO4 = | B62: =B16 -> 1499665.9 | D62: galones | E62: 0.138 | F62: MMBtu | G62: * | H62: =C11 -> 0.0077 | I62: lbs | J62: 1 | K62: ton | L62: + | M62: =B17 -> 4.6725634e+09 | N62: SCF | O62: 1020 | P62: MMBtu | Q62: * | R62: =B11 -> 0.00043 | S62: lbs | T62: 1 | U62: ton
D63: year | F63: gal | I63: MMBtu | J63: 2000 | K63: lbs | N63: year | O63: 1000000 | P63: SCF | S63: MMBtu | T63: 2000 | U63: lbs
B65: =(B62*E62*H62+M62*O62*R62/1000000)/2000 -> 1.8214656 | D65: ton/year | E65: = | F65: =B65*(2000/8760) -> 0.41585973 | G65: lb/hr | L65: lb/hr
A68: Pb = | B68: =B16 -> 1499665.9 | D68: galones | E68: 0.138 | F68: MMBtu | G68: * | H68: =C12 -> 9e-06 | I68: lbs | J68: 1 | K68: ton | L68: + | M68: =B17 -> 4.6725634e+09 | N68: SCF | O68: 1020 | P68: MMBtu | Q68: * | R68: =B12 -> 0 | S68: lbs | T68: 1 | U68: ton
D69: year | F69: gal | I69: MMBtu | J69: 2000 | K69: lbs | N69: year | O69: 1000000 | P69: SCF | S69: MMBtu | T69: 2000 | U69: lbs
B71: =(B68*E68*H68+M68*O68*R68/1000000)/2000 -> 0.0009312925 | D71: ton/year | E71: = | F71: =B71*(2000/8760) -> 0.00021262386 | G71: lb/hr
A74: CO2e = | B74: =B16 -> 1499665.9 | D74: galones | E74: =W11 -> 22.578421 | F74: lbs | G74: * | H74: 1 | I74: ton | J74: + | M74: =B17 -> 4.6725634e+09 | N74: SCF | O74: =W12 -> 0.12049379 | P74: lbs | Q74: * | R74: 1 | S74: ton
D75: year | F75: gal | H75: 2000 | I75: lbs | N75: year | P75: SCF | R75: 2000 | S75: lbs
B77: =(B74*E74+M74*O74)/H75 -> 298437.47 | D77: ton/year | E77: = | F77: =B77*(2000/8760) -> 68136.409 | G77: lb/hr
B80: Nota:
B81: * La formula y los factores de emisión utilizados son los aprobados en la última revisión del permiso
B82: de construcción PFE-31-0810-0455-II-C, con fecha del 21 de DICIEMBRE de 2012, para la quema dual
B83: de combustible 100% Bunker C y 100% Gas Natural, según corresponda.

Sheet Aguirre
A2: Aguirre BC Consumption 2024 | H2: Azufre % por peso
A3: year | B3: Barrels | D3: Galones | F3: Total gal/year
B4: AG-1 | C4: AG-2 | D4: AG-1 | E4: AG-2 | H4: AG-1 | I4: AG-2
A5: 45292 | B5: 0 | C5: 173636.61 | D5: =SUM(B5*42) -> 0 | E5: =SUM(C5*42) -> 7292737.6 | F5: =D5+E5 -> 7292737.6 | H5: 0.5 | I5: 0.5
A6: 45323 | B6: 70456.36 | C6: 287763.69 | D6: =SUM(B6*42) -> 2959167.1 | E6: =SUM(C6*42) -> 12086075 | F6: =D6+E6 -> 15045242 | H6: 0.48 | I6: 0.48
A7: 45352 | B7: 28670.62 | C7: 286284.78 | D7: =SUM(B7*42) -> 1204166 | E7: =SUM(C7*42) -> 12023961 | F7: =D7+E7 -> 13228127 | H7: 0.48 | I7: 0.49
A8: 45383 | B8: 4943.54 | C8: 270551.87 | D8: =SUM(B8*42) -> 207628.68 | E8: =SUM(C8*42) -> 11363179 | F8: =D8+E8 -> 11570807 | H8: 0.47 | I8: 0.47
A9: 45413 | B9: 262847.08 | C9: 284615.39 | D9: =SUM(B9*42) -> 11039577 | E9: =SUM(C9*42) -> 11953846 | F9: =D9+E9 -> 22993424 | H9: 0.48 | I9: 0.48
A10: 45444 | B10: 273570.78 | C10: 307826.67 | D10: =SUM(B10*42) -> 11489973 | E10: =SUM(C10*42) -> 12928720 | F10: =D10+E10 -> 24418693 | H10: 0.49 | I10: 0.49
A11: 45474 | B11: 233430.72 | C11: 235801.43 | D11: =SUM(B11*42) -> 9804090.2 | E11: =SUM(C11*42) -> 9903660.1 | F11: =D11+E11 -> 19707750 | H11: 0.49 | I11: 0.49
A12: 45505 | B12: 198510.38 | C12: 116485.85 | D12: =SUM(B12*42) -> 8337436 | E12: =SUM(C12*42) -> 4892405.7 | F12: =D12+E12 -> 13229842 | H12: 0.49 | I12: 0.49 | N12: =SUM(B17:E17) -> 1.5641688e+08
A13: 45536 | B13: 153911.23 | C13: 9797.82 | D13: =SUM(B13*42) -> 6464271.7 | E13: =SUM(C13*42) -> 411508.44 | F13: =D13+E13 -> 6875780.1 | H13: 0.49 | I13: 0.49
A14: 45566 | B14: 200009.14 | C14: 0 | D14: =SUM(B14*42) -> 8400383.9 | E14: =SUM(C14*42) -> 0 | F14: =D14+E14 -> 8400383.9 | H14: 0.49 | I14: 0.49 | O14: =SUM(N12,N15) -> 2.1952219e+08
A15: 45597 | B15: 238487.95 | C15: 0 | D15: =SUM(B15*42) -> 10016494 | E15: =SUM(C15*42) -> 0 | F15: =D15+E15 -> 10016494 | H15: 0.5 | I15: 0.5 | N15: =SUM(B35:J35) -> 63105308
A16: 45627 | B16: 0 | C16: 0 | D16: =SUM(B16*42) -> 0 | E16: =SUM(C16*42) -> 0 | F16: 0 | H16: 0.5 | I16: 0.5
A17: Total | B17: =SUM(B5:B16) -> 1664837.8 | C17: =SUM(C5:C16) -> 1972764.1 | D17: =SUM(D5:D16) -> 69923188 | E17: =SUM(E5:E16) -> 82856093 | F17: =D17+E17 -> 1.5277928e+08 | H17: =AVERAGE(H5:H16) -> 0.48833333 | I17: =AVERAGE(I5:I16) -> 0.48916667 | J17: avg
F18: =SUM(F5:F16) -> 1.5277928e+08
A20: Aguirre CC #2 FO Consumption 2024
A21: Galones | K21: Azufre | V21: Azufre Average
A22: year | B22: CC1-1 | C22: CC1-2 | D22: CC1-3 | E22: CC1-4 | F22: CC2-1 | H22: CC2-2 | I22: CC2-3 | J22: CC2-4 | K22: CC1-1 | L22: CC1-2 | M22: CC1-3 | N22: CC1-4 | O22: CC2-1 | P22: CC2-2 | Q22: CC2-3 | R22: CC2-4 | V22: CC1-1 | W22: CC1-2 | X22: CC1-3 | Y22: CC1-4 | Z22: CC2-1 | AA22: CC2-2 | AB22: CC2-3 | AC22: CC2-4
A23: 45292 | B23: 1472494 | C23: 1330659 | D23: 0 | E23: 0 | F23: 0 | G23: 45292 | H23: 0 | I23: 0 | J23: 1090785 | K23: 0.001 | L23: 0.001 | M23: 0.001 | N23: 0.001 | O23: 0.001 | P23: 0.001 | Q23: 0.001 | R23: 0.001 | V23: 0.0039 | W23: 0.0039 | X23: 0.0039 | Y23: 0.0039 | Z23: 0.0039 | AA23: 0 | AB23: 0.0039 | AC23: 0
A24: 45323 | B24: 965131 | C24: 1091093 | D24: 0 | E24: 0 | F24: 0 | G24: 45323 | H24: 0 | I24: 0 | J24: 1042826 | K24: 0.001 | L24: 0.001 | M24: 0.001 | N24: 0.001 | O24: 0.001 | P24: 0.001 | Q24: 0.001 | R24: 0.001 | V24: 0.0044803387 | W24: 0.0044803387 | X24: 0.0041487674 | Y24: 0.0044988309 | Z24: 0.0043206426 | AA24: 0 | AB24: 0.0045345685 | AC24: 0
A25: 45352 | B25: 634192 | C25: 1087440 | D25: 0 | E25: 0 | F25: 0 | G25: 45352 | H25: 0 | I25: 0 | J25: 878895 | K25: 0.001 | L25: 0.001 | M25: 0.001 | N25: 0.001 | O25: 0.001 | P25: 0.001 | Q25: 0.001 | R25: 0.001 | V25: 0.0044909213 | W25: 0.0044822349 | X25: 0 | Y25: 0.0046234638 | Z25: 0.0044822349 | AA25: 0 | AB25: 0.0044822349 | AC25: 0.0042703915
A26: 45383 | B26: 1784121 | C26: 1858575 | D26: 0 | E26: 0 | F26: 0 | G26: 45383 | H26: 0 | I26: 0 | J26: 1286047 | K26: 0.001 | L26: 0.001 | M26: 0.001 | N26: 0.001 | O26: 0.001 | P26: 0.001 | Q26: 0.001 | R26: 0.001 | V26: 0.0041843664 | W26: 0.0041826294 | X26: 0.0041895776 | Y26: 0.0041843664 | Z26: 0.0041821331 | AA26: 0 | AB26: 0.0041831638 | AC26: 0.0041687329
A27: 45413 | B27: 2103953 | C27: 2598753 | D27: 0 | E27: 0 | F27: 0 | G27: 45413 | H27: 0 | I27: 0 | J27: 1720161 | K27: 0.001 | L27: 0.001 | M27: 0.001 | N27: 0.001 | O27: 0.001 | P27: 0.001 | Q27: 0.001 | R27: 0.001 | V27: 0.0041947855 | W27: 0.0041 | X27: 0.0041924159 | Y27: 0.0041896154 | Z27: 0.0042129527 | AA27: 0 | AB27: 0.0041770132 | AC27: 0.0042232212
A28: 45444 | B28: 1434791 | C28: 1762103 | D28: 0 | E28: 623180 | F28: 0 | G28: 45444 | H28: 0 | I28: 0 | J28: 952606 | K28: 0.001 | L28: 0.001 | M28: 0.001 | N28: 0.001 | O28: 0.001 | P28: 0.001 | Q28: 0.001 | R28: 0.001 | V28: 0.0042693321 | W28: 0 | X28: 0.004261152 | Y28: 0.0042614306 | Z28: 0.0042670622 | AA28: 0 | AB28: 0.0042647449 | AC28: 0.0042668295
A29: 45474 | B29: 640742 | C29: 1314872 | D29: 0 | E29: 704288 | F29: 0 | G29: 45474 | H29: 0 | I29: 0 | J29: 774953 | K29: 0.001 | L29: 0.001 | M29: 0.001 | N29: 0.001 | O29: 0.001 | P29: 0.001 | Q29: 0.001 | R29: 0.001 | V29: 0.0041484189 | W29: 0.0041203132 | X29: 0.0041355044 | Y29: 0.0041366182 | Z29: 0.004124547 | AA29: 0 | AB29: 0.0041230985 | AC29: 0.0041531995
A30: 45505 | B30: 1896499 | C30: 2641025 | D30: 0 | E30: 1449242 | F30: 0 | G30: 45505 | H30: 0 | I30: 0 | J30: 1339728 | K30: 0.001 | L30: 0.001 | M30: 0.001 | N30: 0.001 | O30: 0.001 | P30: 0.001 | Q30: 0.001 | R30: 0.001 | V30: 0.0045350538 | W30: 0.0045970635 | X30: 0.0046397544 | Y30: 0.0045832145 | Z30: 0.0045440445 | AA30: 0 | AB30: 0.0045505545 | AC30: 0.0045737741
A31: 45536 | B31: 2376050 | C31: 2736834 | D31: 0 | E31: 1253908 | F31: 48334 | G31: 45536 | H31: 0 | I31: 0 | J31: 1340023 | K31: 0.001 | L31: 0.001 | M31: 0.001 | N31: 0.001 | O31: 0.001 | P31: 0.001 | Q31: 0.001 | R31: 0.001 | V31: 0.0028938693 | W31: 0.0032466574 | X31: 0.0042429148 | Y31: 0.0034112672 | Z31: 0.0030495641 | AA31: 0 | AB31: 0.0030131938 | AC31: 0.0033391204
A32: 45566 | B32: 2319342 | C32: 3163537 | D32: 0 | E32: 1478434 | F32: 1010339 | G32: 45566 | H32: 0 | I32: 0 | J32: 1486023 | K32: 0.001 | L32: 0.001 | M32: 0.001 | N32: 0.001 | O32: 0.001 | P32: 0.001 | Q32: 0.001 | R32: 0.001 | V32: 0.0071703284 | W32: 0.0077417909 | X32: 0.032399005 | Y32: =AVERAGE(Y29:Y31) -> 0.0040437 | Z32: 0.0095257775 | AA32: 0 | AB32: 0.010088017 | AC32: 0.011240171
A33: 45597 | B33: 1399416 | C33: 1092665 | D33: 0 | E33: 545619 | F33: 375319 | G33: 45597 | H33: 0 | I33: 0 | J33: 492319 | K33: 0.001 | L33: 0.001 | M33: 0.001 | N33: 0.001 | O33: 0.001 | P33: 0.001 | Q33: 0.001 | R33: 0.001 | V33: 0.025174251 | W33: 0.0212394 | X33: 0.038856123 | Z33: 0.023266002 | AA33: 0 | AB33: 0.024692601 | AC33: 0.03959409
A34: 45627 | B34: 1832917 | C34: 1698269 | D34: 0 | E34: 726548 | F34: 491434 | G34: 45627 | H34: 0 | I34: 0 | J34: 758824 | K34: 0.001 | L34: 0.001 | M34: 0.001 | N34: 0.001 | O34: 0.001 | P34: 0.001 | Q34: 0.001 | R34: 0.001 | V34: 0.041562002 | W34: 0.041562002 | X34: =AVERAGE(X29:X33) -> 0.01685466 | Z34: 0.039271501 | AA34: 0 | AB34: 0.038447684 | AC34: =AVERAGE(AC29:AC33) -> 0.012580071
A35: Total | B35: =SUM(B23:B34) -> 18859648 | C35: =SUM(C23:C34) -> 22375825 | D35: =SUM(D23:D34) -> 0 | E35: =SUM(E23:E34) -> 6781219 | F35: =SUM(F23:F34) -> 1925426 | H35: =SUM(H23:H34) -> 0 | I35: =SUM(I23:I34) -> 0 | J35: =SUM(J23:J34) -> 13163190 | K35: =AVERAGE(K23:K34) -> 0.001 | L35: =AVERAGE(L23:L34) -> 0.001 | M35: =AVERAGE(M23:M34) -> 0.001 | N35: =AVERAGE(N23:N34) -> 0.001 | O35: =AVERAGE(O23:O34) -> 0.001 | P35: 0 | Q35: =AVERAGE(Q23:Q34) -> 0.001 | R35: =AVERAGE(R23:R34) -> 0.001 | V35: =AVERAGE(V29:V34) -> 0.014247321 | W35: =AVERAGE(W29:W34) -> 0.013751204 | Z35: =AVERAGE(Z29:Z34) -> 0.013963573 | AA35: =AVERAGE(AA29:AA34) -> 0 | AB35: =AVERAGE(AB29:AB34) -> 0.014152525
H37: =B35+C35+D35+E35+F35+H35+I35+J35 -> 63105308
A38: Aguirre Turbines #2 FO Consumption 2024
A39: Galones | D39: Azufre
A40: year | B40: AGGT2-1 | C40: AGGT2-2 | D40: AGGT2-1 | E40: AGGT2-2
A41: 45292 | B41: 0 | C41: 0 | D41: 0 | E41: 0
A42: 45323 | B42: 0 | C42: 0 | D42: 0 | E42: 0
A43: 45352 | B43: 0 | C43: 0 | D43: 0 | E43: 0
A44: 45383 | B44: 0 | C44: 0 | D44: 0 | E44: 0
A45: 45413 | B45: 0 | C45: 0 | D45: 0 | E45: 0
A46: 45444 | B46: 0 | C46: 0 | D46: 0 | E46: 0
A47: 45474 | B47: 0 | C47: 0 | D47: 0.0003 | E47: 0.0003
A48: 45505 | B48: 0 | C48: 0 | D48: 0.0008 | E48: 0.0008
A49: 45536 | B49: 0 | C49: 0 | D49: 0.0008 | E49: 0.0008
A50: 45566 | B50: 0 | C50: 0 | D50: 0.0008 | E50: 0.0008
A51: 45597 | B51: 0 | C51: 0 | D51: 0 | E51: 0
A52: 45627 | B52: 0 | C52: 0 | D52: 0 | E52: 0
A53: Total | B53: =SUM(B41:B52) -> 0 | C53: =SUM(C41:C52) -> 0 | D53: =AVERAGE(D41:D52) -> 0.000225 | E53: =AVERAGE(E41:E52) -> 0.000225
B55: =B53+C53 -> 0 | H55: =H37+B55 -> 63105308 | J55: =SUM(K35:R35) -> 0.007 | K55: =SUM(D53:E53) -> 0.00045
K56: =SUM(J55:K55)/10 -> 0.000745

Sheet Cálculos AG
A1: Ejemplo Cómputo de Emisiones year 2024 - Termoleléctrica Aguirre 1 y Aguirre 2 | J1: Ejemplo Cómputo de Emisiones year 2024 - Aguirre (Ciclo Combinado + Turbinas de Gas)
A3: Factores de Emisión AP-42 Section 1.3 | J3: Factores de Emisión AP-42 Section 3.1
A4: PM | B4: (9.19)(%S) + 3.22 lb/1000gal | J4: PM | K4: 0.012 lb/MMBTU
A5: SOx | B5: 157*%S lb/1000gal | J5: SOx | K5: 1.01*%S lb/MMBTU
A6: NOx | B6: 0.33 lb/MMBtu (CD Relatively Maintained NOx Target) | J6: NOx | K6: 0.880 lb/MMBTU
A7: VOC | B7: 0.76 lb/1000gal | J7: VOC | K7: 0.00041 lb/MMBTU
A8: CO | B8: 5 lb/1000gal | J8: CO | K8: 0.0033 lb/MMBTU
A9: Pb | B9: 0.00151 lb/1000gal | J9: Pb | K9: 0.0000140 lb/MMBTU
A10: CO2e | B10: 25.036 lb/gal | C10: 40 CFR 98 | J10: CO2e | K10: 22.578 lb/gal | L10: 40 CFR 98
A12: Combustible #6 | B12: =SUM(Aguirre!F17) -> 1.5277928e+08 | C12: gal/year | J12: Combustible #2 | K12: =SUM(Aguirre!H55) -> 63105308 | L12: gal/year | V12: =323412*2204.6/28478821 -> 25.035941 | W12: lbs/gal
A13: Azufre % | B13: =SUM(Aguirre!I17) -> 0.48916667 | J13: Azufre % | K13: =AVERAGE(Aguirre!K34:R34,Aguirre!D52:E52) -> 0.0008 | V13: =(73.96+0.003*26+0.0006*298)*2.2046*0.138 -> 22.579333 | W13: lbs/gal
A16: Cálculos Emisiones PM | J16: Cálculos Emisiones PM
A18: = | B18: =(9.19*B13)+3.22 -> 7.7154417 | C18: lb | D18: =B12 -> 1.5277928e+08 | E18: gal | F18: ton | J18: = | K18: 0.012 | L18: lb | M18: =K12 -> 63105308 | N18: gal | O18: 0.138 | P18: MMBTU | Q18: ton
B19: 1000 | C19: gal | D19: year | F19: 2000 | G19: lb | K19: MMBTU | M19: year | O19: gal | Q19: 2000 | R19: lb
A22: = | B22: =((B18/B19)*D18)/F19 -> 589.37981 | C22: ton | J22: = | K22: =((K18*M18*O18)/Q19) -> 52.251195 | L22: ton
C23: year | L23: year
A26: Cálculos Emisiones SOx | J26: Cálculos Emisiones SOx
A28: = | B28: =157*B13 -> 76.799167 | C28: lb | D28: =B12 -> 1.5277928e+08 | E28: gal | F28: ton | J28: = | K28: =1.01*K13 -> 0.000808 | L28: lb | M28: =K12 -> 63105308 | N28: gal | O28: 0.138 | P28: MMBTU | Q28: ton
B29: 1000 | C29: gal | D29: year | F29: 2000 | G29: lb | K29: MMBTU | M29: year | O29: gal | Q29: 2000 | R29: lb
A32: = | B32: =((B28/B29)*D28)/F29 -> 5866.6607 | C32: ton | J32: = | K32: =((K28*M28*O28)/Q29) -> 3.5182471 | L32: ton
C33: year | L33: year
A36: Cálculos Emisiones NOx | J36: Cálculos Emisiones NOx
A38: = | B38: 0.33 | C38: lb | D38: =B12 -> 1.5277928e+08 | E38: gal | F38: 0.15 MMBtu | H38: ton | J38: = | K38: 0.88 | L38: lb | M38: =K12 -> 63105308 | N38: gal | O38: 0.138 | P38: MMBTU | Q38: ton
C39: MMBtu | D39: year | F39: gal | H39: 2000 | I39: lb | K39: MMBTU | M39: year | O39: gal | Q39: 2000 | R39: lb
A42: = | B42: =B38*D38*0.15/2000 -> 3781.2872 | C42: ton | J42: = | K42: =((K38*M38*O38)/Q39) -> 3831.7543 | L42: ton
C43: year | L43: year
A48: Cálculos Emisiones VOC | J48: Cálculos Emisiones VOC
A50: = | B50: 0.76 | C50: lb | D50: =B12 -> 1.5277928e+08 | E50: gal | F50: ton | J50: = | K50: 0.00041 | L50: lb | M50: =K12 -> 63105308 | N50: gal | O50: 0.138 | P50: MMBTU | Q50: ton
B51: 1000 | C51: gal | D51: year | F51: 2000 | G51: lb | K51: MMBTU | M51: year | O51: gal | Q51: 2000 | R51: lb
A54: = | B54: =((B50/B51)*D50)/F51 -> 58.056126 | C54: ton | J54: = | K54: =((K50*M50*O50)/Q51) -> 1.7852492 | L54: ton
C55: year | L55: year
A58: Cálculos Emisiones CO | J58: Cálculos Emisiones CO
A60: = | B60: 5 | C60: lb | D60: =B12 -> 1.5277928e+08 | E60: gal | F60: ton | J60: = | K60: 0.0033 | L60: lb | M60: =K12 -> 63105308 | N60: gal | O60: 0.138 | P60: MMBTU | Q60: ton
B61: 1000 | C61: gal | D61: year | F61: 2000 | G61: lb | K61: MMBTU | M61: year | O61: gal | Q61: 2000 | R61: lb
A64: = | B64: =((B60/B61)*D60)/F61 -> 381.9482 | C64: ton | J64: = | K64: =((K60*M60*O60)/Q61) -> 14.369079 | L64: ton
C65: year | L65: year
A68: Cálculos Emisiones Pb | J68: Cálculos Emisiones Pb
A70: = | B70: 0.00151 | C70: lb | D70: =B12 -> 1.5277928e+08 | E70: gal | F70: ton | J70: = | K70: 1.4e-05 | L70: lb | M70: =K12 -> 63105308 | N70: gal | O70: 0.138 | P70: MMBTU | Q70: ton
B71: 1000 | C71: gal | D71: year | F71: 2000 | G71: lb | K71: MMBTU | M71: year | O71: gal | Q71: 2000 | R71: lb
A74: = | B74: =((B70/B71)*D70)/F71 -> 0.11534836 | C74: ton | J74: = | K74: =((K70*M70*O70)/Q71) -> 0.060959728 | L74: ton
C75: year | L75: year
A78: Cálculos Emisiones CO2e | J78: Cálculos Emisiones CO2e
A80: = | B80: =V12 -> 25.035941 | C80: lb | D80: =B12 -> 1.5277928e+08 | E80: gal | F80: ton | J80: = | K80: =V13 -> 22.579333 | L80: lb | M80: =K12 -> 63105308 | N80: gal | O80: ton
C81: gal | D81: year | F81: 2000 | G81: lb | L81: gal | M81: year | O81: 2000 | P81: lb
A84: = | B84: =B80*D80/F81 -> 1912486.6 | C84: ton | J84: = | K84: =K80*M80/O81 -> 712437.89 | L84: ton
C85: year | L85: year

Sheet Palo Seco
A2: Palo Seco BC Consumption 2024
A3: Gallons | F3: Azufre
A4: year | B4: PS-1 | C4: PS-2 | D4: PS-3 | E4: PS-4 | F4: PS-1 | G4: PS-2 | H4: PS-3 | I4: PS-4
A5: 45292 | B5: 0 | C5: 0 | D5: 0 | E5: 0 | F5: * | G5: * | H5: 0.49 | I5: 0.49
A6: 45323 | B6: 0 | C6: 0 | D6: 0 | E6: 0 | F6: * | G6: * | H6: 0.49 | I6: 0.49
A7: 45352 | B7: 0 | C7: 0 | D7: 0 | E7: 0 | F7: * | G7: * | H7: 0.49 | I7: 0.49
A8: 45383 | B8: 0 | C8: 0 | D8: 0 | E8: 0 | F8: * | G8: * | H8: 0.49 | I8: 0.49
A9: 45413 | B9: 0 | C9: 0 | D9: 0 | E9: 0 | F9: * | G9: * | H9: 0.49 | I9: 0.49
A10: 45444 | B10: 0 | C10: 0 | D10: 0 | E10: 0 | F10: * | G10: * | H10: 0.49 | I10: 0.49
A11: 45474 | B11: 0 | C11: 0 | D11: 1337070 | E11: 0 | F11: * | G11: * | H11: 0.48 | I11: 0.48
A12: 45505 | B12: 0 | C12: 0 | D12: 6684846 | E12: 0 | F12: * | G12: * | H12: 0.49 | I12: 0.49
A13: 45536 | B13: 0 | C13: 0 | D13: 6941340 | E13: 0 | F13: * | G13: * | H13: 0.49 | I13: 0.49 | K13: Total Galones
A14: 45566 | B14: 0 | C14: 0 | D14: 6730626 | E14: 0 | F14: * | G14: * | H14: 0.49 | I14: 0.49 | K14: =SUM(D17) -> 33124350
A15: 45597 | B15: 0 | C15: 0 | D15: 5664204 | E15: 0 | F15: * | G15: * | H15: 0.5 | I15: 0.5
A16: 45627 | B16: 0 | C16: 0 | D16: 5766264 | E16: 0 | F16: * | G16: * | H16: 0.5 | I16: 0.5
A17: Total | B17: =SUM(B5:B16) -> 0 | C17: =SUM(C11:C16) -> 0 | D17: =SUM(D5:D16) -> 33124350 | E17: =SUM(E5:E16) -> 0 | F17: * | G17: * | H17: =AVERAGE(H5:H16) -> 0.49083333 | I17: =AVERAGE(I5:I16) -> 0.49083333
A18: Total (Barriles/yr) | B18: =B17*42 -> 0 | C18: =C17*42 -> 0 | D18: =SUM(D17/42) -> 788675 | E18: =E17*42 -> 0 | F18: * | G18: * | H18: =AVERAGE(H5:H16) -> 0.49083333 | I18: =AVERAGE(I5:I16) -> 0.49083333
A21: Palo Seco #2 FO Consumtion 2024
A22: year | B22: Barrels | F22: Azufre | J22: year | K22: Barrels | M22: Azufre
B23: PSGT1-1 | C23: PSGT1-2 | D23: PSGT2-1 | E23: PSGT2-2 | F23: PSGT1-1 | G23: PSGT1-2 | H23: PSGT2-1 | I23: PSGT2-2 | K23: PSGT3-1 | L23: PSGT3-2 | M23: PSGT3-1 | N23: PSGT3-2
A24: 45292 | B24: 6309.79 | C24: 0 | D24: 10350.79 | E24: 0 | F24: 0.004 | G24: 0.004 | H24: 0.004 | I24: 0.004 | J24: 45292 | K24: 0 | L24: 0 | M24: 0 | N24: 0
A25: 45323 | B25: 11406.48 | C25: 9069.12 | D25: 4190.38 | E25: 0 | F25: 0.004 | G25: 0.004 | H25: 0.004 | I25: 0 | J25: 45323 | K25: 0 | L25: 0 | M25: 0 | N25: 0
A26: 45352 | B26: 11088.74 | C26: 11964.55 | D26: 8000.1 | E26: 0.001 | F26: 0.001 | G26: 0.001 | H26: 0.001 | I26: 0 | J26: 45352 | K26: 0 | L26: 0 | M26: 0 | N26: 0
A27: 45383 | B27: 10096.1 | C27: 5371.99 | D27: 7876.15 | E27: 0 | F27: 0.001 | G27: 0.001 | H27: 0.001 | I27: 0 | J27: 45383 | K27: 0 | L27: 0 | M27: 0 | N27: 0
A28: 45413 | B28: 10383.5 | C28: 15887.97 | D28: 14335.89 | E28: 0 | F28: 0.0013 | G28: 0.0013 | H28: 0.0013 | I28: 0 | J28: 45413 | K28: 0 | L28: 0 | M28: 0 | N28: 0
A29: 45444 | B29: 6803.17 | C29: 7723.4 | D29: 7724.07 | E29: 0 | F29: 0.0013 | G29: 0.0013 | H29: 0.0013 | I29: 0 | J29: 45444 | K29: 0 | L29: 0 | M29: 0 | N29: 0
A30: 45474 | B30: 4669 | C30: 4204 | D30: 4360 | E30: 0 | F30: 0.0013 | G30: 0.0013 | H30: 0.0013 | I30: 0 | J30: 45474 | K30: 0 | L30: 0 | M30: 0 | N30: 0
A31: 45505 | B31: 10165.13 | C31: 9938.32 | D31: 9274.05 | E31: 0 | F31: 0.0013 | G31: 0.0013 | H31: 0.0013 | I31: 0 | J31: 45505 | K31: 0 | L31: 0 | M31: 0 | N31: 0
A32: 45536 | B32: 11165.44 | C32: 11274.15 | D32: 11653.31 | E32: 0 | F32: 0.0005 | G32: 0.0005 | H32: 0.0005 | I32: 0 | J32: 45536 | K32: 0 | L32: 0 | M32: 0 | N32: 0
A33: 45566 | B33: 11927.44 | C33: 11361.49 | D33: 11681.28 | E33: 0 | F33: 0.0007 | G33: 0.0007 | H33: 0.0007 | I33: 0 | J33: 45566 | K33: 0 | L33: 0 | M33: 0 | N33: 0
A34: 45597 | B34: 3351.41 | C34: 3367.71 | D34: 3219.94 | E34: 0 | F34: 0.0007 | G34: 0.0007 | H34: 0.0007 | I34: 0 | J34: 45597 | K34: 0 | L34: 0 | M34: 0 | N34: 0
A35: 45627 | B35: 5140.33 | C35: 5071.55 | D35: 5228.68 | E35: 0 | F35: 0.001 | G35: 0.001 | H35: 0.001 | I35: 0 | J35: 45627 | K35: 0 | L35: 0 | M35: 0 | N35: 0
A36: Total | B36: =SUM(B24:B35) -> 102506.53 | C36: =SUM(C24:C35) -> 95234.25 | D36: =SUM(D24:D35) -> 97894.64 | E36: =SUM(E24:E35) -> 0.001 | F36: =AVERAGE(F24:F35) -> 0.0015083333 | G36: =AVERAGE(G24:G35) -> 0.0015083333 | H36: =AVERAGE(H24:H35) -> 0.0015083333 | I36: * | J36: Total | K36: =SUM(K24:K35) -> 0 | L36: =SUM(L24:L35) -> 0 | M36: =AVERAGE(M24) -> 0 | N36: *
A37: Total (gal/yr) | B37: =B36*42 -> 4305274.3 | C37: =C36*42 -> 3999838.5 | D37: =D36*42 -> 4111574.9 | E37: =E36*42 -> 0.042 | J37: Total (gal/yr) | K37: =K36*42 -> 0 | L37: =L36*42 -> 0
B38: =SUM(B30:B35)*42 -> 1949587.5 | C38: =SUM(C30:C35)*42 -> 1899123.2 | D38: =SUM(D30:D35)*42 -> 1907524.9 | E38: =SUM(E30:E35)*42 -> 0 | K38: =SUM(K30:K35)*42 -> 0 | L38: =SUM(L30:L35)*42 -> 0
H39: =SUM(B37+C37+D37+E37+K37+L37) -> 12416688
A40: Palo Seco MobilePacs | K40: =AVERAGE(M36,I36,G36,F36) -> 0.0010055556
A41: year | B41: Gallons Distillate | F41: SCF Natural Gas
B42: PSMP1 | C42: PSMP2 | D42: PSMP3 | E42: TOTAL | F42: MP1 | G42: MP2 | H42: MP3 | I42: TOTAL
A43: 45292 | B43: 4478 | C43: 11170 | D43: 13554 | E43: =SUM(B43:D43) -> 29202 | F43: 0 | G43: 0 | H43: 0
A44: 45323 | B44: 0 | C44: 0 | D44: 0 | E44: =SUM(B44:D44) -> 0 | F44: 0 | G44: 0 | H44: 0
A45: 45352 | B45: 22225 | C45: 9001 | D45: 21200 | E45: =SUM(B45:D45) -> 52426 | F45: 0 | G45: 0 | H45: 0
A46: 45383 | B46: 88439 | C46: 78443 | D46: 69108 | E46: =SUM(B46:D46) -> 235990 | F46: 0 | G46: 0 | H46: 0
A47: 45413 | B47: 221475 | C47: 230542 | D47: 199484 | E47: =SUM(B47:D47) -> 651501 | F47: 0 | G47: 0 | H47: 0
A48: 45444 | B48: 187323 | C48: 146180 | D48: 165351 | E48: =SUM(B48:D48) -> 498854 | F48: 0 | G48: 0 | H48: 0
A49: 45474 | B49: 33543 | C49: 53479 | D49: 31081 | E49: =SUM(B49:D49) -> 118103 | F49: 0 | G49: 0 | H49: 0
A50: 45505 | B50: 418163 | C50: 418299 | D50: 343653 | E50: =SUM(B50:D50) -> 1180115 | F50: 0 | G50: 0 | H50: 0
A51: 45536 | B51: 371099 | C51: 361369 | D51: 240554 | E51: =SUM(B51:D51) -> 973022 | F51: 0 | G51: 0 | H51: 0
A52: 45566 | B52: 347576 | C52: 343706 | D52: 350994 | E52: =SUM(B52:D52) -> 1042276 | F52: 0 | G52: 0 | H52: 0
A53: 45597 | B53: 123566 | C53: 124328 | D53: 122396 | E53: =SUM(B53:D53) -> 370290 | F53: 0 | G53: 0 | H53: 0
A54: 45627 | B54: 4432.6 | C54: 4623.49 | D54: 4621.75 | E54: =SUM(B54:D54) -> 13677.84 | F54: 0 | G54: 0 | H54: 0
A55: Total | B55: =SUM(B43:B54) -> 1822319.6 | C55: =SUM(C43:C54) -> 1781140.5 | D55: =SUM(D43:D54) -> 1561996.8 | F55: =AVERAGE(F43:F54) -> 0 | G55: =AVERAGE(G43:G54) -> 0 | H55: =AVERAGE(H43:H54) -> 0
A56: Total (gal/yr) | B56: =SUM(B55) -> 1822319.6 | C56: =SUM(C55) -> 1781140.5 | D56: =SUM(D55) -> 1561996.8 | E56: =D56+C56+B56 -> 5165456.8 | K56: =SUM(E56,H39,K14) -> 50706495

Sheet Cálculos PS
A1: Cómputo de Emisiones Actuales year 2024 - Palo Seco (Termo) - Unidades 1 a 4 | I1: Cómputo de Emisiones Actuales year 2024 - Palo Seco (Turbinas) - Bloques 1 a 3
A3: Factores de Emisión AP-42 Section 1.3 | I3: Factores de Emisión AP-42 Section 3.1
A4: PM | B4: (9.19)(%S) + 3.22 lb/1000gal | I4: PM | J4: 0.012lb/MMBTU
A5: SOx | B5: 157*%S lb/1000gal | I5: SOx | J5: 1.01*%S lb/MMBTU
A6: NOx | B6: 0.36 lb/MMBtu (CD Relatively Maintained NOx Target) | I6: NOx | J6: 0.88 lb/MMBTU
A7: VOC | B7: 0.76 lb/1000gal | I7: VOC | J7: 0.00041 l/MMBTU
A8: CO | B8: 5 lb/1000gal | I8: CO | J8: 0.0033 lb/MMBTU
A9: HAP,s (Pb) | B9: 0.00151 lb/1000gal | I9: HAP,s (Pb) | J9: 0.000014 lb MMBTU
A10: CO2e | B10: 24.632 lb/gal | C10: 40 CFR 98 | I10: CO2e | J10: 22.578 lb/gal | K10: 40 CFR 98
A12: Combustible #6 | B12: =SUM('Palo Seco'!K14) -> 33124350 | C12: gal/year | I12: Combustible #2 | J12: =SUM('Palo Seco'!H39) -> 12416688 | K12: gal/year
A13: Azufre % | B13: =SUM('Palo Seco'!I18) -> 0.49083333 | I13: Azufre % | J13: =SUM('Palo Seco'!H36) -> 0.0015083333 | V13: =(867406.4)*2204.6/77635189 -> 24.631667 | W13: lbs/gal
V14: =(73.96+0.003*25+0.0006*298)*2.2046*0.138 -> 22.578421 | W14: lbs/gal
A16: Cálculos Emisiones PM | I16: Cálculos Emisiones PM
A18: = | B18: =(9.19*B13)+3.22 -> 7.7307583 | C18: lb | D18: =B12 -> 33124350 | E18: gal | F18: ton | I18: = | J18: 0.012 | K18: lb | L18: =J12 -> 12416688 | M18: gal | N18: 0.138 | O18: MMBTU | Q18: ton
B19: 1000 | C19: gal | D19: year | F19: 2000 | G19: lb | K19: MMBTU | M19: year | O19: gal | P19: 2000 | Q19: lb
A22: = | B22: =((B18/B19)*D18)/F19 -> 128.03817 | C22: ton | D22: = | E22: =B22*2000/8760 -> 29.232459 | F22: lb | I22: = | J22: =(J18*L18*N18)/P19 -> 10.281017 | K22: ton | L22: = | M22: =J22*(2000/8760) -> 2.3472642 | N22: lb
C23: year | F23: hr | K23: year | N23: hr
A26: Cálculos Emisiones SOx | I26: Cálculos Emisiones SOx
A28: = | B28: =157*B13 -> 77.060833 | C28: lb | D28: =B12 -> 33124350 | E28: gal | F28: ton | I28: = | J28: =1.01*J13 -> 0.0015234167 | K28: lb | L28: =J12 -> 12416688 | M28: gal | N28: 0.138 | O28: MMBTU | Q28: ton
B29: 1000 | C29: gal | D29: year | F29: 2000 | G29: lb | K29: MMBTU | M29: year | O29: gal | P29: 2000 | Q29: lb
A32: = | B32: =((B28/B29)*D28)/F29 -> 1276.295 | C32: ton | D32: = | E32: =B32*(2000/8760) -> 291.39155 | F32: lb | I32: = | J32: =(J28*L28*N28)/P29 -> 1.3051894 | K32: ton | L32: = | M32: =J32*(2000/8760) -> 0.29798846 | N32: lb
C33: year | F33: hr | K33: year | N33: hr
A36: Cálculos Emisiones NOx | I36: Cálculos Emisiones NOx
A38: = | B38: 0.33 | C38: lb | D38: =B12 -> 33124350 | E38: gal | F38: 0.15 MMBtu | H38: ton | J38: 0.88 | K38: lb | L38: =J12 -> 12416688 | M38: gal | N38: 0.138 | O38: MMBTU | Q38: ton
C39: MMBtu | D39: year | F39: gal | H39: 2000 | I39: lb | K39: MMBTU | M39: year | O39: gal | P39: 2000 | Q39: lb
A42: = | B42: =B38*D38*0.15/2000 -> 819.82766 | C42: ton | J42: =(J38*L38*N38)/P39 -> 753.94128 | K42: ton | L42: = | M42: =J42*(2000/8760) -> 172.13271 | N42: lb
C43: year | K43: year | N43: hr
A46: Cálculos Emisiones VOC | I46: Cálculos Emisiones VOC
A48: = | B48: 0.76 | C48: lb | D48: =B12 -> 33124350 | E48: gal | F48: ton | I48: = | J48: 0.00041 | K48: lb | L48: =J12 -> 12416688 | M48: gal | N48: 0.138 | O48: MMBTU | Q48: ton
B49: 1000 | C49: gal | D49: year | F49: 2000 | G49: lb | K49: MMBTU | M49: year | O49: gal | P49: 2000 | Q49: lb
A52: = | B52: =((B48/B49)*D48)/F49 -> 12.587253 | C52: ton | D52: = | E52: =B52*(2000/8760) -> 2.8738021 | F52: lb | I52: = | J52: =(J48*L48*N48)/P49 -> 0.35126809 | K52: ton | L52: = | M52: =J52*(2000/8760) -> 0.080198195 | N52: lb
C53: year | F53: hr | K53: year | N53: hr
A56: Cálculos Emisiones CO | I56: Cálculos Emisiones CO
A58: = | B58: 5 | C58: lb | D58: =B12 -> 33124350 | E58: gal | F58: ton | I58: = | J58: 0.0033 | K58: lb | L58: =J12 -> 12416688 | M58: gal | N58: 0.138 | O58: MMBTU | Q58: ton
B59: 1000 | C59: gal | D59: year | F59: 2000 | G59: lb | K59: MMBTU | M59: year | O59: gal | P59: 2000 | Q59: lb
A62: = | B62: =((B58/B59)*D58)/F59 -> 82.810875 | C62: ton | D62: = | E62: =B62*(2000/8760) -> 18.906592 | F62: lb | I62: = | J62: =(J58*L58*N58)/P59 -> 2.8272798 | K62: ton | L62: = | M62: =J62*(2000/8760) -> 0.64549767 | N62: lb
C63: year | F63: hr | K63: year | N63: hr
A66: Cálculos Emisiones Pb | I66: Cálculos Emisiones Pb
A68: = | B68: 0.00151 | C68: lb | D68: =B12 -> 33124350 | E68: gal | F68: ton | I68: = | J68: 1.4e-05 | K68: lb | L68: =J12 -> 12416688 | M68: gal | N68: 0.138 | O68: MMBTU | Q68: ton
B69: 1000 | C69: gal | D69: year | F69: 2000 | G69: lb | K69: MMBTU | M69: year | O69: gal | P69: 2000 | Q69: lb
A72: = | B72: =((B68/B69)*D68)/F69 -> 0.025008884 | C72: ton | D72: = | E72: =B72*(2000/8760) -> 0.0057097909 | F72: lb | I72: = | J72: =(J68*L68*N68)/P69 -> 0.01199452 | K72: ton | L72: = | M72: =J72*(2000/8760) -> 0.002738475 | N72: lb
C73: year | F73: hr | K73: year | N73: hr
A76: Cálculos Emisiones CO2e | J76: Cálculos Emisiones CO2e
A78: = | B78: =V13 -> 24.631667 | C78: lb | D78: =D68 -> 33124350 | E78: gal | F78: ton | J78: = | K78: =V14 -> 22.578421 | L78: lb | M78: =L68 -> 12416688 | N78: gal | O78: ton
C79: gal | D79: year | F79: 2000 | G79: lb | L79: gal | M79: year | O79: 2000 | P79: lb
A82: = | B82: =B78*D78/F79 -> 407953.99 | C82: ton | J82: = | K82: =K78*M78/O79 -> 140174.6 | L82: ton
C83: year | L83: year

Sheet MPs PS
A1: Cómputo de Emisiones Actuales para Distillate OIl y Gas Natural - Palo Seco year 2024 - MobilePacs
A3: Parametro | B3: Factor de Emisión Combustible Natural Gas | C3: Factor de Emisión Combustible No. 2 Oil | D3: Emisiones Actuales (ton/year) | E3: Emisiones Actuales (lb/hr)
A4: NOx | B4: 0.11 | C4: 0.1731 | D4: =B23 -> 61.6957 | E4: =F23 -> 14.085776
A5: CO | B5: 0.077 | C5: 0.0343 | D5: =B29 -> 12.225087 | E5: =F29 -> 2.7911157
A6: VOC | B6: 0.0081 | C6: 0.0071 | D6: =B35 -> 2.5305573 | E6: =F35 -> 0.57775281 | F6: Ecuación para el Cómputo
A7: PM | B7: 0.01 | C7: 0.0177 | D7: =B41 -> 6.3085724 | E7: =F41 -> 1.4403133 | F7: ton/year = | G7: [Consumo de Combustible #2 en galones/year) * ( Valor Calorífico BC 0.138 MMBtu/gal)
A8: PM10 | B8: 0.01 | C8: 0.0177 | D8: =B47 -> 6.3085724 | E8: =F47 -> 1.4403133 | G8: + (Consumo Gas Natural SCF/year) * (Valor Calorífico GN 1,026 MMBtu/SCF*10^6)]
A9: PM2.5 | B9: 0.01 | C9: 0.0177 | D9: =B53 -> 6.3085724 | E9: =F53 -> 1.4403133 | G9: * FE en lbs/MMBtu * 1 ton/2,000 lbs
A10: SO2 | B10: =1*2/7000/100/1026*1000000 -> 0.0027847396 | C10: 0.0015 | D10: =B59 -> 0.53462478 | E10: =F59 -> 0.12206045
A11: H2SO4 | B11: =B10*0.1*98/64 -> 0.00042641326 | C11: =C10*0.1*98/64 -> 0.0002296875 | D11: =B65 -> 0.08186442 | E11: =F65 -> 0.018690507 | F11: lbs/hr = | G11: (Toneladas Contaminante / year) * (1 year / 8,760 hr) * (2000 lb / ton)
A12: Pb | B12: 0 | C12: 1.4e-05 | D12: =B71 -> 0.0049898313 | E12: =F71 -> 0.0011392309
A13: CO2e | B13: =(53.06+0.001*25+0.0001*298)*2.2046 -> 117.09689 | C13: 163.61 | D13: =B77 -> 58313.307 | E13: =F77 -> 13313.54
A14: Fluoruro | B14: 0 | C14: 0 | D14: 0 | E14: 0
A16: Consumo #2 = | B16: =SUM('Palo Seco'!B56+'Palo Seco'!C56+'Palo Seco'!D56) -> 5165456.8 | D16: gal/year
A17: Consumo NG = | B17: ='Palo Seco'!I54 -> 0 | D17: SCF/year
A18: #2 Azufre = | B18: =SUM('Palo Seco'!H55) -> 0 | D18: %
A20: NOx = | B20: =B16 -> 5165456.8 | D20: galones | E20: 0.138 | F20: MMBtu | G20: * | H20: =C4 -> 0.1731 | I20: lbs | J20: 1 | K20: ton | L20: + | M20: =B17 -> 0 | N20: SCF | O20: 1026 | P20: MMBtu | Q20: * | R20: =B4 -> 0.11 | S20: lbs | T20: 1 | U20: ton
D21: year | F21: gal | I21: MMBtu | J21: 2000 | K21: lbs | N21: year | O21: 1000000 | P21: SCF | S21: MMBtu | T21: 2000 | U21: lbs
B23: =(B20*E20*H20+M20*O20*R20/1000000)/2000 -> 61.6957 | D23: ton/year | E23: = | F23: =B23*(2000/8760) -> 14.085776 | G23: lb/hr
A26: CO = | B26: =B16 -> 5165456.8 | D26: galones | E26: 0.138 | F26: MMBtu | G26: * | H26: =C5 -> 0.0343 | I26: lbs | J26: 1 | K26: ton | L26: + | M26: =B17 -> 0 | N26: SCF | O26: 1026 | P26: MMBtu | Q26: * | R26: =B5 -> 0.077 | S26: lbs | T26: 1 | U26: ton
D27: year | F27: gal | I27: MMBtu | J27: 2000 | K27: lbs | N27: year | O27: 1000000 | P27: SCF | S27: MMBtu | T27: 2000 | U27: lbs
B29: =(B26*E26*H26+M26*O26*R26/1000000)/2000 -> 12.225087 | D29: ton/year | E29: = | F29: =B29*(2000/8760) -> 2.7911157 | G29: lb/hr
A32: VOC = | B32: =B16 -> 5165456.8 | D32: galones | E32: 0.138 | F32: MMBtu | G32: * | H32: =C6 -> 0.0071 | I32: lbs | J32: 1 | K32: ton | L32: + | M32: =B17 -> 0 | N32: SCF | O32: 1026 | P32: MMBtu | Q32: * | R32: =B6 -> 0.0081 | S32: lbs | T32: 1 | U32: ton
D33: year | F33: gal | I33: MMBtu | J33: 2000 | K33: lbs | N33: year | O33: 1000000 | P33: SCF | S33: MMBtu | T33: 2000 | U33: lbs
B35: =(B32*E32*H32+M32*O32*R32/1000000)/2000 -> 2.5305573 | D35: ton/year | E35: = | F35: =B35*(2000/8760) -> 0.57775281 | G35: lb/hr
A38: PM = | B38: =B16 -> 5165456.8 | D38: galones | E38: 0.138 | F38: MMBtu | G38: * | H38: =C7 -> 0.0177 | I38: lbs | J38: 1 | K38: ton | L38: + | M38: =B17 -> 0 | N38: SCF | O38: 1026 | P38: MMBtu | Q38: * | R38: =B7 -> 0.01 | S38: lbs | T38: 1 | U38: ton
D39: year | F39: gal | I39: MMBtu | J39: 2000 | K39: lbs | N39: year | O39: 1000000 | P39: SCF | S39: MMBtu | T39: 2000 | U39: lbs
B41: =(B38*E38*H38+M38*O38*R38/1000000)/2000 -> 6.3085724 | D41: ton/year | E41: = | F41: =B41*(2000/8760) -> 1.4403133 | G41: lb/hr | L41: lb/hr
A44: PM10 = | B44: =B16 -> 5165456.8 | D44: galones | E44: 0.138 | F44: MMBtu | G44: * | H44: =C8 -> 0.0177 | I44: lbs | J44: 1 | K44: ton | L44: + | M44: =B17 -> 0 | N44: SCF | O44: 1026 | P44: MMBtu | Q44: * | R44: =B8 -> 0.01 | S44: lbs | T44: 1 | U44: ton
D45: year | F45: gal | I45: MMBtu | J45: 2000 | K45: lbs | N45: year | O45: 1000000 | P45: SCF | S45: MMBtu | T45: 2000 | U45: lbs
B47: =(B44*E44*H44+M44*O44*R44/1000000)/2000 -> 6.3085724 | D47: ton/year | E47: = | F47: =B47*(2000/8760) -> 1.4403133 | G47: lb/hr | L47: lb/hr
A50: PM2.5 = | B50: =B16 -> 5165456.8 | D50: galones | E50: 0.138 | F50: MMBtu | G50: * | H50: =C9 -> 0.0177 | I50: lbs | J50: 1 | K50: ton | L50: + | M50: =B17 -> 0 | N50: SCF | O50: 1026 | P50: MMBtu | Q50: * | R50: =B9 -> 0.01 | S50: lbs | T50: 1 | U50: ton
D51: year | F51: gal | I51: MMBtu | J51: 2000 | K51: lbs | N51: year | O51: 1000000 | P51: SCF | S51: MMBtu | T51: 2000 | U51: lbs
B53: =(B50*E50*H50+M50*O50*R50/1000000)/2000 -> 6.3085724 | D53: ton/year | E53: = | F53: =B53*(2000/8760) -> 1.4403133 | G53: lb/hr | L53: lb/hr
A56: SO2 = | B56: =B16 -> 5165456.8 | D56: galones | E56: 0.138 | F56: MMBtu | G56: * | H56: =C10 -> 0.0015 | I56: lbs | J56: 1 | K56: ton | L56: + | M56: =B17 -> 0 | N56: SCF | O56: 1026 | P56: MMBtu | Q56: * | R56: =B10 -> 0.0027847396 | S56: lbs | T56: 1 | U56: ton
D57: year | F57: gal | I57: MMBtu | J57: 2000 | K57: lbs | N57: year | O57: 1000000 | P57: SCF | S57: MMBtu | T57: 2000 | U57: lbs
B59: =(B56*E56*H56+M56*O56*R56/1000000)/2000 -> 0.53462478 | D59: ton/year | E59: = | F59: =B59*(2000/8760) -> 0.12206045 | G59: lb/hr | L59: lb/hr
A62: H2SO4 = | B62: =B16 -> 5165456.8 | D62: galones | E62: 0.138 | F62: MMBtu | G62: * | H62: =C11 -> 0.0002296875 | I62: lbs | J62: 1 | K62: ton | L62: + | M62: =B17 -> 0 | N62: SCF | O62: 1026 | P62: MMBtu | Q62: * | R62: =B11 -> 0.00042641326 | S62: lbs | T62: 1 | U62: ton
D63: year | F63: gal | I63: MMBtu | J63: 2000 | K63: lbs | N63: year | O63: 1000000 | P63: SCF | S63: MMBtu | T63: 2000 | U63: lbs
B65: =(B62*E62*H62+M62*O62*R62/1000000)/2000 -> 0.08186442 | D65: ton/year | E65: = | F65: =B65*(2000/8760) -> 0.018690507 | G65: lb/hr | L65: lb/hr
A68: Pb = | B68: =B16 -> 5165456.8 | D68: galones | E68: 0.138 | F68: MMBtu | G68: * | H68: =C12 -> 1.4e-05 | I68: lbs | J68: 1 | K68: ton | L68: + | M68: =B17 -> 0 | N68: SCF | O68: 1026 | P68: MMBtu | Q68: * | R68: =B12 -> 0 | S68: lbs | T68: 1 | U68: ton
D69: year | F69: gal | I69: MMBtu | J69: 2000 | K69: lbs | N69: year | O69: 1000000 | P69: SCF | S69: MMBtu | T69: 2000 | U69: lbs
B71: =(B68*E68*H68+M68*O68*R68/1000000)/2000 -> 0.0049898313 | D71: ton/year | E71: = | F71: =B71*(2000/8760) -> 0.0011392309 | G71: lb/hr
A74: CO2e = | B74: =B16 -> 5165456.8 | D74: galones | E74: 0.138 | F74: MMBtu | G74: * | H74: =C13 -> 163.61 | I74: lbs | J74: 1 | K74: ton | L74: + | M74: =B17 -> 0 | N74: SCF | O74: 1026 | P74: MMBtu | Q74: * | R74: =B13 -> 117.09689 | S74: lbs | T74: 1 | U74: ton
D75: year | F75: gal | I75: MMBtu | J75: 2000 | K75: lbs | N75: year | O75: 1000000 | P75: SCF | S75: MMBtu | T75: 2000 | U75: lbs
B77: =(B74*E74*H74+M74*O74*R74/1000000)/2000 -> 58313.307 | D77: ton/year | E77: = | F77: =B77*(2000/8760) -> 13313.54 | G77: lb/hr
B80: Nota:
B81: * La formula y los factores de emisión utilizados son los aprobados en la última revisión del permiso
B82: de construcción PFE-31-0810-0455-II-C, con fecha del 21 de marzo de 2012, para la quema dual
B83: de combustible 100% Bunker C y 100% Gas Natural, según corresponda.

Sheet Turbinas
A3: Vega Baja FO#2 2024 | E3: Daguao FO#2 2024 | I3: YabucoaFO#2 2024 | M3: Jobos FO#2
A4: Barrels | E4: Barrels | I4: Barrels | M4: Barrels | T4: % Azufre
A5: year | B5: VBGT1-1 | C5: VBGT1-2 | E5: year | F5: DAGT1-1 | G5: DAGT1-2 | I5: Mon th | J5: YAGT1-1 | K5: YAGT1-2 | M5: year | N5: JOGT1-1 | O5: JOGT1-2 | U5: DAGGT1-1 | V5: DAGGT1-2 | W5: JOGT1-1 | X5: JOGT1-2 | Y5: MAG-5 | Z5: MAG-6 | AA5: MAG-7 | AB5: MAG-8 | AC5: VBGT1-1 | AD5: VBGT1-2 | AE5: YAGT1-1 | AF5: YAGT1-2
A6: 45292 | B6: 0 | C6: 0 | E6: 45292 | F6: 6790.9 | G6: 6337.26 | I6: 45292 | J6: 0 | K6: 4312.42 | M6: 45292 | N6: 0 | O6: 0 | T6: 45292 | U6: 0.01 | V6: 0.01 | W6: 0.01 | X6: 0.01 | Y6: 0.01 | Z6: 0.01 | AA6: 0.01 | AB6: 0.01 | AC6: 0.01 | AD6: 0.01 | AE6: 0.01 | AF6: 0.01
A7: 45323 | B7: 0 | C7: 0 | E7: 45323 | F7: 4753.79 | G7: 4208.76 | I7: 45323 | J7: 0 | K7: 3017.06 | M7: 45323 | N7: 0 | O7: 3480.88 | T7: 45323 | U7: 0.01 | V7: 0.01 | W7: 0.01 | X7: 0.01 | Y7: 0.01 | Z7: 0.01 | AA7: 0.01 | AB7: 0.01 | AC7: 0.01 | AD7: 0.01 | AE7: 0.01 | AF7: 0.01
A8: 45352 | B8: 0 | C8: 0 | E8: 45352 | F8: 4738.29 | G8: 4402.5 | I8: 45352 | J8: 0 | K8: 2609.15 | M8: 45352 | N8: 0 | O8: 3005.35 | T8: 45352 | U8: 0.01 | V8: 0.01 | W8: 0.01 | X8: 0.01 | Y8: 0.01 | Z8: 0.01 | AA8: 0.01 | AB8: 0.01 | AC8: 0.01 | AD8: 0.01 | AE8: 0.01 | AF8: 0.01
A9: 45383 | B9: 0 | C9: 0 | E9: 45383 | F9: 8112 | G9: 7203.33 | I9: 45383 | J9: 0 | K9: 5075 | M9: 45383 | N9: 0 | O9: 6226.62 | T9: 45383 | U9: 0.01 | V9: 0.01 | W9: 0.01 | X9: 0.01 | Y9: 0.01 | Z9: 0.01 | AA9: 0.01 | AB9: 0.01 | AC9: 0.01 | AD9: 0.01 | AE9: 0.01 | AF9: 0.01
A10: 45413 | B10: 0 | C10: 0 | E10: 45413 | F10: 12565.48 | G10: 10956.38 | I10: 45413 | J10: 0 | K10: 9361.48 | M10: 45413 | N10: 0 | O10: 9791.1 | T10: 45413 | U10: 0.01 | V10: 0.01 | W10: 0.01 | X10: 0.01 | Y10: 0.01 | Z10: 0.01 | AA10: 0.01 | AB10: 0.01 | AC10: 0.01 | AD10: 0.01 | AE10: 0.01 | AF10: 0.01
A11: 45444 | B11: 0 | C11: 0 | E11: 45444 | F11: 4052.1 | G11: 268.43 | I11: 45444 | J11: 0 | K11: 3147.43 | M11: 45444 | N11: 0 | O11: 4406.27 | T11: 45444 | U11: 0.01 | V11: 0.01 | W11: 0.01 | X11: 0.01 | Y11: 0.01 | Z11: 0.01 | AA11: 0.01 | AB11: 0.01 | AC11: 0.01 | AD11: 0.01 | AE11: 0.01 | AF11: 0.01
A12: 45474 | B12: 0 | C12: 0 | E12: 45474 | F12: 2733.33 | G12: 0 | I12: 45474 | J12: 0 | K12: 1661.04 | M12: 45474 | N12: 0 | O12: 1866.47 | T12: 45474 | U12: 0.01 | V12: 0.01 | W12: 0.01 | X12: 0.01 | Y12: 0.01 | Z12: 0.01 | AA12: 0.01 | AB12: 0.01 | AC12: 0.01 | AD12: 0.01 | AE12: 0.01 | AF12: 0.01
A13: 45505 | B13: 0 | C13: 0 | E13: 45505 | F13: 8960.05 | G13: 0 | I13: 45505 | J13: 0 | K13: 7146.13 | M13: 45505 | N13: 0 | O13: 7980.47 | T13: 45505 | U13: 0.01 | V13: 0.01 | W13: 0.01 | X13: 0.01 | Y13: 0.01 | Z13: 0.01 | AA13: 0.01 | AB13: 0.01 | AC13: 0.01 | AD13: 0.01 | AE13: 0.01 | AF13: 0.01
A14: 45536 | B14: 0 | C14: 0 | E14: 45536 | F14: 8283.02 | G14: 0 | I14: 45536 | J14: 0 | K14: 6346.2 | M14: 45536 | N14: 0 | O14: 8390.83 | T14: 45536 | U14: 0.01 | V14: 0.01 | W14: 0.01 | X14: 0.01 | Y14: 0.01 | Z14: 0.01 | AA14: 0.01 | AB14: 0.01 | AC14: 0.01 | AD14: 0.01 | AE14: 0.01 | AF14: 0.01
A15: 45566 | B15: 0 | C15: 0 | E15: 45566 | F15: 7362.36 | G15: 0 | I15: 45566 | J15: 0 | K15: 3824.26 | M15: 45566 | N15: 0 | O15: 6643.35 | T15: 45566 | U15: 0.01 | V15: 0.01 | W15: 0.01 | X15: 0.01 | Y15: 0.01 | Z15: 0.01 | AA15: 0.01 | AB15: 0.01 | AC15: 0.01 | AD15: 0.01 | AE15: 0.01 | AF15: 0.01
A16: 45597 | B16: 0 | C16: 0 | E16: 45597 | F16: 1659.95 | G16: 45 | I16: 45597 | J16: 0 | K16: 928.07 | M16: 45597 | N16: 0 | O16: 1159.71 | T16: 45597 | U16: 0.01 | V16: 0.01 | W16: 0.01 | X16: 0.01 | Y16: 0.01 | Z16: 0.01 | AA16: 0.01 | AB16: 0.01 | AC16: 0.01 | AD16: 0.01 | AE16: 0.01 | AF16: 0.01
A17: 45627 | B17: 0 | C17: 0 | E17: 45627 | F17: 2823.36 | G17: 472.43 | I17: 45627 | J17: 0 | K17: 1218.74 | M17: 45627 | N17: 0 | O17: 2036.48 | T17: 45627 | U17: 0.01 | V17: 0.01 | W17: 0.01 | X17: 0.01 | Y17: 0.01 | Z17: 0.01 | AA17: 0.01 | AB17: 0.01 | AC17: 0.01 | AD17: 0.01 | AE17: 0.01 | AF17: 0.01
A18: Total | B18: =SUM(B6:B17) -> 0 | C18: =SUM(C6:C17) -> 0 | E18: Total | F18: =SUM(F6:F17) -> 72834.63 | G18: =SUM(G6:G17) -> 33894.09 | I18: Total | J18: =SUM(J6:J17) -> 0 | K18: =SUM(K6:K17) -> 48646.98 | M18: Total | N18: =SUM(N6:N17) -> 0 | O18: =SUM(O6:O17) -> 54987.53 | T18: PROMEDIO ANNUAL | U18: =AVERAGE(U6:U17) -> 0.01 | V18: =AVERAGE(V6:V17) -> 0.01 | W18: =AVERAGE(W6:W17) -> 0.01 | X18: =AVERAGE(X6:X17) -> 0.01 | Y18: =AVERAGE(Y6:Y17) -> 0.01 | Z18: =AVERAGE(Z6:Z17) -> 0.01 | AA18: =AVERAGE(AA6:AA17) -> 0.01 | AB18: =AVERAGE(AB6:AB17) -> 0.01 | ... AF18: =AVERAGE(AF6:AF17) -> 0.01
A19: Total gal/yr | B19: =B18 -> 0 | C19: =C18 -> 0 | E19: Total gal/yr | F19: =SUM(F18*42) -> 3059054.5 | G19: =SUM(G18*42) -> 1423551.8 | H19: =SUM(F19:G19) -> 4482606.2 | I19: Total gal/yr | J19: =SUM(J18*42) -> 0 | K19: =SUM(K18*42) -> 2043173.2 | M19: Total gal/yr | N19: =SUM(N18*42) -> 0 | O19: =SUM(O18*42) -> 2309476.3
A21: Mayaguez FO#2 2024 | G21: Cambalache FO#2 2024
A22: Barrels | G22: year | H22: Barrels | K22: Azufre
A23: year | B23: MAG-5 | C23: MAG-6 | D23: MAG-7 | E23: MAG-8 | H23: CAMB 1 | I23: CAMB 2 | J23: CAMB 3 | K23: CAMB 2 | L23: CAMB 3
A24: 45292 | B24: 30850.92 | C24: 24568.3 | D24: 22396.11 | E24: 30465 | G24: 45292 | H24: 0 | I24: 23801.07 | J24: 26739.58 | K24: 0.0026 | L24: 0.0026
A25: 45323 | B25: 26207.8 | C25: 23021.34 | D25: 19914.05 | E25: 25138.44 | G25: 45323 | H25: 0 | I25: 21690.04 | J25: 30804.84 | K25: 0.00035 | L25: 0.00035
A26: 45352 | B26: 23678.93 | C26: 20217.63 | D26: 16743.34 | E26: 22500.62 | G26: 45352 | H26: 0 | I26: 17521.67 | J26: 28365.28 | K26: 0.0007 | L26: 0.0007
A27: 45383 | B27: 33528.18 | C27: 29506.02 | D27: 19186.14 | E27: 29152.13 | G27: 45383 | H27: 0 | I27: 43922.57 | J27: 47414.62 | K27: 0.0005 | L27: 0.0005
A28: 45413 | B28: 39096.62 | C28: 34255.12 | D28: 15265.91 | E28: 37808.25 | G28: 45413 | H28: 0 | I28: 58532.94 | J28: 54596.95 | K28: 0.0008 | L28: 0.0008
A29: 45444 | B29: 27894.59 | C29: 25653.02 | D29: 9049.55 | E29: 26190.69 | G29: 45444 | H29: 0 | I29: 26866.96 | J29: 31147.54 | K29: 0.0008 | L29: 0.0008
A30: 45474 | B30: 25251.7 | C30: 21266.29 | D30: 7853.84 | E30: 11504.45 | G30: 45474 | H30: 0 | I30: 18043.09 | J30: 24462.12 | K30: 0.001 | L30: 0.001
A31: 45505 | B31: 34861.46 | C31: 32985.38 | D31: 13340.56 | E31: 14064.59 | G31: 45505 | H31: 0 | I31: 53385.85 | J31: 50875.88 | K31: 0.001 | L31: 0.001
A32: 45536 | B32: 33319.78 | C32: 28739.53 | D32: 14375.87 | E32: 14257.8 | G32: 45536 | H32: 0 | I32: 61116.14 | J32: 48153.07 | K32: 0.001 | L32: 0.001
A33: 45566 | B33: 33915.34 | C33: 32518.66 | D33: 10525.02 | E33: 14108.18 | G33: 45566 | H33: 0 | I33: 51994.16 | J33: 51733.92 | K33: 0.001 | L33: 0.001
A34: 45597 | B34: 24752.67 | C34: 19741.9 | D34: 8482.91 | E34: 7872.34 | G34: 45597 | H34: 0 | I34: 12384.98 | J34: 18611.52 | K34: 0.001 | L34: 0.001
A35: 45627 | B35: 32217.02 | C35: 23786.87 | D35: 10637.66 | E35: 12470.3 | G35: 45627 | H35: 0 | I35: 37836.88 | J35: 31614.78 | K35: 0.001 | L35: 0.001
A36: Total | B36: =SUM(B24:B35) -> 365575.01 | C36: =SUM(C24:C35) -> 316260.06 | D36: =SUM(D24:D35) -> 167770.96 | E36: =SUM(E24:E35) -> 245532.79 | G36: Total | H36: =SUM(H30:H35) -> 0 | I36: =SUM(I24:I35) -> 427096.35 | J36: =SUM(J24:J35) -> 444520.1 | K36: =AVERAGE(K24:K35) -> 0.00097916667 | L36: =AVERAGE(L24:L35) -> 0.00097916667
A37: Total gal/yr | B37: =SUM(B36*42) -> 15354150 | C37: =SUM(C36*42) -> 13282923 | D37: =SUM(D36*42) -> 7046380.3 | E37: =SUM(E36*42) -> 10312377 | G37: Total gal/yr | H37: =SUM(H36*42) -> 0 | I37: =SUM(I36*42) -> 17938047 | J37: =SUM(J36*42) -> 18669844 | M37: =SUM(I37:J37) -> 36607891
B40: =SUM(B37:E37) -> 45995830

Sheet Cálculos Cambalache (60%)
A2: Cómputo de Emisiones 2024 - Central Cambalache Unidad 2 | L2: Cómputo de Emisiones 2024 - Central Cambalache Unidad 3 | AA2: Horas de Operacion @ 60 %
AB3: Cambalache 1 | AC3: Cambalache 2 | AD3: Cambalache 3
A4: Cálculos con los Factores de Limite PSD (July 5, 2006) | L4: Cálculos con los Factores de Limite PSD (July 5, 2006) | AA4: 45292 | AB4: 0 | AC4: 121 | AD4: 117
A5: PM10 = | B5: [(51 lb/hr @100% carga * horas @100% carga)+(51 lb/hr @60% carga1 * horas @ 60%carga)]/(2000 ton/lb) | L5: PM10 = | M5: [(51 lb/hr @100% carga * horas @100% carga)+(51 lb/hr @60% carga1 * horas @ 60%carga)]/(2000 ton/lb) | AA5: 45323 | AB5: 0 | AC5: 136 | AD5: 171
A6: SOx = | B6: [(137 lb/hr @100% carga * horas @100% carga)+(137 lb/hr @60% carga1 * horas @60% carga)]/(2000 ton/lb) | L6: SOx = | M6: [(137 lb/hr @100% carga * horas @100% carga)+(137 lb/hr @60% carga1 * horas @60% carga)]/(2000 ton/lb) | AA6: 45352 | AB6: 0 | AC6: 87 | AD6: 160
A7: NOx | B7: CEMS | L7: NOx | M7: CEMS | AA7: 45383 | AB7: 0 | AC7: 306 | AD7: 286
A8: VOC = | B8: [(13 lb/hr @100% carga * horas @100% carga)+(11 lb/hr @60% carga1 * horas @60% carga)]/(2000 ton/lb) | L8: VOC = | M8: [(13 lb/hr @100% carga * horas @100% carga)+(11 lb/hr @60% carga1 * horas @60% carga)]/(2000 ton/lb) | AA8: 45413 | AB8: 0 | AC8: 327 | AD8: 268
A9: CO | B9: CEMS | L9: CO | M9: CEMS | AA9: 45444 | AB9: 0 | AC9: 150 | AD9: 172
A10: Pb = | B10: [(0.023 lb/hr @100% carga*horas @100% carga)+(0.016 lb/hr @60% carga1*horas @60% carga)]/(2000 ton/lb) | L10: Pb = | M10: [(0.023 lb/hr @100% carga*horas @100% carga)+(0.016 lb/hr @60% carga1*horas @60% carga)]/(2000 ton/lb) | AA10: 45474 | AB10: 0 | AC10: 101 | AD10: 118
AA11: 45505 | AB11: 0 | AC11: 272 | AD11: 227
AA12: 45536 | AB12: 0 | AC12: 326 | AD12: 247
A13: Combustible | B13: =SUM(Turbinas!I37) -> 17938047 | C13: gal/year | L13: Combustible | M13: =SUM(Turbinas!J37) -> 18669844 | N13: gal/year | AA13: 45566 | AB13: 0 | AC13: 259 | AD13: 283
A14: Azufre % | B14: =SUM(Turbinas!K36) -> 0.00097916667 | L14: Azufre % | M14: =SUM(Turbinas!L36) -> 0.00097916667 | AA14: 45597 | AB14: 0 | AC14: 67 | AD14: 114
A15: Hrs @100% Carga | B15: =SUM(AC34) -> 802 | C15: hrs | L15: Hrs @100% Carga | M15: =AD34 -> 960 | N15: hrs | AA15: 45627 | AB15: 0 | AC15: 284 | AD15: 204
A16: Hrs @60% Carga | B16: =AC16 -> 2436 | C16: hrs | L16: Hrs @60% Carga | M16: =AD16 -> 2367 | N16: hrs | AA16: TOTAL | AB16: =SUM(AB10:AB15) -> 0 | AC16: =SUM(AC4:AC15) -> 2436 | AD16: =SUM(AD4:AD15) -> 2367
A19: Cálculos Emisiones PM10 | L19: Cálculos Emisiones PM10
AA20: Horas de Operacion @ 100 %
A21: = | B21: 51 | C21: lb | D21: =B15 -> 802 | E21: horas | F21: 51 | G21: lb | H21: =B16 -> 2436 | I21: horas | J21: 1 | K21: ton | L21: = | M21: 51 | N21: lb | O21: =M15 -> 960 | P21: horas | Q21: 51 | R21: lb | S21: =M16 -> 2367 | T21: horas | U21: 1 | V21: ton | AB21: Cambalache 1 | AC21: Cambalache 2 | AD21: Cambalache 3
C22: hr | G22: hr | J22: 2000 | K22: lb | N22: hr | R22: hr | U22: 2000 | V22: lb | AA22: 45292 | AB22: 0 | AC22: 46 | AD22: 64
AA23: 45323 | AB23: 0 | AC23: 27 | AD23: 58
A24: = | B24: =((B21*D21)+(F21*H21))/J22 -> 82.569 | C24: ton | E24: = | F24: =B24*2000/8760 -> 18.85137 | G24: lb | L24: = | M24: =((M21*O21)+(Q21*S21))/U22 -> 84.8385 | N24: ton | P24: = | Q24: =M24*2000/8760 -> 19.369521 | R24: lb | AA24: 45352 | AB24: 0 | AC24: 11 | AD24: 26
C25: year | G25: hr | N25: year | R25: hr | AA25: 45383 | AB25: 0 | AC25: 52 | AD25: 88
AA26: 45413 | AB26: 0 | AC26: 123 | AD26: 141
A27: Cálculos Emisiones SOx | L27: Cálculos Emisiones SOx | AA27: 45444 | AB27: 0 | AC27: 49 | AD27: 63
AA28: 45474 | AB28: 0 | AC28: 27 | AD28: 53
A29: = | B29: 137 | C29: lb | D29: =B15 -> 802 | E29: horas | F29: 137 | G29: lb | H29: =B16 -> 2436 | I29: horas | J29: 1 | K29: ton | L29: = | M29: 137 | N29: lb | O29: =M15 -> 960 | P29: horas | Q29: 137 | R29: lb | S29: =M16 -> 2367 | T29: horas | U29: 1 | V29: ton | AA29: 45505 | AB29: 0 | AC29: 138 | AD29: 152
C30: hr | G30: hr | J30: 2000 | K30: lb | N30: hr | R30: hr | U30: 2000 | V30: lb | AA30: 45536 | AB30: 0 | AC30: 152 | AD30: 126
AA31: 45566 | AB31: 0 | AC31: 139 | AD31: 130
A32: = | B32: =((B29*D29)+(F29*H29))/J30 -> 221.803 | C32: ton | E32: = | F32: =B32*2000/8760 -> 50.639954 | G32: lb | L32: = | M32: =((M29*O29)+(Q29*S29))/U30 -> 227.8995 | N32: ton | P32: = | Q32: =M32*2000/8760 -> 52.031849 | R32: lb | AA32: 45597 | AB32: 0 | AC32: 19 | AD32: 20
C33: year | G33: hr | N33: year | R33: hr | AA33: 45627 | AB33: 0 | AC33: 19 | AD33: 39
AA34: TOTAL | AB34: =SUM(AB28:AB33) -> 0 | AC34: =SUM(AC22:AC33) -> 802 | AD34: =SUM(AD22:AD33) -> 960
A38: Cómputo de Emisiones 2024 - Central Cambalache Unidad 2 | L38: Cómputo de Emisiones 2024 - Central Cambalache Unidad 3
A40: Cálculos Emisiones VOC | L40: Cálculos Emisiones VOC
A42: = | B42: 13 | C42: lb | D42: =B15 -> 802 | E42: horas | F42: 11 | G42: lb | H42: =B16 -> 2436 | I42: horas | J42: 1 | K42: ton | L42: = | M42: 13 | N42: lb | O42: =M15 -> 960 | P42: horas | Q42: 11 | R42: lb | S42: =M16 -> 2367 | T42: horas | U42: 1 | V42: ton
C43: hr | G43: hr | J43: 2000 | K43: lb | N43: hr | R43: hr | U43: 2000 | V43: lb
A45: = | B45: =((B42*D42)+(F42*H42))/J43 -> 18.611 | C45: ton | E45: = | F45: =B45*2000/8760 -> 4.2490868 | G45: lb | L45: = | M45: =((M42*O42)+(Q42*S42))/U43 -> 19.2585 | N45: ton | P45: = | Q45: =M45*2000/8760 -> 4.3969178 | R45: lb
C46: year | G46: hr | N46: year | R46: hr
A48: Cálculos Emisiones Pb | L48: Cálculos Emisiones Pb
A50: = | B50: 0.023 | C50: lb | D50: =B15 -> 802 | E50: horas | F50: 0.016 | G50: lb | H50: =B16 -> 2436 | I50: horas | J50: 1 | K50: ton | L50: = | M50: 0.023 | N50: lb | O50: =M15 -> 960 | P50: horas | Q50: 0.016 | R50: lb | S50: =M16 -> 2367 | T50: horas | U50: 1 | V50: ton
C51: hr | G51: hr | J51: 2000 | K51: lb | N51: hr | R51: hr | U51: 2000 | V51: lb
A53: = | B53: =((B50*D50)+(F50*H50))/J51 -> 0.028711 | C53: ton | E53: = | F53: =B53*2000/8760 -> 0.0065550228 | G53: lb | L53: = | M53: =((M50*O50)+(Q50*S50))/U51 -> 0.029976 | N53: ton | P53: = | Q53: =M53*2000/8760 -> 0.0068438356 | R53: lb
C54: year | G54: hr | N54: year | R54: hr
A56: CO2e | B56: 22.578 lb/gal | C56: 40 CFR 98
A58: Cálculos Emisiones CO2e
A60: = | B60: 22.578 | C60: lb | D60: =SUM(B13+M13) -> 36607891 | E60: gal | G60: ton
C61: gal | E61: year | F61: 2000 | G61: lb
A64: = | B64: =B60*D60/F61 -> 413266.48 | C64: ton | D64: = | E64: =B64*(2000/8760) -> 94353.078 | F64: lb
C65: year | F65: hr

Sheet CEMS Cambalache
B2: Cambalache Emissions 2024 As reported in CEMS | J2: Cambalache Emissions 2024 As reported in CEMS
B5: year | C5: NOx (lb) | D5: CO (lb) | J5: year | K5: NOx (lb) UNIT 2 | L5: NOx (lb) UNIT 3 | M5: TOTAL U-2 & 3 | N5: CO (lb) UNIT 2 | O5: CO (lb) UNIT 3 | P5: TOTAL U-2 & 3
B6: January | C6: =M6 -> 51997.4 | D6: =P6 -> 9599 | J6: January | K6: 20964.3 | L6: 31033.1 | M6: =SUM(K6:L6) -> 51997.4 | N6: 4511 | O6: 5088 | P6: =SUM(N6:O6) -> 9599
B7: February | C7: =M7 -> 49868.8 | D7: =P7 -> 8841 | J7: February | K7: 19300 | L7: 30568.8 | M7: =SUM(K7:L7) -> 49868.8 | N7: 3640 | O7: 5201 | P7: =SUM(N7:O7) -> 8841
B8: March | C8: =M8 -> 45422.5 | D8: =P8 -> 9307 | J8: March | K8: 16389.1 | L8: 29033.4 | M8: =SUM(K8:L8) -> 45422.5 | N8: 3966 | O8: 5341 | P8: =SUM(N8:O8) -> 9307
B9: April | C9: =M9 -> 72160.8 | D9: =P9 -> 9058 | J9: April | K9: 32276.6 | L9: 39884.2 | M9: =SUM(K9:L9) -> 72160.8 | N9: 3708 | O9: 5350 | P9: =SUM(N9:O9) -> 9058
B10: May | C10: =M10 -> 81178.4 | D10: =P10 -> 8093 | J10: May | K10: 40337.2 | L10: 40841.2 | M10: =SUM(K10:L10) -> 81178.4 | N10: 3235 | O10: 4858 | P10: =SUM(N10:O10) -> 8093
B11: June | C11: =M11 -> 48091 | D11: =P11 -> 7987 | J11: June | K11: 20790 | L11: 27301 | M11: =SUM(K11:L11) -> 48091 | N11: 3716 | O11: 4271 | P11: =SUM(N11:O11) -> 7987
B12: July | C12: =M12 -> 38558.1 | D12: =P12 -> 8686 | J12: July | K12: 15929 | L12: 22629.1 | M12: =SUM(K12:L12) -> 38558.1 | N12: 4197 | O12: 4489 | P12: =SUM(N12:O12) -> 8686
B13: August | C13: =M13 -> 73160.7 | D13: =P13 -> 7809 | J13: August | K13: 35668.8 | L13: 37491.9 | M13: =SUM(K13+L13) -> 73160.7 | N13: 3824 | O13: 3985 | P13: =SUM(N13:O13) -> 7809
B14: September | C14: =M14 -> 73187 | D14: =P14 -> 6245 | J14: September | K14: 38352 | L14: 34835 | M14: =SUM(K14:L14) -> 73187 | N14: 2365 | O14: 3880 | P14: =SUM(N14:O14) -> 6245
B15: October | C15: =M15 -> 69991.5 | D15: =P15 -> 5626 | J15: October | K15: 34844.8 | L15: 35146.7 | M15: =SUM(K15:L15) -> 69991.5 | N15: 2797 | O15: 2829 | P15: =SUM(N15:O15) -> 5626
B16: November | C16: =M16 -> 30689.8 | D16: =P16 -> 5779 | J16: November | K16: 12437.7 | L16: 18252.1 | M16: =SUM(K16:L16) -> 30689.8 | N16: 2489 | O16: 3290 | P16: =SUM(N16:O16) -> 5779
B17: December | C17: =M17 -> 53775.3 | D17: =P17 -> 7061 | J17: December | K17: 27357.3 | L17: 26418 | M17: =SUM(K17:L17) -> 53775.3 | N17: 3165 | O17: 3896 | P17: =SUM(N17:O17) -> 7061
B18: Total (lb/yr) | C18: =SUM(C6:C17) -> 688081.3 | D18: =SUM(D6:D17) -> 94091 | J18: Total (lb/yr) | K18: =SUM(K6:K17) -> 314646.8 | L18: =SUM(L6:L17) -> 373434.5 | M18: =SUM(M6:M17) -> 688081.3 | N18: =SUM(N6:N17) -> 41613 | O18: =SUM(O6:O17) -> 52478 | P18: =SUM(P6:P17) -> 94091
B19: Total (ton/yr) | C19: =C18/2000 -> 344.04065 | D19: =D18/2000 -> 47.0455 | J19: Total (ton/yr) | K19: =K18/2000 -> 157.3234 | L19: =L18/2000 -> 186.71725 | M19: =M18/2000 -> 344.04065 | N19: =N18/2000 -> 20.8065 | O19: =O18/2000 -> 26.239 | P19: =P18/2000 -> 47.0455
J20: TOTAL COMBINED | K20: =SUM(K19:L19) -> 344.04065 | N20: =SUM(N19:O19) -> 47.0455

Sheet Cálculos Daguao
A2: Cómputo de Emisiones Actuales year 2024- Daguao Unidad 1 | K2: Cómputo de Emisiones Actuales year 2024- Daguao Unidad 2
A4: Factores de Emisión AP-42 Section 3.1 | K4: Factores de Emisión AP-42 Section 3.1
A5: PM | B5: 0.012 lb/MMBTU | K5: PM | L5: 0.012 lb/MMBTU
A6: SOx | B6: 1.01*%S lb/MMBTU | K6: SOx | L6: 1.01*%S lb/MMBTU
A7: NOx | B7: 0.88 lb/MMBTU | K7: NOx | L7: 0.88 lb/MMBTU
A8: VOC | B8: 0.00041 lb/MMBTU | K8: VOC | L8: 0.00041 lb/MMBTU
A9: C0 | B9: 0.0033 lb/MMBTU | K9: C0 | L9: 0.0033 lb/MMBTU
A10: Pb | B10: 0.000014 lb MMBTU | K10: Pb | L10: 0.000014 lb MMBTU
A11: CO2e | B11: 22.578 lb/gal | C11: 40 CFR 98 | K11: CO2e | L11: 22.578 lb/gal | M11: 40 CFR 98
A13: Combustible | B13: =SUM(Turbinas!F19) -> 3059054.5 | C13: gal/yr | K13: Combustible | L13: =SUM(Turbinas!G19) -> 1423551.8 | M13: gal/yr
A14: Azufre % | B14: =Turbinas!U17 -> 0.01 | K14: Azufre % | L14: =Turbinas!V17 -> 0.01 | V14: =(73.96+0.003*25+0.0006*298)*2.2046*0.138 -> 22.578421 | W14: lbs/gal
A17: Cálculos Emisiones PM | K17: Cálculos Emisiones PM
A19: = | B19: 0.012 | C19: lb | D19: =B13 -> 3059054.5 | E19: galones | F19: 0.138 | G19: MMBTU | H19: 1 | I19: ton | K19: = | L19: 0.012 | M19: lb | N19: =L13 -> 1423551.8 | O19: galones | P19: 0.138 | Q19: MMBTU | R19: 1 | S19: ton
C20: MMBTU | E20: year | G20: gal | H20: 2000 | I20: lb | M20: MMBTU | O20: year | Q20: gal | R20: 2000 | S20: lb
A22: = | B22: =(B19*D19*F19)/H20 -> 2.5328971 | C22: ton | K22: = | L22: =(L19*N19*P19)/R20 -> 1.1787009 | M22: ton
C23: year | M23: year
A26: Cálculos Emisiones SOx | K26: Cálculos Emisiones SOx
A28: = | B28: =1.01*B14 -> 0.0101 | C28: lb | D28: =B13 -> 3059054.5 | E28: galones | F28: 0.138 | G28: MMBTU | H28: 1 | I28: ton | K28: = | L28: =1.01*L14 -> 0.0101 | M28: lb | N28: =L13 -> 1423551.8 | O28: galones | P28: 0.138 | Q28: MMBTU | R28: 1 | S28: ton
C29: MMBTU | E29: year | G29: gal | H29: 2000 | I29: lb | M29: MMBTU | O29: year | Q29: gal | R29: 2000 | S29: lb
A31: = | B31: =(B28*D28*F28)/H29 -> 2.1318551 | C31: ton | K31: = | L31: =(L28*N28*P28)/R29 -> 0.99207324 | M31: ton
C32: year | M32: year
A35: Cálculos Emisiones NOx | K35: Cálculos Emisiones NOx
A37: = | B37: 0.88 | C37: lb | D37: =B13 -> 3059054.5 | E37: galones | F37: 0.138 | G37: MMBTU | H37: 1 | I37: ton | K37: = | L37: 0.88 | M37: lb | N37: =L13 -> 1423551.8 | O37: galones | P37: 0.138 | Q37: MMBTU | R37: 1 | S37: ton
C38: MMBTU | E38: year | G38: gal | H38: 2000 | I38: lb | M38: MMBTU | O38: year | Q38: gal | R38: 2000 | S38: lb
A40: = | B40: =(B37*D37*F37)/H38 -> 185.74579 | C40: ton | K40: = | L40: =(L37*N37*P37)/R38 -> 86.438064 | M40: ton
C41: year | M41: year
A44: Cálculos Emisiones VOC | K44: Cálculos Emisiones VOC
A46: = | B46: 0.00041 | C46: lb | D46: =B13 -> 3059054.5 | E46: galones | F46: 0.138 | G46: MMBTU | H46: 1 | I46: ton | K46: = | L46: 0.00041 | M46: lb | N46: =L13 -> 1423551.8 | O46: galones | P46: 0.138 | Q46: MMBTU | R46: 1 | S46: ton
C47: MMBTU | E47: year | G47: gal | H47: 2000 | I47: lb | M47: MMBTU | O47: year | Q47: gal | R47: 2000 | S47: lb
A49: = | B49: =(B46*D46*F46)/H47 -> 0.086540651 | C49: ton | K49: = | L49: =(L46*N46*P46)/R47 -> 0.04027228 | M49: ton
C50: year | M50: year
A57: Cálculos Emisiones CO | K57: Cálculos Emisiones CO
A59: = | B59: 0.0033 | C59: lb | D59: =B13 -> 3059054.5 | E59: galones | F59: 0.138 | G59: MMBTU | H59: 1 | I59: ton | K59: = | L59: 0.0033 | M59: lb | N59: =L13 -> 1423551.8 | O59: galones | P59: 0.138 | Q59: MMBTU | R59: 1 | S59: ton
C60: MMBTU | E60: year | G60: gal | H60: 2000 | I60: lb | M60: MMBTU | O60: year | Q60: gal | R60: 2000 | S60: lb
A62: = | B62: =(B59*D59*F59)/H60 -> 0.6965467 | C62: ton | K62: = | L62: =(L59*N59*P59)/R60 -> 0.32414274 | M62: ton
C63: year | M63: year
A66: Cálculos Emisiones Pb | K66: Cálculos Emisiones Pb
A68: = | B68: 1.4e-05 | C68: lb | D68: =B13 -> 3059054.5 | E68: galones | F68: 0.138 | G68: MMBTU | H68: 1 | I68: ton | K68: = | L68: 1.4e-05 | M68: lb | N68: =L13 -> 1423551.8 | O68: galones | P68: 0.138 | Q68: MMBTU | R68: 1 | S68: ton
C69: MMBTU | E69: year | G69: gal | H69: 2000 | I69: lb | M69: MMBTU | O69: year | Q69: gal | R69: 2000 | S69: lb
A71: = | B71: =(B68*D68*F68)/H69 -> 0.0029550466 | C71: ton | K71: = | L71: =(L68*N68*P68)/R69 -> 0.001375151 | M71: ton
C72: year | M72: year
A75: Cálculos Emisiones CO2e | K75: Cálculos Emisiones CO2e
A77: = | B77: =V14 -> 22.578421 | C77: lb | D77: =D68 -> 3059054.5 | E77: gal | G77: ton | K77: = | L77: =V14 -> 22.578421 | M77: lb | N77: =N68 -> 1423551.8 | O77: gal | Q77: ton
C78: gal | E78: year | F78: 2000 | G78: lb | M78: gal | O78: year | P78: 2000 | Q78: lb
A81: = | B81: =B77*D77/F78 -> 34534.309 | C81: ton | D81: = | E81: =B81*(2000/8760) -> 7884.5455 | F81: lb | K81: = | L81: =L77*N77/P78 -> 16070.775 | M81: ton | N81: = | O81: =L81*(2000/8760) -> 3669.1268 | P81: lb
C82: year | F82: hr | M82: year | P82: hr

Sheet Cálculos Yabucoa
A1: Cómputo de Emisiones Actuales year 2024 - YAGT1-1 | K1: Cómputo de Emisiones Actuales year 2024 - YAGT1-2
A3: AP-42 Fifth Edition, Volume I, Chapter 3.1 | K3: AP-42 Fifth Edition, Volume I, Chapter 3.1
A4: Stationary Internal Combustion Sources | K4: Stationary Internal Combustion Sources
A5: PM10 | B5: 0.012 | C5: lb/MMBTU | K5: PM10 | L5: 0.012 | M5: lb/MMBTU
A6: SOx | B6: 1.01 | C6: *S lb/MMBTU | K6: SOx | L6: 1.01 | M6: *S lb/MMBTU
A7: NOx | B7: 0.88 | C7: lb/MMBTU | K7: NOx | L7: 0.88 | M7: lb/MMBTU
A8: VOC | B8: 0.00041 | C8: lb/MMBTU | K8: VOC | L8: 0.00041 | M8: lb/MMBTU
A9: CO | B9: 0.0033 | C9: lb/MMBTU | K9: CO | L9: 0.0033 | M9: lb/MMBTU
A10: Pb | B10: 1.4e-05 | C10: lb/MMBTU | K10: Pb | L10: 1.4e-05 | M10: lb/MMBTU
A11: CO2e | B11: 22.578 lb/gal | C11: 40 CFR 98 | K11: CO2e | L11: 22.578 lb/gal | M11: 40 CFR 98
A13: Combustible | B13: =SUM(Turbinas!J19) -> 0 | C13: gal/year | D13: (Unidades limitadas a 2,600 hrs de operación anual) | K13: Combustible | L13: =SUM(Turbinas!K19) -> 2043173.2 | M13: gal/year | N13: (Unidades limitadas a 2,600 hrs de operación anual)
A14: Azufre | B14: =Turbinas!AE17 -> 0.01 | K14: Azufre | L14: =Turbinas!AF17 -> 0.01 | V14: =(73.96+0.003*25+0.0006*298)*2.2046*0.138 -> 22.578421 | W14: lbs/gal
A17: Cálculos Emisiones PM10 | K17: Cálculos Emisiones PM10
A19: = | B19: 0.012 | C19: lb | D19: =B13 -> 0 | E19: gal | F19: 0.138 | G19: MMBTU | H19: ton | K19: = | L19: 0.012 | M19: lb | N19: =L13 -> 2043173.2 | O19: gal | P19: 0.138 | Q19: MMBTU | R19: ton
B20: MMBTU | D20: year | F20: gal | H20: 2000 | I20: lb | L20: MMBTU | N20: year | P20: gal | R20: 2000 | S20: lb
A22: = | B22: =(B19*D19*F19)/H20 -> 0 | C22: ton | D22: = | E22: =B22*2000/8760 -> 0 | F22: lb | K22: = | L22: =(L19*N19*P19)/R20 -> 1.6917474 | M22: ton | N22: = | O22: =L22*2000/8760 -> 0.38624369 | P22: lb
C23: year | F23: hr | M23: year | P23: hr
A25: Cálculos Emisiones SOx | K25: Cálculos Emisiones SOx
A27: = | B27: =(B6*B14) -> 0.0101 | C27: lb | D27: =B13 -> 0 | E27: gal | F27: 0.138 | G27: MMBTU | H27: ton | K27: = | L27: =L6*L14 -> 0.0101 | M27: lb | N27: =L13 -> 2043173.2 | O27: gal | P27: 0.138 | Q27: MMBTU | R27: ton
B28: MMBTU | D28: year | F28: gal | H28: 2000 | I28: lb | L28: MMBTU | N28: year | P28: gal | R28: 2000 | S28: lb
A30: = | B30: =(B27*D27*F27)/H28 -> 0 | C30: ton | D30: = | E30: =B30*2000/8760 -> 0 | F30: lb | K30: = | L30: =(L27*N27*P27)/R28 -> 1.4238874 | M30: ton | N30: = | O30: =L30*2000/8760 -> 0.32508844 | P30: lb
C31: year | F31: hr | M31: year | P31: hr
A35: Cálculos Emisiones NOx | K35: Cálculos Emisiones NOx
A37: = | B37: 0.88 | C37: lb | D37: =B13 -> 0 | E37: gal | F37: 0.138 | G37: MMBTU | H37: ton | K37: = | L37: 0.88 | M37: lb | N37: =L13 -> 2043173.2 | O37: gal | P37: 0.138 | Q37: MMBTU | R37: ton
B38: MMBTU | D38: year | F38: gal | H38: 2000 | I38: lb | L38: MMBTU | N38: year | P38: gal | R38: 2000 | S38: lb
A40: = | B40: =(B37*D37*F37)/H38 -> 0 | C40: ton | D40: = | E40: =B40*2000/8760 -> 0 | F40: lb | K40: = | L40: =(L37*N37*P37)/R38 -> 124.06147 | M40: ton | N40: = | O40: =L40*2000/8760 -> 28.324538 | P40: lb
C41: year | F41: hr | M41: year | P41: hr
A43: Cálculos Emisiones VOC | K43: Cálculos Emisiones VOC
A45: = | B45: 0.00041 | C45: lb | D45: =B13 -> 0 | E45: gal | F45: 0.138 | G45: MMBTU | H45: ton | K45: = | L45: 0.00041 | M45: lb | N45: =L13 -> 2043173.2 | O45: gal | P45: 0.138 | Q45: MMBTU | R45: ton
B46: MMBTU | D46: year | F46: gal | H46: 2000 | I46: lb | L46: MMBTU | N46: year | P46: gal | R46: 2000 | S46: lb
A48: = | B48: =(B45*D45*F45)/H46 -> 0 | C48: ton | D48: = | E48: =B48*(2000/8760) -> 0 | F48: lb | K48: = | L48: =(L45*N45*P45)/R46 -> 0.057801369 | M48: ton | N48: = | O48: =L48*2000/8760 -> 0.01319666 | P48: lb
C49: year | F49: hr | M49: year | P49: hr
A51: Cálculos Emisiones CO | K51: Cálculos Emisiones CO
A53: = | B53: 0.0033 | C53: lb | D53: =B13 -> 0 | E53: gal | F53: 0.138 | G53: MMBTU | H53: ton | K53: = | L53: 0.0033 | M53: lb | N53: =L13 -> 2043173.2 | O53: gal | P53: 0.138 | Q53: MMBTU | R53: ton
B54: MMBTU | D54: year | F54: gal | H54: 2000 | I54: lb | L54: MMBTU | N54: year | P54: gal | R54: 2000 | S54: lb
A56: = | B56: =(B53*D53*F53)/H54 -> 0 | C56: ton | D56: = | E56: =B56*2000/8760 -> 0 | F56: lb | K56: = | L56: =(L53*N53*P53)/R54 -> 0.46523053 | M56: ton | N56: = | O56: =L56*2000/8760 -> 0.10621702 | P56: lb
C57: year | F57: hr | M57: year | P57: hr
A59: Cálculos Emisiones Pb | K59: Cálculos Emisiones Pb
A61: = | B61: 1.4e-05 | C61: lb | D61: =B13 -> 0 | E61: gal | F61: 0.138 | G61: MMBTU | H61: ton | K61: = | L61: 1.4e-05 | M61: lb | N61: =L13 -> 2043173.2 | O61: gal | P61: 0.138 | Q61: MMBTU | R61: ton
B62: MMBTU | D62: year | F62: gal | H62: 2000 | I62: lb | L62: MMBTU | N62: year | P62: gal | R62: 2000 | S62: lb
A64: = | B64: =(B61*D61*F61)/H62 -> 0 | C64: ton | D64: = | E64: =B64*2000/8760 -> 0 | F64: lb | K64: = | L64: =(L61*N61*P61)/R62 -> 0.0019737053 | M64: ton | N64: = | O64: =L64*2000/8760 -> 0.00045061764 | P64: lb
C65: year | F65: hr | M65: year | P65: hr
A69: Cálculos Emisiones CO2e | K69: Cálculos Emisiones CO2e
A71: = | B71: =V14 -> 22.578421 | C71: lb | D71: =D61 -> 0 | E71: gal | G71: ton | K71: = | L71: =V14 -> 22.578421 | M71: lb | N71: =N61 -> 2043173.2 | O71: gal | Q71: ton
C72: gal | E72: year | F72: 2000 | G72: lb | M72: gal | O72: year | P72: 2000 | Q72: lb
A75: = | B75: =B71*D71/F72 -> 0 | C75: ton | D75: = | E75: =B75*(2000/8760) -> 0 | F75: lb | K75: = | L75: =L71*N71/P72 -> 23065.811 | M75: ton | N75: = | O75: =L75*(2000/8760) -> 5266.167 | P75: lb
C76: year | F76: hr | M76: year | P76: hr

Sheet Cálculos Vega Baja
A1: Cómputo de Emisiones Actuales year 2024 - Vega Baja VBGT1-1 | K1: Cómputo de Emisiones Actuales year 2024 - Vega Baja VBGT1-2
A3: AP-42, Fifth Edition, Volume I, Chapter 3.1: | K3: AP-42, Fifth Edition, Volume I, Chapter 3.1:
A4: Stationary Internal Combustion Sources | K4: Stationary Internal Combustion Sources
A5: PM10 | B5: 0.012 | C5: lb/MMBTU | K5: PM10 | L5: 0.012 | M5: lb/MMBTU
A6: SOx | B6: 1.01 | C6: *S lb/MMBTU | K6: SOx | L6: 1.01 | M6: *S lb/MMBTU
A7: NOx | B7: 0.88 | C7: lb/MMBTU | K7: NOx | L7: 0.88 | M7: lb/MMBTU
A8: VOC | B8: 0.00041 | C8: lb/MMBTU | K8: VOC | L8: 0.00041 | M8: lb/MMBTU
A9: CO | B9: 0.0033 | C9: lb/MMBTU | K9: CO | L9: 0.0033 | M9: lb/MMBTU
A10: Pb | B10: 1.4e-05 | C10: lb/MMBTU | K10: Pb | L10: 1.4e-05 | M10: lb/MMBTU
A11: CO2e | B11: 22.578 lb/gal | C11: 40 CFR 98 | K11: CO2e | L11: 22.578 lb/gal | M11: 40 CFR 98
A13: Combustible | B13: =Turbinas!B17 -> 0 | C13: gal/year | K13: Combustible | L13: =Turbinas!C17 -> 0 | M13: gal/year
A14: Azufre | B14: =Turbinas!AC17 -> 0.01 | K14: Azufre | L14: =Turbinas!AD17 -> 0.01 | V14: =(73.96+0.003*25+0.0006*298)*2.2046*0.138 -> 22.578421 | W14: lbs/gal
A17: Cálculos Emisiones PM10 | K17: Cálculos Emisiones PM10
A19: = | B19: 0.012 | C19: lb | D19: =B13 -> 0 | E19: gal | F19: 0.138 | G19: MMBTU | H19: ton | K19: = | L19: 0.012 | M19: lb | N19: =L13 -> 0 | O19: gal | P19: 0.138 | Q19: MMBTU | R19: ton
B20: MMBTU | D20: year | F20: gal | H20: 2000 | I20: lb | L20: MMBTU | N20: year | P20: gal | R20: 2000 | S20: lb
A23: = | B23: =(B19*D19*F19)/H20 -> 0 | C23: ton | E23: = | F23: =B23*2000/8760 -> 0 | G23: lbs | K23: = | L23: =(L19*N19*P19)/R20 -> 0 | M23: ton | O23: = | P23: =L23*2000/8760 -> 0 | Q23: lbs
C24: year | G24: hr | M24: year | Q24: hr
A27: Cálculos Emisiones SOx | K27: Cálculos Emisiones SOx
A29: = | B29: =B6*B14 -> 0.0101 | C29: lb | D29: =B13 -> 0 | E29: gal | F29: 0.138 | G29: MMBTU | H29: ton | K29: = | L29: =L6*L14 -> 0.0101 | M29: lb | N29: =L13 -> 0 | O29: gal | P29: 0.138 | Q29: MMBTU | R29: ton
B30: MMBTU | D30: year | F30: gal | H30: 2000 | I30: lb | L30: MMBTU | N30: year | P30: gal | R30: 2000 | S30: lb
A33: = | B33: =(B29*D29*F29)/H30 -> 0 | C33: ton | E33: = | F33: =B33*2000/8760 -> 0 | G33: lbs | K33: = | L33: =(L29*N29*P29)/R30 -> 0 | M33: ton | O33: = | P33: =L33*2000/8760 -> 0 | Q33: lbs
C34: year | G34: hr | M34: year | Q34: hr
A37: Cálculos Emisiones NOx | K37: Cálculos Emisiones NOx
A39: = | B39: 0.88 | C39: lb | D39: =B13 -> 0 | E39: gal | F39: 0.138 | G39: MMBTU | H39: ton | K39: = | L39: 0.88 | M39: lb | N39: =L13 -> 0 | O39: gal | P39: 0.138 | Q39: MMBTU | R39: ton
B40: MMBTU | D40: year | F40: gal | H40: 2000 | I40: lb | L40: MMBTU | N40: year | P40: gal | R40: 2000 | S40: lb
A43: = | B43: =(B39*D39*F39)/H40 -> 0 | C43: ton | E43: = | F43: =B43*2000/8760 -> 0 | G43: lbs | K43: = | L43: =(L39*N39*P39)/R40 -> 0 | M43: ton | O43: = | P43: =L43*2000/8760 -> 0 | Q43: lbs
C44: year | G44: hr | M44: year | Q44: hr
A47: Cálculos Emisiones VOC | K47: Cálculos Emisiones VOC
A49: = | B49: 0.00041 | C49: lb | D49: =B13 -> 0 | E49: gal | F49: 0.138 | G49: MMBTU | H49: ton | K49: = | L49: 0.00041 | M49: lb | N49: =L13 -> 0 | O49: gal | P49: 0.138 | Q49: MMBTU | R49: ton
B50: MMBTU | D50: year | F50: gal | H50: 2000 | I50: lb | L50: MMBTU | N50: year | P50: gal | R50: 2000 | S50: lb
A53: = | B53: =(B49*D49*F49)/H50 -> 0 | C53: ton | E53: = | F53: =B53*2000/8760 -> 0 | G53: lbs | K53: = | L53: =(L49*N49*P49)/R50 -> 0 | M53: ton | O53: = | P53: =L53*2000/8760 -> 0 | Q53: lbs
C54: year | G54: hr | M54: year | Q54: hr
A57: Cálculos Emisiones CO | K57: Cálculos Emisiones CO
A59: = | B59: 0.0033 | C59: lb | D59: =B13 -> 0 | E59: gal | F59: 0.138 | G59: MMBTU | H59: ton | K59: = | L59: 0.0033 | M59: lb | N59: =L13 -> 0 | O59: gal | P59: 0.138 | Q59: MMBTU | R59: ton
B60: MMBTU | D60: year | F60: gal | H60: 2000 | I60: lb | L60: MMBTU | N60: year | P60: gal | R60: 2000 | S60: lb
A63: = | B63: =(B59*D59*F59)/H60 -> 0 | C63: ton | E63: = | F63: =B63*2000/8760 -> 0 | G63: lbs | K63: = | L63: =(L59*N59*P59)/R60 -> 0 | M63: ton | O63: = | P63: =L63*2000/8760 -> 0 | Q63: lbs
C64: year | G64: hr | M64: year | Q64: hr
A67: Cálculos Emisiones Pb | K67: Cálculos Emisiones Pb
A69: = | B69: 1.4e-05 | C69: lb | D69: =B13 -> 0 | E69: gal | F69: 0.138 | G69: MMBTU | H69: ton | K69: = | L69: 1.4e-05 | M69: lb | N69: =L13 -> 0 | O69: gal | P69: 0.138 | Q69: MMBTU | R69: ton
B70: MMBTU | D70: year | F70: gal | H70: 2000 | I70: lb | L70: MMBTU | N70: year | P70: gal | R70: 2000 | S70: lb
A73: = | B73: =(B69*D69*F69)/H70 -> 0 | C73: ton | E73: = | F73: =B73*2000/8760 -> 0 | G73: lbs | K73: = | L73: =(L69*N69*P69)/R70 -> 0 | M73: ton | O73: = | P73: =L73*2000/8760 -> 0 | Q73: lbs
C74: year | G74: hr | M74: year | Q74: hr
A77: Cálculos Emisiones CO2e | K77: Cálculos Emisiones CO2e
A79: = | B79: =V14 -> 22.578421 | C79: lb | D79: =D69 -> 0 | E79: gal | G79: ton | K79: = | L79: =V14 -> 22.578421 | M79: lb | N79: =N69 -> 0 | O79: gal | Q79: ton
C80: gal | E80: year | F80: 2000 | G80: lb | M80: gal | O80: year | P80: 2000 | Q80: lb
A83: = | B83: =B79*D79/F80 -> 0 | C83: ton | D83: = | E83: =B83*(2000/8760) -> 0 | F83: lb | K83: = | L83: =L79*N79/P80 -> 0 | M83: ton | N83: = | O83: =L83*(2000/8760) -> 0 | P83: lb
C84: year | F84: hr | M84: year | P84: hr

Sheet Cálculos Jobos
A1: Cómputo de Emisiones Actuales year 2024 - JOGT1-1 | K1: Cómputo de Emisiones Actuales year 2024 - JOGT1-2
A3: AP-42 Fifth Edition, Volume I, Chapter 3.1 | K3: AP-42 Fifth Edition, Volume I, Chapter 3.1
A4: Stationary Internal Combustion Sources | K4: Stationary Internal Combustion Sources
A5: PM10 | B5: 0.012 | C5: lb/MMBTU | K5: PM10 | L5: 0.012 | M5: lb/MMBTU
A6: SOx | B6: 1.01 | C6: *S lb/MMBTU | K6: SOx | L6: 1.01 | M6: *S lb/MMBTU
A7: NOx | B7: 0.88 | C7: lb/MMBTU | K7: NOx | L7: 0.88 | M7: lb/MMBTU
A8: VOC | B8: 0.00041 | C8: lb/MMBTU | K8: VOC | L8: 0.00041 | M8: lb/MMBTU
A9: CO | B9: 0.0033 | C9: lb/MMBTU | K9: CO | L9: 0.0033 | M9: lb/MMBTU
A10: Pb | B10: 1.4e-05 | C10: lb/MMBTU | K10: Pb | L10: 1.4e-05 | M10: lb/MMBTU
A11: CO2e | B11: 22.578 lb/gal | C11: 40 CFR 98 | K11: CO2e | L11: 22.578 lb/gal | M11: 40 CFR 98
A13: Combustible | B13: =SUM(Turbinas!N19) -> 0 | C13: gal/year | D13: (Units limited to 2,600 hrs of operation per year) | K13: Combustible | L13: =SUM(Turbinas!O19) -> 2309476.3 | M13: gal/year | N13: (Units limited to 2,600 hrs of operation per year)
A14: Azufre | B14: =Turbinas!W17 -> 0.01 | K14: Azufre | L14: =Turbinas!X17 -> 0.01 | V14: =(73.96+0.003*25+0.0006*298)*2.2046*0.138 -> 22.578421 | W14: lbs/gal
A17: Cálculos Emisiones PM10 | K17: Cálculos Emisiones PM10
A19: = | B19: 0.012 | C19: lb | D19: =B13 -> 0 | E19: gal | F19: 0.138 | G19: MMBTU | H19: ton | K19: = | L19: 0.012 | M19: lb | N19: =L13 -> 2309476.3 | O19: gal | P19: 0.138 | Q19: MMBTU | R19: ton
B20: MMBTU | D20: year | F20: gal | H20: 2000 | I20: lb | L20: MMBTU | N20: year | P20: gal | R20: 2000 | S20: lb
A23: = | B23: =(B19*D19*F19)/H20 -> 0 | C23: ton | D23: = | E23: =B23*2000/8760 -> 0 | F23: lb | K23: = | L23: =(L19*N19*P19)/R20 -> 1.9122463 | M23: ton | N23: = | O23: =L23*2000/8760 -> 0.43658592 | P23: lb
C24: year | F24: hr | M24: year | P24: hr
A27: Cálculos Emisiones SOx | K27: Cálculos Emisiones SOx
A29: = | B29: =B6*B14 -> 0.0101 | C29: lb | D29: =B13 -> 0 | E29: gal | F29: 0.138 | G29: MMBTU | H29: ton | K29: = | L29: =L6*L14 -> 0.0101 | M29: lb | N29: =L13 -> 2309476.3 | O29: gal | P29: 0.138 | Q29: MMBTU | R29: ton
B30: MMBTU | D30: year | F30: gal | H30: 2000 | I30: lb | L30: MMBTU | N30: year | P30: gal | R30: 2000 | S30: lb
A33: = | B33: =(B29*D29*F29)/H30 -> 0 | C33: ton | D33: = | E33: =B33*2000/8760 -> 0 | F33: lb | K33: = | L33: =(L29*N29*P29)/R30 -> 1.609474 | M33: ton | N33: = | O33: =L33*2000/8760 -> 0.36745982 | P33: lb
C34: year | F34: hr | M34: year | P34: hr
A37: Cálculos Emisiones NOx | K37: Cálculos Emisiones NOx
A39: = | B39: 0.88 | C39: lb | D39: =B13 -> 0 | E39: gal | F39: 0.138 | G39: MMBTU | H39: ton | K39: = | L39: 0.88 | M39: lb | N39: =L13 -> 2309476.3 | O39: gal | P39: 0.138 | Q39: MMBTU | R39: ton
B40: MMBTU | D40: year | F40: gal | H40: 2000 | I40: lb | L40: MMBTU | N40: year | P40: gal | R40: 2000 | S40: lb
A43: = | B43: =(B39*D39*F39)/H40 -> 0 | C43: ton | D43: = | E43: =B43*2000/8760 -> 0 | F43: lb | K43: = | L43: =(L39*N39*P39)/R40 -> 140.2314 | M43: ton | N43: = | O43: =L43*2000/8760 -> 32.016301 | P43: lb
C44: year | F44: hr | M44: year | P44: hr
A47: Cálculos Emisiones VOC | K47: Cálculos Emisiones VOC
A49: = | B49: 0.00041 | C49: lb | D49: =B13 -> 0 | E49: gal | F49: 0.138 | G49: MMBTU | H49: ton | K49: = | L49: 0.00041 | M49: lb | N49: =L13 -> 2309476.3 | O49: gal | P49: 0.138 | Q49: MMBTU | R49: ton
B50: MMBTU | D50: year | F50: gal | H50: 2000 | I50: lb | L50: MMBTU | N50: year | P50: gal | R50: 2000 | S50: lb
A53: = | B53: =(B49*D49*F49)/H50 -> 0 | C53: ton | D53: = | E53: =B53*2000/8760 -> 0 | F53: lb | K53: = | L53: =(L49*N49*P49)/R50 -> 0.065335083 | M53: ton | N53: = | O53: =L53*2000/8760 -> 0.014916686 | P53: lb
C54: year | F54: hr | M54: year | P54: hr
A57: Cálculos Emisiones CO | K57: Cálculos Emisiones CO
A59: = | B59: 0.0033 | C59: lb | D59: =B13 -> 0 | E59: gal | F59: 0.138 | G59: MMBTU | H59: ton | K59: = | L59: 0.0033 | M59: lb | N59: =L13 -> 2309476.3 | O59: gal | P59: 0.138 | Q59: MMBTU | R59: ton
B60: MMBTU | D60: year | F60: gal | H60: 2000 | I60: lb | L60: MMBTU | N60: year | P60: gal | R60: 2000 | S60: lb
A63: = | B63: =(B59*D59*F59)/H60 -> 0 | C63: ton | D63: = | E63: =B63*2000/8760 -> 0 | F63: lb | K63: = | L63: =(L59*N59*P59)/R60 -> 0.52586774 | M63: ton | N63: = | O63: =L63*2000/8760 -> 0.12006113 | P63: lb
C64: year | F64: hr | M64: year | P64: hr
A67: Cálculos Emisiones Pb | K67: Cálculos Emisiones Pb
A69: = | B69: 1.4e-05 | C69: lb | D69: =B13 -> 0 | E69: gal | F69: 0.138 | G69: MMBTU | H69: ton | K69: = | L69: 1.4e-05 | M69: lb | N69: =L13 -> 2309476.3 | O69: gal | P69: 0.138 | Q69: MMBTU | R69: ton
B70: MMBTU | D70: year | F70: gal | H70: 2000 | I70: lb | L70: MMBTU | N70: year | P70: gal | R70: 2000 | S70: lb
A73: = | B73: =(B69*D69*F69)/H70 -> 0 | C73: ton | D73: = | E73: =B73*2000/8760 -> 0 | F73: lb | K73: = | L73: =(L69*N69*P69)/R70 -> 0.0022309541 | M73: ton | N73: = | O73: =L73*2000/8760 -> 0.00050935024 | P73: lb
C74: year | F74: hr | M74: year | P74: hr
A77: Cálculos Emisiones CO2e | K77: Cálculos Emisiones CO2e
A79: = | B79: =V14 -> 22.578421 | C79: lb | D79: =D69 -> 0 | E79: gal | G79: ton | K79: = | L79: =V14 -> 22.578421 | M79: lb | N79: =N69 -> 2309476.3 | O79: gal | Q79: ton
C80: gal | E80: year | F80: 2000 | G80: lb | M80: gal | O80: year | P80: 2000 | Q80: lb
A83: = | B83: =B79*D79/F80 -> 0 | C83: ton | D83: = | E83: =B83*(2000/8760) -> 0 | F83: lb | K83: = | L83: =L79*N79/P80 -> 26072.163 | M83: ton | N83: = | O83: =L83*(2000/8760) -> 5952.5487 | P83: lb
C84: year | F84: hr | M84: year | P84: hr

Sheet Cálculos Mayagüez
A1: Cómputo de Emisiones Actuales year 2024- Mayagüez MAYGT5 | K1: Cómputo de Emisiones Actuales year 2024- Mayagüez MAYGT6 | U1: Cómputo de Emisiones Actuales year 2024- Mayagüez MAYGT7 | AE1: Cómputo de Emisiones Actuales year 2024- Mayagüez MAYGT8
A3: Factores de Emisión AP-42 Sect. 3.1 | K3: Factores de Emisión AP-42 Sect. 3.1 | U3: Factores de Emisión AP-42 Sect. 3.1 | AE3: Factores de Emisión AP-42 Sect. 3.1
A4: PM | B4: 0.012lb/MMBTU | K4: PM | L4: 0.012lb/MMBTU | U4: PM | V4: 0.012lb/MMBTU | AE4: PM | AF4: 0.012lb/MMBTU
A5: SOx | B5: 1.01*%S lb/MMBTU | K5: SOx | L5: 1.01*%S lb/MMBTU | U5: SOx | V5: 1.01*%S lb/MMBTU | AE5: SOx | AF5: 1.01*%S lb/MMBTU
A6: NOx | B6: 0.288 lb/MMBTU | C6: Permit Limit (PFE-50-0307-0286-I-II-C) | K6: NOx | L6: 0.288 lb/MMBTU | N6: Permit Limit (PFE-50-0307-0286-I-II-C) | U6: NOx | V6: 0.288 lb/MMBTU | X6: Permit Limit (PFE-50-0307-0286-I-II-C) | AE6: NOx | AF6: 0.288 lb/MMBTU | AH6: Permit Limit (PFE-50-0307-0286-I-II-C)
A7: VOC | B7: 0.00041 lb/MMBTU | K7: VOC | L7: 0.00041 lb/MMBTU | U7: VOC | V7: 0.00041 lb/MMBTU | AE7: VOC | AF7: 0.00041 lb/MMBTU
A8: CO | B8: 0.0033 lb/MMBTU | K8: CO | L8: 0.0033 lb/MMBTU | U8: CO | V8: 0.0033 lb/MMBTU | AE8: CO | AF8: 0.0033 lb/MMBTU
A9: Pb | B9: 0.000014 lb MMBTU | K9: Pb | L9: 0.000014 lb MMBTU | U9: Pb | V9: 0.000014 lb MMBTU | AE9: Pb | AF9: 0.000014 lb MMBTU
A10: CO2e | B10: 22.578 lb/gal | C10: 40 CFR 98 | K10: CO2e | L10: 22.578 lb/gal | M10: 40 CFR 98 | U10: CO2e | V10: 22.578 lb/gal | W10: 40 CFR 98 | AE10: CO2e | AF10: 22.578 lb/gal | AG10: 40 CFR 98
A12: Combustible | B12: =SUM(Turbinas!B37) -> 15354150 | C12: gals/year | K12: Combustible | L12: =SUM(Turbinas!C37) -> 13282923 | M12: gals/year | U12: Combustible | V12: =SUM(Turbinas!D37) -> 7046380.3 | W12: gals/year | AE12: Combustible | AF12: =SUM(Turbinas!E37) -> 10312377 | AG12: gals/year
A13: Azufre % | B13: =Turbinas!Y17 -> 0.01 | K13: Azufre % | L13: =Turbinas!Z17 -> 0.01 | U13: Azufre % | V13: =Turbinas!AA17 -> 0.01 | AE13: Azufre % | AF13: =Turbinas!AB17 -> 0.01 | AO13: =(73.96+0.003*25+0.0006*298)*2.2046*0.138 -> 22.578421 | AP13: lbs/gal
A16: Cálculos Emisiones PM | K16: Cálculos Emisiones PM | U16: Cálculos Emisiones PM | AE16: Cálculos Emisiones PM
A18: = | B18: 0.012 | C18: lb | D18: =B12 -> 15354150 | E18: galones | F18: 0.138 | G18: MMBTU | H18: 1 | I18: ton | K18: = | L18: 0.012 | M18: lb | N18: =L12 -> 13282923 | O18: galones | P18: 0.138 | Q18: MMBTU | R18: 1 | S18: ton | U18: = | V18: 0.012 | W18: lb | X18: =V12 -> 7046380.3 | Y18: galones | Z18: 0.138 | AA18: MMBTU | AB18: 1 | AC18: ton | AE18: = | AF18: 0.012 | AG18: lb | AH18: =AF12 -> 10312377 | AI18: galones | AJ18: 0.138 | AK18: MMBTU | AL18: 1 | AM18: ton
C19: MMBTU | E19: year | G19: gal | H19: 2000 | I19: lb | M19: MMBTU | O19: year | Q19: gal | R19: 2000 | S19: lb | W19: MMBTU | Y19: year | AA19: gal | AB19: 2000 | AC19: lb | AG19: MMBTU | AI19: year | AK19: gal | AL19: 2000 | AM19: lb
A21: = | B21: =(B18*D18*F18)/H19 -> 12.713237 | C21: ton | E21: = | F21: =B21*2000/8760 -> 2.9025654 | G21: lb | K21: = | L21: =(L18*N18*P18)/R19 -> 10.99826 | M21: ton | O21: = | P21: =L21*2000/8760 -> 2.5110182 | Q21: lb | U21: = | V21: =(V18*X18*Z18)/AB19 -> 5.8344029 | W21: ton | Y21: = | Z21: =V21*2000/8760 -> 1.3320555 | AA21: lb | AE21: = | AF21: =(AF18*AH18*AJ18)/AL19 -> 8.5386483 | AG21: ton | AI21: = | AJ21: =AF21*2000/8760 -> 1.9494631 | AK21: lb
C22: year | G22: hr | M22: year | Q22: hr | W22: year | AA22: hr | AG22: year | AK22: hr
A24: Cálculos Emisiones SOx | K24: Cálculos Emisiones SOx | U24: Cálculos Emisiones SOx | AE24: Cálculos Emisiones SOx
A26: = | B26: =1.01*B13 -> 0.0101 | C26: lb | D26: =B12 -> 15354150 | E26: galones | F26: 0.138 | G26: MMBTU | H26: 1 | I26: ton | K26: = | L26: =1.01*L13 -> 0.0101 | M26: lb | N26: =L12 -> 13282923 | O26: galones | P26: 0.138 | Q26: MMBTU | R26: 1 | S26: ton | U26: = | V26: =1.01*V13 -> 0.0101 | W26: lb | X26: =V12 -> 7046380.3 | Y26: galones | Z26: 0.138 | AA26: MMBTU | AB26: 1 | AC26: ton | AE26: = | AF26: =1.01*AF13 -> 0.0101 | AG26: lb | AH26: =AF12 -> 10312377 | AI26: galones | AJ26: 0.138 | AK26: MMBTU | AL26: 1 | AM26: ton
C27: MMBTU | E27: year | G27: gal | H27: 2000 | I27: lb | M27: MMBTU | O27: year | Q27: gal | R27: 2000 | S27: lb | W27: MMBTU | Y27: year | AA27: gal | AB27: 2000 | AC27: lb | AG27: MMBTU | AI27: year | AK27: gal | AL27: 2000 | AM27: lb
A29: = | B29: =(B26*D26*F26)/H27 -> 10.700307 | C29: ton | E29: = | F29: =B29*2000/8760 -> 2.4429926 | G29: lb | K29: = | L29: =(L26*N26*P26)/R27 -> 9.2568687 | M29: ton | O29: = | P29: =L29*2000/8760 -> 2.1134403 | Q29: lb | U29: = | V29: =(V26*X26*Z26)/AB27 -> 4.9106224 | W29: ton | Y29: = | Z29: =V29*2000/8760 -> 1.1211467 | AA29: lb | AE29: = | AF29: =(AF26*AH26*AJ26)/AL27 -> 7.1866957 | AG29: ton | AI29: = | AJ29: =AF29*2000/8760 -> 1.6407981 | AK29: lb
C30: year | G30: hr | M30: year | Q30: hr | W30: year | AA30: hr | AG30: year | AK30: hr
A32: Cálculos Emisiones NOx | K32: Cálculos Emisiones NOx | U32: Cálculos Emisiones NOx | AE32: Cálculos Emisiones NOx
A34: = | B34: =74*20.9/5.9*9190*0.0000001194 -> 0.28763772 | C34: lb | D34: =B12 -> 15354150 | E34: galones | F34: 0.138 | G34: MMBTU | H34: 1 | I34: ton | K34: = | L34: =74*20.9/5.9*9190*0.0000001194 -> 0.28763772 | M34: lb | N34: =L12 -> 13282923 | O34: galones | P34: 0.138 | Q34: MMBTU | R34: 1 | S34: ton | U34: = | V34: =74*20.9/5.9*9190*0.0000001194 -> 0.28763772 | W34: lb | X34: =V12 -> 7046380.3 | Y34: galones | Z34: 0.138 | AA34: MMBTU | AB34: 1 | AC34: ton | AE34: = | AF34: =74*20.9/5.9*9190*0.0000001194 -> 0.28763772 | AG34: lb | AH34: =AF12 -> 10312377 | AI34: galones | AJ34: 0.138 | AK34: MMBTU | AL34: 1 | AM34: ton
C35: MMBTU | E35: year | G35: gal | H35: 2000 | I35: lb | M35: MMBTU | O35: year | Q35: gal | R35: 2000 | S35: lb | W35: MMBTU | Y35: year | AA35: gal | AB35: 2000 | AC35: lb | AG35: MMBTU | AI35: year | AK35: gal | AL35: 2000 | AM35: lb
A37: = | B37: =(B34*D34*F34)/H35 -> 304.73386 | C37: ton | E37: = | F37: =B37*2000/8760 -> 69.573941 | G37: lb | K37: = | L37: =(L34*N34*P34)/R35 -> 263.6262 | M37: ton | O37: = | P37: =L37*2000/8760 -> 60.188629 | Q37: lb | U37: = | V37: =(V34*X34*Z34)/AB35 -> 139.84953 | W37: ton | Y37: = | Z37: =V37*2000/8760 -> 31.929116 | AA37: lb | AE37: = | AF37: =(AF34*AH34*AJ34)/AL35 -> 204.66978 | AG37: ton | AI37: = | AJ37: =AF37*2000/8760 -> 46.728259 | AK37: lb
C38: year | G38: hr | M38: year | Q38: hr | W38: year | AA38: hr | AG38: year | AK38: hr
A40: Cálculos Emisiones VOC | K40: Cálculos Emisiones VOC | U40: Cálculos Emisiones VOC | AE40: Cálculos Emisiones VOC
A42: = | B42: 0.00041 | C42: lb | D42: =B12 -> 15354150 | E42: galones | F42: 0.138 | G42: MMBTU | H42: 1 | I42: ton | K42: = | L42: 0.00041 | M42: lb | N42: =L12 -> 13282923 | O42: galones | P42: 0.138 | Q42: MMBTU | R42: 1 | S42: ton | U42: = | V42: 0.00041 | W42: lb | X42: =V12 -> 7046380.3 | Y42: galones | Z42: 0.138 | AA42: MMBTU | AB42: 1 | AC42: ton | AE42: = | AF42: 0.00041 | AG42: lb | AH42: =AF12 -> 10312377 | AI42: galones | AJ42: 0.138 | AK42: MMBTU | AL42: 1 | AM42: ton
C43: MMBTU | E43: year | G43: gal | H43: 2000 | I43: lb | M43: MMBTU | O43: year | Q43: gal | R43: 2000 | S43: lb | W43: MMBTU | Y43: year | AA43: gal | AB43: 2000 | AC43: lb | AG43: MMBTU | AI43: year | AK43: gal | AL43: 2000 | AM43: lb
A45: = | B45: =(B42*D42*F42)/H43 -> 0.43436892 | C45: ton | E45: = | F45: =B45*2000/8760 -> 0.099170985 | G45: lb | K45: = | L45: =(L42*N42*P42)/R43 -> 0.37577388 | M45: ton | O45: = | P45: =L45*2000/8760 -> 0.085793123 | Q45: lb | U45: = | V45: =(V42*X42*Z42)/AB43 -> 0.1993421 | W45: ton | Y45: = | Z45: =V45*2000/8760 -> 0.045511895 | AA45: lb | AE45: = | AF45: =(AF42*AH42*AJ42)/AL43 -> 0.29173715 | AG45: ton | AI45: = | AJ45: =AF45*2000/8760 -> 0.066606655 | AK45: lb
C46: year | G46: hr | M46: year | Q46: hr | W46: year | AA46: hr | AG46: year | AK46: hr
AE50: Cómputo de Emisiones Actuales year 2024- Mayagüez MAYGT8
A51: Cómputo de Emisiones Actuales year 2024- Mayagüez MAYGT5 | K51: Cómputo de Emisiones Actuales year 2024- Mayagüez MAYGT6 | U51: Cómputo de Emisiones Actuales year 2024- Mayagüez MAYGT7
A53: Cálculos Emisiones CO | K53: Cálculos Emisiones CO | U53: Cálculos Emisiones CO | AE53: Cálculos Emisiones CO
A55: = | B55: 0.0033 | C55: lb | D55: =B12 -> 15354150 | E55: galones | F55: 0.138 | G55: MMBTU | H55: 1 | I55: ton | K55: = | L55: 0.0033 | M55: lb | N55: =L12 -> 13282923 | O55: galones | P55: 0.138 | Q55: MMBTU | R55: 1 | S55: ton | U55: = | V55: 0.0033 | W55: lb | X55: =V12 -> 7046380.3 | Y55: galones | Z55: 0.138 | AA55: MMBTU | AB55: 1 | AC55: ton | AE55: = | AF55: 0.0033 | AG55: lb | AH55: =AF12 -> 10312377 | AI55: galones | AJ55: 0.138 | AK55: MMBTU | AL55: 1 | AM55: ton
C56: MMBTU | E56: year | G56: gal | H56: 2000 | I56: lb | M56: MMBTU | O56: year | Q56: gal | R56: 2000 | S56: lb | W56: MMBTU | Y56: year | AA56: gal | AB56: 2000 | AC56: lb | AG56: MMBTU | AI56: year | AK56: gal | AL56: 2000 | AM56: lb
A58: = | B58: =(B55*D55*F55)/H56 -> 3.4961401 | C58: ton | E58: = | F58: =B58*2000/8760 -> 0.79820549 | G58: lb | K58: = | L58: =(L55*N55*P55)/R56 -> 3.0245215 | M58: ton | O58: = | P58: =L58*2000/8760 -> 0.69053001 | Q58: lb | U58: = | V58: =(V55*X55*Z55)/AB56 -> 1.6044608 | W58: ton | Y58: = | Z58: =V58*2000/8760 -> 0.36631525 | AA58: lb | AE58: = | AF58: =(AF55*AH55*AJ55)/AL56 -> 2.3481283 | AG58: ton | AI58: = | AJ58: =AF58*2000/8760 -> 0.53610235 | AK58: lb
C59: year | G59: hr | M59: year | Q59: hr | W59: year | AA59: hr | AG59: year | AK59: hr
A61: Cálculos Emisiones Pb | K61: Cálculos Emisiones Pb | U61: Cálculos Emisiones Pb | AE61: Cálculos Emisiones Pb
A63: = | B63: 1.4e-05 | C63: lb | D63: =B12 -> 15354150 | E63: galones | F63: 0.138 | G63: MMBTU | H63: 1 | I63: ton | K63: = | L63: 1.4e-05 | M63: lb | N63: =L12 -> 13282923 | O63: galones | P63: 0.138 | Q63: MMBTU | R63: 1 | S63: ton | U63: = | V63: 1.4e-05 | W63: lb | X63: =V12 -> 7046380.3 | Y63: galones | Z63: 0.138 | AA63: MMBTU | AB63: 1 | AC63: ton | AE63: = | AF63: 1.4e-05 | AG63: lb | AH63: =AF12 -> 10312377 | AI63: galones | AJ63: 0.138 | AK63: MMBTU | AL63: 1 | AM63: ton
C64: MMBTU | E64: year | G64: gal | H64: 2000 | I64: lb | M64: MMBTU | O64: year | Q64: gal | R64: 2000 | S64: lb | W64: MMBTU | Y64: year | AA64: gal | AB64: 2000 | AC64: lb | AG64: MMBTU | AI64: year | AK64: gal | AL64: 2000 | AM64: lb
A66: = | B66: =(B63*D63*F63)/H64 -> 0.014832109 | C66: ton | E66: = | F66: =B66*2000/8760 -> 0.0033863263 | G66: lb | K66: = | L66: =(L63*N63*P63)/R64 -> 0.012831303 | M66: ton | O66: = | P66: =L66*2000/8760 -> 0.0029295213 | Q66: lb | U66: = | V66: =(V63*X63*Z63)/AB64 -> 0.0068068034 | W66: ton | Y66: = | Z66: =V66*2000/8760 -> 0.0015540647 | AA66: lb | AE66: = | AF66: =(AF63*AH63*AJ63)/AL64 -> 0.0099617564 | AG66: ton | AI66: = | AJ66: =AF66*2000/8760 -> 0.0022743736 | AK66: lb
C67: year | G67: hr | M67: year | Q67: hr | W67: year | AA67: hr | AG67: year | AK67: hr
A70: Cálculos Emisiones CO2e | K70: Cálculos Emisiones CO2e | U70: Cálculos Emisiones CO2e | AE70: Cálculos Emisiones CO2e
A72: = | B72: =AO13 -> 22.578421 | C72: lb | D72: =D63 -> 15354150 | E72: gal | G72: ton | K72: = | L72: =AO13 -> 22.578421 | M72: lb | N72: =N63 -> 13282923 | O72: gal | Q72: ton | U72: = | V72: =AO13 -> 22.578421 | W72: lb | X72: =X63 -> 7046380.3 | Y72: gal | AA72: ton | AE72: = | AF72: =AO13 -> 22.578421 | AG72: lb | AH72: =AH63 -> 10312377 | AI72: gal | AK72: ton
C73: gal | E73: year | F73: 2000 | G73: lb | M73: gal | O73: year | P73: 2000 | Q73: lb | W73: gal | Y73: year | Z73: 2000 | AA73: lb | AG73: gal | AI73: year | AJ73: 2000 | AK73: lb
A76: = | B76: =B72*D72/F73 -> 173336.23 | C76: ton | D76: = | E76: =B76*(2000/8760) -> 39574.482 | F76: lb | K76: = | L76: =L72*N72/P73 -> 149953.71 | M76: ton | N76: = | O76: =L76*(2000/8760) -> 34236.006 | P76: lb | U76: = | V76: =V72*X72/Z73 -> 79548.069 | W76: ton | X76: = | Y76: =V76*(2000/8760) -> 18161.66 | Z76: lb | AE76: = | AF76: =AF72*AH72/AJ73 -> 116418.59 | AG76: ton | AH76: = | AI76: =AF76*(2000/8760) -> 26579.588 | AJ76: lb
C77: year | F77: hr | M77: year | P77: hr | W77: year | Z77: hr | AG77: year | AJ77: hr

Sheet Mensual 2024
A1: Emisiones mensuales 2024
A2: Concepto | B2: Unidad | C2: 45292 | D2: 45323 | E2: 45352 | F2: 45383 | G2: 45413 | H2: 45444 | I2: 45474 | J2: 45505 | K2: 45536 | L2: 45566 | M2: 45597 | N2: 45627 | O2: Total
A3: PM | B3: ton | C3: =SUM(C21,C34,C51,C66,C110,C122,C134,C146,C162) -> 59.845898 | D3: =SUM(D21,D34,D51,D66,D110,D122,D134,D146,D162) -> 80.613093 | E3: =SUM(E21,E34,E51,E66,E110,E122,E134,E146,E162) -> 72.854191 | F3: =SUM(F21,F34,F51,F66,F110,F122,F134,F146,F162) -> 70.265983 | G3: =SUM(G21,G34,G51,G66,G110,G122,G134,G146,G162) -> 143.10928 | H3: =SUM(H21,H34,H51,H66,H110,H122,H134,H146,H162) -> 152.85033 | I3: =SUM(I21,I34,I51,I66,I110,I122,I134,I146,I162) -> 144.06455 | J3: =SUM(J21,J34,J51,J66,J110,J122,J134,J146,J162) -> 112.56308 | ... N3: =SUM(N21,N34,N51,N66,N110,N122,N134,N146,N162) -> 35.291154 | O3: =SUM(C3:N3) -> 1125.7745
A4: PM10 | B4: ton | C4: =SUM(C22,C52,C80,C98) -> 38.817772 | D4: =SUM(D22,D52,D80,D98) -> 31.282944 | E4: =SUM(E22,E52,E80,E98) -> 28.422891 | F4: =SUM(F22,F52,F80,F98) -> 44.003757 | G4: =SUM(G22,G52,G80,G98) -> 85.910593 | H4: =SUM(H22,H52,H80,H98) -> 83.613773 | I4: =SUM(I22,I52,I80,I98) -> 99.941889 | J4: =SUM(J22,J52,J80,J98) -> 119.29595 | ... N4: =SUM(N22,N52,N80,N98) -> 76.543529 | O4: =SUM(C4:N4) -> 917.58215
A5: PM2.5 | B5: ton | C5: =SUM(C23,C53,C87) -> 7.2456049 | D5: =SUM(D23,D53,D87) -> 6.0499067 | E5: =SUM(E23,E53,E87) -> 12.599315 | F5: =SUM(F23,F53,F87) -> 12.794094 | G5: =SUM(G23,G53,G87) -> 43.774046 | H5: =SUM(H23,H53,H87) -> 52.039691 | I5: =SUM(I23,I53,I87) -> 63.268957 | J5: =SUM(J23,J53,J87) -> 42.594099 | ... N5: =SUM(N23,N53,N87) -> 34.531925 | O5: =SUM(C5:N5) -> 395.73364
A6: SOx / SO2 | B6: ton | C6: =SUM(C24,C35,C54,C67,C81,C99,C111,C123,C135,C147,C163) -> 605.09185 | D6: =SUM(D24,D35,D54,D67,D81,D99,D111,D123,D135,D147,D163) -> 787.2416 | E6: =SUM(E24,E35,E54,E67,E81,E99,E111,E123,E135,E147,E163) -> 627.19683 | F6: =SUM(F24,F35,F54,F67,F81,F99,F111,F123,F135,F147,F163) -> 653.88943 | G6: =SUM(G24,G35,G54,G67,G81,G99,G111,G123,G135,G147,G163) -> 1638.6415 | H6: =SUM(H24,H35,H54,H67,H81,H99,H111,H123,H135,H147,H163) -> 1731.2313 | I6: =SUM(I24,I35,I54,I67,I81,I99,I111,I123,I135,I147,I163) -> 1771.571 | J6: =SUM(J24,J35,J54,J67,J81,J99,J111,J123,J135,J147,J163) -> 1554.3058 | ... N6: =SUM(N24,N35,N54,N67,N81,N99,N111,N123,N135,N147,N163) -> 589.3432 | O6: =SUM(C6:N6) -> 13582.767
A7: NOx | B7: ton | C7: =SUM(C25,C36,C55,C68,C82,C103,C112,C124,C136,C148,C164) -> 864.88628 | D7: =SUM(D25,D36,D55,D68,D82,D103,D112,D124,D136,D148,D164) -> 943.15243 | E7: =SUM(E25,E36,E55,E68,E82,E103,E112,E124,E136,E148,E164) -> 993.79177 | F7: =SUM(F25,F36,F55,F68,F82,F103,F112,F124,F136,F148,F164) -> 1308.3313 | G7: =SUM(G25,G36,G55,G68,G82,G103,G112,G124,G136,G148,G164) -> 1937.9315 | H7: =SUM(H25,H36,H55,H68,H82,H103,H112,H124,H136,H148,H164) -> 1883.4585 | I7: =SUM(I25,I36,I55,I68,I82,I103,I112,I124,I136,I148,I164) -> 1699.4167 | J7: =SUM(J25,J36,J55,J68,J82,J103,J112,J124,J136,J148,J164) -> 2028.0259 | ... N7: =SUM(N25,N36,N55,N68,N82,N103,N112,N124,N136,N148,N164) -> 1300.8816 | O7: =SUM(C7:N7) -> 18575.534
A8: VOC | B8: ton | C8: =SUM(C26,C37,C56,C69,C83,C100,C113,C125,C137,C149,C165) -> 10.165432 | D8: =SUM(D26,D37,D56,D69,D83,D100,D113,D125,D137,D149,D165) -> 11.9468 | E8: =SUM(E26,E37,E56,E69,E83,E100,E113,E125,E137,E149,E165) -> 10.835373 | F8: =SUM(F26,F37,F56,F69,F83,F100,F113,F125,F137,F149,F165) -> 12.246592 | G8: =SUM(G26,G37,G56,G69,G83,G100,G113,G125,G137,G149,G165) -> 18.821101 | H8: =SUM(H26,H37,H56,H69,H83,H100,H113,H125,H137,H149,H165) -> 17.923471 | I8: =SUM(I26,I37,I56,I69,I83,I100,I113,I125,I137,I149,I165) -> 17.08179 | J8: =SUM(J26,J37,J56,J69,J83,J100,J113,J125,J137,J149,J165) -> 20.055159 | ... N8: =SUM(N26,N37,N56,N69,N83,N100,N113,N125,N137,N149,N165) -> 8.7986631 | O8: =SUM(C8:N8) -> 174.26785
A9: CO | B9: ton | C9: =SUM(C27,C38,C57,C70,C84,C104,C114,C126,C138,C150,C166) -> 67.58645 | D9: =SUM(D27,D38,D57,D70,D84,D104,D114,D126,D138,D150,D166) -> 76.418096 | E9: =SUM(E27,E38,E57,E70,E84,E104,E114,E126,E138,E150,E166) -> 72.075614 | F9: =SUM(F27,F38,F57,F70,F84,F104,F114,F126,F138,F150,F166) -> 65.296343 | G9: =SUM(G27,G38,G57,G70,G84,G104,G114,G126,G138,G150,G166) -> 95.455825 | H9: =SUM(H27,H38,H57,H70,H84,H104,H114,H126,H138,H150,H166) -> 107.42048 | I9: =SUM(I27,I38,I57,I70,I84,I104,I114,I126,I138,I150,I166) -> 100.81236 | J9: =SUM(J27,J38,J57,J70,J84,J104,J114,J126,J138,J150,J166) -> 103.81813 | ... N9: =SUM(N27,N38,N57,N70,N84,N104,N114,N126,N138,N150,N166) -> 44.400374 | O9: =SUM(C9:N9) -> 981.49414
A10: H2SO4 | B10: ton | C10: =SUM(C28,C58,C88) -> 22.898739 | D10: =SUM(D28,D58,D88) -> 14.961382 | E10: =SUM(E28,E58,E88) -> 8.5451602 | F10: =SUM(F28,F58,F88) -> 12.85267 | G10: =SUM(G28,G58,G88) -> 36.439802 | H10: =SUM(H28,H58,H88) -> 38.935319 | I10: =SUM(I28,I58,I88) -> 48.040728 | J10: =SUM(J28,J58,J88) -> 43.493338 | ... N10: =SUM(N28,N58,N88) -> 15.135823 | O10: =SUM(C10:N10) -> 340.49569
A11: Pb | B11: ton | C11: =SUM(C29,C39,C59,C71,C85,C101,C115,C127,C139,C151,C167) -> 0.023863894 | D11: =SUM(D29,D39,D59,D71,D85,D101,D115,D127,D139,D151,D167) -> 0.026869408 | E11: =SUM(E29,E39,E59,E71,E85,E101,E115,E127,E139,E151,E167) -> 0.022720709 | F11: =SUM(F29,F39,F59,F71,F85,F101,F115,F127,F139,F151,F167) -> 0.029617549 | G11: =SUM(G29,G39,G59,G71,G85,G101,G115,G127,G139,G151,G167) -> 0.048446987 | H11: =SUM(H29,H39,H59,H71,H85,H101,H115,H127,H139,H151,H167) -> 0.041060407 | I11: =SUM(I29,I39,I59,I71,I85,I101,I115,I127,I139,I151,I167) -> 0.036940288 | J11: =SUM(J29,J39,J59,J71,J85,J101,J115,J127,J139,J151,J167) -> 0.047334262 | ... N11: =SUM(N29,N39,N59,N71,N85,N101,N115,N127,N139,N151,N167) -> 0.021782722 | O11: =SUM(C11:N11) -> 0.41052333
A12: CO2e | B12: ton | C12: =SUM(C30,C40,C60,C72,C86,C102,C116,C128,C140,C152,C168) -> 444908.22 | D12: =SUM(D30,D40,D60,D72,D86,D102,D116,D128,D140,D152,D168) -> 479252.01 | E12: =SUM(E30,E40,E60,E72,E86,E102,E116,E128,E140,E152,E168) -> 486809.35 | F12: =SUM(F30,F40,F60,F72,F86,F102,F116,F128,F140,F152,F168) -> 547154.63 | G12: =SUM(G30,G40,G60,G72,G86,G102,G116,G128,G140,G152,G168) -> 860662.93 | H12: =SUM(H30,H40,H60,H72,H86,H102,H116,H128,H140,H152,H168) -> 884961.83 | I12: =SUM(I30,I40,I60,I72,I86,I102,I116,I128,I140,I152,I168) -> 849299.91 | J12: =SUM(J30,J40,J60,J72,J86,J102,J116,J128,J140,J152,J168) -> 889219.36 | ... N12: =SUM(N30,N40,N60,N72,N86,N102,N116,N128,N140,N152,N168) -> 521603.59 | O12: =SUM(C12:N12) -> 8290042
A13: Detalle por instalación: entradas mensuales y emisiones calculadas
A14: Costa Sur 5 y 6
A15: CS5 combustible #6 | B15: gal | C15: ='Costa Sur'!$D$5 -> 0 | D15: ='Costa Sur'!$D$6 -> 1867.74 | E15: ='Costa Sur'!$D$7 -> 0 | F15: ='Costa Sur'!$D$8 -> 789179.16 | G15: ='Costa Sur'!$D$9 -> 10722632 | H15: ='Costa Sur'!$D$10 -> 4873351.1 | I15: ='Costa Sur'!$D$11 -> 5422408.3 | J15: ='Costa Sur'!$D$12 -> 6083690.3 | K15: ='Costa Sur'!$D$13 -> 6636131.5 | L15: ='Costa Sur'!$D$14 -> 2387110.3 | M15: ='Costa Sur'!$D$15 -> 310128 | N15: ='Costa Sur'!$D$16 -> 567774.9 | O15: =SUM(C15:N15) -> 37794273
A16: CS5 gas natural | B16: SCF | C16: ='Costa Sur'!$B$42 -> 0 | D16: ='Costa Sur'!$B$43 -> 71709 | E16: ='Costa Sur'!$B$44 -> 853651500 | F16: ='Costa Sur'!$B$45 -> 1876856600 | G16: ='Costa Sur'!$B$46 -> 265688800 | H16: ='Costa Sur'!$B$47 -> 785814100 | I16: ='Costa Sur'!$B$48 -> 732909900 | J16: ='Costa Sur'!$B$49 -> 903647500 | K16: ='Costa Sur'!$B$50 -> 1024263900 | L16: ='Costa Sur'!$B$51 -> 1398501544 | M16: ='Costa Sur'!$B$52 -> 1.8883079e+09 | N16: ='Costa Sur'!$B$53 -> 1.3985341e+09 | O16: =SUM(C16:N16) -> 1.1128248e+10
A17: CS5 azufre #6 | B17: % peso | C17: ='Costa Sur'!$H$5 -> 0.5 | D17: ='Costa Sur'!$H$6 -> 0.5 | E17: ='Costa Sur'!$H$7 -> 0.49 | F17: ='Costa Sur'!$H$8 -> 0.49 | G17: ='Costa Sur'!$H$9 -> 0.49 | H17: ='Costa Sur'!$H$10 -> 0.49 | I17: ='Costa Sur'!$H$11 -> 0.5 | J17: ='Costa Sur'!$H$12 -> 0.5 | K17: ='Costa Sur'!$H$13 -> 0.5 | L17: ='Costa Sur'!$H$14 -> 0.49 | M17: ='Costa Sur'!$H$15 -> 0.49 | N17: ='Costa Sur'!$H$16 -> 0.49 | O17: =IF(O15=0,0,SUMPRODUCT(C17:N17,C15:N15)/O15) -> 0.49480075
A18: CS6 combustible #6 | B18: gal | C18: ='Costa Sur'!$E$5 -> 0 | D18: ='Costa Sur'!$E$6 -> 0 | E18: ='Costa Sur'!$E$7 -> 0 | F18: ='Costa Sur'!$E$8 -> 0 | G18: ='Costa Sur'!$E$9 -> 3992586.8 | H18: ='Costa Sur'!$E$10 -> 10911365 | I18: ='Costa Sur'!$E$11 -> 14119245 | J18: ='Costa Sur'!$E$12 -> 4551498.8 | K18: ='Costa Sur'!$E$13 -> 9927512.3 | L18: ='Costa Sur'!$E$14 -> 7214789.4 | M18: ='Costa Sur'!$E$15 -> 2486694 | N18: ='Costa Sur'!$E$16 -> 7663387.2 | O18: =SUM(C18:N18) -> 60867079
A19: CS6 gas natural | B19: SCF | C19: ='Costa Sur'!$C$42 -> 274565 | D19: ='Costa Sur'!$C$43 -> 0 | E19: ='Costa Sur'!$C$44 -> 0 | F19: ='Costa Sur'!$C$45 -> 0 | G19: ='Costa Sur'!$C$46 -> 369161400 | H19: ='Costa Sur'!$C$47 -> 554304900 | I19: ='Costa Sur'!$C$48 -> 63152000 | J19: ='Costa Sur'!$C$49 -> 892527600 | K19: ='Costa Sur'!$C$50 -> 587255900 | L19: ='Costa Sur'!$C$51 -> 1190046839 | M19: ='Costa Sur'!$C$52 -> 1.6569967e+09 | N19: ='Costa Sur'!$C$53 -> 8.4058776e+08 | O19: =SUM(C19:N19) -> 6.1543077e+09
A20: CS6 azufre #6 | B20: % peso | C20: ='Costa Sur'!$I$5 -> 0.5 | D20: ='Costa Sur'!$I$6 -> 0.5 | E20: ='Costa Sur'!$I$7 -> 0.49 | F20: ='Costa Sur'!$I$8 -> 0.49 | G20: ='Costa Sur'!$I$9 -> 0.49 | H20: ='Costa Sur'!$I$10 -> 0.49 | I20: ='Costa Sur'!$I$11 -> 0.5 | J20: ='Costa Sur'!$I$12 -> 0.5 | K20: ='Costa Sur'!$I$13 -> 0.5 | L20: ='Costa Sur'!$I$14 -> 0.49 | M20: ='Costa Sur'!$I$15 -> 0.49 | N20: ='Costa Sur'!$I$16 -> 0.49 | O20: =IF(O18=0,0,SUMPRODUCT(C20:N20,C18:N18)/O18) -> 0.49469848
A21: PM | B21: ton | C21: =((((C15)*'CS 5'!$E$38*'CS 5'!$H$38+(C16)*'CS 5'!$O$38*'CS 5'!$R$38/1000000)/2000))+((((C18)*'CS6'!$E$38*'CS6'!$H$38+(C19)*'CS6'!$O$38*'CS6'!$R$38/1000000)/2000)) -> 0.000713869 | D21: =((((D15)*'CS 5'!$E$38*'CS 5'!$H$38+(D16)*'CS 5'!$O$38*'CS 5'!$R$38/1000000)/2000))+((((D18)*'CS6'!$E$38*'CS6'!$H$38+(D19)*'CS6'!$O$38*'CS6'!$R$38/1000000)/2000)) -> 0.0040386572 | E21: =((((E15)*'CS 5'!$E$38*'CS 5'!$H$38+(E16)*'CS 5'!$O$38*'CS 5'!$R$38/1000000)/2000))+((((E18)*'CS6'!$E$38*'CS6'!$H$38+(E19)*'CS6'!$O$38*'CS6'!$R$38/1000000)/2000)) -> 2.2194939 | F21: =((((F15)*'CS 5'!$E$38*'CS 5'!$H$38+(F16)*'CS 5'!$O$38*'CS 5'!$R$38/1000000)/2000))+((((F18)*'CS6'!$E$38*'CS6'!$H$38+(F19)*'CS6'!$O$38*'CS6'!$R$38/1000000)/2000)) -> 6.5075092 | G21: =((((G15)*'CS 5'!$E$38*'CS 5'!$H$38+(G16)*'CS 5'!$O$38*'CS 5'!$R$38/1000000)/2000))+((((G18)*'CS6'!$E$38*'CS6'!$H$38+(G19)*'CS6'!$O$38*'CS6'!$R$38/1000000)/2000)) -> 32.000748 | H21: =((((H15)*'CS 5'!$E$38*'CS 5'!$H$38+(H16)*'CS 5'!$O$38*'CS 5'!$R$38/1000000)/2000))+((((H18)*'CS6'!$E$38*'CS6'!$H$38+(H19)*'CS6'!$O$38*'CS6'!$R$38/1000000)/2000)) -> 36.040287 | I21: =((((I15)*'CS 5'!$E$38*'CS 5'!$H$38+(I16)*'CS 5'!$O$38*'CS 5'!$R$38/1000000)/2000))+((((I18)*'CS6'!$E$38*'CS6'!$H$38+(I19)*'CS6'!$O$38*'CS6'!$R$38/1000000)/2000)) -> 42.374421 | J21: =((((J15)*'CS 5'!$E$38*'CS 5'!$H$38+(J16)*'CS 5'!$O$38*'CS 5'!$R$38/1000000)/2000))+((((J18)*'CS6'!$E$38*'CS6'!$H$38+(J19)*'CS6'!$O$38*'CS6'!$R$38/1000000)/2000)) -> 26.605133 | ... N21: =((((N15)*'CS 5'!$E$38*'CS 5'!$H$38+(N16)*'CS 5'!$O$38*'CS 5'!$R$38/1000000)/2000))+((((N18)*'CS6'!$E$38*'CS6'!$H$38+(N19)*'CS6'!$O$38*'CS6'!$R$38/1000000)/2000)) -> 22.798489 | O21: =SUM(C21:N21) -> 248.42368
A22: PM10 | B22: ton | C22: =((((C15)*'CS 5'!$E$44*'CS 5'!$H$44+(C16)*'CS 5'!$O$44*'CS 5'!$R$44/1000000)/2000))+((((C18)*'CS6'!$E$44*'CS6'!$H$44+(C19)*'CS6'!$O$44*'CS6'!$R$44/1000000)/2000)) -> 0.0011564678 | D22: =((((D15)*'CS 5'!$E$44*'CS 5'!$H$44+(D16)*'CS 5'!$O$44*'CS 5'!$R$44/1000000)/2000))+((((D18)*'CS6'!$E$44*'CS6'!$H$44+(D19)*'CS6'!$O$44*'CS6'!$R$44/1000000)/2000)) -> 0.0059052583 | E22: =((((E15)*'CS 5'!$E$44*'CS 5'!$H$44+(E16)*'CS 5'!$O$44*'CS 5'!$R$44/1000000)/2000))+((((E18)*'CS6'!$E$44*'CS6'!$H$44+(E19)*'CS6'!$O$44*'CS6'!$R$44/1000000)/2000)) -> 3.5955801 | F22: =((((F15)*'CS 5'!$E$44*'CS 5'!$H$44+(F16)*'CS 5'!$O$44*'CS 5'!$R$44/1000000)/2000))+((((F18)*'CS6'!$E$44*'CS6'!$H$44+(F19)*'CS6'!$O$44*'CS6'!$R$44/1000000)/2000)) -> 10.272857 | G22: =((((G15)*'CS 5'!$E$44*'CS 5'!$H$44+(G16)*'CS 5'!$O$44*'CS 5'!$R$44/1000000)/2000))+((((G18)*'CS6'!$E$44*'CS6'!$H$44+(G19)*'CS6'!$O$44*'CS6'!$R$44/1000000)/2000)) -> 46.819644 | H22: =((((H15)*'CS 5'!$E$44*'CS 5'!$H$44+(H16)*'CS 5'!$O$44*'CS 5'!$R$44/1000000)/2000))+((((H18)*'CS6'!$E$44*'CS6'!$H$44+(H19)*'CS6'!$O$44*'CS6'!$R$44/1000000)/2000)) -> 52.99873 | I22: =((((I15)*'CS 5'!$E$44*'CS 5'!$H$44+(I16)*'CS 5'!$O$44*'CS 5'!$R$44/1000000)/2000))+((((I18)*'CS6'!$E$44*'CS6'!$H$44+(I19)*'CS6'!$O$44*'CS6'!$R$44/1000000)/2000)) -> 61.977973 | J22: =((((J15)*'CS 5'!$E$44*'CS 5'!$H$44+(J16)*'CS 5'!$O$44*'CS 5'!$R$44/1000000)/2000))+((((J18)*'CS6'!$E$44*'CS6'!$H$44+(J19)*'CS6'!$O$44*'CS6'!$R$44/1000000)/2000)) -> 39.471057 | ... N22: =((((N15)*'CS 5'!$E$44*'CS 5'!$H$44+(N16)*'CS 5'!$O$44*'CS 5'!$R$44/1000000)/2000))+((((N18)*'CS6'!$E$44*'CS6'!$H$44+(N19)*'CS6'!$O$44*'CS6'!$R$44/1000000)/2000)) -> 34.124667 | O22: =SUM(C22:N22) -> 368.77818
A23: PM2.5 | B23: ton | C23: =((((C15)*'CS 5'!$E$50*'CS 5'!$H$50+(C16)*'CS 5'!$O$50*'CS 5'!$R$50/1000000)/2000))+((((C18)*'CS6'!$E$50*'CS6'!$H$50+(C19)*'CS6'!$O$50*'CS6'!$R$50/1000000)/2000)) -> 0.0010708035 | D23: =((((D15)*'CS 5'!$E$50*'CS 5'!$H$50+(D16)*'CS 5'!$O$50*'CS 5'!$R$50/1000000)/2000))+((((D18)*'CS6'!$E$50*'CS6'!$H$50+(D19)*'CS6'!$O$50*'CS6'!$R$50/1000000)/2000)) -> 0.0049023216 | E23: =((((E15)*'CS 5'!$E$50*'CS 5'!$H$50+(E16)*'CS 5'!$O$50*'CS 5'!$R$50/1000000)/2000))+((((E18)*'CS6'!$E$50*'CS6'!$H$50+(E19)*'CS6'!$O$50*'CS6'!$R$50/1000000)/2000)) -> 3.3292409 | F23: =((((F15)*'CS 5'!$E$50*'CS 5'!$H$50+(F16)*'CS 5'!$O$50*'CS 5'!$R$50/1000000)/2000))+((((F18)*'CS6'!$E$50*'CS6'!$H$50+(F19)*'CS6'!$O$50*'CS6'!$R$50/1000000)/2000)) -> 9.2729592 | G23: =((((G15)*'CS 5'!$E$50*'CS 5'!$H$50+(G16)*'CS 5'!$O$50*'CS 5'!$R$50/1000000)/2000))+((((G18)*'CS6'!$E$50*'CS6'!$H$50+(G19)*'CS6'!$O$50*'CS6'!$R$50/1000000)/2000)) -> 38.896081 | H23: =((((H15)*'CS 5'!$E$50*'CS 5'!$H$50+(H16)*'CS 5'!$O$50*'CS 5'!$R$50/1000000)/2000))+((((H18)*'CS6'!$E$50*'CS6'!$H$50+(H19)*'CS6'!$O$50*'CS6'!$R$50/1000000)/2000)) -> 44.293637 | I23: =((((I15)*'CS 5'!$E$50*'CS 5'!$H$50+(I16)*'CS 5'!$O$50*'CS 5'!$R$50/1000000)/2000))+((((I18)*'CS6'!$E$50*'CS6'!$H$50+(I19)*'CS6'!$O$50*'CS6'!$R$50/1000000)/2000)) -> 51.470233 | J23: =((((J15)*'CS 5'!$E$50*'CS 5'!$H$50+(J16)*'CS 5'!$O$50*'CS 5'!$R$50/1000000)/2000))+((((J18)*'CS6'!$E$50*'CS6'!$H$50+(J19)*'CS6'!$O$50*'CS6'!$R$50/1000000)/2000)) -> 33.327176 | ... N23: =((((N15)*'CS 5'!$E$50*'CS 5'!$H$50+(N16)*'CS 5'!$O$50*'CS 5'!$R$50/1000000)/2000))+((((N18)*'CS6'!$E$50*'CS6'!$H$50+(N19)*'CS6'!$O$50*'CS6'!$R$50/1000000)/2000)) -> 29.104701 | O23: =SUM(C23:N23) -> 311.58881
A24: SOx / SO2 | B24: ton | C24: =((((C15)*((157)*C17)/'CS 5'!$H$57+(C16)*'CS 5'!$O$56*'CS 5'!$R$56/1000000)/2000))+((((C18)*((157)*C20)/'CS6'!$H$57+(C19)*'CS6'!$O$56*'CS6'!$R$56/1000000)/2000)) -> 0.0005710952 | D24: =((((D15)*((157)*D17)/'CS 5'!$H$57+(D16)*'CS 5'!$O$56*'CS 5'!$R$56/1000000)/2000))+((((D18)*((157)*D20)/'CS6'!$H$57+(D19)*'CS6'!$O$56*'CS6'!$R$56/1000000)/2000)) -> 0.07345795 | E24: =((((E15)*((157)*E17)/'CS 5'!$H$57+(E16)*'CS 5'!$O$56*'CS 5'!$R$56/1000000)/2000))+((((E18)*((157)*E20)/'CS6'!$H$57+(E19)*'CS6'!$O$56*'CS6'!$R$56/1000000)/2000)) -> 1.7755951 | F24: =((((F15)*((157)*F17)/'CS 5'!$H$57+(F16)*'CS 5'!$O$56*'CS 5'!$R$56/1000000)/2000))+((((F18)*((157)*F20)/'CS6'!$H$57+(F19)*'CS6'!$O$56*'CS6'!$R$56/1000000)/2000)) -> 34.259638 | G24: =((((G15)*((157)*G17)/'CS 5'!$H$57+(G16)*'CS 5'!$O$56*'CS 5'!$R$56/1000000)/2000))+((((G18)*((157)*G20)/'CS6'!$H$57+(G19)*'CS6'!$O$56*'CS6'!$R$56/1000000)/2000)) -> 567.34136 | H24: =((((H15)*((157)*H17)/'CS 5'!$H$57+(H16)*'CS 5'!$O$56*'CS 5'!$R$56/1000000)/2000))+((((H18)*((157)*H20)/'CS6'!$H$57+(H19)*'CS6'!$O$56*'CS6'!$R$56/1000000)/2000)) -> 609.94656 | I24: =((((I15)*((157)*I17)/'CS 5'!$H$57+(I16)*'CS 5'!$O$56*'CS 5'!$R$56/1000000)/2000))+((((I18)*((157)*I20)/'CS6'!$H$57+(I19)*'CS6'!$O$56*'CS6'!$R$56/1000000)/2000)) -> 768.6657 | J24: =((((J15)*((157)*J17)/'CS 5'!$H$57+(J16)*'CS 5'!$O$56*'CS 5'!$R$56/1000000)/2000))+((((J18)*((157)*J20)/'CS6'!$H$57+(J19)*'CS6'!$O$56*'CS6'!$R$56/1000000)/2000)) -> 421.16722 | ... N24: =((((N15)*((157)*N17)/'CS 5'!$H$57+(N16)*'CS 5'!$O$56*'CS 5'!$R$56/1000000)/2000))+((((N18)*((157)*N20)/'CS6'!$H$57+(N19)*'CS6'!$O$56*'CS6'!$R$56/1000000)/2000)) -> 321.26902 | O24: =SUM(C24:N24) -> 3867.6494
A25: NOx | B25: ton | C25: =((((C15)*'CS 5'!$E$20*'CS 5'!$H$20+(C16)*'CS 5'!$O$20*'CS 5'!$R$20/1000000)/2000))+((((C18)*'CS6'!$E$20*'CS6'!$H$20+(C19)*'CS6'!$O$20*'CS6'!$R$20/1000000)/2000)) -> 0.04997083 | D25: =((((D15)*'CS 5'!$E$20*'CS 5'!$H$20+(D16)*'CS 5'!$O$20*'CS 5'!$R$20/1000000)/2000))+((((D18)*'CS6'!$E$20*'CS6'!$H$20+(D19)*'CS6'!$O$20*'CS6'!$R$20/1000000)/2000)) -> 0.062079213 | E25: =((((E15)*'CS 5'!$E$20*'CS 5'!$H$20+(E16)*'CS 5'!$O$20*'CS 5'!$R$20/1000000)/2000))+((((E18)*'CS6'!$E$20*'CS6'!$H$20+(E19)*'CS6'!$O$20*'CS6'!$R$20/1000000)/2000)) -> 155.36457 | F25: =((((F15)*'CS 5'!$E$20*'CS 5'!$H$20+(F16)*'CS 5'!$O$20*'CS 5'!$R$20/1000000)/2000))+((((F18)*'CS6'!$E$20*'CS6'!$H$20+(F19)*'CS6'!$O$20*'CS6'!$R$20/1000000)/2000)) -> 362.30385 | G25: =((((G15)*'CS 5'!$E$20*'CS 5'!$H$20+(G16)*'CS 5'!$O$20*'CS 5'!$R$20/1000000)/2000))+((((G18)*'CS6'!$E$20*'CS6'!$H$20+(G19)*'CS6'!$O$20*'CS6'!$R$20/1000000)/2000)) -> 501.81722 | H25: =((((H15)*'CS 5'!$E$20*'CS 5'!$H$20+(H16)*'CS 5'!$O$20*'CS 5'!$R$20/1000000)/2000))+((((H18)*'CS6'!$E$20*'CS6'!$H$20+(H19)*'CS6'!$O$20*'CS6'!$R$20/1000000)/2000)) -> 658.25046 | I25: =((((I15)*'CS 5'!$E$20*'CS 5'!$H$20+(I16)*'CS 5'!$O$20*'CS 5'!$R$20/1000000)/2000))+((((I18)*'CS6'!$E$20*'CS6'!$H$20+(I19)*'CS6'!$O$20*'CS6'!$R$20/1000000)/2000)) -> 657.85167 | J25: =((((J15)*'CS 5'!$E$20*'CS 5'!$H$20+(J16)*'CS 5'!$O$20*'CS 5'!$R$20/1000000)/2000))+((((J18)*'CS6'!$E$20*'CS6'!$H$20+(J19)*'CS6'!$O$20*'CS6'!$R$20/1000000)/2000)) -> 606.07758 | ... N25: =((((N15)*'CS 5'!$E$20*'CS 5'!$H$20+(N16)*'CS 5'!$O$20*'CS 5'!$R$20/1000000)/2000))+((((N18)*'CS6'!$E$20*'CS6'!$H$20+(N19)*'CS6'!$O$20*'CS6'!$R$20/1000000)/2000)) -> 623.58817 | O25: =SUM(C25:N25) -> 5735.2855
A26: VOC | B26: ton | C26: =((((C15)*'CS 5'!$E$32*'CS 5'!$H$32+(C16)*'CS 5'!$O$32*'CS 5'!$R$32/1000000)/2000))+((((C18)*'CS6'!$E$32*'CS6'!$H$32+(C19)*'CS6'!$O$32*'CS6'!$R$32/1000000)/2000)) -> 0.00011421904 | D26: =((((D15)*'CS 5'!$E$32*'CS 5'!$H$32+(D16)*'CS 5'!$O$32*'CS 5'!$R$32/1000000)/2000))+((((D18)*'CS6'!$E$32*'CS6'!$H$32+(D19)*'CS6'!$O$32*'CS6'!$R$32/1000000)/2000)) -> 0.00021193559 | E26: =((((E15)*'CS 5'!$E$32*'CS 5'!$H$32+(E16)*'CS 5'!$O$32*'CS 5'!$R$32/1000000)/2000))+((((E18)*'CS6'!$E$32*'CS6'!$H$32+(E19)*'CS6'!$O$32*'CS6'!$R$32/1000000)/2000)) -> 0.35511902 | F26: =((((F15)*'CS 5'!$E$32*'CS 5'!$H$32+(F16)*'CS 5'!$O$32*'CS 5'!$R$32/1000000)/2000))+((((F18)*'CS6'!$E$32*'CS6'!$H$32+(F19)*'CS6'!$O$32*'CS6'!$R$32/1000000)/2000)) -> 0.85771731 | G26: =((((G15)*'CS 5'!$E$32*'CS 5'!$H$32+(G16)*'CS 5'!$O$32*'CS 5'!$R$32/1000000)/2000))+((((G18)*'CS6'!$E$32*'CS6'!$H$32+(G19)*'CS6'!$O$32*'CS6'!$R$32/1000000)/2000)) -> 1.6988315 | H26: =((((H15)*'CS 5'!$E$32*'CS 5'!$H$32+(H16)*'CS 5'!$O$32*'CS 5'!$R$32/1000000)/2000))+((((H18)*'CS6'!$E$32*'CS6'!$H$32+(H19)*'CS6'!$O$32*'CS6'!$R$32/1000000)/2000)) -> 2.0964993 | I26: =((((I15)*'CS 5'!$E$32*'CS 5'!$H$32+(I16)*'CS 5'!$O$32*'CS 5'!$R$32/1000000)/2000))+((((I18)*'CS6'!$E$32*'CS6'!$H$32+(I19)*'CS6'!$O$32*'CS6'!$R$32/1000000)/2000)) -> 2.2364729 | J26: =((((J15)*'CS 5'!$E$32*'CS 5'!$H$32+(J16)*'CS 5'!$O$32*'CS 5'!$R$32/1000000)/2000))+((((J18)*'CS6'!$E$32*'CS6'!$H$32+(J19)*'CS6'!$O$32*'CS6'!$R$32/1000000)/2000)) -> 1.7841398 | ... N26: =((((N15)*'CS 5'!$E$32*'CS 5'!$H$32+(N16)*'CS 5'!$O$32*'CS 5'!$R$32/1000000)/2000))+((((N18)*'CS6'!$E$32*'CS6'!$H$32+(N19)*'CS6'!$O$32*'CS6'!$R$32/1000000)/2000)) -> 1.734013 | O26: =SUM(C26:N26) -> 16.809025
A27: CO | B27: ton | C27: =((((C15)*'CS 5'!$E$26*'CS 5'!$H$26+(C16)*'CS 5'!$O$26*'CS 5'!$R$26/1000000)/2000))+((((C18)*'CS6'!$E$26*'CS6'!$H$26+(C19)*'CS6'!$O$26*'CS6'!$R$26/1000000)/2000)) -> 0.0012849642 | D27: =((((D15)*'CS 5'!$E$26*'CS 5'!$H$26+(D16)*'CS 5'!$O$26*'CS 5'!$R$26/1000000)/2000))+((((D18)*'CS6'!$E$26*'CS6'!$H$26+(D19)*'CS6'!$O$26*'CS6'!$R$26/1000000)/2000)) -> 0.00086790402 | E27: =((((E15)*'CS 5'!$E$26*'CS 5'!$H$26+(E16)*'CS 5'!$O$26*'CS 5'!$R$26/1000000)/2000))+((((E18)*'CS6'!$E$26*'CS6'!$H$26+(E19)*'CS6'!$O$26*'CS6'!$R$26/1000000)/2000)) -> 3.995089 | F27: =((((F15)*'CS 5'!$E$26*'CS 5'!$H$26+(F16)*'CS 5'!$O$26*'CS 5'!$R$26/1000000)/2000))+((((F18)*'CS6'!$E$26*'CS6'!$H$26+(F19)*'CS6'!$O$26*'CS6'!$R$26/1000000)/2000)) -> 9.0086049 | G27: =((((G15)*'CS 5'!$E$26*'CS 5'!$H$26+(G16)*'CS 5'!$O$26*'CS 5'!$R$26/1000000)/2000))+((((G18)*'CS6'!$E$26*'CS6'!$H$26+(G19)*'CS6'!$O$26*'CS6'!$R$26/1000000)/2000)) -> 7.1649361 | H27: =((((H15)*'CS 5'!$E$26*'CS 5'!$H$26+(H16)*'CS 5'!$O$26*'CS 5'!$R$26/1000000)/2000))+((((H18)*'CS6'!$E$26*'CS6'!$H$26+(H19)*'CS6'!$O$26*'CS6'!$R$26/1000000)/2000)) -> 10.770401 | I27: =((((I15)*'CS 5'!$E$26*'CS 5'!$H$26+(I16)*'CS 5'!$O$26*'CS 5'!$R$26/1000000)/2000))+((((I18)*'CS6'!$E$26*'CS6'!$H$26+(I19)*'CS6'!$O$26*'CS6'!$R$26/1000000)/2000)) -> 9.2949409 | J27: =((((J15)*'CS 5'!$E$26*'CS 5'!$H$26+(J16)*'CS 5'!$O$26*'CS 5'!$R$26/1000000)/2000))+((((J18)*'CS6'!$E$26*'CS6'!$H$26+(J19)*'CS6'!$O$26*'CS6'!$R$26/1000000)/2000)) -> 11.437128 | ... N27: =((((N15)*'CS 5'!$E$26*'CS 5'!$H$26+(N16)*'CS 5'!$O$26*'CS 5'!$R$26/1000000)/2000))+((((N18)*'CS6'!$E$26*'CS6'!$H$26+(N19)*'CS6'!$O$26*'CS6'!$R$26/1000000)/2000)) -> 12.824971 | O27: =SUM(C27:N27) -> 109.00084
A28: H2SO4 | B28: ton | C28: =((((C15)*'CS 5'!$E$62*'CS 5'!$H$62+(C16)*'CS 5'!$O$62*'CS 5'!$R$62/1000000)/2000))+((((C18)*'CS6'!$E$62*'CS6'!$H$62+(C19)*'CS6'!$O$62*'CS6'!$R$62/1000000)/2000)) -> 6.1392734e-05 | D28: =((((D15)*'CS 5'!$E$62*'CS 5'!$H$62+(D16)*'CS 5'!$O$62*'CS 5'!$R$62/1000000)/2000))+((((D18)*'CS6'!$E$62*'CS6'!$H$62+(D19)*'CS6'!$O$62*'CS6'!$R$62/1000000)/2000)) -> 0.0031804526 | E28: =((((E15)*'CS 5'!$E$62*'CS 5'!$H$62+(E16)*'CS 5'!$O$62*'CS 5'!$R$62/1000000)/2000))+((((E18)*'CS6'!$E$62*'CS6'!$H$62+(E19)*'CS6'!$O$62*'CS6'!$R$62/1000000)/2000)) -> 0.19087648 | F28: =((((F15)*'CS 5'!$E$62*'CS 5'!$H$62+(F16)*'CS 5'!$O$62*'CS 5'!$R$62/1000000)/2000))+((((F18)*'CS6'!$E$62*'CS6'!$H$62+(F19)*'CS6'!$O$62*'CS6'!$R$62/1000000)/2000)) -> 1.7567319 | G28: =((((G15)*'CS 5'!$E$62*'CS 5'!$H$62+(G16)*'CS 5'!$O$62*'CS 5'!$R$62/1000000)/2000))+((((G18)*'CS6'!$E$62*'CS6'!$H$62+(G19)*'CS6'!$O$62*'CS6'!$R$62/1000000)/2000)) -> 25.073211 | H28: =((((H15)*'CS 5'!$E$62*'CS 5'!$H$62+(H16)*'CS 5'!$O$62*'CS 5'!$R$62/1000000)/2000))+((((H18)*'CS6'!$E$62*'CS6'!$H$62+(H19)*'CS6'!$O$62*'CS6'!$R$62/1000000)/2000)) -> 27.042906 | I28: =((((I15)*'CS 5'!$E$62*'CS 5'!$H$62+(I16)*'CS 5'!$O$62*'CS 5'!$R$62/1000000)/2000))+((((I18)*'CS6'!$E$62*'CS6'!$H$62+(I19)*'CS6'!$O$62*'CS6'!$R$62/1000000)/2000)) -> 33.286446 | J28: =((((J15)*'CS 5'!$E$62*'CS 5'!$H$62+(J16)*'CS 5'!$O$62*'CS 5'!$R$62/1000000)/2000))+((((J18)*'CS6'!$E$62*'CS6'!$H$62+(J19)*'CS6'!$O$62*'CS6'!$R$62/1000000)/2000)) -> 18.420294 | ... N28: =((((N15)*'CS 5'!$E$62*'CS 5'!$H$62+(N16)*'CS 5'!$O$62*'CS 5'!$R$62/1000000)/2000))+((((N18)*'CS6'!$E$62*'CS6'!$H$62+(N19)*'CS6'!$O$62*'CS6'!$R$62/1000000)/2000)) -> 14.446314 | O28: =SUM(C28:N28) -> 171.02137
A29: Pb | B29: ton | C29: =((((C15)*'CS 5'!$E$68*'CS 5'!$H$68+(C16)*'CS 5'!$O$68*'CS 5'!$R$68/1000000)/2000))+((((C18)*'CS6'!$E$68*'CS6'!$H$68+(C19)*'CS6'!$O$68*'CS6'!$R$68/1000000)/2000)) -> 0 | D29: =((((D15)*'CS 5'!$E$68*'CS 5'!$H$68+(D16)*'CS 5'!$O$68*'CS 5'!$R$68/1000000)/2000))+((((D18)*'CS6'!$E$68*'CS6'!$H$68+(D19)*'CS6'!$O$68*'CS6'!$R$68/1000000)/2000)) -> 6.4857272e-07 | E29: =((((E15)*'CS 5'!$E$68*'CS 5'!$H$68+(E16)*'CS 5'!$O$68*'CS 5'!$R$68/1000000)/2000))+((((E18)*'CS6'!$E$68*'CS6'!$H$68+(E19)*'CS6'!$O$68*'CS6'!$R$68/1000000)/2000)) -> 0 | F29: =((((F15)*'CS 5'!$E$68*'CS 5'!$H$68+(F16)*'CS 5'!$O$68*'CS 5'!$R$68/1000000)/2000))+((((F18)*'CS6'!$E$68*'CS6'!$H$68+(F19)*'CS6'!$O$68*'CS6'!$R$68/1000000)/2000)) -> 0.00027404246 | G29: =((((G15)*'CS 5'!$E$68*'CS 5'!$H$68+(G16)*'CS 5'!$O$68*'CS 5'!$R$68/1000000)/2000))+((((G18)*'CS6'!$E$68*'CS6'!$H$68+(G19)*'CS6'!$O$68*'CS6'!$R$68/1000000)/2000)) -> 0.0051098595 | H29: =((((H15)*'CS 5'!$E$68*'CS 5'!$H$68+(H16)*'CS 5'!$O$68*'CS 5'!$R$68/1000000)/2000))+((((H18)*'CS6'!$E$68*'CS6'!$H$68+(H19)*'CS6'!$O$68*'CS6'!$R$68/1000000)/2000)) -> 0.0054812428 | I29: =((((I15)*'CS 5'!$E$68*'CS 5'!$H$68+(I16)*'CS 5'!$O$68*'CS 5'!$R$68/1000000)/2000))+((((I18)*'CS6'!$E$68*'CS6'!$H$68+(I19)*'CS6'!$O$68*'CS6'!$R$68/1000000)/2000)) -> 0.0067858391 | J29: =((((J15)*'CS 5'!$E$68*'CS 5'!$H$68+(J16)*'CS 5'!$O$68*'CS 5'!$R$68/1000000)/2000))+((((J18)*'CS6'!$E$68*'CS6'!$H$68+(J19)*'CS6'!$O$68*'CS6'!$R$68/1000000)/2000)) -> 0.0036930694 | ... N29: =((((N15)*'CS 5'!$E$68*'CS 5'!$H$68+(N16)*'CS 5'!$O$68*'CS 5'!$R$68/1000000)/2000))+((((N18)*'CS6'!$E$68*'CS6'!$H$68+(N19)*'CS6'!$O$68*'CS6'!$R$68/1000000)/2000)) -> 0.002858271 | O29: =SUM(C29:N29) -> 0.034260154
A30: CO2e | B30: ton | C30: =((((C15)*'CS 5'!$E$74+(C16)*'CS 5'!$O$74)/'CS 5'!$H$75))+((((C18)*'CS6'!$E$74+(C19)*'CS6'!$O$74)/'CS6'!$H$75)) -> 16.541688 | D30: =((((D15)*'CS 5'!$E$74+(D16)*'CS 5'!$O$74)/'CS 5'!$H$75))+((((D18)*'CS6'!$E$74+(D19)*'CS6'!$O$74)/'CS6'!$H$75)) -> 28.243835 | E30: =((((E15)*'CS 5'!$E$74+(E16)*'CS 5'!$O$74)/'CS 5'!$H$75))+((((E18)*'CS6'!$E$74+(E19)*'CS6'!$O$74)/'CS6'!$H$75)) -> 51429.849 | F30: =((((F15)*'CS 5'!$E$74+(F16)*'CS 5'!$O$74)/'CS 5'!$H$75))+((((F18)*'CS6'!$E$74+(F19)*'CS6'!$O$74)/'CS6'!$H$75)) -> 123183.25 | G30: =((((G15)*'CS 5'!$E$74+(G16)*'CS 5'!$O$74)/'CS 5'!$H$75))+((((G18)*'CS6'!$E$74+(G19)*'CS6'!$O$74)/'CS6'!$H$75)) -> 226732.69 | H30: =((((H15)*'CS 5'!$E$74+(H16)*'CS 5'!$O$74)/'CS 5'!$H$75))+((((H18)*'CS6'!$E$74+(H19)*'CS6'!$O$74)/'CS6'!$H$75)) -> 282921.98 | I30: =((((I15)*'CS 5'!$E$74+(I16)*'CS 5'!$O$74)/'CS 5'!$H$75))+((((I18)*'CS6'!$E$74+(I19)*'CS6'!$O$74)/'CS6'!$H$75)) -> 298266.25 | J30: =((((J15)*'CS 5'!$E$74+(J16)*'CS 5'!$O$74)/'CS 5'!$H$75))+((((J18)*'CS6'!$E$74+(J19)*'CS6'!$O$74)/'CS6'!$H$75)) -> 244438.45 | ... N30: =((((N15)*'CS 5'!$E$74+(N16)*'CS 5'!$O$74)/'CS 5'!$H$75))+((((N18)*'CS6'!$E$74+(N19)*'CS6'!$O$74)/'CS6'!$H$75)) -> 240331.8 | O30: =SUM(C30:N30) -> 2304958.1
A31: Costa Sur turbinas 1-1 y 1-2
A32: Combustible #2 | B32: gal | C32: =SUM('Costa Sur'!$B$24,'Costa Sur'!$C$24) -> 0 | D32: =SUM('Costa Sur'!$B$25,'Costa Sur'!$C$25) -> 0 | E32: =SUM('Costa Sur'!$B$26,'Costa Sur'!$C$26) -> 0 | F32: =SUM('Costa Sur'!$B$27,'Costa Sur'!$C$27) -> 0 | G32: =SUM('Costa Sur'!$B$28,'Costa Sur'!$C$28) -> 0 | H32: =SUM('Costa Sur'!$B$29,'Costa Sur'!$C$29) -> 0 | I32: =SUM('Costa Sur'!$B$30,'Costa Sur'!$C$30) -> 4650 | J32: =SUM('Costa Sur'!$B$31,'Costa Sur'!$C$31) -> 4931 | K32: =SUM('Costa Sur'!$B$32,'Costa Sur'!$C$32) -> 21642 | L32: =SUM('Costa Sur'!$B$33,'Costa Sur'!$C$33) -> 85390 | M32: =SUM('Costa Sur'!$B$34,'Costa Sur'!$C$34) -> 13630 | N32: =SUM('Costa Sur'!$B$35,'Costa Sur'!$C$35) -> 0 | O32: =SUM(C32:N32) -> 130243
A33: Azufre #2 ponderado | B33: % peso | C33: =IF(C32=0,0,('Costa Sur'!$B$24*'Costa Sur'!$D$24+'Costa Sur'!$C$24*'Costa Sur'!$E$24)/C32) -> 0 | D33: =IF(D32=0,0,('Costa Sur'!$B$25*'Costa Sur'!$D$25+'Costa Sur'!$C$25*'Costa Sur'!$E$25)/D32) -> 0 | E33: =IF(E32=0,0,('Costa Sur'!$B$26*'Costa Sur'!$D$26+'Costa Sur'!$C$26*'Costa Sur'!$E$26)/E32) -> 0 | F33: =IF(F32=0,0,('Costa Sur'!$B$27*'Costa Sur'!$D$27+'Costa Sur'!$C$27*'Costa Sur'!$E$27)/F32) -> 0 | G33: =IF(G32=0,0,('Costa Sur'!$B$28*'Costa Sur'!$D$28+'Costa Sur'!$C$28*'Costa Sur'!$E$28)/G32) -> 0 | H33: =IF(H32=0,0,('Costa Sur'!$B$29*'Costa Sur'!$D$29+'Costa Sur'!$C$29*'Costa Sur'!$E$29)/H32) -> 0 | I33: =IF(I32=0,0,('Costa Sur'!$B$30*'Costa Sur'!$D$30+'Costa Sur'!$C$30*'Costa Sur'!$E$30)/I32) -> 0.0008 | J33: =IF(J32=0,0,('Costa Sur'!$B$31*'Costa Sur'!$D$31+'Costa Sur'!$C$31*'Costa Sur'!$E$31)/J32) -> 0.0008 | K33: =IF(K32=0,0,('Costa Sur'!$B$32*'Costa Sur'!$D$32+'Costa Sur'!$C$32*'Costa Sur'!$E$32)/K32) -> 0.0008 | L33: =IF(L32=0,0,('Costa Sur'!$B$33*'Costa Sur'!$D$33+'Costa Sur'!$C$33*'Costa Sur'!$E$33)/L32) -> 0.0008 | M33: =IF(M32=0,0,('Costa Sur'!$B$34*'Costa Sur'!$D$34+'Costa Sur'!$C$34*'Costa Sur'!$E$34)/M32) -> 0.0008 | N33: =IF(N32=0,0,('Costa Sur'!$B$35*'Costa Sur'!$D$35+'Costa Sur'!$C$35*'Costa Sur'!$E$35)/N32) -> 0 | O33: =IF(O32=0,0,SUMPRODUCT(C33:N33,C32:N32)/O32) -> 0.0008
A34: PM | B34: ton | C34: =('Turbinas CS'!$C$19*(C32)*'Turbinas CS'!$G$19/'Turbinas CS'!$I$20) -> 0 | D34: =('Turbinas CS'!$C$19*(D32)*'Turbinas CS'!$G$19/'Turbinas CS'!$I$20) -> 0 | E34: =('Turbinas CS'!$C$19*(E32)*'Turbinas CS'!$G$19/'Turbinas CS'!$I$20) -> 0 | F34: =('Turbinas CS'!$C$19*(F32)*'Turbinas CS'!$G$19/'Turbinas CS'!$I$20) -> 0 | G34: =('Turbinas CS'!$C$19*(G32)*'Turbinas CS'!$G$19/'Turbinas CS'!$I$20) -> 0 | H34: =('Turbinas CS'!$C$19*(H32)*'Turbinas CS'!$G$19/'Turbinas CS'!$I$20) -> 0 | I34: =('Turbinas CS'!$C$19*(I32)*'Turbinas CS'!$G$19/'Turbinas CS'!$I$20) -> 0.0038502 | J34: =('Turbinas CS'!$C$19*(J32)*'Turbinas CS'!$G$19/'Turbinas CS'!$I$20) -> 0.004082868 | ... N34: =('Turbinas CS'!$C$19*(N32)*'Turbinas CS'!$G$19/'Turbinas CS'!$I$20) -> 0 | O34: =SUM(C34:N34) -> 0.1078412
