Workbook
Name \A: #N/A
Name \B: #N/A

Sheet 2025-Formato 2M
A1: 2025 | B1: Inventario de Emisiones
B2: January | C2: February | D2: March | E2: April | F2: May | G2: June | H2: July | I2: August | J2: September | K2: October | L2: November | M2: December | N2: Total Emisiones (tons/year) | O2: Total Emisiones Permisibles (tons/year)
A3: Pollutant | B3: San Juan | C3: San Juan | D3: San Juan | E3: San Juan | F3: San Juan | G3: San Juan | H3: San Juan | I3: San Juan | J3: San Juan | K3: San Juan | L3: San Juan | M3: San Juan | N3: San Juan | O3: San Juan
A4: PM | B4: ='Mensual 2025'!C52 -> 8.155649 | C4: ='Mensual 2025'!D52 -> 14.957834 | D4: ='Mensual 2025'!E52 -> 20.423651 | E4: ='Mensual 2025'!F52 -> 17.806101 | F4: ='Mensual 2025'!G52 -> 14.278799 | G4: ='Mensual 2025'!H52 -> 18.731875 | H4: ='Mensual 2025'!I52 -> 19.256673 | I4: ='Mensual 2025'!J52 -> 16.162583 | ... M4: ='Mensual 2025'!N52 -> 10.896366 | N4: =SUM(B4:M4) -> 198.26297 | O4: 2946.22
A5: PM10 | B5: ='Mensual 2025'!C53 -> 9.7468946 | C5: ='Mensual 2025'!D53 -> 19.011365 | D5: ='Mensual 2025'!E53 -> 26.118043 | E5: ='Mensual 2025'!F53 -> 22.633104 | F5: ='Mensual 2025'!G53 -> 17.556384 | G5: ='Mensual 2025'!H53 -> 22.67671 | H5: ='Mensual 2025'!I53 -> 23.624255 | I5: ='Mensual 2025'!J53 -> 19.879882 | ... M5: ='Mensual 2025'!N53 -> 13.66397 | N5: =SUM(B5:M5) -> 245.79635 | O5: 1430.51
A6: SO2 | B6: ='Mensual 2025'!C55 -> 48.013777 | C6: ='Mensual 2025'!D55 -> 142.5204 | D6: ='Mensual 2025'!E55 -> 161.59957 | E6: ='Mensual 2025'!F55 -> 142.86692 | F6: ='Mensual 2025'!G55 -> 148.68476 | G6: ='Mensual 2025'!H55 -> 158.54027 | H6: ='Mensual 2025'!I55 -> 135.79835 | I6: ='Mensual 2025'!J55 -> 153.79311 | ... M6: ='Mensual 2025'!N55 -> 115.6882 | N6: =SUM(B6:M6) -> 1611.3022 | O6: 7619.76
A7: NOx | B7: ='Mensual 2025'!C56 -> 67.336217 | C7: ='Mensual 2025'!D56 -> 98.222268 | D7: ='Mensual 2025'!E56 -> 116.43922 | E7: ='Mensual 2025'!F56 -> 108.51106 | F7: ='Mensual 2025'!G56 -> 122.24509 | G7: ='Mensual 2025'!H56 -> 162.38682 | H7: ='Mensual 2025'!I56 -> 145.97317 | I7: ='Mensual 2025'!J56 -> 135.21992 | ... M7: ='Mensual 2025'!N56 -> 91.633878 | N7: =SUM(B7:M7) -> 1479.1188 | O7: 6739.2
A8: CO | B8: ='Mensual 2025'!C58 -> 13.108607 | C8: ='Mensual 2025'!D58 -> 15.725793 | D8: ='Mensual 2025'!E58 -> 16.529173 | E8: ='Mensual 2025'!F58 -> 16.469345 | F8: ='Mensual 2025'!G58 -> 23.437604 | G8: ='Mensual 2025'!H58 -> 31.77438 | H8: ='Mensual 2025'!I58 -> 26.632899 | I8: ='Mensual 2025'!J58 -> 25.677084 | ... M8: ='Mensual 2025'!N58 -> 17.077313 | N8: =SUM(B8:M8) -> 264.31978 | O8: 1654.73
A9: VOC | B9: ='Mensual 2025'!C57 -> 2.1349724 | C9: ='Mensual 2025'!D57 -> 3.4433351 | D9: ='Mensual 2025'!E57 -> 4.8936422 | E9: ='Mensual 2025'!F57 -> 4.2517333 | F9: ='Mensual 2025'!G57 -> 3.2532057 | G9: ='Mensual 2025'!H57 -> 4.5231829 | H9: ='Mensual 2025'!I57 -> 4.7764732 | I9: ='Mensual 2025'!J57 -> 3.7340935 | ... M9: ='Mensual 2025'!N57 -> 2.2933756 | N9: =SUM(B9:M9) -> 47.499901 | O9: 190.7
A10: Pb | B10: ='Mensual 2025'!C60 -> 0.0017665721 | C10: ='Mensual 2025'!D60 -> 0.0044061819 | D10: ='Mensual 2025'!E60 -> 0.0063487831 | E10: ='Mensual 2025'!F60 -> 0.0053468413 | F10: ='Mensual 2025'!G60 -> 0.0034154145 | G10: ='Mensual 2025'!H60 -> 0.0041861589 | H10: ='Mensual 2025'!I60 -> 0.0047914167 | I10: ='Mensual 2025'!J60 -> 0.0039091951 | ... M10: ='Mensual 2025'!N60 -> 0.0028290145 | N10: =SUM(B10:M10) -> 0.051569574 | O10: 3.54
A11: CO2e | B11: ='Mensual 2025'!C61 -> 79568.941 | C11: ='Mensual 2025'!D61 -> 102765.89 | D11: ='Mensual 2025'!E61 -> 126709.73 | E11: ='Mensual 2025'!F61 -> 117800.92 | F11: ='Mensual 2025'!G61 -> 128779 | G11: ='Mensual 2025'!H61 -> 179296.42 | H11: ='Mensual 2025'!I61 -> 164966.97 | I11: ='Mensual 2025'!J61 -> 143894.66 | ... M11: ='Mensual 2025'!N61 -> 90425.488 | N11: =SUM(B11:M11) -> 1618695.1 | O11: N/A
A12: Total | B12: =SUM(B4:B10) -> 148.49788 | C12: =SUM(C4:C10) -> 293.8854 | D12: =SUM(D4:D10) -> 346.00965 | E12: =SUM(E4:E10) -> 312.54361 | F12: =SUM(F4:F10) -> 329.45925 | G12: =SUM(G4:G10) -> 398.63742 | H12: =SUM(H4:H10) -> 356.06661 | I12: =SUM(I4:I10) -> 354.47057 | ... O12: =SUM(O4:O10) -> 20584.66
B14: Palo Seco | C14: Palo Seco | D14: Palo Seco | E14: Palo Seco | F14: Palo Seco | G14: Palo Seco | H14: Palo Seco | I14: Palo Seco | J14: Palo Seco | K14: Palo Seco | L14: Palo Seco | M14: Palo Seco | N14: Palo Seco | O14: Palo Seco
A15: PM10 | B15: ='Mensual 2025'!C81 -> 27.533156 | C15: ='Mensual 2025'!D81 -> 26.025317 | D15: ='Mensual 2025'!E81 -> 27.19635 | E15: ='Mensual 2025'!F81 -> 25.517369 | F15: ='Mensual 2025'!G81 -> 27.700808 | G15: ='Mensual 2025'!H81 -> 18.972897 | H15: ='Mensual 2025'!I81 -> 23.585132 | I15: ='Mensual 2025'!J81 -> 23.014882 | ... M15: ='Mensual 2025'!N81 -> 40.502338 | N15: =SUM(B15:M15) -> 329.04363 | O15: 1387.38
A16: SO2 | B16: ='Mensual 2025'!C82 -> 261.6812 | C16: ='Mensual 2025'!D82 -> 248.523 | D16: ='Mensual 2025'!E82 -> 241.76871 | E16: ='Mensual 2025'!F82 -> 211.44639 | F16: ='Mensual 2025'!G82 -> 264.87306 | G16: ='Mensual 2025'!H82 -> 176.28594 | H16: ='Mensual 2025'!I82 -> 217.12128 | I16: ='Mensual 2025'!J82 -> 205.34919 | ... M16: ='Mensual 2025'!N82 -> 378.00279 | N16: =SUM(B16:M16) -> 3021.0638 | O16: 17464.39
A17: NOx | B17: ='Mensual 2025'!C83 -> 219.90854 | C17: ='Mensual 2025'!D83 -> 194.25978 | D17: ='Mensual 2025'!E83 -> 240.38386 | E17: ='Mensual 2025'!F83 -> 242.68821 | F17: ='Mensual 2025'!G83 -> 200.14771 | G17: ='Mensual 2025'!H83 -> 146.97383 | H17: ='Mensual 2025'!I83 -> 194.22215 | I17: ='Mensual 2025'!J83 -> 182.85727 | ... M17: ='Mensual 2025'!N83 -> 291.62585 | N17: =SUM(B17:M17) -> 2589.2548 | O17: 12276.89
A18: VOC | B18: ='Mensual 2025'!C84 -> 2.8739613 | C18: ='Mensual 2025'!D84 -> 2.755171 | D18: ='Mensual 2025'!E84 -> 3.2726051 | E18: ='Mensual 2025'!F84 -> 3.4481234 | F18: ='Mensual 2025'!G84 -> 2.9563008 | G18: ='Mensual 2025'!H84 -> 2.1352432 | H18: ='Mensual 2025'!I84 -> 2.6281363 | I18: ='Mensual 2025'!J84 -> 2.7084017 | ... M18: ='Mensual 2025'!N84 -> 4.4148334 | N18: =SUM(B18:M18) -> 37.222986 | O18: 130.04
A19: CO | B19: ='Mensual 2025'!C85 -> 18.465924 | C19: ='Mensual 2025'!D85 -> 17.639647 | D19: ='Mensual 2025'!E85 -> 19.995878 | E19: ='Mensual 2025'!F85 -> 20.41451 | F19: ='Mensual 2025'!G85 -> 18.886563 | G19: ='Mensual 2025'!H85 -> 13.393848 | H19: ='Mensual 2025'!I85 -> 16.5834 | I19: ='Mensual 2025'!J85 -> 17.068373 | ... M19: ='Mensual 2025'!N85 -> 28.535966 | N19: =SUM(B19:M19) -> 234.89951 | O19: 856.94
A20: Pb | B20: ='Mensual 2025'!C86 -> 0.0063819498 | C20: ='Mensual 2025'!D86 -> 0.0058806355 | D20: ='Mensual 2025'!E86 -> 0.0074784823 | E20: ='Mensual 2025'!F86 -> 0.0079470541 | F20: ='Mensual 2025'!G86 -> 0.0061942695 | G20: ='Mensual 2025'!H86 -> 0.0046002584 | H20: ='Mensual 2025'!I86 -> 0.0058364245 | I20: ='Mensual 2025'!J86 -> 0.0057507203 | ... M20: ='Mensual 2025'!N86 -> 0.0090176532 | N20: =SUM(B20:M20) -> 0.080116732 | O20: 0.37
A21: CO2e | B21: ='Mensual 2025'!C87 -> 98318.667 | C21: ='Mensual 2025'!D87 -> 91272.324 | D21: ='Mensual 2025'!E87 -> 108886.43 | E21: ='Mensual 2025'!F87 -> 112038.69 | F21: ='Mensual 2025'!G87 -> 96429.833 | G21: ='Mensual 2025'!H87 -> 69756.566 | H21: ='Mensual 2025'!I87 -> 88318.162 | I21: ='Mensual 2025'!J87 -> 87956.554 | ... M21: ='Mensual 2025'!N87 -> 143152.78 | N21: =SUM(B21:M21) -> 1222587.1 | O21: 5418568.6
A22: Subtotal | B22: =SUM(B15:B20) -> 530.46916 | C22: =SUM(C15:C20) -> 489.2088 | D22: =SUM(D15:D20) -> 532.62488 | E22: =SUM(E15:E20) -> 503.52255 | F22: =SUM(F15:F20) -> 514.57063 | G22: =SUM(G15:G20) -> 357.76636 | H22: =SUM(H15:H20) -> 454.14594 | I22: =SUM(I15:I20) -> 431.00386 | ... O22: =SUM(O15:O20) -> 32116.01
A23: Ni Comp | B23: 0 | C23: 0 | D23: 0 | E23: 0 | F23: 0 | G23: 0 | H23: 0 | I23: 0 | J23: 0 | K23: 0 | L23: 0 | M23: 0 | N23: =SUM(B23:M23) -> 0 | O23: N/A
A24: Mn Comp | B24: 0 | C24: 0 | D24: 0 | E24: 0 | F24: 0 | G24: 0 | H24: 0 | I24: 0 | J24: 0 | K24: 0 | L24: 0 | M24: 0 | N24: =SUM(B24:M24) -> 0 | O24: N/A
A25: Formaldehido | B25: 0 | C25: 0 | D25: 0 | E25: 0 | F25: 0 | G25: 0 | H25: 0 | I25: 0 | J25: 0 | K25: 0 | L25: 0 | M25: 0 | N25: =SUM(B25:M25) -> 0 | O25: N/A
A26: Tolueno | B26: 0 | C26: 0 | D26: 0 | E26: 0 | F26: 0 | G26: 0 | H26: 0 | I26: 0 | J26: 0 | K26: 0 | L26: 0 | M26: 0 | N26: =SUM(B26:M26) -> 0 | O26: N/A
A27: POM | B27: 0 | C27: 0 | D27: 0 | E27: 0 | F27: 0 | G27: 0 | H27: 0 | I27: 0 | J27: 0 | K27: 0 | L27: 0 | M27: 0 | N27: =SUM(B27:M27) -> 0 | O27: N/A
A28: CAPs Total | B28: 0 | C28: 0 | D28: 0 | E28: 0 | F28: 0 | G28: 0 | H28: 0 | I28: 0 | J28: 0 | K28: 0 | L28: 0 | M28: 0 | N28: =SUM(B28:M28) -> 0 | O28: N/A
A29: Subtotal CAPs | B29: =B28 -> 0 | C29: =C28 -> 0 | D29: =D28 -> 0 | E29: =E28 -> 0 | F29: =F28 -> 0 | G29: =G28 -> 0 | H29: =H28 -> 0 | I29: =I28 -> 0 | ... O29: =O28 -> N/A
A30: Total | B30: =SUM(B22,B29) -> 530.46916 | C30: =SUM(C22,C29) -> 489.2088 | D30: =SUM(D22,D29) -> 532.62488 | E30: =SUM(E22,E29) -> 503.52255 | F30: =SUM(F22,F29) -> 514.57063 | G30: =SUM(G22,G29) -> 357.76636 | H30: =SUM(H22,H29) -> 454.14594 | I30: =SUM(I22,I29) -> 431.00386 | ... O30: =SUM(O22,O29) -> 32116.01
B32: Aguirre | C32: Aguirre | D32: Aguirre | E32: Aguirre | F32: Aguirre | G32: Aguirre | H32: Aguirre | I32: Aguirre | J32: Aguirre | K32: Aguirre | L32: Aguirre | M32: Aguirre | N32: Aguirre | O32: Aguirre
A33: PM Total | B33: ='Mensual 2025'!C67 -> 23.251875 | C33: ='Mensual 2025'!D67 -> 24.712476 | D33: ='Mensual 2025'!E67 -> 2.6647714 | E33: ='Mensual 2025'!F67 -> 4.3946729 | F33: ='Mensual 2025'!G67 -> 4.3324272 | G33: ='Mensual 2025'!H67 -> 19.773893 | H33: ='Mensual 2025'!I67 -> 47.682175 | I33: ='Mensual 2025'!J67 -> 47.219722 | ... M33: ='Mensual 2025'!N67 -> 30.190408 | N33: =SUM(B33:M33) -> 357.41096 | O33: 2194.88
A34: SO2 | B34: ='Mensual 2025'!C68 -> 207.71136 | C34: ='Mensual 2025'!D68 -> 228.0802 | D34: ='Mensual 2025'!E68 -> 0.22428493 | E34: ='Mensual 2025'!F68 -> 0.36988497 | F34: ='Mensual 2025'!G68 -> 0.36464596 | G34: ='Mensual 2025'!H68 -> 130.61015 | H34: ='Mensual 2025'!I68 -> 411.37772 | I34: ='Mensual 2025'!J68 -> 416.83573 | ... M34: ='Mensual 2025'!N68 -> 257.5054 | N34: =SUM(B34:M34) -> 3020.9634 | O34: 30608.58
A35: NOx | B35: ='Mensual 2025'!C69 -> 310.9797 | C35: ='Mensual 2025'!D69 -> 280.90747 | D35: ='Mensual 2025'!E69 -> 195.41657 | E35: ='Mensual 2025'!F69 -> 322.27601 | F35: ='Mensual 2025'!G69 -> 317.71133 | G35: ='Mensual 2025'!H69 -> 576.36941 | H35: ='Mensual 2025'!I69 -> 736.45754 | I35: ='Mensual 2025'!J69 -> 665.29805 | ... M35: ='Mensual 2025'!N69 -> 430.35239 | N35: =SUM(B35:M35) -> 5821.2385 | O35: 28867.78
A36: VOC | B36: ='Mensual 2025'!C70 -> 2.1326719 | C36: ='Mensual 2025'!D70 -> 2.3142557 | D36: ='Mensual 2025'!E70 -> 0.091046358 | E36: ='Mensual 2025'!F70 -> 0.15015133 | F36: ='Mensual 2025'!G70 -> 0.1480246 | G36: ='Mensual 2025'!H70 -> 1.514276 | H36: ='Mensual 2025'!I70 -> 4.2786527 | I36: ='Mensual 2025'!J70 -> 4.2986045 | ... M36: ='Mensual 2025'!N70 -> 2.8835032 | N36: =SUM(B36:M36) -> 32.090277 | O36: 195.32
A37: CO | B37: ='Mensual 2025'!C71 -> 14.152263 | C37: ='Mensual 2025'!D71 -> 15.317302 | D37: ='Mensual 2025'!E71 -> 0.73281215 | E37: ='Mensual 2025'!F71 -> 1.2085351 | F37: ='Mensual 2025'!G71 -> 1.1914175 | G37: ='Mensual 2025'!H71 -> 10.299742 | H37: ='Mensual 2025'!I71 -> 28.472335 | I37: ='Mensual 2025'!J71 -> 28.552423 | ... M37: ='Mensual 2025'!N71 -> 19.141711 | N37: =SUM(B37:M37) -> 213.75533 | O37: 1299.54
A38: Pb | B38: ='Mensual 2025'!C72 -> 0.0068962448 | C38: ='Mensual 2025'!D72 -> 0.0066095859 | D38: ='Mensual 2025'!E72 -> 0.0031089 | E38: ='Mensual 2025'!F72 -> 0.0051271184 | F38: ='Mensual 2025'!G72 -> 0.0050544984 | G38: ='Mensual 2025'!H72 -> 0.010390848 | H38: ='Mensual 2025'!I72 -> 0.015574799 | I38: ='Mensual 2025'!J72 -> 0.014494781 | ... M38: ='Mensual 2025'!N72 -> 0.0094769502 | N38: =SUM(B38:M38) -> 0.12141317 | O38: 0.63
A39: CO2e | B39: ='Mensual 2025'!C73 -> 100526.1 | C39: ='Mensual 2025'!D73 -> 99136.944 | D39: ='Mensual 2025'!E73 -> 36333.794 | E39: ='Mensual 2025'!F73 -> 59920.764 | F39: ='Mensual 2025'!G73 -> 59072.052 | G39: ='Mensual 2025'!H73 -> 133927.89 | H39: ='Mensual 2025'!I73 -> 221480.68 | I39: ='Mensual 2025'!J73 -> 209390.93 | ... M39: ='Mensual 2025'!N73 -> 137657.09 | N39: =SUM(B39:M39) -> 1713503.6 | O39: 10093497
A40: Subtotal | B40: =SUM(B33:B38) -> 558.23477 | C40: =SUM(C33:C38) -> 551.33831 | D40: =SUM(D33:D38) -> 199.1326 | E40: =SUM(E33:E38) -> 328.40439 | F40: =SUM(F33:F38) -> 323.7529 | G40: =SUM(G33:G38) -> 738.57786 | H40: =SUM(H33:H38) -> 1228.284 | I40: =SUM(I33:I38) -> 1162.219 | ... O40: =SUM(O33:O38) -> 63166.73
A41: Ni Comp | B41: 0 | C41: 0 | D41: 0 | E41: 0 | F41: 0 | G41: 0 | H41: 0 | I41: 0 | J41: 0 | K41: 0 | L41: 0 | M41: 0 | N41: =SUM(B41:M41) -> 0 | O41: 20.71
A42: Mn Comp | B42: 0 | C42: 0 | D42: 0 | E42: 0 | F42: 0 | G42: 0 | H42: 0 | I42: 0 | J42: 0 | K42: 0 | L42: 0 | M42: 0 | N42: =SUM(B42:M42) -> 0 | O42: 19.62
A43: Formaldehido | B43: 0 | C43: 0 | D43: 0 | E43: 0 | F43: 0 | G43: 0 | H43: 0 | I43: 0 | J43: 0 | K43: 0 | L43: 0 | M43: 0 | N43: =SUM(B43:M43) -> 0 | O43: 14.75
A44: Chloride | B44: 0 | C44: 0 | D44: 0 | E44: 0 | F44: 0 | G44: 0 | H44: 0 | I44: 0 | J44: 0 | K44: 0 | L44: 0 | M44: 0 | N44: =SUM(B44:M44) -> 0 | O44: 84.71
A45: CAPs Total | B45: 0 | C45: 0 | D45: 0 | E45: 0 | F45: 0 | G45: 0 | H45: 0 | I45: 0 | J45: 0 | K45: 0 | L45: 0 | M45: 0 | N45: =SUM(B45:M45) -> 0 | O45: 177.73
A46: Subtotal CAPs | B46: =B45 -> 0 | C46: =C45 -> 0 | D46: =D45 -> 0 | E46: =E45 -> 0 | F46: =F45 -> 0 | G46: =G45 -> 0 | H46: =H45 -> 0 | I46: =I45 -> 0 | ... O46: =O45 -> 177.73
A47: Total | B47: =SUM(B46,B40) -> 558.23477 | C47: =SUM(C46,C40) -> 551.33831 | D47: =SUM(D46,D40) -> 199.1326 | E47: =SUM(E46,E40) -> 328.40439 | F47: =SUM(F46,F40) -> 323.7529 | G47: =SUM(G46,G40) -> 738.57786 | H47: =SUM(H46,H40) -> 1228.284 | I47: =SUM(I46,I40) -> 1162.219 | ... O47: =SUM(O46,O40) -> 63344.46
B49: Costa Sur | C49: Costa Sur | D49: Costa Sur | E49: Costa Sur | F49: Costa Sur | G49: Costa Sur | H49: Costa Sur | I49: Costa Sur | J49: Costa Sur | K49: Costa Sur | L49: Costa Sur | M49: Costa Sur | N49: Costa Sur | O49: Costa Sur
A50: PM | B50: ='Mensual 2025'!C22+'Mensual 2025'!C35 -> 23.725634 | C50: ='Mensual 2025'!D22+'Mensual 2025'!D35 -> 23.79261 | D50: ='Mensual 2025'!E22+'Mensual 2025'!E35 -> 11.213055 | E50: ='Mensual 2025'!F22+'Mensual 2025'!F35 -> 9.6798446 | F50: ='Mensual 2025'!G22+'Mensual 2025'!G35 -> 29.066745 | G50: ='Mensual 2025'!H22+'Mensual 2025'!H35 -> 40.845561 | H50: ='Mensual 2025'!I22+'Mensual 2025'!I35 -> 28.680128 | I50: ='Mensual 2025'!J22+'Mensual 2025'!J35 -> 15.357764 | ... M50: ='Mensual 2025'!N22+'Mensual 2025'!N35 -> 33.50814 | N50: =SUM(B50:M50) -> 278.21254 | O50: 590
A51: PM10 | B51: ='Mensual 2025'!C23 -> 35.447226 | C51: ='Mensual 2025'!D23 -> 35.232749 | D51: ='Mensual 2025'!E23 -> 16.974805 | E51: ='Mensual 2025'!F23 -> 14.770552 | F51: ='Mensual 2025'!G23 -> 43.230636 | G51: ='Mensual 2025'!H23 -> 60.1234 | H51: ='Mensual 2025'!I23 -> 42.61324 | I51: ='Mensual 2025'!J23 -> 24.028224 | ... M51: ='Mensual 2025'!N23 -> 49.372617 | N51: =SUM(B51:M51) -> 417.27969 | O51: 1038
A52: PM2.5 | B52: ='Mensual 2025'!C24 -> 30.221588 | C52: ='Mensual 2025'!D24 -> 29.829733 | D52: ='Mensual 2025'!E24 -> 14.665477 | E52: ='Mensual 2025'!F24 -> 12.868323 | F52: ='Mensual 2025'!G24 -> 36.605764 | G52: ='Mensual 2025'!H24 -> 50.305073 | H52: ='Mensual 2025'!I24 -> 36.04202 | I52: ='Mensual 2025'!J24 -> 21.492982 | ... M52: ='Mensual 2025'!N24 -> 41.358428 | N52: =SUM(B52:M52) -> 356.9142 | O52: 803
A53: SOx | B53: ='Mensual 2025'!C25+'Mensual 2025'!C36 -> 335.08099 | C53: ='Mensual 2025'!D25+'Mensual 2025'!D36 -> 351.40488 | D53: ='Mensual 2025'!E25+'Mensual 2025'!E36 -> 136.87391 | E53: ='Mensual 2025'!F25+'Mensual 2025'!F36 -> 103.90796 | F53: ='Mensual 2025'!G25+'Mensual 2025'!G36 -> 439.41038 | G53: ='Mensual 2025'!H25+'Mensual 2025'!H36 -> 684.9798 | H53: ='Mensual 2025'!I25+'Mensual 2025'!I36 -> 438.13826 | I53: ='Mensual 2025'!J25+'Mensual 2025'!J36 -> 104.13269 | ... M53: ='Mensual 2025'!N25+'Mensual 2025'!N36 -> 533.98035 | N53: =SUM(B53:M53) -> 3772.1652 | O53: 9884
A54: NOx | B54: ='Mensual 2025'!C26+'Mensual 2025'!C37 -> 646.58817 | C54: ='Mensual 2025'!D26+'Mensual 2025'!D37 -> 576.09308 | D54: ='Mensual 2025'!E26+'Mensual 2025'!E37 -> 374.52446 | E54: ='Mensual 2025'!F26+'Mensual 2025'!F37 -> 362.31345 | F54: ='Mensual 2025'!G26+'Mensual 2025'!G37 -> 699.38647 | G54: ='Mensual 2025'!H26+'Mensual 2025'!H37 -> 766.20179 | H54: ='Mensual 2025'!I26+'Mensual 2025'!I37 -> 675.41256 | I54: ='Mensual 2025'!J26+'Mensual 2025'!J37 -> 780.34391 | ... M54: ='Mensual 2025'!N26+'Mensual 2025'!N37 -> 645.75682 | N54: =SUM(B54:M54) -> 7983.4958 | O54: 10521
A55: VOC | B55: ='Mensual 2025'!C27+'Mensual 2025'!C38 -> 1.7951438 | C55: ='Mensual 2025'!D27+'Mensual 2025'!D38 -> 1.649286 | D55: ='Mensual 2025'!E27+'Mensual 2025'!E38 -> 0.9859503 | E55: ='Mensual 2025'!F27+'Mensual 2025'!F38 -> 0.92823254 | F55: ='Mensual 2025'!G27+'Mensual 2025'!G38 -> 2.0224979 | G55: ='Mensual 2025'!H27+'Mensual 2025'!H38 -> 2.4157588 | H55: ='Mensual 2025'!I27+'Mensual 2025'!I38 -> 1.9667196 | I55: ='Mensual 2025'!J27+'Mensual 2025'!J38 -> 1.8771987 | ... M55: ='Mensual 2025'!N27+'Mensual 2025'!N38 -> 2.0156388 | N55: =SUM(B55:M55) -> 21.877582 | O55: 36
A56: CO | B56: ='Mensual 2025'!C28+'Mensual 2025'!C39 -> 13.219974 | C56: ='Mensual 2025'!D28+'Mensual 2025'!D39 -> 11.053749 | D56: ='Mensual 2025'!E28+'Mensual 2025'!E39 -> 8.2709404 | E56: ='Mensual 2025'!F28+'Mensual 2025'!F39 -> 8.2757213 | F56: ='Mensual 2025'!G28+'Mensual 2025'!G39 -> 13.575661 | G56: ='Mensual 2025'!H28+'Mensual 2025'!H39 -> 12.792151 | H56: ='Mensual 2025'!I28+'Mensual 2025'!I39 -> 12.969389 | I56: ='Mensual 2025'!J28+'Mensual 2025'!J39 -> 19.09301 | ... M56: ='Mensual 2025'!N28+'Mensual 2025'!N39 -> 10.993094 | N56: =SUM(B56:M56) -> 167.12389 | O56: 388
A57: H2SO4 | B57: ='Mensual 2025'!C29 -> 15.062553 | C57: ='Mensual 2025'!D29 -> 16.03096 | D57: ='Mensual 2025'!E29 -> 6.2341171 | E57: ='Mensual 2025'!F29 -> 4.8810067 | F57: ='Mensual 2025'!G29 -> 19.646504 | G57: ='Mensual 2025'!H29 -> 30.389335 | H57: ='Mensual 2025'!I29 -> 19.573584 | I57: ='Mensual 2025'!J29 -> 5.1050847 | ... M57: ='Mensual 2025'!N29 -> 24.709458 | N57: =SUM(B57:M57) -> 171.48419 | O57: 469
A58: Pb | B58: ='Mensual 2025'!C30+'Mensual 2025'!C40 -> 0.0030235845 | C58: ='Mensual 2025'!D30+'Mensual 2025'!D40 -> 0.0033209665 | D58: ='Mensual 2025'!E30+'Mensual 2025'!E40 -> 0.0012098619 | E58: ='Mensual 2025'!F30+'Mensual 2025'!F40 -> 0.00092681041 | F58: ='Mensual 2025'!G30+'Mensual 2025'!G40 -> 0.0039253161 | G58: ='Mensual 2025'!H30+'Mensual 2025'!H40 -> 0.0061527187 | H58: ='Mensual 2025'!I30+'Mensual 2025'!I40 -> 0.0039162345 | I58: ='Mensual 2025'!J30+'Mensual 2025'!J40 -> 0.00086632324 | ... M58: ='Mensual 2025'!N30+'Mensual 2025'!N40 -> 0.0049969106 | N58: =SUM(B58:M58) -> 0.033945109 | O58: 0.08
A59: Fluoruro | B59: =('Tasas 2025'!C119*'CS 5'!$C$14+'Tasas 2025'!C120*'CS 5'!$B$14+'Tasas 2025'!C121*'CS 6'!$C$14+'Tasas 2025'!C122*'CS 6'!$B$14)/2000 -> 0 | C59: =('Tasas 2025'!D119*'CS 5'!$C$14+'Tasas 2025'!D120*'CS 5'!$B$14+'Tasas 2025'!D121*'CS 6'!$C$14+'Tasas 2025'!D122*'CS 6'!$B$14)/2000 -> 0 | D59: =('Tasas 2025'!E119*'CS 5'!$C$14+'Tasas 2025'!E120*'CS 5'!$B$14+'Tasas 2025'!E121*'CS 6'!$C$14+'Tasas 2025'!E122*'CS 6'!$B$14)/2000 -> 0 | E59: =('Tasas 2025'!F119*'CS 5'!$C$14+'Tasas 2025'!F120*'CS 5'!$B$14+'Tasas 2025'!F121*'CS 6'!$C$14+'Tasas 2025'!F122*'CS 6'!$B$14)/2000 -> 0 | F59: =('Tasas 2025'!G119*'CS 5'!$C$14+'Tasas 2025'!G120*'CS 5'!$B$14+'Tasas 2025'!G121*'CS 6'!$C$14+'Tasas 2025'!G122*'CS 6'!$B$14)/2000 -> 0 | G59: =('Tasas 2025'!H119*'CS 5'!$C$14+'Tasas 2025'!H120*'CS 5'!$B$14+'Tasas 2025'!H121*'CS 6'!$C$14+'Tasas 2025'!H122*'CS 6'!$B$14)/2000 -> 0 | H59: =('Tasas 2025'!I119*'CS 5'!$C$14+'Tasas 2025'!I120*'CS 5'!$B$14+'Tasas 2025'!I121*'CS 6'!$C$14+'Tasas 2025'!I122*'CS 6'!$B$14)/2000 -> 0 | I59: =('Tasas 2025'!J119*'CS 5'!$C$14+'Tasas 2025'!J120*'CS 5'!$B$14+'Tasas 2025'!J121*'CS 6'!$C$14+'Tasas 2025'!J122*'CS 6'!$B$14)/2000 -> 0 | ... M59: =('Tasas 2025'!N119*'CS 5'!$C$14+'Tasas 2025'!N120*'CS 5'!$B$14+'Tasas 2025'!N121*'CS 6'!$C$14+'Tasas 2025'!N122*'CS 6'!$B$14)/2000 -> 0 | N59: =SUM(B59:M59) -> 0 | O59: 0
A60: CO2e | B60: ='Mensual 2025'!C31+'Mensual 2025'!C41 -> 249029.62 | C60: ='Mensual 2025'!D31+'Mensual 2025'!D41 -> 227632.55 | D60: ='Mensual 2025'!E31+'Mensual 2025'!E41 -> 138258.38 | E60: ='Mensual 2025'!F31+'Mensual 2025'!F41 -> 130930.14 | F60: ='Mensual 2025'!G31+'Mensual 2025'!G41 -> 278081.32 | G60: ='Mensual 2025'!H31+'Mensual 2025'!H41 -> 326622.42 | H60: ='Mensual 2025'!I31+'Mensual 2025'!I41 -> 270037.57 | I60: ='Mensual 2025'!J31+'Mensual 2025'!J41 -> 268591.91 | ... M60: ='Mensual 2025'!N31+'Mensual 2025'!N41 -> 273040.67 | N60: =SUM(B60:M60) -> 3042024.2 | O60: N/A
A61: Total | B61: =SUM(B50:B59) -> 1101.1443 | C61: =SUM(C50:C59) -> 1045.0904 | D61: =SUM(D50:D59) -> 569.74393 | E61: =SUM(E50:E59) -> 517.62601 | F61: =SUM(F50:F59) -> 1282.9486 | G61: =SUM(G50:G59) -> 1648.059 | H61: =SUM(H50:H59) -> 1255.3998 | I61: =SUM(I50:I59) -> 971.43173 | ... O61: =SUM(O50:O59) -> 23729.08
B63: Cambalache | C63: Cambalache | D63: Cambalache | E63: Cambalache | F63: Cambalache | G63: Cambalache | H63: Cambalache | I63: Cambalache | J63: Cambalache | K63: Cambalache | L63: Cambalache | M63: Cambalache | N63: Cambalache | O63: Cambalache
A64: PM10 | B64: ='Mensual 2025'!C99 -> 14.535 | C64: ='Mensual 2025'!D99 -> 13.158 | D64: ='Mensual 2025'!E99 -> 19.737 | E64: ='Mensual 2025'!F99 -> 21.5985 | F64: ='Mensual 2025'!G99 -> 8.5425 | G64: ='Mensual 2025'!H99 -> 7.8285 | H64: ='Mensual 2025'!I99 -> 8.517 | I64: ='Mensual 2025'!J99 -> 9.7155 | ... M64: ='Mensual 2025'!N99 -> 1.5045 | N64: =SUM(B64:M64) -> 125.358 | O64: 670
A65: SOx | B65: ='Mensual 2025'!C100 -> 39.045 | C65: ='Mensual 2025'!D100 -> 35.346 | D65: ='Mensual 2025'!E100 -> 53.019 | E65: ='Mensual 2025'!F100 -> 58.0195 | F65: ='Mensual 2025'!G100 -> 22.9475 | G65: ='Mensual 2025'!H100 -> 21.0295 | H65: ='Mensual 2025'!I100 -> 22.879 | I65: ='Mensual 2025'!J100 -> 26.0985 | ... M65: ='Mensual 2025'!N100 -> 4.0415 | N65: =SUM(B65:M65) -> 336.746 | O65: 1800
A66: NOx | B66: ='Mensual 2025'!C104 -> 25.9987 | C66: ='Mensual 2025'!D104 -> 25.266 | D66: ='Mensual 2025'!E104 -> 38.4114 | E66: ='Mensual 2025'!F104 -> 41.3134 | F66: ='Mensual 2025'!G104 -> 17.9929 | G66: ='Mensual 2025'!H104 -> 15.92465 | H66: ='Mensual 2025'!I104 -> 15.84475 | I66: ='Mensual 2025'!J104 -> 17.06915 | ... M66: ='Mensual 2025'!N104 -> 5.31215 | N66: =SUM(B66:M66) -> 243.45985 | O66: 1801
A67: VOC | B67: ='Mensual 2025'!C101 -> 3.291 | C67: ='Mensual 2025'!D101 -> 2.914 | D67: ='Mensual 2025'!E101 -> 4.414 | E67: ='Mensual 2025'!F101 -> 4.9575 | F67: ='Mensual 2025'!G101 -> 1.9025 | G67: ='Mensual 2025'!H101 -> 1.8175 | H67: ='Mensual 2025'!I101 -> 1.97 | I67: ='Mensual 2025'!J101 -> 2.2185 | ... M67: ='Mensual 2025'!N101 -> 0.3545 | N67: =SUM(B67:M67) -> 28.454 | O67: 180
A68: CO | B68: ='Mensual 2025'!C105 -> 4.7995 | C68: ='Mensual 2025'!D105 -> 3.2045 | D68: ='Mensual 2025'!E105 -> 5.2535 | E68: ='Mensual 2025'!F105 -> 4.6445 | F68: ='Mensual 2025'!G105 -> 3.203 | G68: ='Mensual 2025'!H105 -> 2.0295 | H68: ='Mensual 2025'!I105 -> 1.9225 | I68: ='Mensual 2025'!J105 -> 1.683 | ... M68: ='Mensual 2025'!N105 -> 1.1425 | N68: =SUM(B68:M68) -> 32.7865 | O68: 713
A69: Pb | B69: ='Mensual 2025'!C102 -> 0.005106 | C69: ='Mensual 2025'!D102 -> 0.004394 | D69: ='Mensual 2025'!E102 -> 0.0067415 | E69: ='Mensual 2025'!F102 -> 0.0078225 | F69: ='Mensual 2025'!G102 -> 0.00289 | G69: ='Mensual 2025'!H102 -> 0.0029075 | H69: ='Mensual 2025'!I102 -> 0.0031375 | I69: ='Mensual 2025'!J102 -> 0.0034785 | ... M69: ='Mensual 2025'!N102 -> 0.000577 | N69: =SUM(B69:M69) -> 0.044284 | O69: 0.3
A70: CO2e | B70: ='Mensual 2025'!C103 -> 37396.004 | C70: ='Mensual 2025'!D103 -> 30741.301 | D70: ='Mensual 2025'!E103 -> 47658.285 | E70: ='Mensual 2025'!F103 -> 53591.899 | F70: ='Mensual 2025'!G103 -> 21984.067 | G70: ='Mensual 2025'!H103 -> 20505.326 | H70: ='Mensual 2025'!I103 -> 21737.544 | I70: ='Mensual 2025'!J103 -> 23783.459 | ... M70: ='Mensual 2025'!N103 -> 4865.9503 | N70: =SUM(B70:M70) -> 315039.58 | O70: N/A
A71: Total | B71: =SUM(B64:B69) -> 87.674306 | C71: =SUM(C64:C69) -> 79.892894 | D71: =SUM(D64:D69) -> 120.84164 | E71: =SUM(E64:E69) -> 130.54122 | F71: =SUM(F64:F69) -> 54.59129 | G71: =SUM(G64:G69) -> 48.632557 | H71: =SUM(H64:H69) -> 51.136387 | I71: =SUM(I64:I69) -> 56.788128 | ... O71: =SUM(O64:O69) -> 5164.3
B73: Mayagüez | C73: Mayagüez | D73: Mayagüez | E73: Mayagüez | F73: Mayagüez | G73: Mayagüez | H73: Mayagüez | I73: Mayagüez | J73: Mayagüez | K73: Mayagüez | L73: Mayagüez | M73: Mayagüez | N73: Mayagüez | O73: Mayagüez
A74: PM | B74: ='Mensual 2025'!C163 -> 2.7655534 | C74: ='Mensual 2025'!D163 -> 1.2018321 | D74: ='Mensual 2025'!E163 -> 1.4197785 | E74: ='Mensual 2025'!F163 -> 1.384033 | F74: ='Mensual 2025'!G163 -> 0.35543159 | G74: ='Mensual 2025'!H163 -> 0.50149183 | H74: ='Mensual 2025'!I163 -> 0.34819157 | I74: ='Mensual 2025'!J163 -> 0.33933691 | ... M74: ='Mensual 2025'!N163 -> 0.75028837 | N74: =SUM(B74:M74) -> 9.9827586 | O74: 83.1
A75: SOx | B75: ='Mensual 2025'!C164 -> 2.3276741 | C75: ='Mensual 2025'!D164 -> 1.011542 | D75: ='Mensual 2025'!E164 -> 1.1949803 | E75: ='Mensual 2025'!F164 -> 1.1648944 | F75: ='Mensual 2025'!G164 -> 0.29915492 | G75: ='Mensual 2025'!H164 -> 0.42208896 | H75: ='Mensual 2025'!I164 -> 0.29306124 | I75: ='Mensual 2025'!J164 -> 0.28560856 | ... M75: ='Mensual 2025'!N164 -> 0.63149272 | N75: =SUM(B75:M75) -> 8.4021551 | O75: 304.82
A76: NOx | B76: ='Mensual 2025'!C165 -> 66.289789 | C76: ='Mensual 2025'!D165 -> 28.807687 | D76: ='Mensual 2025'!E165 -> 34.031821 | E76: ='Mensual 2025'!F165 -> 33.175007 | F76: ='Mensual 2025'!G165 -> 8.5196275 | G76: ='Mensual 2025'!H165 -> 12.020664 | H76: ='Mensual 2025'!I165 -> 8.3460857 | I76: ='Mensual 2025'!J165 -> 8.133841 | ... M76: ='Mensual 2025'!N165 -> 17.98427 | N76: =SUM(B76:M76) -> 239.28482 | O76: 796.29
A77: VOC | B77: ='Mensual 2025'!C166 -> 0.094489741 | C77: ='Mensual 2025'!D166 -> 0.041062598 | D77: ='Mensual 2025'!E166 -> 0.0485091 | E77: ='Mensual 2025'!F166 -> 0.047287794 | F77: ='Mensual 2025'!G166 -> 0.012143913 | G77: ='Mensual 2025'!H166 -> 0.017134304 | H77: ='Mensual 2025'!I166 -> 0.011896545 | I77: ='Mensual 2025'!J166 -> 0.011594011 | ... M77: ='Mensual 2025'!N166 -> 0.025634853 | N77: =SUM(B77:M77) -> 0.34107758 | O77: 25.06
A78: CO | B78: ='Mensual 2025'!C167 -> 0.76052719 | C78: ='Mensual 2025'!D167 -> 0.33050384 | D78: ='Mensual 2025'!E167 -> 0.3904391 | E78: ='Mensual 2025'!F167 -> 0.38060907 | F78: ='Mensual 2025'!G167 -> 0.097743686 | G78: ='Mensual 2025'!H167 -> 0.13791025 | H78: ='Mensual 2025'!I167 -> 0.095752682 | I78: ='Mensual 2025'!J167 -> 0.093317649 | ... M78: ='Mensual 2025'!N167 -> 0.2063293 | N78: =SUM(B78:M78) -> 2.7452586 | O78: 93.93
A79: Pb | B79: ='Mensual 2025'!C168 -> 0.003226479 | C79: ='Mensual 2025'!D168 -> 0.0014021375 | D79: ='Mensual 2025'!E168 -> 0.0016564083 | E79: ='Mensual 2025'!F168 -> 0.0016147051 | F79: ='Mensual 2025'!G168 -> 0.00041467018 | G79: ='Mensual 2025'!H168 -> 0.0005850738 | H79: ='Mensual 2025'!I168 -> 0.0004062235 | I79: ='Mensual 2025'!J168 -> 0.00039589306 | ... M79: ='Mensual 2025'!N168 -> 0.00087533644 | N79: =SUM(B79:M79) -> 0.011646552 | O79: 0.017
A80: CO2e | B80: ='Mensual 2025'!C169 -> 37706.418 | C80: ='Mensual 2025'!D169 -> 16386.154 | D80: ='Mensual 2025'!E169 -> 19357.704 | E80: ='Mensual 2025'!F169 -> 18870.337 | F80: ='Mensual 2025'!G169 -> 4846.0651 | G80: ='Mensual 2025'!H169 -> 6837.496 | H80: ='Mensual 2025'!I169 -> 4747.3525 | I80: ='Mensual 2025'!J169 -> 4626.6252 | ... M80: ='Mensual 2025'!N169 -> 10229.666 | N80: =SUM(B80:M80) -> 136108.04 | O80: N/A
A81: Total | B81: =SUM(B74:B79) -> 72.24126 | C81: =SUM(C74:C79) -> 31.39403 | D81: =SUM(D74:D79) -> 37.087185 | E81: =SUM(E74:E79) -> 36.153446 | F81: =SUM(F74:F79) -> 9.2845162 | G81: =SUM(G74:G79) -> 13.099874 | H81: =SUM(H74:H79) -> 9.0953939 | I81: =SUM(I74:I79) -> 8.8640941 | ... O81: =SUM(O74:O79) -> 1303.217
B83: Dagüao | C83: Dagüao | D83: Dagüao | E83: Dagüao | F83: Dagüao | G83: Dagüao | H83: Dagüao | I83: Dagüao | J83: Dagüao | K83: Dagüao | L83: Dagüao | M83: Dagüao | N83: Dagüao | O83: Dagüao
A84: PM | B84: ='Mensual 2025'!C111 -> 0.3025752 | C84: ='Mensual 2025'!D111 -> 0.29507679 | D84: ='Mensual 2025'!E111 -> 0.60696709 | E84: ='Mensual 2025'!F111 -> 0.73117444 | F84: ='Mensual 2025'!G111 -> 0.30830489 | G84: ='Mensual 2025'!H111 -> 0.51442641 | H84: ='Mensual 2025'!I111 -> 0.31030416 | I84: ='Mensual 2025'!J111 -> 0.51264658 | ... M84: ='Mensual 2025'!N111 -> 0.28938744 | N84: =SUM(B84:M84) -> 5.4134043 | O84: 9.41
A85: SOx | B85: ='Mensual 2025'!C112 -> 0.25466746 | C85: ='Mensual 2025'!D112 -> 0.2483563 | D85: ='Mensual 2025'!E112 -> 0.51086397 | E85: ='Mensual 2025'!F112 -> 0.61540516 | F85: ='Mensual 2025'!G112 -> 0.25948995 | G85: ='Mensual 2025'!H112 -> 0.43297557 | H85: ='Mensual 2025'!I112 -> 0.26117267 | I85: ='Mensual 2025'!J112 -> 0.43147754 | ... M85: ='Mensual 2025'!N112 -> 0.24356776 | N85: =SUM(B85:M85) -> 4.556282 | O85: 395.87
A86: NOx | B86: ='Mensual 2025'!C113 -> 22.188848 | C86: ='Mensual 2025'!D113 -> 21.638965 | D86: ='Mensual 2025'!E113 -> 44.51092 | E86: ='Mensual 2025'!F113 -> 53.619459 | F86: ='Mensual 2025'!G113 -> 22.609025 | G86: ='Mensual 2025'!H113 -> 37.724604 | H86: ='Mensual 2025'!I113 -> 22.755639 | I86: ='Mensual 2025'!J113 -> 37.594082 | ... M86: ='Mensual 2025'!N113 -> 21.221746 | N86: =SUM(B86:M86) -> 396.98298 | O86: 689.83
A87: VOC | B87: ='Mensual 2025'!C114 -> 0.010337986 | C87: ='Mensual 2025'!D114 -> 0.01008179 | D87: ='Mensual 2025'!E114 -> 0.020738042 | E87: ='Mensual 2025'!F114 -> 0.024981793 | F87: ='Mensual 2025'!G114 -> 0.01053375 | G87: ='Mensual 2025'!H114 -> 0.017576236 | H87: ='Mensual 2025'!I114 -> 0.010602059 | I87: ='Mensual 2025'!J114 -> 0.017515425 | ... M87: ='Mensual 2025'!N114 -> 0.0098874042 | N87: =SUM(B87:M87) -> 0.18495798 | O87: 0.32
A88: CO | B88: ='Mensual 2025'!C115 -> 0.083208179 | C88: ='Mensual 2025'!D115 -> 0.081146118 | D88: ='Mensual 2025'!E115 -> 0.16691595 | E88: ='Mensual 2025'!F115 -> 0.20107297 | F88: ='Mensual 2025'!G115 -> 0.084783845 | G88: ='Mensual 2025'!H115 -> 0.14146726 | H88: ='Mensual 2025'!I115 -> 0.085333644 | I88: ='Mensual 2025'!J115 -> 0.14097781 | ... M88: ='Mensual 2025'!N115 -> 0.079581546 | N88: =SUM(B88:M88) -> 1.4886862 | O88: 2.59
A89: Pb | B89: ='Mensual 2025'!C116 -> 0.00035300439 | C89: ='Mensual 2025'!D116 -> 0.00034425626 | D89: ='Mensual 2025'!E116 -> 0.00070812827 | E89: ='Mensual 2025'!F116 -> 0.00085303685 | F89: ='Mensual 2025'!G116 -> 0.00035968904 | G89: ='Mensual 2025'!H116 -> 0.00060016415 | H89: ='Mensual 2025'!I116 -> 0.00036202152 | I89: ='Mensual 2025'!J116 -> 0.00059808768 | ... M89: ='Mensual 2025'!N116 -> 0.00033761868 | N89: =SUM(B89:M89) -> 0.0063156384 | O89: 0.011
A90: CO2e | B90: ='Mensual 2025'!C117 -> 4125.4046 | C90: ='Mensual 2025'!D117 -> 4023.1691 | D90: ='Mensual 2025'!E117 -> 8275.5786 | E90: ='Mensual 2025'!F117 -> 9969.0604 | F90: ='Mensual 2025'!G117 -> 4203.525 | G90: ='Mensual 2025'!H117 -> 7013.8502 | H90: ='Mensual 2025'!I117 -> 4230.7837 | I90: ='Mensual 2025'!J117 -> 6989.5834 | ... M90: ='Mensual 2025'!N117 -> 3945.5986 | N90: =SUM(B90:M90) -> 73808.043 | O90: N/A
A91: Total | B91: =SUM(B84:B89) -> 22.839989 | C91: =SUM(C84:C89) -> 22.27397 | D91: =SUM(D84:D89) -> 45.817113 | E91: =SUM(E84:E89) -> 55.192946 | F91: =SUM(F84:F89) -> 23.272497 | G91: =SUM(G84:G89) -> 38.831649 | H91: =SUM(H84:H89) -> 23.423413 | I91: =SUM(I84:I89) -> 38.697298 | ... O91: =SUM(O84:O89) -> 1098.031
B93: Jobos | C93: Jobos | D93: Jobos | E93: Jobos | F93: Jobos | G93: Jobos | H93: Jobos | I93: Jobos | J93: Jobos | K93: Jobos | L93: Jobos | M93: Jobos | N93: Jobos | O93: Jobos
A94: PM | B94: ='Mensual 2025'!C147 -> 0.16265257 | C94: ='Mensual 2025'!D147 -> 0.11708801 | D94: ='Mensual 2025'!E147 -> 0.32729015 | E94: ='Mensual 2025'!F147 -> 0.47689998 | F94: ='Mensual 2025'!G147 -> 0.17883141 | G94: ='Mensual 2025'!H147 -> 0.28514164 | H94: ='Mensual 2025'!I147 -> 0.30587335 | I94: ='Mensual 2025'!J147 -> 0.28803152 | ... M94: ='Mensual 2025'!N147 -> 0.033374875 | N94: =SUM(B94:M94) -> 3.0903108 | O94: 9.86
A95: SOx | B95: ='Mensual 2025'!C148 -> 0.13689925 | C95: ='Mensual 2025'!D148 -> 0.098549075 | D95: ='Mensual 2025'!E148 -> 0.27546921 | E95: ='Mensual 2025'!F148 -> 0.40139082 | F95: ='Mensual 2025'!G148 -> 0.15051643 | G95: ='Mensual 2025'!H148 -> 0.23999421 | H95: ='Mensual 2025'!I148 -> 0.2574434 | I95: ='Mensual 2025'!J148 -> 0.24242653 | ... M95: ='Mensual 2025'!N148 -> 0.02809052 | N95: =SUM(B95:M95) -> 2.6010116 | O95: 414.78
A96: NOx | B96: ='Mensual 2025'!C149 -> 11.927855 | C96: ='Mensual 2025'!D149 -> 8.5864541 | D96: ='Mensual 2025'!E149 -> 24.001278 | E96: ='Mensual 2025'!F149 -> 34.972665 | F96: ='Mensual 2025'!G149 -> 13.114303 | G96: ='Mensual 2025'!H149 -> 20.910387 | H96: ='Mensual 2025'!I149 -> 22.430712 | I96: ='Mensual 2025'!J149 -> 21.122312 | ... M96: ='Mensual 2025'!N149 -> 2.4474908 | N96: =SUM(B96:M96) -> 226.62279 | O96: 722.78
A97: VOC | B97: ='Mensual 2025'!C150 -> 0.0055572961 | C97: ='Mensual 2025'!D150 -> 0.004000507 | D97: ='Mensual 2025'!E150 -> 0.011182413 | E97: ='Mensual 2025'!F150 -> 0.016294083 | F97: ='Mensual 2025'!G150 -> 0.0061100731 | G97: ='Mensual 2025'!H150 -> 0.0097423393 | H97: ='Mensual 2025'!I150 -> 0.010450673 | I97: ='Mensual 2025'!J150 -> 0.0098410771 | ... M97: ='Mensual 2025'!N150 -> 0.0011403082 | N97: =SUM(B97:M97) -> 0.10558562 | O97: 0.34
A98: CO | B98: ='Mensual 2025'!C151 -> 0.044729456 | C98: ='Mensual 2025'!D151 -> 0.032199203 | D98: ='Mensual 2025'!E151 -> 0.090004791 | E98: ='Mensual 2025'!F151 -> 0.13114749 | F98: ='Mensual 2025'!G151 -> 0.049178637 | G98: ='Mensual 2025'!H151 -> 0.078413951 | H98: ='Mensual 2025'!I151 -> 0.084115172 | I98: ='Mensual 2025'!J151 -> 0.079208669 | ... M98: ='Mensual 2025'!N151 -> 0.0091780906 | N98: =SUM(B98:M98) -> 0.84983547 | O98: 2.71
A99: Pb | B99: ='Mensual 2025'!C152 -> 0.00018976133 | C99: ='Mensual 2025'!D152 -> 0.00013660268 | D99: ='Mensual 2025'!E152 -> 0.00038183851 | E99: ='Mensual 2025'!F152 -> 0.00055638331 | F99: ='Mensual 2025'!G152 -> 0.00020863664 | G99: ='Mensual 2025'!H152 -> 0.00033266525 | H99: ='Mensual 2025'!I152 -> 0.00035685224 | I99: ='Mensual 2025'!J152 -> 0.00033603678 | ... M99: ='Mensual 2025'!N152 -> 3.8937354e-05 | N99: =SUM(B99:M99) -> 0.0036053626 | O99: 0.011
A100: CO2e | B100: ='Mensual 2025'!C153 -> 2217.6559 | C100: ='Mensual 2025'!D153 -> 1596.4145 | D100: ='Mensual 2025'!E153 -> 4462.376 | E100: ='Mensual 2025'!F153 -> 6502.2031 | F100: ='Mensual 2025'!G153 -> 2438.2432 | G100: ='Mensual 2025'!H153 -> 3887.7101 | H100: ='Mensual 2025'!I153 -> 4170.3727 | I100: ='Mensual 2025'!J153 -> 3927.1117 | ... M100: ='Mensual 2025'!N153 -> 455.04346 | N100: =SUM(B100:M100) -> 42134.262 | O100: N/A
A101: Total | B101: =SUM(B94:B99) -> 12.277883 | C101: =SUM(C94:C99) -> 8.8384275 | D101: =SUM(D94:D99) -> 24.705606 | E101: =SUM(E94:E99) -> 35.998954 | F101: =SUM(F94:F99) -> 13.499148 | G101: =SUM(G94:G99) -> 21.524012 | H101: =SUM(H94:H99) -> 23.088952 | I101: =SUM(I94:I99) -> 21.742156 | ... O101: =SUM(O94:O99) -> 1150.481
B103: Vega Baja | C103: Vega Baja | D103: Vega Baja | E103: Vega Baja | F103: Vega Baja | G103: Vega Baja | H103: Vega Baja | I103: Vega Baja | J103: Vega Baja | K103: Vega Baja | L103: Vega Baja | M103: Vega Baja | N103: Vega Baja | O103: Vega Baja
A104: PM | B104: ='Mensual 2025'!C135 -> 0 | C104: ='Mensual 2025'!D135 -> 0 | D104: ='Mensual 2025'!E135 -> 0 | E104: ='Mensual 2025'!F135 -> 0 | F104: ='Mensual 2025'!G135 -> 0 | G104: ='Mensual 2025'!H135 -> 0 | H104: ='Mensual 2025'!I135 -> 0 | I104: ='Mensual 2025'!J135 -> 0 | ... M104: ='Mensual 2025'!N135 -> 0 | N104: =SUM(B104:M104) -> 0 | O104: 9.41
A105: SOx | B105: ='Mensual 2025'!C136 -> 0 | C105: ='Mensual 2025'!D136 -> 0 | D105: ='Mensual 2025'!E136 -> 0 | E105: ='Mensual 2025'!F136 -> 0 | F105: ='Mensual 2025'!G136 -> 0 | G105: ='Mensual 2025'!H136 -> 0 | H105: ='Mensual 2025'!I136 -> 0 | I105: ='Mensual 2025'!J136 -> 0 | ... M105: ='Mensual 2025'!N136 -> 0 | N105: =SUM(B105:M105) -> 0 | O105: 395.87
A106: NOx | B106: ='Mensual 2025'!C137 -> 0 | C106: ='Mensual 2025'!D137 -> 0 | D106: ='Mensual 2025'!E137 -> 0 | E106: ='Mensual 2025'!F137 -> 0 | F106: ='Mensual 2025'!G137 -> 0 | G106: ='Mensual 2025'!H137 -> 0 | H106: ='Mensual 2025'!I137 -> 0 | I106: ='Mensual 2025'!J137 -> 0 | ... M106: ='Mensual 2025'!N137 -> 0 | N106: =SUM(B106:M106) -> 0 | O106: 689.83
A107: VOC | B107: ='Mensual 2025'!C138 -> 0 | C107: ='Mensual 2025'!D138 -> 0 | D107: ='Mensual 2025'!E138 -> 0 | E107: ='Mensual 2025'!F138 -> 0 | F107: ='Mensual 2025'!G138 -> 0 | G107: ='Mensual 2025'!H138 -> 0 | H107: ='Mensual 2025'!I138 -> 0 | I107: ='Mensual 2025'!J138 -> 0 | ... M107: ='Mensual 2025'!N138 -> 0 | N107: =SUM(B107:M107) -> 0 | O107: 0.32
A108: CO | B108: ='Mensual 2025'!C139 -> 0 | C108: ='Mensual 2025'!D139 -> 0 | D108: ='Mensual 2025'!E139 -> 0 | E108: ='Mensual 2025'!F139 -> 0 | F108: ='Mensual 2025'!G139 -> 0 | G108: ='Mensual 2025'!H139 -> 0 | H108: ='Mensual 2025'!I139 -> 0 | I108: ='Mensual 2025'!J139 -> 0 | ... M108: ='Mensual 2025'!N139 -> 0 | N108: =SUM(B108:M108) -> 0 | O108: 2.59
...

Sheet Costa Sur
A2: Costa Sur BC Consumption 2025
A3: Galones | F3: Azufre | L3: Barrels
A4: year | B4: CS3 | C4: CS4 | D4: CS5 | E4: CS6 | F4: CS3 | G4: CS4 | H4: CS5 | I4: CS6 | J4: CS3 | K4: CS4 | L4: CS5 | M4: CS6
A5: 45658 | B5: 0 | C5: 0 | D5: =SUM(L5*42) -> 330906.66 | E5: =SUM(M5*42) -> 8255977 | F5: 0 | G5: 0 | H5: 0.49 | I5: 0.49 | J5: 0 | K5: 0 | L5: 7878.73 | M5: 196570.88
A6: 45689 | B6: 0 | C6: 0 | D6: =SUM(L6*42) -> 762088.32 | E6: =SUM(M6*42) -> 8463100.4 | F6: 0 | G6: 0 | H6: 0.48 | I6: 0.48 | J6: 0 | K6: 0 | L6: 18144.96 | M6: 201502.39
A7: 45717 | B7: 0 | C7: 0 | D7: =SUM(L7*42) -> 0 | E7: =SUM(M7*42) -> 3474278.6 | F7: 0 | G7: 0 | H7: 0.49 | I7: 0.49 | J7: 0 | K7: 0 | L7: 0 | M7: 82720.92
A8: 45748 | B8: 0 | C8: 0 | D8: =SUM(L8*42) -> 0 | E8: =SUM(M8*42) -> 2669000.5 | F8: 0 | G8: 0 | H8: 0.48 | I8: 0.48 | J8: 0 | K8: 0 | L8: 0 | M8: 63547.63
A9: 45778 | B9: 0 | C9: 0 | D9: =SUM(L9*42) -> 2658474.4 | E9: =SUM(M9*42) -> 8645531.6 | F9: 0 | G9: 0 | H9: 0.49 | I9: 0.49 | J9: 0 | K9: 0 | L9: 63297.01 | M9: 205845.99
A10: 45809 | B10: 0 | C10: 0 | D10: =SUM(L10*42) -> 10104505 | E10: =SUM(M10*42) -> 7613907 | F10: 0 | G10: 0 | H10: 0.49 | I10: 0.49 | J10: 0 | K10: 0 | L10: 240583.46 | M10: 181283.5
A11: 45839 | B11: 0 | C11: 0 | D11: =SUM(L11*42) -> 3136727.6 | E11: =SUM(M11*42) -> 8141125.4 | F11: 0 | G11: 0 | H11: 0.49 | I11: 0.49 | J11: 0 | K11: 0 | L11: 74683.99 | M11: 193836.32
A12: 45870 | B12: 0 | C12: 0 | D12: =SUM(L12*42) -> 1383275.5 | E12: =SUM(M12*42) -> 1111535.9 | F12: 0 | G12: 0 | H12: 0.49 | I12: 0.49 | J12: 0 | K12: 0 | L12: 32935.13 | M12: 26465.14
A13: 45901 | B13: 0 | C13: 0 | D13: =SUM(L13*42) -> 665703.36 | E13: =SUM(M13*42) -> 287365.68 | F13: 0 | G13: 0 | H13: 0.49 | I13: 0.49 | J13: 0 | K13: 0 | L13: 15850.08 | M13: 6842.04
A14: 45931 | B14: 0 | C14: 0 | D14: =SUM(L14*42) -> 2844801.1 | E14: =SUM(M14*42) -> 6398555.5 | F14: 0 | G14: 0 | H14: 0.49 | I14: 0.49 | J14: 0 | K14: 0 | L14: 67733.36 | M14: 152346.56
A15: 45962 | B15: 0 | C15: 0 | D15: =SUM(L15*42) -> 2041878.3 | E15: =SUM(M15*42) -> 3906787.1 | F15: 0 | G15: 0 | H15: 0.49 | I15: 0.49 | J15: 0 | K15: 0 | L15: 48616.15 | M15: 93018.74
A16: 45992 | B16: 0 | C16: 0 | D16: =SUM(L16*42) -> 4440474.4 | E16: =SUM(M16*42) -> 9949477 | F16: 0 | G16: 0 | H16: 0.47 | I16: 0.47 | J16: 0 | K16: 0 | L16: 105725.58 | M16: 236892.31
A17: Total | B17: =SUM(B5:B16) -> 0 | C17: =SUM(C5:C16) -> 0 | D17: =SUM(D5:D16) -> 28368835 | E17: =SUM(E5:E16) -> 68916642 | F17: =AVERAGE(F5:F16) -> 0 | G17: =AVERAGE(G5:G16) -> 0 | H17: =AVERAGE(H5:H16) -> 0.48666667 | I17: =AVERAGE(I5:I16) -> 0.48666667
A21: CS #2 FO Consumption 2025
A22: year | B22: Galones | D22: Azufre | G22: Barrels
B23: SCGT1-1 | C23: SCGT1-2 | D23: SCGT1-1 | E23: SCGT1-2 | G23: SCGT1-1 | H23: SCGT1-2
A24: =A5 -> 45658 | B24: 0 | C24: 43260 | D24: 0.001 | E24: 0.001 | G24: 0 | H24: 0
A25: =A6 -> 45689 | B25: 0 | C25: 121656 | D25: 0.008 | E25: 0.008 | G25: 0 | H25: 0
A26: =A7 -> 45717 | B26: 0 | C26: 3539 | D26: 0.001 | E26: 0.001 | G26: 0 | H26: 0
A27: =A8 -> 45748 | B27: 0 | C27: 0 | D27: 0.001 | E27: 0.001 | G27: 0 | H27: 0
A28: =A9 -> 45778 | B28: 0 | C28: 0 | D28: 0.001 | E28: 0.001 | G28: 0 | H28: 0
A29: =A10 -> 45809 | B29: 0 | C29: 0 | D29: 0.001 | E29: 0.001 | G29: 0 | H29: 0
A30: =A11 -> 45839 | B30: 0 | C30: 0 | D30: 0.001 | E30: 0.001 | G30: 0.001 | H30: 0.001
A31: =A12 -> 45870 | B31: 0 | C31: 0 | D31: 0.001 | E31: 0.001 | G31: 0 | H31: 0
A32: =A13 -> 45901 | B32: 0 | C32: 0 | D32: 0.001 | E32: 0.001
A33: =A14 -> 45931 | B33: 0 | C33: 0 | D33: 0.001 | E33: 0.001
A34: =A15 -> 45962 | B34: 0 | C34: 0 | D34: 0.001 | E34: 0.001
A35: =A16 -> 45992 | B35: 0 | C35: 0 | D35: 0.001 | E35: 0.01
A36: Total | B36: =SUM(B24:B35) -> 0 | C36: =SUM(C24:C35) -> 168455 | D36: =SUM(D24:D35) -> 0.019 | E36: =SUM(E24:E35) -> 0.028
A39: Costa Sur Natural Gas Consumtion 2025
A40: year | B40: SCF | D40: Azufre
B41: Unit 5 | C41: Unit 6 | D41: Unit 5 | E41: Unit 6
A42: =A5 -> 45658 | B42: 1554213850 | C42: 745542910 | D42: 0.001 | E42: 0.001
A43: =A6 -> 45689 | B43: 1267505400 | C43: 526697500 | D43: 0.001 | E43: 0.001
A44: =A7 -> 45717 | B44: 0 | C44: 1555548100 | D44: 0.001 | E44: 0.001
A45: =A8 -> 45748 | B45: 0 | C45: 1605781227 | D45: 0.001 | E45: 0.001
A46: =A9 -> 45778 | B46: 1357855300 | C46: 854542040 | D46: 0.001 | E46: 0.001
A47: =A10 -> 45809 | B47: 5.2230799e+08 | C47: 1.1320517e+09 | D47: 0.001 | E47: 0.001
A48: =A11 -> 45839 | B48: 1422853380 | C48: 661591230 | D48: 0.0001 | E48: 0.001
A49: =A12 -> 45870 | B49: 2189928000 | C49: 1737847350 | D49: 0.001 | E49: 0.001
A50: =A13 -> 45901 | B50: 2168538000 | C50: 1802932000 | D50: 0.001 | E50: 0.001
A51: =A14 -> 45931 | B51: 2250942444 | C51: 1871443416 | D51: 0.00069 | E51: 0.00069
A52: =A15 -> 45962 | B52: 1824088440 | C52: 1252750380 | D52: 0.0008 | E52: 0.0008
A53: =A16 -> 45992 | B53: 1158591780 | C53: 314048870 | D53: 0.0008 | E53: 0.0008
A54: TOTAL | B54: =SUM(B42:B53) -> 1.5716825e+10 | C54: =SUM(C42:C53) -> 1.4060777e+10 | D54: =SUM(D42:D53) -> 0.01039 | E54: =SUM(E42:E53) -> 0.01129

Sheet Turbinas CS
B1: Cómputo de Emisiones Actuales - Costa Sur (Turbinas 1-1 & 1-2) DICIEMBRE 2025
B3: Factores de Emisión AP-42 Section 3.1
B5: PM | C5: 0.012lb/MMBTU
B6: SOx | C6: 1.01*%S lb/MMBTU
B7: NOx | C7: 0.880 lb/MMBTU
B8: VOC | C8: 0.00041 lb/MMBTU
B9: C0 | C9: 0.0033 lb/MMBTU
B10: Pb | C10: 0.0000140 lb MMBTU
B11: CO2e | C11: 163.61 lb/MMBtu (40 CFR 98, Subpart C)
R12: =(73.96+0.003*25+0.0006*298)*2.2046 -> 163.61174
B13: Combustible #2 | C13: ='Costa Sur'!B36+'Costa Sur'!C36 -> 168455 | D13: gal/year
B14: Azufre % | C14: =MAX('Costa Sur'!D35:E35) -> 0.01
B17: Cálculos Emisiones PM
B19: = | C19: 0.012 | D19: lb | E19: =C13 -> 168455 | F19: gal | G19: 0.138 | H19: MMBTU | I19: ton
C20: MMBTU | E20: año | G20: gal | I20: 2000 | J20: lb
B23: = | C23: =C19*E19*G19/I20 -> 0.13948074 | D23: ton | E23: = | F23: =C23*2000/8760 -> 0.031844918 | G23: lb
D24: año | G24: hr
B26: Cálculos Emisiones SOx
B28: = | C28: =1.01*C14 -> 0.0101 | D28: lb | E28: =E19 -> 168455 | F28: gal | G28: 0.138 | H28: MMBTU | I28: ton
C29: MMBTU | E29: año | G29: gal | I29: 2000 | J29: lb
B32: = | C32: =C28*E28*G28/I29 -> 0.11739629 | D32: ton | E32: = | F32: =C32*2000/8760 -> 0.026802806 | G32: lb
D33: año | G33: hr
B35: Cálculos Emisiones NOx
B37: = | C37: 0.88 | D37: lb | E37: =E19 -> 168455 | F37: gal | G37: 0.138 | H37: MMBTU | I37: ton
C38: MMBTU | E38: año | G38: gal | I38: 2000 | J38: lb
B41: = | C41: =C37*E37*G37/I38 -> 10.228588 | D41: ton | E41: = | F41: =C41*2000/8760 -> 2.335294 | G41: lb
D42: año | G42: hr
B44: Cálculos Emisiones VOC
B46: = | C46: 0.00041 | D46: lb | E46: =E19 -> 168455 | F46: gal | G46: 0.138 | H46: MMBTU | I46: ton
C47: MMBTU | E47: año | G47: gal | I47: 2000 | J47: lb
B50: = | C50: =C46*E46*G46/I47 -> 0.004765592 | D50: ton | E50: = | F50: =C50*2000/8760 -> 0.0010880347 | G50: lb
D51: año | G51: hr
B53: Cálculos Emisiones CO
B55: = | C55: 0.0033 | D55: lb | E55: =E19 -> 168455 | F55: gal | G55: 0.138 | H55: MMBTU | I55: ton
C56: MMBTU | E56: año | G56: gal | I56: 2000 | J56: lb
B59: = | C59: =C55*E55*G55/I56 -> 0.038357203 | D59: ton | E59: = | F59: =C59*2000/8760 -> 0.0087573524 | G59: lb
D60: año | G60: hr
B62: Cálculos Emisiones Pb
B64: = | C64: 1.4e-05 | D64: lb | E64: =E19 -> 168455 | F64: gal | G64: 0.138 | H64: MMBTU | I64: ton
C65: MMBTU | E65: año | G65: gal | I65: 2000 | J65: lb
B68: = | C68: =C64*E64*G64/I65 -> 0.00016272753 | D68: ton | E68: = | F68: =C68*2000/8760 -> 3.7152404e-05 | G68: lb
D69: año | G69: hr
B71: Cálculos Emisiones CO2e
B73: = | C73: =R12 -> 163.61174 | D73: lb | E73: =E19 -> 168455 | F73: gal | G73: 0.138 | H73: MMBTU | I73: ton
C74: MMBTU | E74: año | G74: gal | I74: 2000 | J74: lb
B77: = | C77: =C73*E73*G73/I74 -> 1901.7239 | D77: ton | E77: = | F77: =C77*2000/8760 -> 434.18354 | G77: lb
D78: año | G78: hr

Sheet CS 5
A1: Cómputo de Emisiones Actuales para Bunker C y Gas Natural - Costa Sur AÑO 2025 - Unidad 5*
A3: Parametro | B3: Factor de Emisión Combustible Natural Gas | C3: Factor de Emisión Combustible No. 6 Oil | D3: Emisiones Actuales (ton/year) | E3: Emisiones Actuales (lb/hr)
A4: NOx | B4: 0.35 | C4: 0.35 | D4: =B23 -> 3605.144 | E4: =F23 -> 823.09224
A5: CO | B5: 0.009 | C5: 0.0038 | D5: =B29 -> 81.639857 | E5: =F29 -> 18.639237
A6: VOC | B6: 0.0008 | C6: 0.0013 | D6: =B35 -> 9.3041604 | E6: =F35 -> 2.1242375 | F6: Ecuación para el Cómputo
A7: PM | B7: 0.005 | C7: 0.0275 | D7: =B41 -> 99.374466 | E7: =F41 -> 22.688234 | F7: ton/year = | G7: [Consumo de Combustible #6 en galones/year) * ( Valor Calorífico BC 0.15 MMBtu/gal)
A8: PM10 | B8: 0.0081 | C8: 0.04 | D8: =B47 -> 151.30577 | E8: =F47 -> 34.544696 | G8: + (Consumo Gas Natural SCF/year) * (Valor Calorífico GN 1,040 MMBtu/SCF*10^6)]
A9: PM2.5 | B9: 0.0075 | C9: 0.033 | D9: =B53 -> 131.50848 | E9: =F53 -> 30.024768 | G9: * FE en lbs/MMBtu * 1 ton/2,000 lbs
A10: SO2 | B10: 0.004 | C10: 157*%S | D10: =B59 -> 1116.4751 | E10: =F59 -> 254.90298
A11: H2SO4 | B11: 0.00043 | C11: 0.02259 | D11: =B65 -> 51.578181 | E11: =F65 -> 11.77584 | F11: lbs/hr = | G11: (Toneladas Contaminante / year) * (1 year / 8,760 hr) * (2000 lb / ton) | V11: CO2e | W11: =(157765.7+153.2+365.3)*2204.6/13621578 -> 25.617689 | X11: lbs/gal
A12: Pb | B12: 0 | C12: 4.63e-06 | D12: =B71 -> 0.0098510779 | E12: =F71 -> 0.0022491045 | W12: =(989989.8+466.4+556)*2204.62/18132099995 -> 0.12049378 | X12: lbs/scf
A13: CO2e | B13: 25.618 lbs/gal | C13: 0.1205 lbs/SCF | D13: =B77 -> 1310261.8 | E13: =F77 -> 299146.53
A14: Fluoruro | B14: 0 | C14: 0 | D14: 0 | E14: 0
A16: Consumo #6 = | B16: =SUM('Costa Sur'!D17) -> 28368835 | D16: gal/year
A17: Consumo NG = | B17: =SUM('Costa Sur'!B54) -> 1.5716825e+10 | D17: SCF/year
A18: #6 Azufre = | B18: =SUM('Costa Sur'!H17) -> 0.48666667 | D18: %
A20: NOx = | B20: =B16 -> 28368835 | D20: galons | E20: 0.15 | F20: MMBtu | G20: * | H20: =C4 -> 0.35 | I20: lbs | J20: 1 | K20: ton | L20: + | M20: =B17 -> 1.5716825e+10 | N20: SCF | O20: 1040 | P20: MMBtu | Q20: * | R20: =B4 -> 0.35 | S20: lbs | T20: 1 | U20: ton
D21: year | F21: gal | I21: MMBtu | J21: 2000 | K21: lbs | N21: year | O21: 1000000 | P21: SCF | S21: MMBtu | T21: 2000 | U21: lbs
B23: =(B20*E20*H20+M20*O20*R20/1000000)/2000 -> 3605.144 | D23: ton/year | E23: = | F23: =B23*(2000/8760) -> 823.09224 | G23: lb/hr
A26: CO = | B26: =B16 -> 28368835 | D26: galons | E26: 0.15 | F26: MMBtu | G26: * | H26: =C5 -> 0.0038 | I26: lbs | J26: 1 | K26: ton | L26: + | M26: =B17 -> 1.5716825e+10 | N26: SCF | O26: 1040 | P26: MMBtu | Q26: * | R26: =B5 -> 0.009 | S26: lbs | T26: 1 | U26: ton
D27: year | F27: gal | I27: MMBtu | J27: 2000 | K27: lbs | N27: year | O27: 1000000 | P27: SCF | S27: MMBtu | T27: 2000 | U27: lbs
B29: =(B26*E26*H26+M26*O26*R26/1000000)/2000 -> 81.639857 | D29: ton/year | E29: = | F29: =B29*(2000/8760) -> 18.639237 | G29: lb/hr
A32: VOC = | B32: =B16 -> 28368835 | D32: galons | E32: 0.15 | F32: MMBtu | G32: * | H32: =C6 -> 0.0013 | I32: lbs | J32: 1 | K32: ton | L32: + | M32: =B17 -> 1.5716825e+10 | N32: SCF | O32: 1040 | P32: MMBtu | Q32: * | R32: =B6 -> 0.0008 | S32: lbs | T32: 1 | U32: ton
D33: year | F33: gal | I33: MMBtu | J33: 2000 | K33: lbs | N33: year | O33: 1000000 | P33: SCF | S33: MMBtu | T33: 2000 | U33: lbs
B35: =(B32*E32*H32+M32*O32*R32/1000000)/2000 -> 9.3041604 | D35: ton/year | E35: = | F35: =B35*(2000/8760) -> 2.1242375 | G35: lb/hr
A38: PM = | B38: =B16 -> 28368835 | D38: galons | E38: 0.15 | F38: MMBtu | G38: * | H38: =C7 -> 0.0275 | I38: lbs | J38: 1 | K38: ton | L38: + | M38: =B17 -> 1.5716825e+10 | N38: SCF | O38: 1040 | P38: MMBtu | Q38: * | R38: =B7 -> 0.005 | S38: lbs | T38: 1 | U38: ton
D39: year | F39: gal | I39: MMBtu | J39: 2000 | K39: lbs | N39: year | O39: 1000000 | P39: SCF | S39: MMBtu | T39: 2000 | U39: lbs
B41: =(B38*E38*H38+M38*O38*R38/1000000)/2000 -> 99.374466 | D41: ton/year | E41: = | F41: =B41*(2000/8760) -> 22.688234 | G41: lb/hr | L41: lb/hr
A44: PM10 = | B44: =B16 -> 28368835 | D44: galons | E44: 0.15 | F44: MMBtu | G44: * | H44: =C8 -> 0.04 | I44: lbs | J44: 1 | K44: ton | L44: + | M44: =B17 -> 1.5716825e+10 | N44: SCF | O44: 1040 | P44: MMBtu | Q44: * | R44: =B8 -> 0.0081 | S44: lbs | T44: 1 | U44: ton
D45: year | F45: gal | I45: MMBtu | J45: 2000 | K45: lbs | N45: year | O45: 1000000 | P45: SCF | S45: MMBtu | T45: 2000 | U45: lbs
B47: =(B44*E44*H44+M44*O44*R44/1000000)/2000 -> 151.30577 | D47: ton/year | E47: = | F47: =B47*(2000/8760) -> 34.544696 | G47: lb/hr | L47: lb/hr
A50: PM2.5 = | B50: =B16 -> 28368835 | D50: galons | E50: 0.15 | F50: MMBtu | G50: * | H50: =C9 -> 0.033 | I50: lbs | J50: 1 | K50: ton | L50: + | M50: =B17 -> 1.5716825e+10 | N50: SCF | O50: 1040 | P50: MMBtu | Q50: * | R50: =B9 -> 0.0075 | S50: lbs | T50: 1 | U50: ton
D51: year | F51: gal | I51: MMBtu | J51: 2000 | K51: lbs | N51: year | O51: 1000000 | P51: SCF | S51: MMBtu | T51: 2000 | U51: lbs
B53: =(B50*E50*H50+M50*O50*R50/1000000)/2000 -> 131.50848 | D53: ton/year | E53: = | F53: =B53*(2000/8760) -> 30.024768 | G53: lb/hr | L53: lb/hr
A56: SO2 = | B56: =B16 -> 28368835 | D56: galons | G56: * | H56: =(157)*B18 -> 76.406667 | I56: lbs | J56: 1 | K56: ton | L56: + | M56: =B17 -> 1.5716825e+10 | N56: SCF | O56: 1040 | P56: MMBtu | Q56: * | R56: =B10 -> 0.004 | S56: lbs | T56: 1 | U56: ton
D57: year | H57: 1000 | I57: gals | J57: 2000 | K57: lbs | N57: year | O57: 1000000 | P57: SCF | S57: MMBtu | T57: 2000 | U57: lbs
B59: =(B56*H56/H57+M56*O56*R56/1000000)/2000 -> 1116.4751 | D59: ton/year | E59: = | F59: =B59*(2000/8760) -> 254.90298 | G59: lb/hr | L59: lb/hr
A62: H2SO4 = | B62: =B16 -> 28368835 | D62: galons | E62: 0.15 | F62: MMBtu | G62: * | H62: =C11 -> 0.02259 | I62: lbs | J62: 1 | K62: ton | L62: + | M62: =B17 -> 1.5716825e+10 | N62: SCF | O62: 1040 | P62: MMBtu | Q62: * | R62: =B11 -> 0.00043 | S62: lbs | T62: 1 | U62: ton
D63: year | F63: gal | I63: MMBtu | J63: 2000 | K63: lbs | N63: year | O63: 1000000 | P63: SCF | S63: MMBtu | T63: 2000 | U63: lbs
B65: =(B62*E62*H62+M62*O62*R62/1000000)/2000 -> 51.578181 | D65: ton/year | E65: = | F65: =B65*(2000/8760) -> 11.77584 | G65: lb/hr | L65: lb/hr
A68: Pb = | B68: =B16 -> 28368835 | D68: galons | E68: 0.15 | F68: MMBtu | G68: * | H68: =C12 -> 4.63e-06 | I68: lbs | J68: 1 | K68: ton | L68: + | M68: =B17 -> 1.5716825e+10 | N68: SCF | O68: 1040 | P68: MMBtu | Q68: * | R68: =B12 -> 0 | S68: lbs | T68: 1 | U68: ton
D69: year | F69: gal | I69: MMBtu | J69: 2000 | K69: lbs | N69: year | O69: 1000000 | P69: SCF | S69: MMBtu | T69: 2000 | U69: lbs
B71: =(B68*E68*H68+M68*O68*R68/1000000)/2000 -> 0.0098510779 | D71: ton/year | E71: = | F71: =B71*(2000/8760) -> 0.0022491045 | G71: lb/hr
A74: CO2e = | B74: =B16 -> 28368835 | D74: galons | E74: =W11 -> 25.617689 | F74: lbs | G74: * | H74: 1 | I74: ton | J74: + | M74: =B17 -> 1.5716825e+10 | N74: SCF | O74: =W12 -> 0.12049378 | P74: lbs | Q74: * | R74: 1 | S74: ton
D75: year | F75: gal | H75: 2000 | I75: lbs | N75: year | P75: SCF | R75: 2000 | S75: lbs
B77: =(B74*E74+M74*O74)/H75 -> 1310261.8 | D77: ton/year | E77: = | F77: =B77*(2000/8760) -> 299146.53 | G77: lb/hr
B80: Nota:
B81: * La formula y los factores de emisión utilizados son los aprobados en la última revisión del permiso
B82: de construcción PFE-31-0810-0455-II-C, con fecha del 21 de DICIEMBRE de 2012, para la quema dual
B83: de combustible 100% Bunker C y 100% Gas Natural, según corresponda.

Sheet CS 6
A1: Cómputo de Emisiones Actuales para Bunker C y Gas Natural - Costa Sur AÑO 2025 - Unidad 6*
A3: Parametro | B3: Factor de Emisión Combustible Natural Gas | C3: Factor de Emisión Combustible No. 6 Oil | D3: Emisiones Actuales (ton/year) | E3: Emisiones Actuales (lb/hr)
A4: NOx | B4: 0.35 | C4: 0.35 | D4: =B23 -> 4368.1232 | E4: =F23 -> 997.2884
A5: CO | B5: 0.009 | C5: 0.0038 | D5: =B29 -> 85.445678 | E5: =F29 -> 19.508146
A6: VOC | B6: 0.0008 | C6: 0.0013 | D6: =B35 -> 12.568656 | E6: =F35 -> 2.8695561 | F6: Ecuación para el Cómputo
A7: PM | B7: 0.005 | C7: 0.0275 | D7: =B41 -> 178.69859 | E7: =F41 -> 40.798765 | F7: ton/year = | G7: [Consumo de Combustible #6 en galones/year) * ( Valor Calorífico BC 0.15 MMBtu/gal)
A8: PM10 | B8: 0.0081 | C8: 0.04 | D8: =B47 -> 265.97392 | E8: =F47 -> 60.724638 | G8: + (Consumo Gas Natural SCF/year) * (Valor Calorífico GN 1,040 MMBtu/SCF*10^6)]
A9: PM2.5 | B9: 0.0075 | C9: 0.033 | D9: =B53 -> 225.40572 | E9: =F53 -> 51.462493 | G9: * FE en lbs/MMBtu * 1 ton/2,000 lbs
A10: SO2 | B10: 0.004 | C10: 157*%S | D10: =B59 -> 2662.0918 | E10: =F59 -> 607.78353
A11: H2SO4 | B11: 0.00043 | C11: 0.02259 | D11: =B65 -> 119.90601 | E11: =F65 -> 27.375801 | F11: lbs/hr = | G11: (Toneladas Contaminante / year) * (1 year / 8,760 hr) * (2000 lb / ton) | V11: CO2e | W11: =(157765.7+153.2+365.3)*2204.6/13621578 -> 25.617689 | X11: lbs/gal
A12: Pb | B12: 0 | C12: 4.63e-06 | D12: =B71 -> 0.023931304 | E12: =F71 -> 0.005463768 | W12: =(989989.8+466.4+556)*2204.62/18132099995 -> 0.12049378 | X12: lbs/scf
A13: CO2e | B13: 25.618 lbs/gal | C13: 0.1205 lbs/SCF | D13: =B77 -> 1729860.6 | E13: =F77 -> 394945.35
A14: Fluoruro | B14: 0 | C14: 0 | D14: 0 | E14: 0
A16: Consumo #6 = | B16: =SUM('Costa Sur'!E17) -> 68916642 | D16: gal/year
A17: Consumo NG = | B17: =SUM('Costa Sur'!C54) -> 1.4060777e+10 | D17: SCF/year
A18: #6 Azufre = | B18: =SUM('Costa Sur'!I17) -> 0.48666667 | D18: %
A20: NOx = | B20: =B16 -> 68916642 | D20: galons | E20: 0.15 | F20: MMBtu | G20: * | H20: =C4 -> 0.35 | I20: lbs | J20: 1 | K20: ton | L20: + | M20: =B17 -> 1.4060777e+10 | N20: SCF | O20: 1040 | P20: MMBtu | Q20: * | R20: =B4 -> 0.35 | S20: lbs | T20: 1 | U20: ton
D21: year | F21: gal | I21: MMBtu | J21: 2000 | K21: lbs | N21: year | O21: 1000000 | P21: SCF | S21: MMBtu | T21: 2000 | U21: lbs
B23: =(B20*E20*H20+M20*O20*R20/1000000)/2000 -> 4368.1232 | D23: ton/year | E23: = | F23: =B23*(2000/8760) -> 997.2884 | G23: lb/hr
A26: CO = | B26: =B16 -> 68916642 | D26: galons | E26: 0.15 | F26: MMBtu | G26: * | H26: =C5 -> 0.0038 | I26: lbs | J26: 1 | K26: ton | L26: + | M26: =B17 -> 1.4060777e+10 | N26: SCF | O26: 1040 | P26: MMBtu | Q26: * | R26: =B5 -> 0.009 | S26: lbs | T26: 1 | U26: ton
D27: year | F27: gal | I27: MMBtu | J27: 2000 | K27: lbs | N27: year | O27: 1000000 | P27: SCF | S27: MMBtu | T27: 2000 | U27: lbs
B29: =(B26*E26*H26+M26*O26*R26/1000000)/2000 -> 85.445678 | D29: ton/year | E29: = | F29: =B29*(2000/8760) -> 19.508146 | G29: lb/hr
A32: VOC = | B32: =B16 -> 68916642 | D32: galons | E32: 0.15 | F32: MMBtu | G32: * | H32: =C6 -> 0.0013 | I32: lbs | J32: 1 | K32: ton | L32: + | M32: =B17 -> 1.4060777e+10 | N32: SCF | O32: 1040 | P32: MMBtu | Q32: * | R32: =B6 -> 0.0008 | S32: lbs | T32: 1 | U32: ton
D33: year | F33: gal | I33: MMBtu | J33: 2000 | K33: lbs | N33: year | O33: 1000000 | P33: SCF | S33: MMBtu | T33: 2000 | U33: lbs
B35: =(B32*E32*H32+M32*O32*R32/1000000)/2000 -> 12.568656 | D35: ton/year | E35: = | F35: =B35*(2000/8760) -> 2.8695561 | G35: lb/hr
A38: PM = | B38: =B16 -> 68916642 | D38: galons | E38: 0.15 | F38: MMBtu | G38: * | H38: =C7 -> 0.0275 | I38: lbs | J38: 1 | K38: ton | L38: + | M38: =B17 -> 1.4060777e+10 | N38: SCF | O38: 1040 | P38: MMBtu | Q38: * | R38: =B7 -> 0.005 | S38: lbs | T38: 1 | U38: ton
D39: year | F39: gal | I39: MMBtu | J39: 2000 | K39: lbs | N39: year | O39: 1000000 | P39: SCF | S39: MMBtu | T39: 2000 | U39: lbs
B41: =(B38*E38*H38+M38*O38*R38/1000000)/2000 -> 178.69859 | D41: ton/year | E41: = | F41: =B41*(2000/8760) -> 40.798765 | G41: lb/hr | L41: lb/hr
A44: PM10 = | B44: =B16 -> 68916642 | D44: galons | E44: 0.15 | F44: MMBtu | G44: * | H44: =C8 -> 0.04 | I44: lbs | J44: 1 | K44: ton | L44: + | M44: =B17 -> 1.4060777e+10 | N44: SCF | O44: 1040 | P44: MMBtu | Q44: * | R44: =B8 -> 0.0081 | S44: lbs | T44: 1 | U44: ton
D45: year | F45: gal | I45: MMBtu | J45: 2000 | K45: lbs | N45: year | O45: 1000000 | P45: SCF | S45: MMBtu | T45: 2000 | U45: lbs
B47: =(B44*E44*H44+M44*O44*R44/1000000)/2000 -> 265.97392 | D47: ton/year | E47: = | F47: =B47*(2000/8760) -> 60.724638 | G47: lb/hr | L47: lb/hr
A50: PM2.5 = | B50: =B16 -> 68916642 | D50: galons | E50: 0.15 | F50: MMBtu | G50: * | H50: =C9 -> 0.033 | I50: lbs | J50: 1 | K50: ton | L50: + | M50: =B17 -> 1.4060777e+10 | N50: SCF | O50: 1040 | P50: MMBtu | Q50: * | R50: =B9 -> 0.0075 | S50: lbs | T50: 1 | U50: ton
D51: year | F51: gal | I51: MMBtu | J51: 2000 | K51: lbs | N51: year | O51: 1000000 | P51: SCF | S51: MMBtu | T51: 2000 | U51: lbs
B53: =(B50*E50*H50+M50*O50*R50/1000000)/2000 -> 225.40572 | D53: ton/year | E53: = | F53: =B53*(2000/8760) -> 51.462493 | G53: lb/hr | L53: lb/hr
A56: SO2 = | B56: =B16 -> 68916642 | D56: galons | G56: * | H56: =(157)*B18 -> 76.406667 | I56: lbs | J56: 1 | K56: ton | L56: + | M56: =B17 -> 1.4060777e+10 | N56: SCF | O56: 1040 | P56: MMBtu | Q56: * | R56: =B10 -> 0.004 | S56: lbs | T56: 1 | U56: ton
D57: year | H57: 1000 | I57: gals | J57: 2000 | K57: lbs | N57: year | O57: 1000000 | P57: SCF | S57: MMBtu | T57: 2000 | U57: lbs
B59: =(B56*H56/H57+M56*O56*R56/1000000)/2000 -> 2662.0918 | D59: ton/year | E59: = | F59: =B59*(2000/8760) -> 607.78353 | G59: lb/hr | L59: lb/hr
A62: H2SO4 = | B62: =B16 -> 68916642 | D62: galons | E62: 0.15 | F62: MMBtu | G62: * | H62: =C11 -> 0.02259 | I62: lbs | J62: 1 | K62: ton | L62: + | M62: =B17 -> 1.4060777e+10 | N62: SCF | O62: 1040 | P62: MMBtu | Q62: * | R62: =B11 -> 0.00043 | S62: lbs | T62: 1 | U62: ton
D63: year | F63: gal | I63: MMBtu | J63: 2000 | K63: lbs | N63: year | O63: 1000000 | P63: SCF | S63: MMBtu | T63: 2000 | U63: lbs
B65: =(B62*E62*H62+M62*O62*R62/1000000)/2000 -> 119.90601 | D65: ton/year | E65: = | F65: =B65*(2000/8760) -> 27.375801 | G65: lb/hr | L65: lb/hr
A68: Pb = | B68: =B16 -> 68916642 | D68: galons | E68: 0.15 | F68: MMBtu | G68: * | H68: =C12 -> 4.63e-06 | I68: lbs | J68: 1 | K68: ton | L68: + | M68: =B17 -> 1.4060777e+10 | N68: SCF | O68: 1040 | P68: MMBtu | Q68: * | R68: =B12 -> 0 | S68: lbs | T68: 1 | U68: ton
D69: year | F69: gal | I69: MMBtu | J69: 2000 | K69: lbs | N69: year | O69: 1000000 | P69: SCF | S69: MMBtu | T69: 2000 | U69: lbs
B71: =(B68*E68*H68+M68*O68*R68/1000000)/2000 -> 0.023931304 | D71: ton/year | E71: = | F71: =B71*(2000/8760) -> 0.005463768 | G71: lb/hr
A74: CO2e = | B74: =B16 -> 68916642 | D74: galons | E74: =W11 -> 25.617689 | F74: lbs | G74: * | H74: 1 | I74: ton | J74: + | M74: =B17 -> 1.4060777e+10 | N74: SCF | O74: =W12 -> 0.12049378 | P74: lbs | Q74: * | R74: 1 | S74: ton
D75: year | F75: gal | H75: 2000 | I75: lbs | N75: year | P75: SCF | R75: 2000 | S75: lbs
B77: =(B74*E74+M74*O74)/H75 -> 1729860.6 | D77: ton/year | E77: = | F77: =B77*(2000/8760) -> 394945.35 | G77: lb/hr
B80: Nota:
B81: * La formula y los factores de emisión utilizados son los aprobados en la última revisión del permiso
B82: de construcción PFE-31-0810-0455-II-C, con fecha del 21 de DICIEMBRE de 2012, para la quema dual
B83: de combustible 100% Bunker C y 100% Gas Natural, según corresponda.

Sheet San Juan
A2: San Juan BC Consumption 2025
A3: year | B3: Barrels | F3: Galones | J3: Azufre
B4: SJ7 | C4: SJ8 | D4: SJ9 | E4: SJ10 | F4: SJ7 | G4: SJ8 | H4: SJ9 | I4: SJ10 | J4: SJ7 | K4: SJ8 | L4: SJ9 | M4: SJ10
A5: 45658 | B5: 0 | C5: 0 | D5: 27399.39 | E5: 0 | F5: =B5*42 -> 0 | G5: 0 | H5: =D5*42 -> 1150774.4 | I5: =E5*42 -> 0 | J5: 0.5 | K5: * | L5: 0.5 | M5: *
A6: 45689 | B6: 0 | C6: 0 | D6: 82985.29 | E6: 0 | F6: =B6*42 -> 0 | G6: =C6*42 -> 0 | H6: =D6*42 -> 3485382.2 | I6: =E6*42 -> 0 | J6: 0.5 | K6: * | L6: 0.5 | M6: *
A7: 45717 | B7: 0 | C7: 0 | D7: 94265.43 | E7: 0 | F7: =B7*42 -> 0 | G7: =C7*42 -> 0 | H7: =D7*42 -> 3959148.1 | I7: =E7*42 -> 0 | J7: 0.5 | K7: * | L7: 0.5 | M7: *
A8: 45748 | B8: 0 | C8: 0 | D8: 84800.98 | E8: 0 | F8: =B8*42 -> 0 | G8: =C8*42 -> 0 | H8: =D8*42 -> 3561641.2 | I8: =E8*42 -> 0 | J8: 0.49 | K8: * | L8: 0.49 | M8: *
A9: 45778 | B9: 0 | C9: 0 | D9: 87773.96 | E9: 0 | F9: =B9*42 -> 0 | G9: =C9*42 -> 0 | H9: =D9*42 -> 3686506.3 | I9: =E9*42 -> 0 | J9: 0.49 | K9: * | L9: 0.49 | M9: *
A10: 45809 | B10: 0 | C10: 0 | D10: 95056.56 | E10: 0 | F10: =B10*42 -> 0 | G10: =C10*42 -> 0 | H10: =D10*42 -> 3992375.5 | I10: =E10*42 -> 0 | J10: 0.48 | K10: * | L10: 0.48 | M10: *
A11: 45839 | B11: 0 | C11: 0 | D11: 83259.31 | E11: 0 | F11: =B11*42 -> 0 | G11: =C11*42 -> 0 | H11: =D11*42 -> 3496891 | I11: =E11*42 -> 0 | J11: 0.47 | K11: * | L11: 0.47 | M11: *
A12: 45870 | B12: 0 | C12: 0 | D12: 94556.97 | E12: 0 | F12: =B12*42 -> 0 | G12: =C12*42 -> 0 | H12: =D12*42 -> 3971392.7 | I12: =E12*42 -> 0 | J12: 0.47 | K12: * | L12: 0.47 | M12: *
A13: 45901 | B13: 0 | C13: 0 | D13: 75381.13 | E13: 0 | F13: =B13*42 -> 0 | G13: =C13*42 -> 0 | H13: =D13*42 -> 3166007.5 | I13: =E13*42 -> 0 | J13: 0.46 | K13: * | L13: 0.46 | M13: *
A14: 45931 | B14: 0 | C14: 0 | D14: 87763.54 | E14: 0 | F14: =B14*42 -> 0 | G14: =C14*42 -> 0 | H14: =D14*42 -> 3686068.7 | I14: =E14*42 -> 0 | J14: 0.47 | K14: * | L14: 0.47 | M14: *
A15: 45962 | B15: 0 | C15: 0 | D15: 91960.04 | E15: 0 | F15: =B15*42 -> 0 | G15: =C15*42 -> 0 | H15: =D15*42 -> 3862321.7 | I15: =E15*42 -> 0 | J15: 0.44 | K15: * | L15: 0.44 | M15: *
A16: 45992 | B16: 0 | C16: 0 | D16: 81831.47 | E16: 0 | F16: =B16*42 -> 0 | G16: =C16*42 -> 0 | H16: =D16*42 -> 3436921.7 | I16: =E16*42 -> 0 | J16: 0.41 | K16: * | L16: 0.41 | M16: *
A17: Total | B17: =SUM(B5:B16) -> 0 | C17: =SUM(C5:C16) -> 0 | D17: =SUM(D5:D16) -> 987034.07 | E17: =SUM(E5:E16) -> 0 | F17: =SUM(F5:F16) -> 0 | G17: =SUM(G5:G16) -> 0 | H17: =D17*42 -> 41455431 | I17: =SUM(I5:I16) -> 0 | J17: =AVERAGE(J5:J16) -> 0.47333333 | K17: *** | L17: =AVERAGE(L5:L16) -> 0.47333333 | M17: ***
A20: SJ #2FO Consumption 2025 | M20: San Juan Natural Gas Consumtion 2025
A21: year | B21: Barrels | D21: Galones | F21: Azufre | H21: Horas | M21: year | N21: SCF | P21: Azufre
B22: SJCC5 | C22: SJCC6 | D22: SJCC5 | E22: SJCC6 | F22: SJCC5 | G22: SJCC6 | H22: SJCC5 | I22: SJCC6 | N22: Unit 5 | O22: Unit 6 | P22: Unit 5 | Q22: Unit 6
A23: =A5 -> 45658 | B23: 34419.81 | C23: 0 | D23: =SUM(B23*42) -> 1445632 | E23: =SUM(C23*42) -> 0 | F23: 0.00046 | G23: 0.00046 | H23: 700.1 | I23: 0 | M23: =A5 -> 45658 | N23: 8.1210521e+08 | O23: 0 | P23: 0.001 | Q23: 0.001
A24: =A6 -> 45689 | B24: 68043.8 | C24: 0 | D24: =SUM(B24*42) -> 2857839.6 | E24: =SUM(C24*42) -> 0 | F24: 0.00055 | G24: 0.00055 | H24: 611.5 | I24: 0 | M24: =A6 -> 45689 | N24: 4.5023819e+08 | O24: 0 | P24: 0.001 | Q24: 0.001
A25: =A7 -> 45717 | B25: 128810.15 | C25: 0 | D25: =SUM(B25*42) -> 5410026.3 | E25: =SUM(C25*42) -> 0 | F25: 0.00046 | G25: 0.00046 | H25: 723.6 | I25: 0 | M25: =A7 -> 45717 | N25: 2.7156288e+08 | O25: 0 | P25: 0.001 | Q25: 0.001
A26: =A8 -> 45748 | B26: 101901.78 | C26: 0 | D26: =SUM(B26*42) -> 4279874.8 | E26: =SUM(C26*42) -> 0 | F26: 0.001 | G26: 0.001 | H26: 710.9 | I26: 0 | M26: =A8 -> 45748 | N26: 4.1757739e+08 | O26: 0 | P26: 0.001 | Q26: 0.001
A27: =A9 -> 45778 | B27: 19511.8 | C27: 4723.39 | D27: =SUM(B27*42) -> 819495.6 | E27: =SUM(C27*42) -> 198382.38 | F27: 0.0006 | G27: 0.0006 | H27: 624.4 | I27: 278.3 | M27: =A9 -> 45778 | N27: 8.2228921e+08 | O27: 362953163 | P27: 0.0001 | Q27: 0.001
A28: =A10 -> 45809 | B28: 25971.14 | C28: 18960.82 | D28: =SUM(B28*42) -> 1090787.9 | E28: =SUM(C28*42) -> 796354.44 | F28: 0.0006 | G28: 0.0006 | H28: 701.4 | I28: 704.2 | M28: =A10 -> 45809 | N28: 8.8100825e+08 | O28: 9.1667038e+08 | P28: 0.001 | Q28: 0.001
A29: =A11 -> 45839 | B29: 37966.53 | C29: 44514.26 | D29: =SUM(B29*42) -> 1594594.3 | E29: =SUM(C29*42) -> 1869598.9 | F29: 0.0006 | G29: 0.0006 | H29: 726.4 | I29: 550 | M29: =A11 -> 45839 | N29: 816790064 | O29: 5.4988707e+08 | P29: 0.001 | Q29: 0.001
A30: =A12 -> 45870 | B30: 19269.67 | C30: 15650.72 | D30: =SUM(B30*42) -> 809326.14 | E30: =SUM(C30*42) -> 657330.24 | F30: 0.001 | G30: 0.001 | H30: 667.4 | I30: 300.6 | M30: =A12 -> 45870 | N30: 8.1817107e+08 | O30: 4.7502238e+08 | P30: 0.001 | Q30: 0.001
A31: =A13 -> 45901 | B31: 28984.93 | C31: 29524.3 | D31: =SUM(B31*42) -> 1217367.1 | E31: =SUM(C31*42) -> 1240020.6 | F31: 0.001 | G31: 0.001 | H31: 641.8 | I31: 568.71 | M31: =A13 -> 45901 | N31: 7.7091624e+08 | O31: 6.7776831e+08 | P31: 0.001 | Q31: 0.001
A32: =A14 -> 45931 | B32: 56840.67 | C32: 78697.23 | D32: =SUM(B32*42) -> 2387308.1 | E32: =SUM(C32*42) -> 3305283.7 | F32: 0.0007 | G32: 0.0007 | H32: 656.1 | I32: 722.7 | M32: =A14 -> 45931 | N32: 5.8516464e+08 | O32: 5.3831283e+08 | P32: 0.001 | Q32: 0.001
A33: =A15 -> 45962 | B33: 16740.82 | C33: 37683.24 | D33: =SUM(B33*42) -> 703114.44 | E33: =SUM(C33*42) -> 1582696.1 | F33: 0.001 | G33: 0.001 | H33: 432.8 | I33: 718.5 | M33: =A15 -> 45962 | N33: 5.1874076e+08 | O33: 7.8196268e+08 | P33: 0.001 | Q33: 0.001
A34: =A16 -> 45992 | B34: 1419.96 | C34: 7557.06 | D34: =SUM(B34*42) -> 59638.32 | E34: =SUM(C34*42) -> 317396.52 | F34: 0.001 | G34: 0.001 | H34: 175.72 | I34: 359.82 | M34: =A16 -> 45992 | N34: 2.3444945e+08 | O34: 4.8582834e+08 | P34: 0.001 | Q34: 0.001
A35: Total | B35: =SUM(B23:B34) -> 539881.06 | C35: =SUM(C23:C34) -> 237311.02 | D35: =SUM(D23:D34) -> 22675005 | E35: =SUM(E23:E34) -> 9967062.8 | F35: =AVERAGE(F23:F34) -> 0.0007475 | G35: =AVERAGE(G23:G34) -> 0.0007475 | H35: =SUM(H23:H34) -> 7372.12 | I35: =SUM(I23:I34) -> 4202.83 | M35: TOTAL | N35: =SUM(N23:N34) -> 7.3990133e+09 | O35: =SUM(O23:O34) -> 4.7884051e+09 | P35: 0.001 | Q35: 0.001

Sheet Cálculos SJ
A1: Cómputo de Emisiones Actuales AÑO 2025 - San Juan 7-10
A3: Factores de Emisión de acuerdo a Permiso Título V
A5: PM10 | B5: 0.040 lbs/MMBtu | D5: MATS Emission Limit + AP-42 Section 1.3 Condensable PM
A6: PM | B6: 0.030 lbs/MMBtu | D6: MATS Emission Limit
A7: SO2 | B7: 157*%S lbs/1000gal | D7: AP-42 Section 1.3
A8: H2SO4 | B8: 0.0405 lbs/MMBtu
A9: NOx (7&8) | B9: 47 lbs/1000gal | D9: AP-42 Section 1.3 wall fired boilers
A10: NOx (9&10) | B10: 32 lbs/1000gal | D10: AP-42 Section 1.3 tangential fired boilers
A11: VOC | B11: 0.76 lbs/1000gal | D11: AP-42 Section 1.3
A12: CO | B12: 5 lbs/1000gal | D12: AP-42 Section 1.3
A13: Pb | B13: 0.00151 lbs/1000gal
A14: CO2e | B14: 24.891 lbs/gal | D14: eGGRT GHG Report | R14: =(515657.4+515.5+1229.1)*2204.6/45826002 -> 24.891206 | S14: lbs/gal
A16: Combustible #6 | B16: =SUM('San Juan'!F17+'San Juan'!G17) -> 0 | C16: gal/year 7&8
A17: Combustible #6 | B17: =SUM('San Juan'!H17+'San Juan'!I17) -> 41455431 | C17: gal/year 9&10
A18: % Azufre | B18: =SUM('San Juan'!J17+'San Juan'!L17)/2 -> 0.47333333 | D18: NO INCLUIR EN PRINT OUT"=('San Juan'!J17+'San Juan'!K17+'San Juan'!L17+'San Juan'!M17)/4" se saco del promedio a la u-10 ya que estubo apagada
A21: Cálculos Emisiones PM10
A23: = | B23: 0.04 | C23: lbs | D23: =B16+B17 -> 41455431 | E23: gal | F23: ton | H23: 0.15 | I23: MMBtu
B24: MMBtu | D24: year | F24: 2000 | G24: lbs | H24: gal
A26: = | B26: =((B23*D23*H23)/F24) -> 124.36629 | C26: ton
C27: year
A29: Cálculos Emisiones PM
A31: = | B31: 0.03 | C31: lbs | D31: =D23 -> 41455431 | E31: gal | F31: ton | H31: 0.15 | I31: MMBtu
B32: MMBtu | D32: year | F32: 2000 | G32: lbs | H32: gal
A34: = | B34: =((B31*D31*H31)/F32) -> 93.27472 | C34: ton
C35: year
A38: Cálculos Emisiones H2SO4
A40: = | B40: 0.0405 | C40: lbs | D40: =D31 -> 41455431 | E40: gal | F40: ton | H40: 0.15 | I40: MMBtu
B41: MMBtu | D41: year | F41: 2000 | G41: lbs | H41: gal
A43: = | B43: =((B40*D40*H40)/F41) -> 125.92087 | C43: ton
C44: year
A46: Cálculos Emisiones SO2
I47: NOTA PARA EFECTOS DE CALCULO SE SUBSTITUYO EL PROMEDIO DE AZUFRE POR EL CALCULO A MANO = .47; LA CELDA DEBE SER =B14
A48: = | B48: =(157+5.7)*B18 -> 77.011333 | C48: lbs | D48: =D40 -> 41455431 | E48: gal | F48: ton
B49: 1000 | C49: gals | D49: year | F49: 2000 | G49: lbs
A51: = | B51: =((B48/B49*D48)/F49) -> 1596.269 | C51: ton
C52: year
A55: Cálculos Emisiones Nox (7&8)
A57: = | B57: 47 | C57: lbs | D57: =B16 -> 0 | E57: gal | F57: ton
B58: 1000 | C58: gal | D58: year | F58: 2000 | G58: lbs
A60: = | B60: =((B57/B58)*D57)/F58 -> 0 | C60: ton
C61: year
A63: Cálculos Emisiones Nox (9&10)
A65: = | B65: 32 | C65: lbs | D65: =B17 -> 41455431 | E65: gal | F65: ton
B66: 1000 | C66: gal | D66: year | F66: 2000 | G66: lbs
A68: = | B68: =((B65/B66)*D65)/F66 -> 663.2869 | C68: ton
C69: year
A71: Cálculos Emisiones VOC
A73: = | B73: 0.76 | C73: lbs | D73: =D48 -> 41455431 | E73: gal | F73: ton
B74: 1000 | C74: gal | D74: year | F74: 2000 | G74: lbs
A76: = | B76: =((B73/B74)*D73)/F74 -> 15.753064 | C76: ton
C77: year
A80: Cálculos Emisiones CO
A82: = | B82: 5 | C82: lbs | D82: =D73 -> 41455431 | E82: gal | F82: ton
B83: 1000 | C83: gal | D83: year | F83: 2000 | G83: lbs
A85: = | B85: =((B82/B83)*D82)/F83 -> 103.63858 | C85: ton
C86: year
A88: Cálculos Emisiones Pb
A90: = | B90: 0.00151 | C90: lbs | D90: =D82 -> 41455431 | E90: gal | F90: ton
B91: 1000 | C91: gal | D91: year | F91: 2000 | G91: lbs
A93: = | B93: =((B90/B91)*D90)/F91 -> 0.03129885 | C93: ton
C94: year
A97: Cálculos Emisiones CO2e
A99: = | B99: =R14 -> 24.891206 | C99: lbs | D99: =D90 -> 41455431 | E99: gal | F99: ton
C100: gal | D100: year | F100: 2000 | G100: lbs
A102: = | B102: =B99*D99/F100 -> 515937.83 | C102: ton
C103: year

Sheet Cálculos SJ5
A1: Cómputo de Emisiones Actuales para Distillate Oil y Gas Natural - San Juan AÑO 2025 - Unidad 5
A3: Parametro | B3: Factor de Emisión Combustible Natural Gas | C3: Factor de Emisión Combustible No. 2 Oil | D3: Emisiones Actuales (ton/year) | E3: Emisiones Actuales (lb/hr)
A4: NOx | B4: 0.092099392 | C4: 0.10805849 | D4: =B23 -> 516.60241 | E4: =F23 -> 117.94576
A5: CO | B5: 0.022429677 | C5: 0.0094426363 | D5: =B29 -> 99.412028 | E5: =F29 -> 22.69681
A6: VOC | B6: 0.0021 | C6: 0.0083 | D6: =B35 -> 20.910318 | E6: =F35 -> 4.7740453 | F6: Ecuación para el Cómputo
A7: PM | B7: 0.0066 | C7: 0.0284 | D7: =B41 -> 69.339018 | E7: =F41 -> 15.830826 | F7: ton/year = | G7: [Consumo de Combustible #6 en galones/year) * ( Valor Calorífico BC 0.138 MMBtu/gal)
A8: PM10 | B8: 0.0066 | C8: 0.0357 | D8: =B47 -> 80.760418 | E8: =F47 -> 18.438451 | G8: + (Consumo Gas Natural SCF/year) * (Valor Calorífico GN 1,020 MMBtu/SCF*10^6)]
A9: PM2.5 | B9: 0.0066 | C9: 0.0357 | D9: =B52 -> 80.760418 | E9: =F52 -> 18.438451 | G9: * FE en lbs/MMBtu * 1 ton/2,000 lbs
A10: SO2 | B10: 0.0028 | C10: 1.01*%S | D10: =B58 -> 11.747006 | E10: =F58 -> 2.6819649
A11: H2SO4 | B11: 0.00043 | C11: 0.0077 | D11: =B64 -> 13.669834 | E11: =F64 -> 3.1209666 | F11: lbs/hr = | G11: (Toneladas Contaminante / year) * (1 year / 8,760 hr) * (2000 lb / ton) | V11: CO2e | W11: =(73.96+0.003*25+0.0006*298)*2.2046*0.138 -> 22.578421 | X11: lbs/gal
A12: Pb | B12: 0 | C12: 9e-06 | D12: =B70 -> 0.014081178 | E12: =F70 -> 0.0032148808 | W12: =(475409.8+224+267)*2204.62/8707340462.38 -> 0.12049379 | X12: lbs/scf
A13: CO2e | B13: 22.578 lbs/gal | C13: 0.1205 lbs/SCF | D13: =B76 -> 701750.46 | E13: =F76 -> 160217
A14: Fluoruro | B14: 0 | C14: 0 | D14: 0 | E14: 0
A16: Consumo #2 = | B16: =SUM('San Juan'!D35) -> 22675005 | D16: gal/year
A17: Consumo NG = | B17: =SUM('San Juan'!N35) -> 7.3990133e+09 | D17: SCF/year
A18: #2 Azufre = | B18: =SUM('San Juan'!F35) -> 0.0007475 | D18: %
A20: NOx = | B20: =B16 -> 22675005 | D20: galons | E20: 0.138 | F20: MMBtu | G20: * | H20: =C4 -> 0.10805849 | I20: lbs | J20: 1 | K20: ton | L20: + | M20: =B17 -> 7.3990133e+09 | N20: SCF | O20: 1020 | P20: MMBtu | Q20: * | R20: =B4 -> 0.092099392 | S20: lbs | T20: 1 | U20: ton
D21: year | F21: gal | I21: MMBtu | J21: 2000 | K21: lbs | N21: year | O21: 1000000 | P21: SCF | S21: MMBtu | T21: 2000 | U21: lbs
B23: =(B20*E20*H20+M20*O20*R20/1000000)/2000 -> 516.60241 | D23: ton/year | E23: = | F23: =B23*(2000/8760) -> 117.94576 | G23: lb/hr
A26: CO = | B26: =B16 -> 22675005 | D26: galons | E26: 0.138 | F26: MMBtu | G26: * | H26: =C5 -> 0.0094426363 | I26: lbs | J26: 1 | K26: ton | L26: + | M26: =B17 -> 7.3990133e+09 | N26: SCF | O26: 1020 | P26: MMBtu | Q26: * | R26: =B5 -> 0.022429677 | S26: lbs | T26: 1 | U26: ton
D27: year | F27: gal | I27: MMBtu | J27: 2000 | K27: lbs | N27: year | O27: 1000000 | P27: SCF | S27: MMBtu | T27: 2000 | U27: lbs
B29: =(B26*E26*H26+M26*O26*R26/1000000)/2000 -> 99.412028 | D29: ton/year | E29: = | F29: =B29*(2000/8760) -> 22.69681 | G29: lb/hr
A32: VOC = | B32: =B16 -> 22675005 | D32: galons | E32: 0.138 | F32: MMBtu | G32: * | H32: =C6 -> 0.0083 | I32: lbs | J32: 1 | K32: ton | L32: + | M32: =B17 -> 7.3990133e+09 | N32: SCF | O32: 1020 | P32: MMBtu | Q32: * | R32: =B6 -> 0.0021 | S32: lbs | T32: 1 | U32: ton
D33: year | F33: gal | I33: MMBtu | J33: 2000 | K33: lbs | N33: year | O33: 1000000 | P33: SCF | S33: MMBtu | T33: 2000 | U33: lbs
B35: =(B32*E32*H32+M32*O32*R32/1000000)/2000 -> 20.910318 | D35: ton/year | E35: = | F35: =B35*(2000/8760) -> 4.7740453 | G35: lb/hr
A38: PM = | B38: =B16 -> 22675005 | D38: galons | E38: 0.138 | F38: MMBtu | G38: * | H38: =C7 -> 0.0284 | I38: lbs | J38: 1 | K38: ton | L38: + | M38: =B17 -> 7.3990133e+09 | N38: SCF | O38: 1020 | P38: MMBtu | Q38: * | R38: =B7 -> 0.0066 | S38: lbs | T38: 1 | U38: ton
D39: year | F39: gal | I39: MMBtu | J39: 2000 | K39: lbs | N39: year | O39: 1000000 | P39: SCF | S39: MMBtu | T39: 2000 | U39: lbs
B41: =(B38*E38*H38+M38*O38*R38/1000000)/2000 -> 69.339018 | D41: ton/year | E41: = | F41: =B41*(2000/8760) -> 15.830826 | G41: lb/hr | L41: lb/hr
A44: PM10 = | B44: =B16 -> 22675005 | D44: galons | E44: 0.138 | F44: MMBtu | G44: * | H44: =C8 -> 0.0357 | I44: lbs | J44: 1 | K44: ton | L44: + | M44: =B17 -> 7.3990133e+09 | N44: SCF | O44: 1020 | P44: MMBtu | Q44: * | R44: =B8 -> 0.0066 | S44: lbs | T44: 1 | U44: ton
D45: year | F45: gal | I45: MMBtu | J45: 2000 | K45: lbs | N45: year | O45: 1000000 | P45: SCF | S45: MMBtu | T45: 2000 | U45: lbs
B47: =(B44*E44*H44+M44*O44*R44/1000000)/2000 -> 80.760418 | D47: ton/year | E47: = | F47: =B47*(2000/8760) -> 18.438451 | G47: lb/hr | L47: lb/hr
A49: PM2.5 = | B49: =B16 -> 22675005 | D49: galons | E49: 0.138 | F49: MMBtu | G49: * | H49: =C9 -> 0.0357 | I49: lbs | J49: 1 | K49: ton | L49: + | M49: =B17 -> 7.3990133e+09 | N49: SCF | O49: 1020 | P49: MMBtu | Q49: * | R49: =B9 -> 0.0066 | S49: lbs | T49: 1 | U49: ton
D50: year | F50: gal | I50: MMBtu | J50: 2000 | K50: lbs | N50: year | O50: 1000000 | P50: SCF | S50: MMBtu | T50: 2000 | U50: lbs
B52: =(B49*E49*H49+M49*O49*R49/1000000)/2000 -> 80.760418 | D52: ton/year | E52: = | F52: =B52*(2000/8760) -> 18.438451 | G52: lb/hr | L52: lb/hr
A55: SO2 = | B55: =B16 -> 22675005 | D55: galons | E55: 0.138 | F55: MMBtu | G55: * | H55: =1.01*B18 -> 0.000754975 | I55: lbs | J55: 1 | K55: ton | L55: + | M55: =B17 -> 7.3990133e+09 | N55: SCF | O55: 1020 | P55: MMBtu | Q55: * | R55: =B10 -> 0.0028 | S55: lbs | T55: 1 | U55: ton
D56: year | F56: gal | I56: MMBtu | J56: 2000 | K56: lbs | N56: year | O56: 1000000 | P56: SCF | S56: MMBtu | T56: 2000 | U56: lbs
B58: =(B55*E55*H55+M55*O55*R55/1000000)/2000 -> 11.747006 | D58: ton/year | E58: = | F58: =B58*(2000/8760) -> 2.6819649 | G58: lb/hr | L58: lb/hr
A61: H2SO4 = | B61: =B16 -> 22675005 | D61: galons | E61: 0.138 | F61: MMBtu | G61: * | H61: =C11 -> 0.0077 | I61: lbs | J61: 1 | K61: ton | L61: + | M61: =B17 -> 7.3990133e+09 | N61: SCF | O61: 1020 | P61: MMBtu | Q61: * | R61: =B11 -> 0.00043 | S61: lbs | T61: 1 | U61: ton
D62: year | F62: gal | I62: MMBtu | J62: 2000 | K62: lbs | N62: year | O62: 1000000 | P62: SCF | S62: MMBtu | T62: 2000 | U62: lbs
B64: =(B61*E61*H61+M61*O61*R61/1000000)/2000 -> 13.669834 | D64: ton/year | E64: = | F64: =B64*(2000/8760) -> 3.1209666 | G64: lb/hr | L64: lb/hr
A67: Pb = | B67: =B16 -> 22675005 | D67: galons | E67: 0.138 | F67: MMBtu | G67: * | H67: =C12 -> 9e-06 | I67: lbs | J67: 1 | K67: ton | L67: + | M67: =B17 -> 7.3990133e+09 | N67: SCF | O67: 1020 | P67: MMBtu | Q67: * | R67: =B12 -> 0 | S67: lbs | T67: 1 | U67: ton
D68: year | F68: gal | I68: MMBtu | J68: 2000 | K68: lbs | N68: year | O68: 1000000 | P68: SCF | S68: MMBtu | T68: 2000 | U68: lbs
B70: =(B67*E67*H67+M67*O67*R67/1000000)/2000 -> 0.014081178 | D70: ton/year | E70: = | F70: =B70*(2000/8760) -> 0.0032148808 | G70: lb/hr
A73: CO2e = | B73: =B16 -> 22675005 | D73: galons | E73: =W11 -> 22.578421 | F73: lbs | G73: * | H73: 1 | I73: ton | J73: + | M73: =B17 -> 7.3990133e+09 | N73: SCF | O73: =W12 -> 0.12049379 | P73: lbs | Q73: * | R73: 1 | S73: ton
D74: year | F74: gal | H74: 2000 | I74: lbs | N74: year | P74: SCF | R74: 2000 | S74: lbs
B76: =(B73*E73+M73*O73)/H74 -> 701750.46 | D76: ton/year | E76: = | F76: =B76*(2000/8760) -> 160217 | G76: lb/hr
B79: Nota:
B80: * La formula y los factores de emisión utilizados son los aprobados en la última revisión del permiso
B81: de construcción PFE-31-0810-0455-II-C, con fecha del 21 de DICIEMBRE de 2012, para la quema dual
B82: de combustible 100% Bunker C y 100% Gas Natural, según corresponda.

Sheet Cálculos SJ6
A1: Cómputo de Emisiones Actuales para Distillate Oil y Gas Natural - San Juan AÑO 2025 - Unidad 6
A3: Parametro | B3: Factor de Emisión Combustible Natural Gas | C3: Factor de Emisión Combustible No. 2 Oil | D3: Emisiones Actuales (ton/year) | E3: Emisiones Actuales (lb/hr)
A4: NOx | B4: 0.092099392 | C4: 0.10805849 | D4: =B23 -> 299.22947 | E4: =F23 -> 68.317232
A5: CO | B5: 0.022429677 | C5: 0.0094426363 | D5: =B29 -> 61.269172 | E5: =F29 -> 13.988395
A6: VOC | B6: 0.0021 | C6: 0.0083 | D6: =B35 -> 10.836519 | E6: =F35 -> 2.4740911 | F6: Ecuación para el Cómputo
A7: PM | B7: 0.0066 | C7: 0.0284 | D7: =B41 -> 35.649228 | E7: =F41 -> 8.1390932 | F7: ton/year = | G7: [Consumo de Combustible #6 en galones/year) * ( Valor Calorífico BC 0.138 MMBtu/gal)
A8: PM10 | B8: 0.0066 | C8: 0.0357 | D8: =B47 -> 40.669638 | E8: =F47 -> 9.2853054 | G8: + (Consumo Gas Natural SCF/year) * (Valor Calorífico GN 1,020 MMBtu/SCF*10^6)]
A9: PM2.5 | B9: 0.0066 | C9: 0.0357 | D9: =B53 -> 40.669638 | E9: =F53 -> 9.2853054 | G9: * FE en lbs/MMBtu * 1 ton/2,000 lbs
A10: SO2 | B10: 0.0028 | C10: 1.01*%S | D10: =B59 -> 7.3570595 | E10: =F59 -> 1.6796939
A11: H2SO4 | B11: 0.00043 | C11: 0.0077 | D11: =B65 -> 6.3455977 | E11: =F65 -> 1.4487666 | F11: lbs/hr = | G11: (Toneladas Contaminante / year) * (1 year / 8,760 hr) * (2000 lb / ton) | V11: CO2e | W11: =(73.96+0.003*25+0.0006*298)*2.2046*0.138 -> 22.578421 | X11: lbs/gal
A12: Pb | B12: 0 | C12: 9e-06 | D12: =B71 -> 0.006189546 | E12: =F71 -> 0.0014131384 | W12: =(475409.8+224+267)*2204.62/8707340462.38 -> 0.12049379 | X12: lbs/scf
A13: CO2e | B13: 22.578 lbs/gal | C13: 0.1205 lbs/SCF | D13: =B77 -> 401006.8 | E13: =F77 -> 91554.064
A14: Fluoruro | B14: 0 | C14: 0 | D14: 0 | E14: 0
A16: Consumo #2 = | B16: =SUM('San Juan'!E35) -> 9967062.8 | D16: gal/year
A17: Consumo NG = | B17: =SUM('San Juan'!O35) -> 4.7884051e+09 | D17: SCF/year
A18: #2 Azufre = | B18: =SUM('San Juan'!G35) -> 0.0007475 | D18: %
A20: NOx = | B20: =B16 -> 9967062.8 | D20: galons | E20: 0.138 | F20: MMBtu | G20: * | H20: =C4 -> 0.10805849 | I20: lbs | J20: 1 | K20: ton | L20: + | M20: =B17 -> 4.7884051e+09 | N20: SCF | O20: 1020 | P20: MMBtu | Q20: * | R20: =B4 -> 0.092099392 | S20: lbs | T20: 1 | U20: ton
D21: year | F21: gal | I21: MMBtu | J21: 2000 | K21: lbs | N21: year | O21: 1000000 | P21: SCF | S21: MMBtu | T21: 2000 | U21: lbs
B23: =(B20*E20*H20+M20*O20*R20/1000000)/2000 -> 299.22947 | D23: ton/year | E23: = | F23: =B23*(2000/8760) -> 68.317232 | G23: lb/hr
A26: CO = | B26: =B16 -> 9967062.8 | D26: galons | E26: 0.138 | F26: MMBtu | G26: * | H26: =C5 -> 0.0094426363 | I26: lbs | J26: 1 | K26: ton | L26: + | M26: =B17 -> 4.7884051e+09 | N26: SCF | O26: 1020 | P26: MMBtu | Q26: * | R26: =B5 -> 0.022429677 | S26: lbs | T26: 1 | U26: ton
D27: year | F27: gal | I27: MMBtu | J27: 2000 | K27: lbs | N27: year | O27: 1000000 | P27: SCF | S27: MMBtu | T27: 2000 | U27: lbs
B29: =(B26*E26*H26+M26*O26*R26/1000000)/2000 -> 61.269172 | D29: ton/year | E29: = | F29: =B29*(2000/8760) -> 13.988395 | G29: lb/hr
A32: VOC = | B32: =B16 -> 9967062.8 | D32: galons | E32: 0.138 | F32: MMBtu | G32: * | H32: =C6 -> 0.0083 | I32: lbs | J32: 1 | K32: ton | L32: + | M32: =B17 -> 4.7884051e+09 | N32: SCF | O32: 1020 | P32: MMBtu | Q32: * | R32: =B6 -> 0.0021 | S32: lbs | T32: 1 | U32: ton
D33: year | F33: gal | I33: MMBtu | J33: 2000 | K33: lbs | N33: year | O33: 1000000 | P33: SCF | S33: MMBtu | T33: 2000 | U33: lbs
B35: =(B32*E32*H32+M32*O32*R32/1000000)/2000 -> 10.836519 | D35: ton/year | E35: = | F35: =B35*(2000/8760) -> 2.4740911 | G35: lb/hr
A38: PM = | B38: =B16 -> 9967062.8 | D38: galons | E38: 0.138 | F38: MMBtu | G38: * | H38: =C7 -> 0.0284 | I38: lbs | J38: 1 | K38: ton | L38: + | M38: =B17 -> 4.7884051e+09 | N38: SCF | O38: 1020 | P38: MMBtu | Q38: * | R38: =B7 -> 0.0066 | S38: lbs | T38: 1 | U38: ton
D39: year | F39: gal | I39: MMBtu | J39: 2000 | K39: lbs | N39: year | O39: 1000000 | P39: SCF | S39: MMBtu | T39: 2000 | U39: lbs
B41: =(B38*E38*H38+M38*O38*R38/1000000)/2000 -> 35.649228 | D41: ton/year | E41: = | F41: =B41*(2000/8760) -> 8.1390932 | G41: lb/hr | L41: lb/hr
A44: PM10 = | B44: =B16 -> 9967062.8 | D44: galons | E44: 0.138 | F44: MMBtu | G44: * | H44: =C8 -> 0.0357 | I44: lbs | J44: 1 | K44: ton | L44: + | M44: =B17 -> 4.7884051e+09 | N44: SCF | O44: 1020 | P44: MMBtu | Q44: * | R44: =B8 -> 0.0066 | S44: lbs | T44: 1 | U44: ton
D45: year | F45: gal | I45: MMBtu | J45: 2000 | K45: lbs | N45: year | O45: 1000000 | P45: SCF | S45: MMBtu | T45: 2000 | U45: lbs
B47: =(B44*E44*H44+M44*O44*R44/1000000)/2000 -> 40.669638 | D47: ton/year | E47: = | F47: =B47*(2000/8760) -> 9.2853054 | G47: lb/hr | L47: lb/hr
A50: PM2.5 = | B50: =B16 -> 9967062.8 | D50: galons | E50: 0.138 | F50: MMBtu | G50: * | H50: =C9 -> 0.0357 | I50: lbs | J50: 1 | K50: ton | L50: + | M50: =B17 -> 4.7884051e+09 | N50: SCF | O50: 1020 | P50: MMBtu | Q50: * | R50: =B9 -> 0.0066 | S50: lbs | T50: 1 | U50: ton
D51: year | F51: gal | I51: MMBtu | J51: 2000 | K51: lbs | N51: year | O51: 1000000 | P51: SCF | S51: MMBtu | T51: 2000 | U51: lbs
B53: =(B50*E50*H50+M50*O50*R50/1000000)/2000 -> 40.669638 | D53: ton/year | E53: = | F53: =B53*(2000/8760) -> 9.2853054 | G53: lb/hr | L53: lb/hr
A56: SO2 = | B56: =B16 -> 9967062.8 | D56: galons | E56: 0.138 | F56: MMBtu | G56: * | H56: =1.01*B18 -> 0.000754975 | I56: lbs | J56: 1 | K56: ton | L56: + | M56: =B17 -> 4.7884051e+09 | N56: SCF | O56: 1020 | P56: MMBtu | Q56: * | R56: =B10 -> 0.0028 | S56: lbs | T56: 1 | U56: ton
D57: year | F57: gal | I57: MMBtu | J57: 2000 | K57: lbs | N57: year | O57: 1000000 | P57: SCF | S57: MMBtu | T57: 2000 | U57: lbs
B59: =(B56*E56*H56+M56*O56*R56/1000000)/2000 -> 7.3570595 | D59: ton/year | E59: = | F59: =B59*(2000/8760) -> 1.6796939 | G59: lb/hr | L59: lb/hr
A62: H2SO4 = | B62: =B16 -> 9967062.8 | D62: galons | E62: 0.138 | F62: MMBtu | G62: * | H62: =C11 -> 0.0077 | I62: lbs | J62: 1 | K62: ton | L62: + | M62: =B17 -> 4.7884051e+09 | N62: SCF | O62: 1020 | P62: MMBtu | Q62: * | R62: =B11 -> 0.00043 | S62: lbs | T62: 1 | U62: ton
D63: year | F63: gal | I63: MMBtu | J63: 2000 | K63: lbs | N63: year | O63: 1000000 | P63: SCF | S63: MMBtu | T63: 2000 | U63: lbs
B65: =(B62*E62*H62+M62*O62*R62/1000000)/2000 -> 6.3455977 | D65: ton/year | E65: = | F65: =B65*(2000/8760) -> 1.4487666 | G65: lb/hr | L65: lb/hr
A68: Pb = | B68: =B16 -> 9967062.8 | D68: galons | E68: 0.138 | F68: MMBtu | G68: * | H68: =C12 -> 9e-06 | I68: lbs | J68: 1 | K68: ton | L68: + | M68: =B17 -> 4.7884051e+09 | N68: SCF | O68: 1020 | P68: MMBtu | Q68: * | R68: =B12 -> 0 | S68: lbs | T68: 1 | U68: ton
D69: year | F69: gal | I69: MMBtu | J69: 2000 | K69: lbs | N69: year | O69: 1000000 | P69: SCF | S69: MMBtu | T69: 2000 | U69: lbs
B71: =(B68*E68*H68+M68*O68*R68/1000000)/2000 -> 0.006189546 | D71: ton/year | E71: = | F71: =B71*(2000/8760) -> 0.0014131384 | G71: lb/hr
A74: CO2e = | B74: =B16 -> 9967062.8 | D74: galons | E74: =W11 -> 22.578421 | F74: lbs | G74: * | H74: 1 | I74: ton | J74: + | M74: =B17 -> 4.7884051e+09 | N74: SCF | O74: =W12 -> 0.12049379 | P74: lbs | Q74: * | R74: 1 | S74: ton
D75: year | F75: gal | H75: 2000 | I75: lbs | N75: year | P75: SCF | R75: 2000 | S75: lbs
B77: =(B74*E74+M74*O74)/H75 -> 401006.8 | D77: ton/year | E77: = | F77: =B77*(2000/8760) -> 91554.064 | G77: lb/hr
B80: Nota:
B81: * La formula y los factores de emisión utilizados son los aprobados en la última revisión del permiso
B82: de construcción PFE-31-0810-0455-II-C, con fecha del 21 de DICIEMBRE de 2012, para la quema dual
B83: de combustible 100% Bunker C y 100% Gas Natural, según corresponda.

Sheet Aguirre
A2: Aguirre BC Consumption 2025 | H2: Azufre % por peso
A3: year | B3: Barrels | D3: Galones | F3: Total gal/year
B4: AG-1 | C4: AG-2 | D4: AG-1 | E4: AG-2 | H4: AG-1 | I4: AG-2
A5: 45658 | B5: 128445.58 | D5: =SUM(B5*42) -> 5394714.4 | E5: =SUM(C5*42) -> 0 | F5: =D5+E5 -> 5394714.4 | H5: 0.49 | I5: 0.49
A6: 45689 | B6: 138619.11 | C6: 2465.31 | D6: =SUM(B6*42) -> 5822002.6 | E6: =SUM(C6*42) -> 103543.02 | F6: =D6+E6 -> 5925545.6 | H6: 0.49 | I6: 0.49
A7: 45717 | B7: 0 | C7: 0 | D7: =SUM(B7*42) -> 0 | E7: =SUM(C7*42) -> 0 | F7: =D7+E7 -> 0 | H7: 0.49 | I7: 0.49
A8: 45748 | B8: 0 | C8: 0 | D8: =SUM(B8*42) -> 0 | E8: =SUM(C8*42) -> 0 | F8: =D8+E8 -> 0 | H8: 0.49 | I8: 0.49
A9: 45778 | B9: 0 | C9: 0 | D9: =SUM(B9*42) -> 0 | E9: =SUM(C9*42) -> 0 | F9: =D9+E9 -> 0 | H9: 0.49 | I9: 0.49
A10: 45809 | B10: 0 | C10: 80496.6 | D10: =SUM(B10*42) -> 0 | E10: =SUM(C10*42) -> 3380857.2 | F10: =D10+E10 -> 3380857.2 | H10: 0.49 | I10: 0.49
A11: 45839 | B11: 0 | C11: 254304.08 | D11: =SUM(B11*42) -> 0 | E11: =SUM(C11*42) -> 10680771 | F11: =D11+E11 -> 10680771 | H11: 0.49 | I11: 0.49
A12: 45870 | B12: 0 | C12: 257735.63 | D12: =SUM(B12*42) -> 0 | E12: =SUM(C12*42) -> 10824896 | F12: =D12+E12 -> 10824896 | H12: 0.49 | I12: 0.49
A13: 45901 | B13: 0 | C13: 311396.12 | D13: =SUM(B13*42) -> 0 | E13: =SUM(C13*42) -> 13078637 | F13: =D13+E13 -> 13078637 | H13: 0.49 | I13: 0.49
A14: 45931 | B14: 0 | C14: 271547.44 | D14: =SUM(B14*42) -> 0 | E14: =SUM(C14*42) -> 11404992 | F14: =D14+E14 -> 11404992 | H14: 0.48 | I14: 0.48
A15: 45962 | B15: 0 | C15: 279961.08 | D15: =SUM(B15*42) -> 0 | E15: =SUM(C15*42) -> 11758365 | F15: =D15+E15 -> 11758365 | H15: 0.47 | I15: 0.47
A16: 45992 | B16: 0 | C16: 173368.59 | D16: =SUM(B16*42) -> 0 | E16: =SUM(C16*42) -> 7281480.8 | F16: =D16+E16 -> 7281480.8 | H16: 0.45 | I16: 0.45
A17: Total | B17: =SUM(B5:B16) -> 267064.69 | C17: =SUM(C5:C16) -> 1631274.9 | D17: =SUM(D5:D16) -> 11216717 | E17: =SUM(E5:E16) -> 68513544 | F17: =D17+E17 -> 79730261 | H17: =AVERAGE(H5:H16) -> 0.48416667 | I17: =AVERAGE(I5:I16) -> 0.48416667 | J17: avg
F18: =SUM(F5:F16) -> 79730261
A20: Aguirre CC #2 FO Consumption 2025
A21: Galones | K21: Azufre | V21: Azufre Average
A22: year | B22: CC1-1 | C22: CC1-2 | D22: CC1-3 | E22: CC1-4 | F22: CC2-1 | H22: CC2-2 | I22: CC2-3 | J22: CC2-4 | K22: CC1-1 | L22: CC1-2 | M22: CC1-3 | N22: CC1-4 | O22: CC2-1 | P22: CC2-2 | Q22: CC2-3 | R22: CC2-4 | V22: CC1-1 | W22: CC1-2 | X22: CC1-3 | Y22: CC1-4 | Z22: CC2-1 | AA22: CC2-2 | AB22: CC2-3 | AC22: CC2-4
A23: 45658 | B23: 1216712 | C23: 768329 | D23: 0 | E23: 876861 | F23: 0 | G23: 45658 | H23: 0 | I23: 0 | J23: 60702 | K23: 0.001 | L23: 0.001 | M23: 0.001 | N23: 0.001 | O23: 0.001 | P23: 0.001 | Q23: 0.001 | R23: 0.001 | V23: 0.0039 | W23: 0.0039 | X23: 0.0039 | Y23: 0.0039 | Z23: 0.0039 | AA23: 0 | AB23: 0.0039 | AC23: 0
A24: 45689 | B24: 514000 | C24: 908875 | D24: 0 | E24: 788097 | F24: 0 | G24: 45689 | H24: 0 | I24: 0 | J24: 0 | K24: 0.001 | L24: 0.001 | M24: 0.001 | N24: 0.001 | O24: 0.001 | P24: 0.001 | Q24: 0.001 | R24: 0.001 | V24: 0.0044803387 | W24: 0.0044803387 | X24: 0.0041487674 | Y24: 0.0044988309 | Z24: 0.0043206426 | AA24: 0 | AB24: 0.0045345685 | AC24: 0
A25: 45717 | B25: 368405 | C25: 1546590 | D25: 0 | E25: 1303328 | F25: 0 | G25: 45717 | H25: 0 | I25: 0 | J25: 0 | K25: 0.001 | L25: 0.001 | M25: 0.001 | N25: 0.001 | O25: 0.001 | P25: 0.001 | Q25: 0.001 | R25: 0.001 | V25: 0.0044909213 | W25: 0.0044822349 | X25: 0 | Y25: 0.0046234638 | Z25: 0.0044822349 | AA25: 0 | AB25: 0.0044822349 | AC25: 0.0042703915
A26: 45748 | B26: 1905203 | C26: 1681733 | D26: 0 | E26: 1720640 | F26: 0 | G26: 45748 | H26: 0 | I26: 0 | J26: 0 | K26: 0.001 | L26: 0.001 | M26: 0.001 | N26: 0.001 | O26: 0.001 | P26: 0.001 | Q26: 0.001 | R26: 0.001 | V26: 0.0041843664 | W26: 0.0041826294 | X26: 0.0041895776 | Y26: 0.0041843664 | Z26: 0.0041821331 | AA26: 0 | AB26: 0.0041831638 | AC26: 0.0041687329
A27: 45778 | B27: 1322347 | C27: 791784 | D27: 0 | E27: 955022 | F27: 826213 | G27: 45778 | H27: 849289 | I27: 0 | J27: 487745 | K27: 0.001 | L27: 0.001 | M27: 0.001 | N27: 0.001 | O27: 0.001 | P27: 0.001 | Q27: 0.001 | R27: 0.001 | V27: 0.0041947855 | W27: 0.0041 | X27: 0.0041924159 | Y27: 0.0041896154 | Z27: 0.0042129527 | AA27: 0 | AB27: 0.0041770132 | AC27: 0.0042232212
A28: 45809 | B28: 1496097 | C28: 1053405 | D28: 0 | E28: 1201103 | F28: 1671863 | G28: 45809 | H28: 1417711 | I28: 0 | J28: 1274004 | K28: 0.001 | L28: 0.001 | M28: 0.001 | N28: 0.001 | O28: 0.001 | P28: 0.001 | Q28: 0.001 | R28: 0.001 | V28: 0.0042693321 | W28: 0 | X28: 0.004261152 | Y28: 0.0042614306 | Z28: 0.0042670622 | AA28: 0 | AB28: 0.0042647449 | AC28: 0.0042668295
A29: 45839 | B29: 1477595 | C29: 1188605 | D29: 0 | E29: 969773 | F29: 1480777 | G29: 45839 | H29: 1530583 | I29: 0 | J29: 1127839 | K29: 0.001 | L29: 0.001 | M29: 0.001 | N29: 0.001 | O29: 0.001 | P29: 0.001 | Q29: 0.001 | R29: 0.001 | V29: 0.0041484189 | W29: 0.0041203132 | X29: 0.0041355044 | Y29: 0.0041366182 | Z29: 0.004124547 | AA29: 0 | AB29: 0.0041230985 | AC29: 0.0041531995
A30: 45870 | B30: 1423460 | C30: 1173512 | D30: 0 | E30: 0 | F30: 1386791 | G30: 45870 | H30: 1439718 | I30: 0 | J30: 1121016 | K30: 0.001 | L30: 0.001 | M30: 0.001 | N30: 0.001 | O30: 0.001 | P30: 0.001 | Q30: 0.001 | R30: 0.001 | V30: 0.0045350538 | W30: 0.0045970635 | X30: 0.0046397544 | Y30: 0.0045832145 | Z30: 0.0045440445 | AA30: 0 | AB30: 0.0045505545 | AC30: 0.0045737741
A31: 45901 | B31: 896538 | C31: 608182 | D31: 0 | E31: 0 | F31: 1026305 | G31: 45901 | H31: 806236 | I31: 0 | J31: 768256 | K31: 0.001 | L31: 0.001 | M31: 0.001 | N31: 0.001 | O31: 0.001 | P31: 0.001 | Q31: 0.001 | R31: 0.001 | V31: 0.0028938693 | W31: 0.0032466574 | X31: 0.0042429148 | Y31: 0.0034112672 | Z31: 0.0030495641 | AA31: 0 | AB31: 0.0030131938 | AC31: 0.0033391204
A32: 45931 | B32: 1881264 | C32: 1527536 | D32: 0 | E32: 0 | F32: 1164389 | G32: 45931 | H32: 1007421 | I32: 0 | J32: 1701699 | K32: 0.001 | L32: 0.001 | M32: 0.001 | N32: 0.001 | O32: 0.001 | P32: 0.001 | Q32: 0.001 | R32: 0.001 | V32: 0.0071703284 | W32: 0.0077417909 | X32: 0.032399005 | Y32: =AVERAGE(Y29:Y31) -> 0.0040437 | Z32: 0.0095257775 | AA32: 0 | AB32: 0.010088017 | AC32: 0.011240171
A33: 45962 | B33: 1565276 | C33: 1321127 | D33: 0 | E33: 0 | F33: 1380164 | G33: 45962 | H33: 1071085 | I33: 0 | J33: 1200751 | K33: 0.001 | L33: 0.001 | M33: 0.001 | N33: 0.001 | O33: 0.001 | P33: 0.001 | Q33: 0.001 | R33: 0.001 | V33: 0.025174251 | W33: 0.0212394 | X33: 0.038856123 | Z33: 0.023266002 | AA33: 0 | AB33: 0.024692601 | AC33: 0.03959409
A34: 45992 | B34: 884129 | C34: 705108 | D34: 0 | E34: 0 | F34: 933740 | G34: 45992 | H34: 1075008 | I34: 0 | J34: 521510 | K34: 0.001 | L34: 0.001 | M34: 0.001 | N34: 0.001 | O34: 0.001 | P34: 0.001 | Q34: 0.001 | R34: 0.001 | V34: 0.041562002 | W34: 0.041562002 | X34: =AVERAGE(X29:X33) -> 0.01685466 | Z34: 0.039271501 | AA34: 0 | AB34: 0.038447684 | AC34: =AVERAGE(AC29:AC33) -> 0.012580071
A35: Total | B35: =SUM(B23:B34) -> 14951026 | C35: =SUM(C23:C34) -> 13274786 | D35: =SUM(D23:D34) -> 0 | E35: =SUM(E23:E34) -> 7814824 | F35: =SUM(F23:F34) -> 9870242 | H35: =SUM(H23:H34) -> 9197051 | I35: =SUM(I23:I34) -> 0 | J35: =SUM(J23:J34) -> 8263522 | K35: =AVERAGE(K23:K34) -> 0.001 | L35: =AVERAGE(L23:L34) -> 0.001 | M35: =AVERAGE(M23:M34) -> 0.001 | N35: =AVERAGE(N23:N34) -> 0.001 | O35: =AVERAGE(O23:O34) -> 0.001 | P35: 0 | Q35: =AVERAGE(Q23:Q34) -> 0.001 | R35: =AVERAGE(R23:R34) -> 0.001 | V35: =AVERAGE(V29:V34) -> 0.014247321 | W35: =AVERAGE(W29:W34) -> 0.013751204 | Z35: =AVERAGE(Z29:Z34) -> 0.013963573 | AA35: =AVERAGE(AA29:AA34) -> 0 | AB35: =AVERAGE(AB29:AB34) -> 0.014152525
H37: =B35+C35+D35+E35+F35+H35+I35+J35 -> 63371451
A38: Aguirre Turbines #2 FO Consumption 2025
A39: Galones | D39: Azufre
A40: year | B40: AGGT2-1 | C40: AGGT2-2 | D40: AGGT2-1 | E40: AGGT2-2
A41: 45658 | B41: 0 | C41: 0 | D41: 0 | E41: 0
A42: 45689 | B42: 0 | C42: 0 | D42: 0 | E42: 0
A43: 45717 | B43: 0 | C43: 0 | D43: 0 | E43: 0
A44: 45748 | B44: 0 | C44: 0 | D44: 0 | E44: 0
A45: 45778 | B45: 0 | C45: 0 | D45: 0 | E45: 0
A46: 45809 | B46: 0 | C46: 0 | D46: 0 | E46: 0
A47: 45839 | B47: 0 | C47: 0 | D47: 0.0003 | E47: 0.0003
A48: 45870 | B48: 0 | C48: 0 | D48: 0.0008 | E48: 0.0008
A49: 45901 | B49: 0 | C49: 0 | D49: 0.0008 | E49: 0.0008
A50: 45931 | B50: 0 | C50: 0 | D50: 0.0008 | E50: 0.0008
A51: 45962 | B51: 0 | C51: 0 | D51: 0 | E51: 0
A52: 45992 | B52: 0 | C52: 0 | D52: 0 | E52: 0
A53: Total | B53: =SUM(B41:B52) -> 0 | C53: =SUM(C41:C52) -> 0 | D53: =AVERAGE(D41:D52) -> 0.000225 | E53: =AVERAGE(E41:E52) -> 0.000225
B55: =B53+C53 -> 0 | H55: =H37+B55 -> 63371451 | J55: =SUM(K35:R35) -> 0.007 | K55: =SUM(D53:E53) -> 0.00045
K56: =SUM(J55:K55)/10 -> 0.000745

Sheet Cálculos AG
A1: Ejemplo Cómputo de Emisiones Año 2025 - Termoleléctrica Aguirre 1 y Aguirre 2 | J1: Ejemplo Cómputo de Emisiones Año 2025 - Aguirre (Ciclo Combinado + Turbinas de Gas)
A3: Factores de Emisión AP-42 Section 1.3 | J3: Factores de Emisión AP-42 Section 3.1
A4: PM | B4: (9.19)(%S) + 3.22 lb/1000gal | J4: PM | K4: 0.012 lb/MMBTU
A5: SOx | B5: 157*%S lb/1000gal | J5: SOx | K5: 1.01*%S lb/MMBTU
A6: NOx | B6: 0.33 lb/MMBtu (CD Relatively Maintained NOx Target) | J6: NOx | K6: 0.880 lb/MMBTU
A7: VOC | B7: 0.76 lb/1000gal | J7: VOC | K7: 0.00041 lb/MMBTU
A8: CO | B8: 5 lb/1000gal | J8: CO | K8: 0.0033 lb/MMBTU
A9: Pb | B9: 0.00151 lb/1000gal | J9: Pb | K9: 0.0000140 lb/MMBTU
A10: CO2e | B10: 25.036 lb/gal | C10: 40 CFR 98 | J10: CO2e | K10: 22.578 lb/gal | L10: 40 CFR 98
A12: Combustible #6 | B12: =SUM(Aguirre!F17) -> 79730261 | C12: gal/year | J12: Combustible #2 | K12: =SUM(Aguirre!H55) -> 63371451 | L12: gal/year | V12: =323412*2204.6/28478821 -> 25.035941 | W12: lbs/gal
A13: Azufre % | B13: =SUM(Aguirre!I17) -> 0.48416667 | J13: Azufre % | K13: =AVERAGE(Aguirre!K34:R34,Aguirre!D52:E52) -> 0.0008 | V13: =(73.96+0.003*26+0.0006*298)*2.2046*0.138 -> 22.579333 | W13: lbs/gal
A16: Cálculos Emisiones PM | J16: Cálculos Emisiones PM
A18: = | B18: =(9.19*B13)+3.22 -> 7.6694917 | C18: lb | D18: =B12 -> 79730261 | E18: gal | F18: ton | J18: = | K18: 0.012 | L18: lb | M18: =K12 -> 63371451 | N18: gal | O18: 0.138 | P18: MMBTU | Q18: ton
B19: 1000 | C19: gal | D19: year | F19: 2000 | G19: lb | K19: MMBTU | M19: year | O19: gal | Q19: 2000 | R19: lb
A22: = | B22: =((B18/B19)*D18)/F19 -> 305.74528 | C22: ton | J22: = | K22: =((K18*M18*O18)/Q19) -> 52.471561 | L22: ton
C23: year | L23: year
A26: Cálculos Emisiones SOx | J26: Cálculos Emisiones SOx
A28: = | B28: =157*B13 -> 76.014167 | C28: lb | D28: =B12 -> 79730261 | E28: gal | F28: ton | J28: = | K28: =1.01*K13 -> 0.000808 | L28: lb | M28: =K12 -> 63371451 | N28: gal | O28: 0.138 | P28: MMBTU | Q28: ton
B29: 1000 | C29: gal | D29: year | F29: 2000 | G29: lb | K29: MMBTU | M29: year | O29: gal | Q29: 2000 | R29: lb
A32: = | B32: =((B28/B29)*D28)/F29 -> 3030.3147 | C32: ton | J32: = | K32: =((K28*M28*O28)/Q29) -> 3.5330851 | L32: ton
C33: year | L33: year
A36: Cálculos Emisiones NOx | J36: Cálculos Emisiones NOx
A38: = | B38: 0.33 | C38: lb | D38: =B12 -> 79730261 | E38: gal | F38: 0.15 MMBtu | H38: ton | J38: = | K38: 0.88 | L38: lb | M38: =K12 -> 63371451 | N38: gal | O38: 0.138 | P38: MMBTU | Q38: ton
C39: MMBtu | D39: year | F39: gal | H39: 2000 | I39: lb | K39: MMBTU | M39: year | O39: gal | Q39: 2000 | R39: lb
A42: = | B42: =B38*D38*0.15/2000 -> 1973.324 | C42: ton | J42: = | K42: =((K38*M38*O38)/Q39) -> 3847.9145 | L42: ton
C43: year | L43: year
A48: Cálculos Emisiones VOC | J48: Cálculos Emisiones VOC
A50: = | B50: 0.76 | C50: lb | D50: =B12 -> 79730261 | E50: gal | F50: ton | J50: = | K50: 0.00041 | L50: lb | M50: =K12 -> 63371451 | N50: gal | O50: 0.138 | P50: MMBTU | Q50: ton
B51: 1000 | C51: gal | D51: year | F51: 2000 | G51: lb | K51: MMBTU | M51: year | O51: gal | Q51: 2000 | R51: lb
A54: = | B54: =((B50/B51)*D50)/F51 -> 30.297499 | C54: ton | J54: = | K54: =((K50*M50*O50)/Q51) -> 1.7927783 | L54: ton
C55: year | L55: year
A58: Cálculos Emisiones CO | J58: Cálculos Emisiones CO
A60: = | B60: 5 | C60: lb | D60: =B12 -> 79730261 | E60: gal | F60: ton | J60: = | K60: 0.0033 | L60: lb | M60: =K12 -> 63371451 | N60: gal | O60: 0.138 | P60: MMBTU | Q60: ton
B61: 1000 | C61: gal | D61: year | F61: 2000 | G61: lb | K61: MMBTU | M61: year | O61: gal | Q61: 2000 | R61: lb
A64: = | B64: =((B60/B61)*D60)/F61 -> 199.32565 | C64: ton | J64: = | K64: =((K60*M60*O60)/Q61) -> 14.429679 | L64: ton
C65: year | L65: year
A68: Cálculos Emisiones Pb | J68: Cálculos Emisiones Pb
A70: = | B70: 0.00151 | C70: lb | D70: =B12 -> 79730261 | E70: gal | F70: ton | J70: = | K70: 1.4e-05 | L70: lb | M70: =K12 -> 63371451 | N70: gal | O70: 0.138 | P70: MMBTU | Q70: ton
B71: 1000 | C71: gal | D71: year | F71: 2000 | G71: lb | K71: MMBTU | M71: year | O71: gal | Q71: 2000 | R71: lb
A74: = | B74: =((B70/B71)*D70)/F71 -> 0.060196347 | C74: ton | J74: = | K74: =((K70*M70*O70)/Q71) -> 0.061216822 | L74: ton
C75: year | L75: year
A78: Cálculos Emisiones CO2e | J78: Cálculos Emisiones CO2e
A80: = | B80: =V12 -> 25.035941 | C80: lb | D80: =B12 -> 79730261 | E80: gal | F80: ton | J80: = | K80: =V13 -> 22.579333 | L80: lb | M80: =K12 -> 63371451 | N80: gal | O80: ton
C81: gal | D81: year | F81: 2000 | G81: lb | L81: gal | M81: year | O81: 2000 | P81: lb
A84: = | B84: =B80*D80/F81 -> 998061.07 | C84: ton | J84: = | K84: =K80*M80/O81 -> 715442.56 | L84: ton
C85: year | L85: year

Sheet Palo Seco
A2: Palo Seco BC Consumption 2025
A3: Gallons | F3: Azufre
A4: year | B4: PS-1 | C4: PS-2 | D4: PS-3 | E4: PS-4 | F4: PS-1 | G4: PS-2 | H4: PS-3 | I4: PS-4
A5: 45658 | B5: 0 | C5: 0 | D5: 6796230 | E5: 0 | F5: * | G5: * | H5: 0.49 | I5: 0.49
A6: 45689 | B6: 0 | C6: 0 | D6: 6456156 | E6: 0 | F6: * | G6: * | H6: 0.49 | I6: 0.49
A7: 45717 | B7: 0 | C7: 0 | D7: 6152916 | E7: 0 | F7: * | G7: * | H7: 0.5 | I7: 0.5
A8: 45748 | B8: 0 | C8: 0 | D8: 5487594 | E8: 0 | F8: * | G8: * | H8: 0.49 | I8: 0.49
A9: 45778 | B9: 0 | C9: 0 | D9: 6883422 | E9: 0 | F9: * | G9: * | H9: 0.49 | I9: 0.49
A10: 45809 | B10: 0 | C10: 0 | D10: 4579974 | E10: 0 | F10: * | G10: * | H10: 0.49 | I10: 0.49
A11: 45839 | B11: 0 | C11: 0 | D11: 5758242 | E11: 0 | F11: * | G11: * | H11: 0.48 | I11: 0.48
A12: 45870 | B12: 0 | C12: 0 | D12: 5941488 | E12: 0 | F12: * | G12: * | H12: 0.44 | I12: 0.44
A13: 45901 | B13: 0 | C13: 0 | D13: 4899379 | E13: 640169 | F13: * | G13: * | H13: 0.42 | I13: 0.39 | K13: Total Galones
A14: 45931 | B14: 0 | C14: 0 | D14: 4679906 | E14: 5581954 | F14: * | G14: * | H14: 0.47 | I14: 0.47 | K14: =SUM(B18+C18+D18+E18) -> 81976020
A15: 45962 | B15: 0 | C15: 0 | D15: 4654389 | E15: 2650251 | F15: * | G15: * | H15: 0.45 | I15: 0.44
A16: 45992 | B16: 0 | C16: 0 | D16: 5200118 | E16: 5613832 | F16: * | G16: * | H16: 0.44 | I16: 0.45
A17: Total | B17: =SUM(B5:B16) -> 0 | C17: =SUM(C11:C16) -> 0 | D17: =SUM(D5:D16) -> 67489814 | E17: =SUM(E5:E16) -> 14486206 | F17: * | G17: * | H17: =AVERAGE(H5:H16) -> 0.47083333 | I17: =AVERAGE(I5:I16) -> 0.46833333
A18: Total (gal/yr) | B18: =B17*42 -> 0 | C18: =C17*42 -> 0 | D18: =SUM(D17) -> 67489814 | E18: =SUM(E17) -> 14486206 | F18: * | G18: * | H18: =AVERAGE(H5:H16) -> 0.47083333 | I18: =AVERAGE(I5:I16) -> 0.46833333
A36: Palo Seco #2 FO Consumtion 2025
A37: year | B37: Galons | F37: Azufre | J37: year | K37: Barrels | M37: Azufre
B38: PSGT1-1 | C38: PSGT1-2 | D38: PSGT2-1 | E38: PSGT2-2 | F38: PSGT1-1 | G38: PSGT1-2 | H38: PSGT2-1 | I38: PSGT2-2 | K38: PSGT3-1 | L38: PSGT3-2 | M38: PSGT3-1 | N38: PSGT3-2
A39: 45658 | B39: 553806 | C39: 0 | D39: 189112 | E39: 0 | F39: 0.004 | G39: 0.004 | H39: 0.004 | I39: 0.004 | J39: 45658 | K39: 0 | L39: 0 | M39: 0 | N39: 0
A40: 45689 | B40: 451625 | C40: 0 | D40: 0 | E40: 0 | F40: 0.004 | G40: 0.004 | H40: 0.004 | I40: 0 | J40: 45689 | K40: 0 | L40: 0 | M40: 0 | N40: 0
A41: 45717 | B41: 1085186 | C41: 0 | D41: 2863 | E41: 0.001 | F41: 0.001 | G41: 0.001 | H41: 0.001 | I41: 0 | J41: 45717 | K41: 0 | L41: 0 | M41: 0 | N41: 0
A42: 45748 | B42: 1226779 | C42: 0 | D42: 0 | E42: 0 | F42: 0.001 | G42: 0.001 | H42: 0.001 | I42: 0 | J42: 45748 | K42: 0 | L42: 0 | M42: 0 | N42: 0
A43: 45778 | B43: 357804 | C43: 0 | D43: 0 | E43: 0 | F43: 0.0013 | G43: 0.0013 | H43: 0.0013 | I43: 0 | J43: 45778 | K43: 0 | L43: 0 | M43: 0 | N43: 0
A44: 45809 | B44: 399679 | C44: 0 | D44: 0 | E44: 0 | F44: 0.0013 | G44: 0.0013 | H44: 0.0013 | I44: 0 | J44: 45809 | K44: 0 | L44: 0 | M44: 0 | N44: 0
A45: 45839 | B45: 682626 | C45: 0 | D45: 0 | E45: 0 | F45: 0.0013 | G45: 0.0013 | H45: 0.0013 | I45: 0 | J45: 45839 | K45: 0 | L45: 0 | M45: 0 | N45: 0
A46: 45870 | B46: 413438 | C46: 0 | D46: 0 | E46: 0 | F46: 0.0013 | G46: 0.0013 | H46: 0.0013 | I46: 0 | J46: 45870 | K46: 0 | L46: 0 | M46: 0 | N46: 0
A47: 45901 | B47: 221426 | C47: 0 | D47: 0 | E47: 0 | F47: 0.0005 | G47: 0.0005 | H47: 0.0005 | I47: 0 | J47: 45901 | K47: 0 | L47: 0 | M47: 0 | N47: 0
A48: 45931 | B48: 575860 | C48: 0 | D48: 0 | E48: 0 | F48: 0.0007 | G48: 0.0007 | H48: 0.0007 | I48: 0 | J48: 45931 | K48: 0 | L48: 0 | M48: 0 | N48: 0
A49: 45962 | B49: 432755 | C49: 0 | D49: 0 | E49: 0 | F49: 0.0007 | G49: 0.0007 | H49: 0.0007 | I49: 0 | J49: 45962 | K49: 0 | L49: 0 | M49: 0 | N49: 0
A50: 45992 | B50: 275388 | C50: 0 | D50: 0 | E50: 0 | F50: 0.001 | G50: 0.001 | H50: 0.001 | I50: 0 | J50: 45992 | K50: 0 | L50: 0 | M50: 0 | N50: 0
A51: Total | B51: =SUM(B39:B50) -> 6676372 | C51: =SUM(C39:C50) -> 0 | D51: =SUM(D39:D50) -> 191975 | E51: =SUM(E39:E50) -> 0.001 | F51: =AVERAGE(F39:F50) -> 0.0015083333 | G51: =AVERAGE(G39:G50) -> 0.0015083333 | H51: =AVERAGE(H39:H50) -> 0.0015083333 | I51: * | J51: Total | K51: =SUM(K39:K50) -> 0 | L51: =SUM(L39:L50) -> 0 | M51: =AVERAGE(M39) -> 0 | N51: *
A52: Total (gal/yr) | B52: =SUM(B51) -> 6676372 | C52: =C51*42 -> 0 | D52: =SUM(D51) -> 191975 | E52: =E51*42 -> 0.042 | J52: Total (gal/yr) | K52: =K51*42 -> 0 | L52: =L51*42 -> 0
B53: =SUM(B45:B50)*42 -> 109262706 | C53: =SUM(C45:C50)*42 -> 0 | D53: =SUM(D45:D50)*42 -> 0 | E53: =SUM(E45:E50)*42 -> 0 | K53: =SUM(K45:K50)*42 -> 0 | L53: =SUM(L45:L50)*42 -> 0
H54: =SUM(B52+C52+D52+E52+K52+L52) -> 6868347
A68: Palo Seco MobilePacs | K68: =AVERAGE(M51,I51,G51,F51) -> 0.0010055556
A69: year | B69: Gallons Distillate | F69: SCF Natural Gas
B70: PSMP1 | C70: PSMP2 | D70: PSMP3 | E70: TOTAL | F70: MP1 | G70: MP2 | H70: MP3 | I70: TOTAL
A71: 45658 | B71: 65095 | C71: 267120 | D71: 219687 | E71: =SUM(B71:D71) -> 551902 | F71: 0 | G71: 0 | H71: 0 | I71: =SUM(F71:H71) -> 0
A72: 45689 | B72: 161817 | C72: 233344 | D72: 194868 | E72: =SUM(B72:D72) -> 590029 | F72: 0 | G72: 0 | H72: 0 | I72: =SUM(F72:H72) -> 0
A73: 45717 | B73: 620190 | C73: 636812 | D73: 587693 | E73: =SUM(B73:D73) -> 1844695 | F73: 0 | G73: 0 | H73: 0 | I73: =SUM(F73:H73) -> 0
A74: 45748 | B74: 1190253 | C74: 617908 | D74: 902866 | E74: =SUM(B74:D74) -> 2711027 | F74: 0 | G74: 0 | H74: 0 | I74: =SUM(F74:H74) -> 0
A75: 45778 | B75: 366583 | C75: 19835 | D75: 288165 | E75: =SUM(B75:D75) -> 674583 | F75: 0 | G75: 0 | H75: 0 | I75: =SUM(F75:H75) -> 0
A76: 45809 | B76: 280457 | C76: 245941 | D76: 256509 | E76: =SUM(B76:D76) -> 782907 | F76: 0 | G76: 0 | H76: 0 | I76: =SUM(F76:H76) -> 0
A77: 45839 | B77: 294672 | C77: 294588 | D77: 269472 | E77: =SUM(B77:D77) -> 858732 | F77: 0 | G77: 0 | H77: 0 | I77: =SUM(F77:H77) -> 0
A78: 45870 | B78: 294894 | C78: 335891 | D78: 265194 | E78: =SUM(B78:D78) -> 895979 | F78: 0 | G78: 0 | H78: 0 | I78: =SUM(F78:H78) -> 0
A79: 45901 | B79: 121002 | C79: 121128 | D79: 120926 | E79: =SUM(B79:D79) -> 363056 | F79: 0 | G79: 0 | H79: 0 | I79: =SUM(F79:H79) -> 0
A80: 45931 | B80: 396756 | C80: 404634 | D80: 392314 | E80: =SUM(B80:D80) -> 1193704 | F80: 0 | G80: 0 | H80: 0 | I80: =SUM(F80:H80) -> 0
A81: 45962 | B81: 331019 | C81: 262009 | D81: 330542 | E81: =SUM(B81:D81) -> 923570 | F81: 0 | G81: 0 | H81: 0 | I81: =SUM(F81:H81) -> 0
A82: 45992 | B82: 203465 | C82: 205328 | D82: 198967 | E82: =SUM(B82:D82) -> 607760 | F82: 0 | G82: 0 | H82: 0 | I82: =SUM(F82:H82) -> 0
A83: Total | B83: =SUM(B71:B82) -> 4326203 | C83: =SUM(C71:C82) -> 3644538 | D83: =SUM(D71:D82) -> 4027203 | F83: =AVERAGE(F71:F82) -> 0 | G83: =AVERAGE(G71:G82) -> 0 | H83: =AVERAGE(H71:H82) -> 0 | I83: =SUM(F83:H83) -> 0
A84: Total (gal/yr) | B84: =SUM(B83) -> 4326203 | C84: =SUM(C83) -> 3644538 | D84: =SUM(D83) -> 4027203

Sheet Cálculos PS
A1: Cómputo de Emisiones Actuales AÑO 2024 - Palo Seco (Termo) - Unidades 1 a 4 | I1: Cómputo de Emisiones Actuales AÑO 2024 - Palo Seco (Turbinas) - Bloques 1 a 3
A3: Factores de Emisión AP-42 Section 1.3 | I3: Factores de Emisión AP-42 Section 3.1
A4: PM | B4: (9.19)(%S) + 3.22 lb/1000gal | I4: PM | J4: 0.012lb/MMBTU
A5: SOx | B5: 157*%S lb/1000gal | I5: SOx | J5: 1.01*%S lb/MMBTU
A6: NOx | B6: 0.36 lb/MMBtu (CD Relatively Maintained NOx Target) | I6: NOx | J6: 0.88 lb/MMBTU
A7: VOC | B7: 0.76 lb/1000gal | I7: VOC | J7: 0.00041 l/MMBTU
A8: CO | B8: 5 lb/1000gal | I8: CO | J8: 0.0033 lb/MMBTU
A9: HAP,s (Pb) | B9: 0.00151 lb/1000gal | I9: HAP,s (Pb) | J9: 0.000014 lb MMBTU
A10: CO2e | B10: 24.632 lb/gal | C10: 40 CFR 98 | I10: CO2e | J10: 22.578 lb/gal | K10: 40 CFR 98
A12: Combustible #6 | B12: =SUM('Palo Seco'!K14) -> 81976020 | C12: gal/year | I12: Combustible #2 | J12: =SUM('Palo Seco'!H54) -> 6868347 | K12: gal/year
A13: Azufre % | B13: =SUM('Palo Seco'!I18) -> 0.46833333 | I13: Azufre % | J13: =SUM('Palo Seco'!H51) -> 0.0015083333 | V13: =(867406.4)*2204.6/77635189 -> 24.631667 | W13: lbs/gal
V14: =(73.96+0.003*25+0.0006*298)*2.2046*0.138 -> 22.578421 | W14: lbs/gal
A16: Cálculos Emisiones PM | I16: Cálculos Emisiones PM
A18: = | B18: =(9.19*B13)+3.22 -> 7.5239833 | C18: lb | D18: =B12 -> 81976020 | E18: gal | F18: ton | I18: = | J18: 0.012 | K18: lb | L18: =J12 -> 6868347 | M18: gal | N18: 0.138 | O18: MMBTU | Q18: ton
B19: 1000 | C19: gal | E19: year | F19: 2000 | G19: lb | K19: MMBTU | M19: year | O19: gal | P19: 2000 | Q19: lb
A22: = | B22: =((B18/B19)*D18)/F19 -> 308.3931 | C22: ton | D22: = | E22: =B22*2000/8760 -> 70.409384 | F22: lb | I22: = | J22: =(J18*L18*N18)/P19 -> 5.6869914 | K22: ton | L22: = | M22: =J22*(2000/8760) -> 1.2983999 | N22: lb
C23: year | F23: hr | K23: year | N23: hr
A26: Cálculos Emisiones SOx | I26: Cálculos Emisiones SOx
A28: = | B28: =157*B13 -> 73.528333 | C28: lb | D28: =B12 -> 81976020 | E28: gal | F28: ton | I28: = | J28: =1.01*J13 -> 0.0015234167 | K28: lb | L28: =J12 -> 6868347 | M28: gal | N28: 0.138 | O28: MMBTU | Q28: ton
B29: 1000 | C29: gal | E29: year | F29: 2000 | G29: lb | K29: MMBTU | M29: year | O29: gal | P29: 2000 | Q29: lb
A32: = | B32: =((B28/B29)*D28)/F29 -> 3013.7801 | C32: ton | D32: = | E32: =B32*(2000/8760) -> 688.07764 | F32: lb | I32: = | J32: =(J28*L28*N28)/P29 -> 0.72197145 | K32: ton | L32: = | M32: =J32*(2000/8760) -> 0.16483366 | N32: lb
C33: year | F33: hr | K33: year | N33: hr
A36: Cálculos Emisiones NOx | I36: Cálculos Emisiones NOx
A38: = | B38: 0.33 | C38: lb | D38: =B12 -> 81976020 | E38: gal | F38: 0.15 MMBtu | H38: ton | J38: 0.88 | K38: lb | L38: =J12 -> 6868347 | M38: gal | N38: 0.138 | O38: MMBTU | Q38: ton
C39: MMBtu | E39: year | F39: gal | H39: 2000 | I39: lb | K39: MMBTU | M39: year | O39: gal | P39: 2000 | Q39: lb
A42: = | B42: =B38*D38*0.15/2000 -> 2028.9065 | C42: ton | J42: =(J38*L38*N38)/P39 -> 417.04603 | K42: ton | L42: = | M42: =J42*(2000/8760) -> 95.215989 | N42: lb
C43: year | K43: year | N43: hr
A46: Cálculos Emisiones VOC | I46: Cálculos Emisiones VOC
A48: = | B48: 0.76 | C48: lb | D48: =B12 -> 81976020 | E48: gal | F48: ton | I48: = | J48: 0.00041 | K48: lb | L48: =J12 -> 6868347 | M48: gal | N48: 0.138 | O48: MMBTU | Q48: ton
B49: 1000 | C49: gal | E49: year | F49: 2000 | G49: lb | K49: MMBTU | M49: year | O49: gal | P49: 2000 | Q49: lb
A52: = | B52: =((B48/B49)*D48)/F49 -> 31.150888 | C52: ton | D52: = | E52: =B52*(2000/8760) -> 7.1120748 | F52: lb | I52: = | J52: =(J48*L48*N48)/P49 -> 0.19430554 | K52: ton | L52: = | M52: =J52*(2000/8760) -> 0.044361995 | N52: lb
C53: year | F53: hr | K53: year | N53: hr
A56: Cálculos Emisiones CO | I56: Cálculos Emisiones CO
A58: = | B58: 5 | C58: lb | D58: =B12 -> 81976020 | E58: gal | F58: ton | I58: = | J58: 0.0033 | K58: lb | L58: =J12 -> 6868347 | M58: gal | N58: 0.138 | O58: MMBTU | Q58: ton
B59: 1000 | C59: gal | E59: year | F59: 2000 | G59: lb | K59: MMBTU | M59: year | O59: gal | P59: 2000 | Q59: lb
A62: = | B62: =((B58/B59)*D58)/F59 -> 204.94005 | C62: ton | D62: = | E62: =B62*(2000/8760) -> 46.789966 | F62: lb | I62: = | J62: =(J58*L58*N58)/P59 -> 1.5639226 | K62: ton | L62: = | M62: =J62*(2000/8760) -> 0.35705996 | N62: lb
C63: year | F63: hr | K63: year | N63: hr
A66: Cálculos Emisiones Pb | I66: Cálculos Emisiones Pb
A68: = | B68: 0.00151 | C68: lb | D68: =B12 -> 81976020 | E68: gal | F68: ton | I68: = | J68: 1.4e-05 | K68: lb | L68: =J12 -> 6868347 | M68: gal | N68: 0.138 | O68: MMBTU | Q68: ton
B69: 1000 | C69: gal | E69: year | F69: 2000 | G69: lb | K69: MMBTU | M69: year | O69: gal | P69: 2000 | Q69: lb
A72: = | B72: =((B68/B69)*D68)/F69 -> 0.061891895 | C72: ton | D72: = | E72: =B72*(2000/8760) -> 0.01413057 | F72: lb | I72: = | J72: =(J68*L68*N68)/P69 -> 0.0066348232 | K72: ton | L72: = | M72: =J72*(2000/8760) -> 0.0015147998 | N72: lb
C73: year | F73: hr | K73: year | N73: hr
A76: Cálculos Emisiones CO2e | J76: Cálculos Emisiones CO2e
A78: = | B78: =V13 -> 24.631667 | C78: lb | D78: =D68 -> 81976020 | E78: gal | F78: ton | J78: = | K78: =V14 -> 22.578421 | L78: lb | M78: =L68 -> 6868347 | N78: gal | O78: ton
C79: gal | E79: year | F79: 2000 | G79: lb | L79: gal | N79: year | O79: 2000 | P79: lb
A82: = | B82: =B78*D78/F79 -> 1009603 | C82: ton | J82: = | K82: =K78*M78/O79 -> 77538.214 | L82: ton
C83: year | L83: year

Sheet MPs PS
A1: Cómputo de Emisiones Actuales para Distillate OIl y Gas Natural - Palo Seco AÑO 2025 - MobilePacs
A3: Parametro | B3: Factor de Emisión Combustible Natural Gas | C3: Factor de Emisión Combustible No. 2 Oil | D3: Emisiones Actuales (ton/year) | E3: Emisiones Actuales (lb/hr)
A4: NOx | B4: 0.11 | C4: 0.1731 | D4: =B23 -> 143.30224 | E4: =F23 -> 32.717407
A5: CO | B5: 0.077 | C5: 0.0343 | D5: =B29 -> 28.395534 | E5: =F29 -> 6.4829986
A6: VOC | B6: 0.0081 | C6: 0.0071 | D6: =B35 -> 5.8777928 | E6: =F35 -> 1.3419618 | F6: Ecuación para el Cómputo
A7: PM | B7: 0.01 | C7: 0.0177 | D7: =B41 -> 14.653089 | E7: =F41 -> 3.3454541 | F7: ton/year = | G7: [Consumo de Combustible #2 en galones/year) * ( Valor Calorífico BC 0.138 MMBtu/gal)
A8: PM10 | B8: 0.01 | C8: 0.0177 | D8: =B47 -> 14.653089 | E8: =F47 -> 3.3454541 | G8: + (Consumo Gas Natural SCF/year) * (Valor Calorífico GN 1,026 MMBtu/SCF*10^6)]
A9: PM2.5 | B9: 0.01 | C9: 0.0177 | D9: =B53 -> 14.653089 | E9: =F53 -> 3.3454541 | G9: * FE en lbs/MMBtu * 1 ton/2,000 lbs
A10: SO2 | B10: =1*2/7000/100/1026*1000000 -> 0.0027847396 | C10: 0.0015 | D10: =B59 -> 1.2417872 | E10: =F59 -> 0.28351306
A11: H2SO4 | B11: =B10*0.1*98/64 -> 0.00042641326 | C11: =C10*0.1*98/64 -> 0.0002296875 | D11: =B65 -> 0.19014867 | E11: =F65 -> 0.043412937 | F11: lbs/hr = | G11: (Toneladas Contaminante / year) * (1 year / 8,760 hr) * (2000 lb / ton)
A12: Pb | B12: 0 | C12: 1.4e-05 | D12: =B71 -> 0.011590014 | E12: =F71 -> 0.0026461219
A13: CO2e | B13: =(53.06+0.001*25+0.0001*298)*2.2046 -> 117.09689 | C13: 163.61 | D13: =B77 -> 135445.87 | E13: =F77 -> 30923.715
A14: Fluoruro | B14: 0 | C14: 0 | D14: 0 | E14: 0
A16: Consumo #2 = | B16: =SUM('Palo Seco'!B84+'Palo Seco'!C84+'Palo Seco'!D84) -> 11997944 | D16: gal/year
A17: Consumo NG = | B17: ='Palo Seco'!I82 -> 0 | D17: SCF/year
A18: #2 Azufre = | B18: =SUM('Palo Seco'!H83) -> 0 | D18: %
A20: NOx = | B20: =B16 -> 11997944 | D20: galones | E20: 0.138 | F20: MMBtu | G20: * | H20: =C4 -> 0.1731 | I20: lbs | J20: 1 | K20: ton | L20: + | M20: =B17 -> 0 | N20: SCF | O20: 1026 | P20: MMBtu | Q20: * | R20: =B4 -> 0.11 | S20: lbs | T20: 1 | U20: ton
D21: year | F21: gal | I21: MMBtu | J21: 2000 | K21: lbs | N21: year | O21: 1000000 | P21: SCF | S21: MMBtu | T21: 2000 | U21: lbs
B23: =(B20*E20*H20+M20*O20*R20/1000000)/2000 -> 143.30224 | D23: ton/year | E23: = | F23: =B23*(2000/8760) -> 32.717407 | G23: lb/hr
A26: CO = | B26: =B16 -> 11997944 | D26: galones | E26: 0.138 | F26: MMBtu | G26: * | H26: =C5 -> 0.0343 | I26: lbs | J26: 1 | K26: ton | L26: + | M26: =B17 -> 0 | N26: SCF | O26: 1026 | P26: MMBtu | Q26: * | R26: =B5 -> 0.077 | S26: lbs | T26: 1 | U26: ton
D27: year | F27: gal | I27: MMBtu | J27: 2000 | K27: lbs | N27: year | O27: 1000000 | P27: SCF | S27: MMBtu | T27: 2000 | U27: lbs
B29: =(B26*E26*H26+M26*O26*R26/1000000)/2000 -> 28.395534 | D29: ton/year | E29: = | F29: =B29*(2000/8760) -> 6.4829986 | G29: lb/hr
A32: VOC = | B32: =B16 -> 11997944 | D32: galones | E32: 0.138 | F32: MMBtu | G32: * | H32: =C6 -> 0.0071 | I32: lbs | J32: 1 | K32: ton | L32: + | M32: =B17 -> 0 | N32: SCF | O32: 1026 | P32: MMBtu | Q32: * | R32: =B6 -> 0.0081 | S32: lbs | T32: 1 | U32: ton
D33: year | F33: gal | I33: MMBtu | J33: 2000 | K33: lbs | N33: year | O33: 1000000 | P33: SCF | S33: MMBtu | T33: 2000 | U33: lbs
B35: =(B32*E32*H32+M32*O32*R32/1000000)/2000 -> 5.8777928 | D35: ton/year | E35: = | F35: =B35*(2000/8760) -> 1.3419618 | G35: lb/hr
A38: PM = | B38: =B16 -> 11997944 | D38: galones | E38: 0.138 | F38: MMBtu | G38: * | H38: =C7 -> 0.0177 | I38: lbs | J38: 1 | K38: ton | L38: + | M38: =B17 -> 0 | N38: SCF | O38: 1026 | P38: MMBtu | Q38: * | R38: =B7 -> 0.01 | S38: lbs | T38: 1 | U38: ton
D39: year | F39: gal | I39: MMBtu | J39: 2000 | K39: lbs | N39: year | O39: 1000000 | P39: SCF | S39: MMBtu | T39: 2000 | U39: lbs
B41: =(B38*E38*H38+M38*O38*R38/1000000)/2000 -> 14.653089 | D41: ton/year | E41: = | F41: =B41*(2000/8760) -> 3.3454541 | G41: lb/hr | L41: lb/hr
A44: PM10 = | B44: =B16 -> 11997944 | D44: galones | E44: 0.138 | F44: MMBtu | G44: * | H44: =C8 -> 0.0177 | I44: lbs | J44: 1 | K44: ton | L44: + | M44: =B17 -> 0 | N44: SCF | O44: 1026 | P44: MMBtu | Q44: * | R44: =B8 -> 0.01 | S44: lbs | T44: 1 | U44: ton
D45: year | F45: gal | I45: MMBtu | J45: 2000 | K45: lbs | N45: year | O45: 1000000 | P45: SCF | S45: MMBtu | T45: 2000 | U45: lbs
B47: =(B44*E44*H44+M44*O44*R44/1000000)/2000 -> 14.653089 | D47: ton/year | E47: = | F47: =B47*(2000/8760) -> 3.3454541 | G47: lb/hr | L47: lb/hr
A50: PM2.5 = | B50: =B16 -> 11997944 | D50: galones | E50: 0.138 | F50: MMBtu | G50: * | H50: =C9 -> 0.0177 | I50: lbs | J50: 1 | K50: ton | L50: + | M50: =B17 -> 0 | N50: SCF | O50: 1026 | P50: MMBtu | Q50: * | R50: =B9 -> 0.01 | S50: lbs | T50: 1 | U50: ton
D51: year | F51: gal | I51: MMBtu | J51: 2000 | K51: lbs | N51: year | O51: 1000000 | P51: SCF | S51: MMBtu | T51: 2000 | U51: lbs
B53: =(B50*E50*H50+M50*O50*R50/1000000)/2000 -> 14.653089 | D53: ton/year | E53: = | F53: =B53*(2000/8760) -> 3.3454541 | G53: lb/hr | L53: lb/hr
A56: SO2 = | B56: =B16 -> 11997944 | D56: galones | E56: 0.138 | F56: MMBtu | G56: * | H56: =C10 -> 0.0015 | I56: lbs | J56: 1 | K56: ton | L56: + | M56: =B17 -> 0 | N56: SCF | O56: 1026 | P56: MMBtu | Q56: * | R56: =B10 -> 0.0027847396 | S56: lbs | T56: 1 | U56: ton
D57: year | F57: gal | I57: MMBtu | J57: 2000 | K57: lbs | N57: year | O57: 1000000 | P57: SCF | S57: MMBtu | T57: 2000 | U57: lbs
B59: =(B56*E56*H56+M56*O56*R56/1000000)/2000 -> 1.2417872 | D59: ton/year | E59: = | F59: =B59*(2000/8760) -> 0.28351306 | G59: lb/hr | L59: lb/hr
A62: H2SO4 = | B62: =B16 -> 11997944 | D62: galones | E62: 0.138 | F62: MMBtu | G62: * | H62: =C11 -> 0.0002296875 | I62: lbs | J62: 1 | K62: ton | L62: + | M62: =B17 -> 0 | N62: SCF | O62: 1026 | P62: MMBtu | Q62: * | R62: =B11 -> 0.00042641326 | S62: lbs | T62: 1 | U62: ton
D63: year | F63: gal | I63: MMBtu | J63: 2000 | K63: lbs | N63: year | O63: 1000000 | P63: SCF | S63: MMBtu | T63: 2000 | U63: lbs
B65: =(B62*E62*H62+M62*O62*R62/1000000)/2000 -> 0.19014867 | D65: ton/year | E65: = | F65: =B65*(2000/8760) -> 0.043412937 | G65: lb/hr | L65: lb/hr
A68: Pb = | B68: =B16 -> 11997944 | D68: galones | E68: 0.138 | F68: MMBtu | G68: * | H68: =C12 -> 1.4e-05 | I68: lbs | J68: 1 | K68: ton | L68: + | M68: =B17 -> 0 | N68: SCF | O68: 1026 | P68: MMBtu | Q68: * | R68: =B12 -> 0 | S68: lbs | T68: 1 | U68: ton
D69: year | F69: gal | I69: MMBtu | J69: 2000 | K69: lbs | N69: year | O69: 1000000 | P69: SCF | S69: MMBtu | T69: 2000 | U69: lbs
B71: =(B68*E68*H68+M68*O68*R68/1000000)/2000 -> 0.011590014 | D71: ton/year | E71: = | F71: =B71*(2000/8760) -> 0.0026461219 | G71: lb/hr
A74: CO2e = | B74: =B16 -> 11997944 | D74: galones | E74: 0.138 | F74: MMBtu | G74: * | H74: =C13 -> 163.61 | I74: lbs | J74: 1 | K74: ton | L74: + | M74: =B17 -> 0 | N74: SCF | O74: 1026 | P74: MMBtu | Q74: * | R74: =B13 -> 117.09689 | S74: lbs | T74: 1 | U74: ton
D75: year | F75: gal | I75: MMBtu | J75: 2000 | K75: lbs | N75: year | O75: 1000000 | P75: SCF | S75: MMBtu | T75: 2000 | U75: lbs
B77: =(B74*E74*H74+M74*O74*R74/1000000)/2000 -> 135445.87 | D77: ton/year | E77: = | F77: =B77*(2000/8760) -> 30923.715 | G77: lb/hr
B80: Nota:
B81: * La formula y los factores de emisión utilizados son los aprobados en la última revisión del permiso
B82: de construcción PFE-31-0810-0455-II-C, con fecha del 21 de marzo de 2012, para la quema dual
B83: de combustible 100% Bunker C y 100% Gas Natural, según corresponda.

Sheet Turbinas
A3: Vega Baja FO#2 2025 | E3: Daguao FO#2 2025 | I3: YabucoaFO#2 2025 | M3: Jobos FO#2 2025
A4: Barrels | E4: Barrels | I4: Barrels | M4: Barrels | T4: % Azufre
A5: year | B5: VBGT1-1 | C5: VBGT1-2 | E5: year | F5: DAGT1-1 | G5: DAGT1-2 | I5: Mon th | J5: YAGT1-1 | K5: YAGT1-2 | M5: year | N5: JOGT1-1 | O5: JOGT1-2 | U5: DAGGT1-1 | V5: DAGGT1-2 | W5: JOGT1-1 | X5: JOGT1-2 | Y5: MAG-5 | Z5: MAG-6 | AA5: MAG-7 | AB5: MAG-8 | AC5: VBGT1-1 | AD5: VBGT1-2 | AE5: YAGT1-1 | AF5: YAGT1-2
A6: 45658 | B6: 0 | C6: 0 | E6: 45658 | F6: 6122.71 | G6: 2577.98 | I6: 45658 | J6: 0 | K6: 4261.5 | M6: 45658 | N6: 0 | O6: 4677.15 | T6: 45658 | U6: 0.01 | V6: 0.01 | W6: 0.01 | X6: 0.01 | Y6: 0.01 | Z6: 0.01 | AA6: 0.01 | AB6: 0.01 | AC6: 0.01 | AD6: 0.01 | AE6: 0.01 | AF6: 0.01
A7: 45689 | B7: 0 | C7: 0 | E7: 45689 | F7: 4524.43 | G7: 3960.64 | I7: 45689 | J7: 0 | K7: 3000.79 | M7: 45689 | N7: 0 | O7: 3366.92 | T7: 45689 | U7: 0.01 | V7: 0.01 | W7: 0.01 | X7: 0.01 | Y7: 0.01 | Z7: 0.01 | AA7: 0.01 | AB7: 0.01 | AC7: 0.01 | AD7: 0.01 | AE7: 0.01 | AF7: 0.01
A8: 45717 | B8: 0 | C8: 0 | E8: 45717 | F8: 9514.17 | G8: 7939.45 | I8: 45717 | J8: 0 | K8: 7109.5 | M8: 45717 | N8: 0 | O8: 9411.38 | T8: 45717 | U8: 0.01 | V8: 0.01 | W8: 0.01 | X8: 0.01 | Y8: 0.01 | Z8: 0.01 | AA8: 0.01 | AB8: 0.01 | AC8: 0.01 | AD8: 0.01 | AE8: 0.01 | AF8: 0.01
A9: 45748 | B9: 0 | C9: 0 | E9: 45748 | F9: 13086.71 | G9: 7938.55 | I9: 45748 | J9: 0 | K9: 9138.86 | M9: 45748 | N9: 0 | O9: 13713.48 | T9: 45748 | U9: 0.01 | V9: 0.01 | W9: 0.01 | X9: 0.01 | Y9: 0.01 | Z9: 0.01 | AA9: 0.01 | AB9: 0.01 | AC9: 0.01 | AD9: 0.01 | AE9: 0.01 | AF9: 0.01
A10: 45778 | B10: 0 | C10: 0 | E10: 45778 | F10: 6224.26 | G10: 2641.19 | I10: 45778 | J10: 0 | K10: 3788.69 | M10: 45778 | N10: 0 | O10: 5142.38 | T10: 45778 | U10: 0.01 | V10: 0.01 | W10: 0.01 | X10: 0.01 | Y10: 0.01 | Z10: 0.01 | AA10: 0.01 | AB10: 0.01 | AC10: 0.01 | AD10: 0.01 | AE10: 0.01 | AF10: 0.01
A11: 45809 | B11: 0 | C11: 0 | E11: 45809 | F11: 8972.88 | G11: 5819.69 | I11: 45809 | J11: 0 | K11: 5369.93 | M11: 45809 | N11: 0 | O11: 8199.38 | T11: 45809 | U11: 0.01 | V11: 0.01 | W11: 0.01 | X11: 0.01 | Y11: 0.01 | Z11: 0.01 | AA11: 0.01 | AB11: 0.01 | AC11: 0.01 | AD11: 0.01 | AE11: 0.01 | AF11: 0.01
A12: 45839 | B12: 0 | C12: 0 | E12: 45839 | F12: 8778.27 | G12: 144.67 | I12: 45839 | J12: 0 | K12: 5080.14 | M12: 45839 | N12: 0 | O12: 8795.53 | T12: 45839 | U12: 0.01 | V12: 0.01 | W12: 0.01 | X12: 0.01 | Y12: 0.01 | Z12: 0.01 | AA12: 0.01 | AB12: 0.01 | AC12: 0.01 | AD12: 0.01 | AE12: 0.01 | AF12: 0.01
A13: 45870 | B13: 0 | C13: 0 | E13: 45870 | F13: 9989.79 | G13: 4751.6 | I13: 45870 | J13: 0 | K13: 7302.1 | M13: 45870 | N13: 0 | O13: 8282.48 | T13: 45870 | U13: 0.01 | V13: 0.01 | W13: 0.01 | X13: 0.01 | Y13: 0.01 | Z13: 0.01 | AA13: 0.01 | AB13: 0.01 | AC13: 0.01 | AD13: 0.01 | AE13: 0.01 | AF13: 0.01
A14: 45901 | B14: 0 | C14: 0 | E14: 45901 | F14: 4756.48 | G14: 4180.43 | I14: 45901 | J14: 0 | K14: 2942.05 | M14: 45901 | N14: 0 | O14: 3782.16 | T14: 45901 | U14: 0.01 | V14: 0.01 | W14: 0.01 | X14: 0.01 | Y14: 0.01 | Z14: 0.01 | AA14: 0.01 | AB14: 0.01 | AC14: 0.01 | AD14: 0.01 | AE14: 0.01 | AF14: 0.01
A15: 45931 | B15: 0 | C15: 0 | E15: 45931 | F15: 13292.05 | G15: 8295.79 | I15: 45931 | J15: 0 | K15: 9783.64 | M15: 45931 | N15: 0 | O15: 13032 | T15: 45931 | U15: 0.01 | V15: 0.01 | W15: 0.01 | X15: 0.01 | Y15: 0.01 | Z15: 0.01 | AA15: 0.01 | AB15: 0.01 | AC15: 0.01 | AD15: 0.01 | AE15: 0.01 | AF15: 0.01
A16: 45962 | B16: 0 | C16: 0 | E16: 45962 | F16: 8921.45 | G16: 4910.29 | I16: 45962 | J16: 0 | K16: 8062.92 | M16: 45962 | N16: 0 | O16: 9500.75 | T16: 45962 | U16: 0.01 | V16: 0.01 | W16: 0.01 | X16: 0.01 | Y16: 0.01 | Z16: 0.01 | AA16: 0.01 | AB16: 0.01 | AC16: 0.01 | AD16: 0.01 | AE16: 0.01 | AF16: 0.01
A17: 45992 | B17: 0 | C17: 0 | E17: 45992 | F17: 4945.26 | G17: 3376.21 | I17: 45992 | J17: 0 | K17: 4428.16 | M17: 45992 | N17: 0 | O17: 959.71 | T17: 45992 | U17: 0.01 | V17: 0.01 | W17: 0.01 | X17: 0.01 | Y17: 0.01 | Z17: 0.01 | AA17: 0.01 | AB17: 0.01 | AC17: 0.01 | AD17: 0.01 | AE17: 0.01 | AF17: 0.01
A18: Total | B18: =SUM(B6:B17) -> 0 | C18: =SUM(C6:C17) -> 0 | E18: Total | F18: =SUM(F6:F17) -> 99128.46 | G18: =SUM(G6:G17) -> 56536.49 | I18: Total | J18: =SUM(J6:J17) -> 0 | K18: =SUM(K6:K17) -> 70268.28 | M18: Total | N18: =SUM(N6:N17) -> 0 | O18: =SUM(O6:O17) -> 88863.32 | T18: PROMEDIO ANNUAL | U18: =AVERAGE(U6:U17) -> 0.01 | V18: =AVERAGE(V6:V17) -> 0.01 | W18: =AVERAGE(W6:W17) -> 0.01 | X18: =AVERAGE(X6:X17) -> 0.01 | Y18: =AVERAGE(Y6:Y17) -> 0.01 | Z18: =AVERAGE(Z6:Z17) -> 0.01 | AA18: =AVERAGE(AA6:AA17) -> 0.01 | AB18: =AVERAGE(AB6:AB17) -> 0.01 | ... AF18: =AVERAGE(AF6:AF17) -> 0.01
A19: Total gal/yr | B19: =B18 -> 0 | C19: =C18 -> 0 | E19: Total gal/yr | F19: =SUM(F18*42) -> 4163395.3 | G19: =SUM(G18*42) -> 2374532.6 | I19: Total gal/yr | J19: =SUM(J18*42) -> 0 | K19: =SUM(K18*42) -> 2951267.8 | M19: Total gal/yr | N19: =SUM(N18*42) -> 0 | O19: =SUM(O18*42) -> 3732259.4
A21: Mayaguez FO#2 2025 | G21: Cambalache FO#2 2025
A22: Barrels | G22: year | H22: Barrels | K22: Azufre
A23: year | B23: MAG-5 | C23: MAG-6 | D23: MAG-7 | E23: MAG-8 | H23: CAMB 1 | I23: CAMB 2 | J23: CAMB 3 | K23: CAMB 2 | L23: CAMB 3
A24: 45658 | B24: 24871.86 | C24: 28310.38 | D24: 12692.88 | E24: 13649.65 | G24: 45658 | H24: 0 | I24: 44546.81 | J24: 34324.75 | K24: 0.0026 | L24: 0.0026
A25: 45689 | B25: 1815.08 | C25: 18373.37 | D25: 6494.04 | E25: 7876.75 | G25: 45689 | H25: 0 | I25: 33042 | J25: 31794.19 | K25: 0.004 | L25: 0.004
A26: 45717 | B26: 0 | C26: 22878.2 | D26: 8855.02 | E26: 9093.17 | G26: 45717 | H26: 0 | I26: 52365.1 | J26: 48150.54 | K26: 0.0007 | L26: 0.0007
A27: 45748 | B27: 0 | C27: 20540.76 | D27: 9853.19 | E27: 9404.56 | G27: 45748 | H27: 0 | I27: 57468.03 | J27: 55562.14 | K27: 0.0005 | L27: 0.0005
A28: 45778 | B28: 0 | C28: 5464.64 | D28: 2511.11 | E28: 2244.85 | G28: 45778 | H28: 0 | I28: 27834.72 | J28: 18531.67 | K28: 0.0008 | L28: 0.0008
A29: 45809 | B29: 0 | C29: 7474.91 | D29: 3547.28 | E29: 3398.44 | G29: 45809 | H29: 0 | I29: 43247.59 | J29: 0 | K29: 0.0008 | L29: 0.0008
A30: 45839 | B30: 0 | C30: 0 | D30: 4987.25 | E30: 5025.16 | G30: 45839 | H30: 0 | I30: 45846.45 | J30: 0 | K30: 0.001 | L30: 0.001
A31: 45870 | B31: 0 | C31: 0 | D31: 4907.91 | E31: 4849.88 | G31: 45870 | H31: 0 | I31: 50161.47 | J31: 0 | K31: 0.001 | L31: 0.001
A32: 45901 | B32: 0 | C32: 0 | D32: 1698.16 | E32: 1785.66 | G32: 45901 | H32: 0 | I32: 28128.7 | J32: 0 | K32: 0.001 | L32: 0.001
A33: 45931 | B33: 0 | C33: 0 | D33: 5752.06 | E33: 5895.34 | G33: 45931 | H33: 0 | I33: 57709.58 | J33: 0 | K33: 0.001 | L33: 0.001
A34: 45962 | B34: 0 | C34: 0 | D34: 5550.1 | E34: 5682.3 | G34: 45962 | H34: 0 | I34: 25470.55 | J34: 0 | K34: 0.001 | L34: 0.001
A35: 45992 | B35: 0 | C35: 0 | D35: 10766.3 | E35: 10808.59 | G35: 45992 | H35: 0 | I35: 10262.73 | J35: 0 | K35: 0.001 | L35: 0.001
A36: Total | B36: =SUM(B24:B35) -> 26686.94 | C36: =SUM(C24:C35) -> 103042.26 | D36: =SUM(D24:D35) -> 77615.3 | E36: =SUM(E24:E35) -> 79714.35 | G36: Total | H36: =SUM(H30:H35) -> 0 | I36: =SUM(I24:I35) -> 476083.73 | J36: =SUM(J24:J35) -> 188363.29 | K36: =AVERAGE(K24:K35) -> 0.0012833333 | L36: =AVERAGE(L24:L35) -> 0.0012833333
A37: Total gal/yr | B37: =SUM(B36*42) -> 1120851.5 | C37: =SUM(C36*42) -> 4327774.9 | D37: =SUM(D36*42) -> 3259842.6 | E37: =SUM(E36*42) -> 3348002.7 | G37: Total gal/yr | H37: =SUM(H36*42) -> 0 | I37: =SUM(I36*42) -> 19995517 | J37: =SUM(J36*42) -> 7911258.2

Sheet Cálculos Cambalache (60%)
A2: Cómputo de Emisiones 2025 - Central Cambalache Unidad 2 | L2: Cómputo de Emisiones 2025 - Central Cambalache Unidad 3 | AA2: Horas de Operacion @ 60 %
AB3: Cambalache 1 | AC3: Cambalache 2 | AD3: Cambalache 3
A4: Cálculos con los Factores de Emisión AP-42 | L4: Cálculos con los Factores de Emisión AP-42 | AA4: 45658 | AB4: 0 | AC4: 234 | AD4: 180
A5: PM10 = | B5: [(51 lb/hr @100% carga * horas @100% carga)+(51 lb/hr @60% carga1 * horas @ 60%carga)]/(2000 ton/lb) | L5: PM10 = | M5: [(51 lb/hr @100% carga * horas @100% carga)+(51 lb/hr @60% carga1 * horas @ 60%carga)]/(2000 ton/lb) | AA5: 45689 | AB5: 0 | AC5: 235 | AD5: 205
A6: SOx = | B6: [(137 lb/hr @100% carga * horas @100% carga)+(137 lb/hr @60% carga1 * horas @60% carga)]/(2000 ton/lb) | L6: SOx = | M6: [(137 lb/hr @100% carga * horas @100% carga)+(137 lb/hr @60% carga1 * horas @60% carga)]/(2000 ton/lb) | AA6: 45717 | AB6: 0 | AC6: 351 | AD6: 266
A7: NOx | B7: CEMS | L7: NOx | M7: CEMS | AA7: 45748 | AB7: 0 | AC7: 288 | AD7: 260
A8: VOC = | B8: [(13 lb/hr @100% carga * horas @100% carga)+(11 lb/hr @60% carga1 * horas @60% carga)]/(2000 ton/lb) | L8: VOC = | M8: [(13 lb/hr @100% carga * horas @100% carga)+(11 lb/hr @60% carga1 * horas @60% carga)]/(2000 ton/lb) | AA8: 45778 | AB8: 0 | AC8: 154 | AD8: 121
A9: CO | B9: CEMS | L9: CO | M9: CEMS | AA9: 45809 | AB9: 0 | AC9: 178 | AD9: 0
A10: Pb = | B10: [(0.023 lb/hr @100% carga*horas @100% carga)+(0.016 lb/hr @60% carga1*horas @60% carga)]/(2000 ton/lb) | L10: Pb = | M10: [(0.023 lb/hr @100% carga*horas @100% carga)+(0.016 lb/hr @60% carga1*horas @60% carga)]/(2000 ton/lb) | AA10: 45839 | AB10: 0 | AC10: 201 | AD10: 0
AA11: 45870 | AB11: 0 | AC11: 258 | AD11: 0
AA12: 45901 | AB12: 0 | AC12: 151 | AD12: 0
A13: Combustible | B13: =SUM(Turbinas!I37) -> 19995517 | C13: gal/año | L13: Combustible | M13: =SUM(Turbinas!J37) -> 7911258.2 | N13: gal/año | AA13: 45931 | AB13: 0 | AC13: 300 | AD13: 0
A14: Azufre % | B14: =SUM(Turbinas!K36) -> 0.0012833333 | L14: Azufre % | M14: =SUM(Turbinas!L36) -> 0.0012833333 | AA14: 45962 | AB14: 0 | AC14: 89 | AD14: 0
A15: Hrs @100% Carga | B15: =SUM(AC34) -> 1034 | C15: hrs | L15: Hrs @100% Carga | M15: =AD34 -> 382 | N15: hrs | AA15: 45992 | AB15: 0 | AC15: 29 | AD15: 0
A16: Hrs @60% Carga | B16: =AC16 -> 2468 | C16: hrs | L16: Hrs @60% Carga | M16: =AD16 -> 1032 | N16: hrs | AA16: TOTAL | AB16: =SUM(AB10:AB15) -> 0 | AC16: =SUM(AC4:AC15) -> 2468 | AD16: =SUM(AD4:AD15) -> 1032
A19: Cálculos Emisiones PM10 | L19: Cálculos Emisiones PM10
AA20: Horas de Operacion @ 100 %
A21: = | B21: 51 | C21: lb | D21: =B15 -> 1034 | E21: horas | F21: 51 | G21: lb | H21: =B16 -> 2468 | I21: horas | J21: 1 | K21: ton | L21: = | M21: 51 | N21: lb | O21: =M15 -> 382 | P21: horas | Q21: 51 | R21: lb | S21: =M16 -> 1032 | T21: horas | U21: 1 | V21: ton | AB21: Cambalache 1 | AC21: Cambalache 2 | AD21: Cambalache 3
C22: hr | G22: hr | J22: 2000 | K22: lb | N22: hr | R22: hr | U22: 2000 | V22: lb | AA22: 45658 | AB22: 0 | AC22: 93 | AD22: 63
AA23: 45689 | AB23: 0 | AC23: 33 | AD23: 43
A24: = | B24: =((B21*D21)+(F21*H21))/J22 -> 89.301 | C24: ton | E24: = | F24: =B24*2000/8760 -> 20.388356 | G24: lb | L24: = | M24: =((M21*O21)+(Q21*S21))/U22 -> 36.057 | N24: ton | P24: = | Q24: =M24*2000/8760 -> 8.2321918 | R24: lb | AA24: 45717 | AB24: 0 | AC24: 62 | AD24: 95
C25: año | G25: hr | N25: año | R25: hr | AA25: 45748 | AB25: 0 | AC25: 141 | AD25: 158
AA26: 45778 | AB26: 0 | AC26: 37 | AD26: 23
A27: Cálculos Emisiones SOx | L27: Cálculos Emisiones SOx | AA27: 45809 | AB27: 0 | AC27: 129 | AD27: 0
AA28: 45839 | AB28: 0 | AC28: 133 | AD28: 0
A29: = | B29: 137 | C29: lb | D29: =B15 -> 1034 | E29: horas | F29: 137 | G29: lb | H29: =B16 -> 2468 | I29: horas | J29: 1 | K29: ton | L29: = | M29: 137 | N29: lb | O29: =M15 -> 382 | P29: horas | Q29: 137 | R29: lb | S29: =M16 -> 1032 | T29: horas | U29: 1 | V29: ton | AA29: 45870 | AB29: 0 | AC29: 123 | AD29: 0
C30: hr | G30: hr | J30: 2000 | K30: lb | N30: hr | R30: hr | U30: 2000 | V30: lb | AA30: 45901 | AB30: 0 | AC30: 57 | AD30: 0
AA31: 45931 | AB31: 0 | AC31: 147 | AD31: 0
A32: = | B32: =((B29*D29)+(F29*H29))/J30 -> 239.887 | C32: ton | E32: = | F32: =B32*2000/8760 -> 54.768721 | G32: lb | L32: = | M32: =((M29*O29)+(Q29*S29))/U30 -> 96.859 | N32: ton | P32: = | Q32: =M32*2000/8760 -> 22.113927 | R32: lb | AA32: 45962 | AB32: 0 | AC32: 49 | AD32: 0
C33: año | G33: hr | N33: año | R33: hr | AA33: 45992 | AB33: 0 | AC33: 30 | AD33: 0
AA34: TOTAL | AB34: =SUM(AB28:AB33) -> 0 | AC34: =SUM(AC22:AC33) -> 1034 | AD34: =SUM(AD22:AD33) -> 382
A38: Cómputo de Emisiones 2025 - Central Cambalache Unidad 2 | L38: Cómputo de Emisiones 2025 - Central Cambalache Unidad 3
A40: Cálculos Emisiones VOC | L40: Cálculos Emisiones VOC
A42: = | B42: 13 | C42: lb | D42: =B15 -> 1034 | E42: horas | F42: 11 | G42: lb | H42: =B16 -> 2468 | I42: horas | J42: 1 | K42: ton | L42: = | M42: 13 | N42: lb | O42: =M15 -> 382 | P42: horas | Q42: 11 | R42: lb | S42: =M16 -> 1032 | T42: horas | U42: 1 | V42: ton
C43: hr | G43: hr | J43: 2000 | K43: lb | N43: hr | R43: hr | U43: 2000 | V43: lb
A45: = | B45: =((B42*D42)+(F42*H42))/J43 -> 20.295 | C45: ton | E45: = | F45: =B45*2000/8760 -> 4.6335616 | G45: lb | L45: = | M45: =((M42*O42)+(Q42*S42))/U43 -> 8.159 | N45: ton | P45: = | Q45: =M45*2000/8760 -> 1.8627854 | R45: lb
C46: año | G46: hr | N46: año | R46: hr
A48: Cálculos Emisiones Pb | L48: Cálculos Emisiones Pb
A50: = | B50: 0.023 | C50: lb | D50: =B15 -> 1034 | E50: horas | F50: 0.016 | G50: lb | H50: =B16 -> 2468 | I50: horas | J50: 1 | K50: ton | L50: = | M50: 0.023 | N50: lb | O50: =M15 -> 382 | P50: horas | Q50: 0.016 | R50: lb | S50: =M16 -> 1032 | T50: horas | U50: 1 | V50: ton
C51: hr | G51: hr | J51: 2000 | K51: lb | N51: hr | R51: hr | U51: 2000 | V51: lb
A53: = | B53: =((B50*D50)+(F50*H50))/J51 -> 0.031635 | C53: ton | E53: = | F53: =B53*2000/8760 -> 0.0072226027 | G53: lb | L53: = | M53: =((M50*O50)+(Q50*S50))/U51 -> 0.012649 | N53: ton | P53: = | Q53: =M53*2000/8760 -> 0.0028878995 | R53: lb
C54: año | G54: hr | N54: año | R54: hr
A58: CO2e | B58: 22.578 lb/gal | C58: 40 CFR 98 | L58: CO2e | M58: 22.578 lb/gal | N58: 40 CFR 98
A60: Cálculos Emisiones CO2e | L60: Cálculos Emisiones CO2e
A62: = | B62: 22.578 | C62: lb | D62: =SUM(B13) -> 19995517 | E62: gal | G62: ton | L62: = | M62: 22.578 | N62: lb | O62: =SUM(M13) -> 7911258.2 | P62: gal | R62: ton
C63: gal | E63: year | F63: 2000 | G63: lb | N63: gal | P63: year | Q63: 2000 | R63: lb
A66: = | B66: =B62*D62/F63 -> 225729.39 | C66: ton | D66: = | E66: =B66*(2000/8760) -> 51536.39 | F66: lb | L66: = | M66: =M62*O62/Q63 -> 89310.194 | N66: ton | O66: = | P66: =M66*(2000/8760) -> 20390.455 | Q66: lb
C67: year | F67: hr | N67: year | Q67: hr

Sheet CEMS Cambalache
B2: Cambalache Emissions 2025 As reported in CEMS | J2: Cambalache Emissions 2025 As reported in CEMS
B5: year | C5: NOx (lb) | D5: CO (lb) | J5: year | K5: NOx (lb) UNIT 2 | L5: NOx (lb) UNIT 3 | M5: TOTAL U-2 & 3 | N5: CO (lb) UNIT 2 | O5: CO (lb) UNIT 3 | P5: TOTAL U-2 & 3
B6: January | C6: =M6 -> 51997.4 | D6: =P6 -> 9599 | J6: January | K6: 20964.3 | L6: 31033.1 | M6: =SUM(K6:L6) -> 51997.4 | N6: 4511 | O6: 5088 | P6: =SUM(N6:O6) -> 9599
B7: February | C7: =M7 -> 50532 | D7: =P7 -> 6409 | J7: February | K7: 24519 | L7: 26013 | M7: =SUM(K7:L7) -> 50532 | N7: 2632 | O7: 3777 | P7: =SUM(N7:O7) -> 6409
B8: March | C8: =M8 -> 76822.8 | D8: =P8 -> 10507 | J8: March | K8: 39055.1 | L8: 37767.7 | M8: =SUM(K8:L8) -> 76822.8 | N8: 4863 | O8: 5644 | P8: =SUM(N8:O8) -> 10507
B9: April | C9: =M9 -> 82626.8 | D9: =P9 -> 9289 | J9: April | K9: 42801.8 | L9: 39825 | M9: =SUM(K9:L9) -> 82626.8 | N9: 3800 | O9: 5489 | P9: =SUM(N9:O9) -> 9289
B10: May | C10: =M10 -> 35985.8 | D10: =P10 -> 6406 | J10: May | K10: 21252.2 | L10: 14733.6 | M10: =SUM(K10:L10) -> 35985.8 | N10: 3869 | O10: 2537 | P10: =SUM(N10:O10) -> 6406
B11: June | C11: =M11 -> 31849.3 | D11: =P11 -> 4059 | J11: June | K11: 31849.3 | L11: 0 | M11: =SUM(K11:L11) -> 31849.3 | N11: 4059 | O11: 0 | P11: =SUM(N11:O11) -> 4059
B12: July | C12: =M12 -> 31689.5 | D12: =P12 -> 3845 | J12: July | K12: 31689.5 | L12: 0 | M12: =SUM(K12:L12) -> 31689.5 | N12: 3845 | O12: 0 | P12: =SUM(N12:O12) -> 3845
B13: August | C13: =M13 -> 34138.3 | D13: =P13 -> 3366 | J13: August | K13: 34138.3 | L13: 0 | M13: =SUM(K13+L13) -> 34138.3 | N13: 3366 | O13: 0 | P13: =SUM(N13:O13) -> 3366
B14: September | C14: =M14 -> 21011 | D14: =P14 -> 3240 | J14: September | K14: 21011 | L14: 0 | M14: =SUM(K14:L14) -> 21011 | N14: 3240 | O14: 0 | P14: =SUM(N14:O14) -> 3240
B15: October | C15: =M15 -> 39016 | D15: =P15 -> 3108 | J15: October | K15: 39016 | L15: 0 | M15: =SUM(K15:L15) -> 39016 | N15: 3108 | O15: 0 | P15: =SUM(N15:O15) -> 3108
B16: November | C16: =M16 -> 20626.5 | D16: =P16 -> 3460 | J16: November | K16: 20626.5 | L16: 0 | M16: =SUM(K16:L16) -> 20626.5 | N16: 3460 | O16: 0 | P16: =SUM(N16:O16) -> 3460
B17: December | C17: =M17 -> 10624.3 | D17: =P17 -> 2285 | J17: December | K17: 10624.3 | L17: 0 | M17: =SUM(K17:L17) -> 10624.3 | N17: 2285 | O17: 0 | P17: =SUM(N17:O17) -> 2285
B18: Total (lb/yr) | C18: =SUM(C6:C17) -> 486919.7 | D18: =SUM(D6:D17) -> 65573 | J18: Total (lb/yr) | K18: =SUM(K6:K17) -> 337547.3 | L18: =SUM(L6:L17) -> 149372.4 | M18: =SUM(M6:M17) -> 486919.7 | N18: =SUM(N6:N17) -> 43038 | O18: =SUM(O6:O17) -> 22535 | P18: =SUM(P6:P17) -> 65573
B19: Total (ton/yr) | C19: =C18/2000 -> 243.45985 | D19: =D18/2000 -> 32.7865 | J19: Total (ton/yr) | K19: =K18/2000 -> 168.77365 | L19: =L18/2000 -> 74.6862 | M19: =M18/2000 -> 243.45985 | N19: =N18/2000 -> 21.519 | O19: =O18/2000 -> 11.2675 | P19: =P18/2000 -> 32.7865
J20: TOTAL COMBINED | K20: =SUM(K19:L19) -> 243.45985 | N20: =SUM(N19:O19) -> 32.7865

Sheet Cálculos Daguao
A2: Cómputo de Emisiones Actuales AÑO 2025- Daguao Unidad 1 | K2: Cómputo de Emisiones Actuales AÑO 2025- Daguao Unidad 2
A4: Factores de Emisión AP-42 Section 3.1 | K4: Factores de Emisión AP-42 Section 3.1
A5: PM | B5: 0.012 lb/MMBTU | K5: PM | L5: 0.012 lb/MMBTU
A6: SOx | B6: 1.01*%S lb/MMBTU | K6: SOx | L6: 1.01*%S lb/MMBTU
A7: NOx | B7: 0.88 lb/MMBTU | K7: NOx | L7: 0.88 lb/MMBTU
A8: VOC | B8: 0.00041 lb/MMBTU | K8: VOC | L8: 0.00041 lb/MMBTU
A9: C0 | B9: 0.0033 lb/MMBTU | K9: C0 | L9: 0.0033 lb/MMBTU
A10: Pb | B10: 0.000014 lb MMBTU | K10: Pb | L10: 0.000014 lb MMBTU
A11: CO2e | B11: 22.578 lb/gal | C11: 40 CFR 98 | K11: CO2e | L11: 22.578 lb/gal | M11: 40 CFR 98
A13: Combustible | B13: =SUM(Turbinas!F19) -> 4163395.3 | C13: gal/yr | K13: Combustible | L13: =SUM(Turbinas!G19) -> 2374532.6 | M13: gal/yr
A14: Azufre % | B14: =Turbinas!U17 -> 0.01 | K14: Azufre % | L14: =Turbinas!V17 -> 0.01 | V14: =(73.96+0.003*25+0.0006*298)*2.2046*0.138 -> 22.578421 | W14: lbs/gal
A17: Cálculos Emisiones PM | K17: Cálculos Emisiones PM
A19: = | B19: 0.012 | C19: lb | D19: =B13 -> 4163395.3 | E19: galones | F19: 0.138 | G19: MMBTU | H19: 1 | I19: ton | K19: = | L19: 0.012 | M19: lb | N19: =L13 -> 2374532.6 | O19: galones | P19: 0.138 | Q19: MMBTU | R19: 1 | S19: ton
C20: MMBTU | E20: year | G20: gal | H20: 2000 | I20: lb | M20: MMBTU | O20: year | Q20: gal | R20: 2000 | S20: lb
A22: = | B22: =(B19*D19*F19)/H20 -> 3.4472913 | C22: ton | K22: = | L22: =(L19*N19*P19)/R20 -> 1.966113 | M22: ton
C23: year | M23: year
A26: Cálculos Emisiones SOx | K26: Cálculos Emisiones SOx
A28: = | B28: =1.01*B14 -> 0.0101 | C28: lb | D28: =B13 -> 4163395.3 | E28: galones | F28: 0.138 | G28: MMBTU | H28: 1 | I28: ton | K28: = | L28: =1.01*L14 -> 0.0101 | M28: lb | N28: =L13 -> 2374532.6 | O28: galones | P28: 0.138 | Q28: MMBTU | R28: 1 | S28: ton
C29: MMBTU | E29: year | G29: gal | H29: 2000 | I29: lb | M29: MMBTU | O29: year | Q29: gal | R29: 2000 | S29: lb
A31: = | B31: =(B28*D28*F28)/H29 -> 2.9014702 | C31: ton | K31: = | L31: =(L28*N28*P28)/R29 -> 1.6548118 | M31: ton
C32: year | M32: year
A35: Cálculos Emisiones NOx | K35: Cálculos Emisiones NOx
A37: = | B37: 0.88 | C37: lb | D37: =B13 -> 4163395.3 | E37: galones | F37: 0.138 | G37: MMBTU | H37: 1 | I37: ton | K37: = | L37: 0.88 | M37: lb | N37: =L13 -> 2374532.6 | O37: galones | P37: 0.138 | Q37: MMBTU | R37: 1 | S37: ton
C38: MMBTU | E38: year | G38: gal | H38: 2000 | I38: lb | M38: MMBTU | O38: year | Q38: gal | R38: 2000 | S38: lb
A40: = | B40: =(B37*D37*F37)/H38 -> 252.80136 | C40: ton | K40: = | L40: =(L37*N37*P37)/R38 -> 144.18162 | M40: ton
C41: year | M41: year
A44: Cálculos Emisiones VOC | K44: Cálculos Emisiones VOC
A46: = | B46: 0.00041 | C46: lb | D46: =B13 -> 4163395.3 | E46: galones | F46: 0.138 | G46: MMBTU | H46: 1 | I46: ton | K46: = | L46: 0.00041 | M46: lb | N46: =L13 -> 2374532.6 | O46: galones | P46: 0.138 | Q46: MMBTU | R46: 1 | S46: ton
C47: MMBTU | E47: year | G47: gal | H47: 2000 | I47: lb | M47: MMBTU | O47: year | Q47: gal | R47: 2000 | S47: lb
A49: = | B49: =(B46*D46*F46)/H47 -> 0.11778245 | C49: ton | K49: = | L49: =(L46*N46*P46)/R47 -> 0.067175527 | M49: ton
C50: year | M50: year
A57: Cálculos Emisiones CO | K57: Cálculos Emisiones CO
A59: = | B59: 0.0033 | C59: lb | D59: =B13 -> 4163395.3 | E59: galones | F59: 0.138 | G59: MMBTU | H59: 1 | I59: ton | K59: = | L59: 0.0033 | M59: lb | N59: =L13 -> 2374532.6 | O59: galones | P59: 0.138 | Q59: MMBTU | R59: 1 | S59: ton
C60: MMBTU | E60: year | G60: gal | H60: 2000 | I60: lb | M60: MMBTU | O60: year | Q60: gal | R60: 2000 | S60: lb
A62: = | B62: =(B59*D59*F59)/H60 -> 0.94800511 | C62: ton | K62: = | L62: =(L59*N59*P59)/R60 -> 0.54068107 | M62: ton
C63: year | M63: year
A66: Cálculos Emisiones Pb | K66: Cálculos Emisiones Pb
A68: = | B68: 1.4e-05 | C68: lb | D68: =B13 -> 4163395.3 | E68: galones | F68: 0.138 | G68: MMBTU | H68: 1 | I68: ton | K68: = | L68: 1.4e-05 | M68: lb | N68: =L13 -> 2374532.6 | O68: galones | P68: 0.138 | Q68: MMBTU | R68: 1 | S68: ton
C69: MMBTU | E69: year | G69: gal | H69: 2000 | I69: lb | M69: MMBTU | O69: year | Q69: gal | R69: 2000 | S69: lb
A71: = | B71: =(B68*D68*F68)/H69 -> 0.0040218399 | C71: ton | K71: = | L71: =(L68*N68*P68)/R69 -> 0.0022937985 | M71: ton
C72: year | M72: year
A75: Cálculos Emisiones CO2e | K75: Cálculos Emisiones CO2e
A77: = | B77: =V14 -> 22.578421 | C77: lb | D77: =D68 -> 4163395.3 | E77: gal | G77: ton | K77: = | L77: =V14 -> 22.578421 | M77: lb | N77: =N68 -> 2374532.6 | O77: gal | Q77: ton
C78: gal | E78: year | F78: 2000 | G78: lb | M78: gal | O78: year | P78: 2000 | Q78: lb
A81: = | B81: =B77*D77/F78 -> 47001.445 | C81: ton | D81: = | E81: =B81*(2000/8760) -> 10730.924 | F81: lb | K81: = | L81: =L77*N77/P78 -> 26806.598 | M81: ton | N81: = | O81: =L81*(2000/8760) -> 6120.2278 | P81: lb
C82: year | F82: hr | M82: year | P82: hr

Sheet Cálculos Yabucoa
A1: Cómputo de Emisiones Actuales AÑO 2025 - YAGT1-1 | K1: Cómputo de Emisiones Actuales AÑO 2025 - YAGT1-2
A3: AP-42 Fifth Edition, Volume I, Chapter 3.1 | K3: AP-42 Fifth Edition, Volume I, Chapter 3.1
A4: Stationary Internal Combustion Sources | K4: Stationary Internal Combustion Sources
A5: PM10 | B5: 0.012 | C5: lb/MMBTU | K5: PM10 | L5: 0.012 | M5: lb/MMBTU
A6: SOx | B6: 1.01 | C6: *S lb/MMBTU | K6: SOx | L6: 1.01 | M6: *S lb/MMBTU
A7: NOx | B7: 0.88 | C7: lb/MMBTU | K7: NOx | L7: 0.88 | M7: lb/MMBTU
A8: VOC | B8: 0.00041 | C8: lb/MMBTU | K8: VOC | L8: 0.00041 | M8: lb/MMBTU
A9: CO | B9: 0.0033 | C9: lb/MMBTU | K9: CO | L9: 0.0033 | M9: lb/MMBTU
A10: Pb | B10: 1.4e-05 | C10: lb/MMBTU | K10: Pb | L10: 1.4e-05 | M10: lb/MMBTU
A11: CO2e | B11: 22.578 lb/gal | C11: 40 CFR 98 | K11: CO2e | L11: 22.578 lb/gal | M11: 40 CFR 98
A13: Combustible | B13: =SUM(Turbinas!J19) -> 0 | C13: gal/year | D13: (Unidades limitadas a 2,600 hrs de operación anual) | K13: Combustible | L13: =SUM(Turbinas!K19) -> 2951267.8 | M13: gal/year | N13: (Unidades limitadas a 2,600 hrs de operación anual)
A14: Azufre | B14: =Turbinas!AE17 -> 0.01 | K14: Azufre | L14: =Turbinas!AF17 -> 0.01 | V14: =(73.96+0.003*25+0.0006*298)*2.2046*0.138 -> 22.578421 | W14: lbs/gal
A17: Cálculos Emisiones PM10 | K17: Cálculos Emisiones PM10
A19: = | B19: 0.012 | C19: lb | D19: =B13 -> 0 | E19: gal | F19: 0.138 | G19: MMBTU | H19: ton | K19: = | L19: 0.012 | M19: lb | N19: =L13 -> 2951267.8 | O19: gal | P19: 0.138 | Q19: MMBTU | R19: ton
B20: MMBTU | D20: year | F20: gal | H20: 2000 | I20: lb | L20: MMBTU | N20: year | P20: gal | R20: 2000 | S20: lb
A22: = | B22: =(B19*D19*F19)/H20 -> 0 | C22: ton | D22: = | E22: =B22*2000/8760 -> 0 | F22: lb | K22: = | L22: =(L19*N19*P19)/R20 -> 2.4436497 | M22: ton | N22: = | O22: =L22*2000/8760 -> 0.55791089 | P22: lb
C23: year | F23: hr | M23: year | P23: hr
A25: Cálculos Emisiones SOx | K25: Cálculos Emisiones SOx
A27: = | B27: =(B6*B14) -> 0.0101 | C27: lb | D27: =B13 -> 0 | E27: gal | F27: 0.138 | G27: MMBTU | H27: ton | K27: = | L27: =L6*L14 -> 0.0101 | M27: lb | N27: =L13 -> 2951267.8 | O27: gal | P27: 0.138 | Q27: MMBTU | R27: ton
B28: MMBTU | D28: year | F28: gal | H28: 2000 | I28: lb | L28: MMBTU | N28: year | P28: gal | R28: 2000 | S28: lb
A30: = | B30: =(B27*D27*F27)/H28 -> 0 | C30: ton | D30: = | E30: =B30*2000/8760 -> 0 | F30: lb | K30: = | L30: =(L27*N27*P27)/R28 -> 2.0567385 | M30: ton | N30: = | O30: =L30*2000/8760 -> 0.469575 | P30: lb
C31: year | F31: hr | M31: year | P31: hr
A35: Cálculos Emisiones NOx | K35: Cálculos Emisiones NOx
A37: = | B37: 0.88 | C37: lb | D37: =B13 -> 0 | E37: gal | F37: 0.138 | G37: MMBTU | H37: ton | K37: = | L37: 0.88 | M37: lb | N37: =L13 -> 2951267.8 | O37: gal | P37: 0.138 | Q37: MMBTU | R37: ton
B38: MMBTU | D38: year | F38: gal | H38: 2000 | I38: lb | L38: MMBTU | N38: year | P38: gal | R38: 2000 | S38: lb
A40: = | B40: =(B37*D37*F37)/H38 -> 0 | C40: ton | D40: = | E40: =B40*2000/8760 -> 0 | F40: lb | K40: = | L40: =(L37*N37*P37)/R38 -> 179.20098 | M40: ton | N40: = | O40: =L40*2000/8760 -> 40.913465 | P40: lb
C41: year | F41: hr | M41: year | P41: hr
A43: Cálculos Emisiones VOC | K43: Cálculos Emisiones VOC
A45: = | B45: 0.00041 | C45: lb | D45: =B13 -> 0 | E45: gal | F45: 0.138 | G45: MMBTU | H45: ton | K45: = | L45: 0.00041 | M45: lb | N45: =L13 -> 2951267.8 | O45: gal | P45: 0.138 | Q45: MMBTU | R45: ton
B46: MMBTU | D46: year | F46: gal | H46: 2000 | I46: lb | L46: MMBTU | N46: year | P46: gal | R46: 2000 | S46: lb
A48: = | B48: =(B45*D45*F45)/H46 -> 0 | C48: ton | D48: = | E48: =B48*(2000/8760) -> 0 | F48: lb | K48: = | L48: =(L45*N45*P45)/R46 -> 0.083491365 | M48: ton | N48: = | O48: =L48*2000/8760 -> 0.019061955 | P48: lb
C49: year | F49: hr | M49: year | P49: hr
A51: Cálculos Emisiones CO | K51: Cálculos Emisiones CO
A53: = | B53: 0.0033 | C53: lb | D53: =B13 -> 0 | E53: gal | F53: 0.138 | G53: MMBTU | H53: ton | K53: = | L53: 0.0033 | M53: lb | N53: =L13 -> 2951267.8 | O53: gal | P53: 0.138 | Q53: MMBTU | R53: ton
B54: MMBTU | D54: year | F54: gal | H54: 2000 | I54: lb | L54: MMBTU | N54: year | P54: gal | R54: 2000 | S54: lb
A56: = | B56: =(B53*D53*F53)/H54 -> 0 | C56: ton | D56: = | E56: =B56*2000/8760 -> 0 | F56: lb | K56: = | L56: =(L53*N53*P53)/R54 -> 0.67200367 | M56: ton | N56: = | O56: =L56*2000/8760 -> 0.1534255 | P56: lb
C57: year | F57: hr | M57: year | P57: hr
A59: Cálculos Emisiones Pb | K59: Cálculos Emisiones Pb
A61: = | B61: 1.4e-05 | C61: lb | D61: =B13 -> 0 | E61: gal | F61: 0.138 | G61: MMBTU | H61: ton | K61: = | L61: 1.4e-05 | M61: lb | N61: =L13 -> 2951267.8 | O61: gal | P61: 0.138 | Q61: MMBTU | R61: ton
B62: MMBTU | D62: year | F62: gal | H62: 2000 | I62: lb | L62: MMBTU | N62: year | P62: gal | R62: 2000 | S62: lb
A64: = | B64: =(B61*D61*F61)/H62 -> 0 | C64: ton | D64: = | E64: =B64*2000/8760 -> 0 | F64: lb | K64: = | L64: =(L61*N61*P61)/R62 -> 0.0028509247 | M64: ton | N64: = | O64: =L64*2000/8760 -> 0.00065089604 | P64: lb
C65: year | F65: hr | M65: year | P65: hr
A69: Cálculos Emisiones CO2e | K69: Cálculos Emisiones CO2e
A71: = | B71: =V14 -> 22.578421 | C71: lb | D71: =D61 -> 0 | E71: gal | G71: ton | K71: = | L71: =V14 -> 22.578421 | M71: lb | N71: =N61 -> 2951267.8 | O71: gal | Q71: ton
C72: gal | E72: year | F72: 2000 | G72: lb | M72: gal | O72: year | P72: 2000 | Q72: lb
A75: = | B75: =B71*D71/F72 -> 0 | C75: ton | D75: = | E75: =B75*(2000/8760) -> 0 | F75: lb | K75: = | L75: =L71*N71/P72 -> 33317.482 | M75: ton | N75: = | O75: =L75*(2000/8760) -> 7606.7311 | P75: lb
C76: year | F76: hr | M76: year | P76: hr

Sheet Cálculos Vega Baja
A1: Cómputo de Emisiones Actuales AÑO 2025 - Vega Baja VBGT1-1 | K1: Cómputo de Emisiones Actuales AÑO 2025 - Vega Baja VBGT1-2
A3: AP-42, Fifth Edition, Volume I, Chapter 3.1: | K3: AP-42, Fifth Edition, Volume I, Chapter 3.1:
A4: Stationary Internal Combustion Sources | K4: Stationary Internal Combustion Sources
A5: PM10 | B5: 0.012 | C5: lb/MMBTU | K5: PM10 | L5: 0.012 | M5: lb/MMBTU
A6: SOx | B6: 1.01 | C6: *S lb/MMBTU | K6: SOx | L6: 1.01 | M6: *S lb/MMBTU
A7: NOx | B7: 0.88 | C7: lb/MMBTU | K7: NOx | L7: 0.88 | M7: lb/MMBTU
A8: VOC | B8: 0.00041 | C8: lb/MMBTU | K8: VOC | L8: 0.00041 | M8: lb/MMBTU
A9: CO | B9: 0.0033 | C9: lb/MMBTU | K9: CO | L9: 0.0033 | M9: lb/MMBTU
A10: Pb | B10: 1.4e-05 | C10: lb/MMBTU | K10: Pb | L10: 1.4e-05 | M10: lb/MMBTU
A11: CO2e | B11: 22.578 lb/gal | C11: 40 CFR 98 | K11: CO2e | L11: 22.578 lb/gal | M11: 40 CFR 98
A13: Combustible | B13: =Turbinas!B17 -> 0 | C13: gal/year | K13: Combustible | L13: =Turbinas!C17 -> 0 | M13: gal/year
A14: Azufre | B14: =Turbinas!AC17 -> 0.01 | K14: Azufre | L14: =Turbinas!AD17 -> 0.01 | V14: =(73.96+0.003*25+0.0006*298)*2.2046*0.138 -> 22.578421 | W14: lbs/gal
A17: Cálculos Emisiones PM10 | K17: Cálculos Emisiones PM10
A19: = | B19: 0.012 | C19: lb | D19: =B13 -> 0 | E19: gal | F19: 0.138 | G19: MMBTU | H19: ton | K19: = | L19: 0.012 | M19: lb | N19: =L13 -> 0 | O19: gal | P19: 0.138 | Q19: MMBTU | R19: ton
B20: MMBTU | D20: year | F20: gal | H20: 2000 | I20: lb | L20: MMBTU | N20: year | P20: gal | R20: 2000 | S20: lb
A23: = | B23: =(B19*D19*F19)/H20 -> 0 | C23: ton | E23: = | F23: =B23*2000/8760 -> 0 | G23: lbs | K23: = | L23: =(L19*N19*P19)/R20 -> 0 | M23: ton | O23: = | P23: =L23*2000/8760 -> 0 | Q23: lbs
C24: year | G24: hr | M24: year | Q24: hr
A27: Cálculos Emisiones SOx | K27: Cálculos Emisiones SOx
A29: = | B29: =B6*B14 -> 0.0101 | C29: lb | D29: =B13 -> 0 | E29: gal | F29: 0.138 | G29: MMBTU | H29: ton | K29: = | L29: =L6*L14 -> 0.0101 | M29: lb | N29: =L13 -> 0 | O29: gal | P29: 0.138 | Q29: MMBTU | R29: ton
B30: MMBTU | D30: year | F30: gal | H30: 2000 | I30: lb | L30: MMBTU | N30: year | P30: gal | R30: 2000 | S30: lb
A33: = | B33: =(B29*D29*F29)/H30 -> 0 | C33: ton | E33: = | F33: =B33*2000/8760 -> 0 | G33: lbs | K33: = | L33: =(L29*N29*P29)/R30 -> 0 | M33: ton | O33: = | P33: =L33*2000/8760 -> 0 | Q33: lbs
C34: year | G34: hr | M34: year | Q34: hr
A37: Cálculos Emisiones NOx | K37: Cálculos Emisiones NOx
A39: = | B39: 0.88 | C39: lb | D39: =B13 -> 0 | E39: gal | F39: 0.138 | G39: MMBTU | H39: ton | K39: = | L39: 0.88 | M39: lb | N39: =L13 -> 0 | O39: gal | P39: 0.138 | Q39: MMBTU | R39: ton
B40: MMBTU | D40: year | F40: gal | H40: 2000 | I40: lb | L40: MMBTU | N40: year | P40: gal | R40: 2000 | S40: lb
A43: = | B43: =(B39*D39*F39)/H40 -> 0 | C43: ton | E43: = | F43: =B43*2000/8760 -> 0 | G43: lbs | K43: = | L43: =(L39*N39*P39)/R40 -> 0 | M43: ton | O43: = | P43: =L43*2000/8760 -> 0 | Q43: lbs
C44: year | G44: hr | M44: year | Q44: hr
A47: Cálculos Emisiones VOC | K47: Cálculos Emisiones VOC
A49: = | B49: 0.00041 | C49: lb | D49: =B13 -> 0 | E49: gal | F49: 0.138 | G49: MMBTU | H49: ton | K49: = | L49: 0.00041 | M49: lb | N49: =L13 -> 0 | O49: gal | P49: 0.138 | Q49: MMBTU | R49: ton
B50: MMBTU | D50: year | F50: gal | H50: 2000 | I50: lb | L50: MMBTU | N50: year | P50: gal | R50: 2000 | S50: lb
A53: = | B53: =(B49*D49*F49)/H50 -> 0 | C53: ton | E53: = | F53: =B53*2000/8760 -> 0 | G53: lbs | K53: = | L53: =(L49*N49*P49)/R50 -> 0 | M53: ton | O53: = | P53: =L53*2000/8760 -> 0 | Q53: lbs
C54: year | G54: hr | M54: year | Q54: hr
A57: Cálculos Emisiones CO | K57: Cálculos Emisiones CO
A59: = | B59: 0.0033 | C59: lb | D59: =B13 -> 0 | E59: gal | F59: 0.138 | G59: MMBTU | H59: ton | K59: = | L59: 0.0033 | M59: lb | N59: =L13 -> 0 | O59: gal | P59: 0.138 | Q59: MMBTU | R59: ton
B60: MMBTU | D60: year | F60: gal | H60: 2000 | I60: lb | L60: MMBTU | N60: year | P60: gal | R60: 2000 | S60: lb
A63: = | B63: =(B59*D59*F59)/H60 -> 0 | C63: ton | E63: = | F63: =B63*2000/8760 -> 0 | G63: lbs | K63: = | L63: =(L59*N59*P59)/R60 -> 0 | M63: ton | O63: = | P63: =L63*2000/8760 -> 0 | Q63: lbs
C64: year | G64: hr | M64: year | Q64: hr
A67: Cálculos Emisiones Pb | K67: Cálculos Emisiones Pb
A69: = | B69: 1.4e-05 | C69: lb | D69: =B13 -> 0 | E69: gal | F69: 0.138 | G69: MMBTU | H69: ton | K69: = | L69: 1.4e-05 | M69: lb | N69: =L13 -> 0 | O69: gal | P69: 0.138 | Q69: MMBTU | R69: ton
B70: MMBTU | D70: year | F70: gal | H70: 2000 | I70: lb | L70: MMBTU | N70: year | P70: gal | R70: 2000 | S70: lb
A73: = | B73: =(B69*D69*F69)/H70 -> 0 | C73: ton | E73: = | F73: =B73*2000/8760 -> 0 | G73: lbs | K73: = | L73: =(L69*N69*P69)/R70 -> 0 | M73: ton | O73: = | P73: =L73*2000/8760 -> 0 | Q73: lbs
C74: year | G74: hr | M74: year | Q74: hr
A77: Cálculos Emisiones CO2e | K77: Cálculos Emisiones CO2e
A79: = | B79: =V14 -> 22.578421 | C79: lb | D79: =D69 -> 0 | E79: gal | G79: ton | K79: = | L79: =V14 -> 22.578421 | M79: lb | N79: =N69 -> 0 | O79: gal | Q79: ton
C80: gal | E80: year | F80: 2000 | G80: lb | M80: gal | O80: year | P80: 2000 | Q80: lb
A83: = | B83: =B79*D79/F80 -> 0 | C83: ton | D83: = | E83: =B83*(2000/8760) -> 0 | F83: lb | K83: = | L83: =L79*N79/P80 -> 0 | M83: ton | N83: = | O83: =L83*(2000/8760) -> 0 | P83: lb
C84: year | F84: hr | M84: year | P84: hr

Sheet Cálculos Jobos
A1: Cómputo de Emisiones Actuales AÑO 2025 - JOGT1-1 | K1: Cómputo de Emisiones Actuales AÑO 2025 - JOGT1-2
A3: AP-42 Fifth Edition, Volume I, Chapter 3.1 | K3: AP-42 Fifth Edition, Volume I, Chapter 3.1
A4: Stationary Internal Combustion Sources | K4: Stationary Internal Combustion Sources
A5: PM10 | B5: 0.012 | C5: lb/MMBTU | K5: PM10 | L5: 0.012 | M5: lb/MMBTU
A6: SOx | B6: 1.01 | C6: *S lb/MMBTU | K6: SOx | L6: 1.01 | M6: *S lb/MMBTU
A7: NOx | B7: 0.88 | C7: lb/MMBTU | K7: NOx | L7: 0.88 | M7: lb/MMBTU
A8: VOC | B8: 0.00041 | C8: lb/MMBTU | K8: VOC | L8: 0.00041 | M8: lb/MMBTU
A9: CO | B9: 0.0033 | C9: lb/MMBTU | K9: CO | L9: 0.0033 | M9: lb/MMBTU
A10: Pb | B10: 1.4e-05 | C10: lb/MMBTU | K10: Pb | L10: 1.4e-05 | M10: lb/MMBTU
A11: CO2e | B11: 22.578 lb/gal | C11: 40 CFR 98 | K11: CO2e | L11: 22.578 lb/gal | M11: 40 CFR 98
A13: Combustible | B13: =SUM(Turbinas!N19) -> 0 | C13: gal/year | D13: (Units limited to 2,600 hrs of operation per year) | K13: Combustible | L13: =SUM(Turbinas!O19) -> 3732259.4 | M13: gal/year | N13: (Units limited to 2,600 hrs of operation per year)
A14: Azufre | B14: =Turbinas!W17 -> 0.01 | K14: Azufre | L14: =Turbinas!X17 -> 0.01 | V14: =(73.96+0.003*25+0.0006*298)*2.2046*0.138 -> 22.578421 | W14: lbs/gal
A17: Cálculos Emisiones PM10 | K17: Cálculos Emisiones PM10
A19: = | B19: 0.012 | C19: lb | D19: =B13 -> 0 | E19: gal | F19: 0.138 | G19: MMBTU | H19: ton | K19: = | L19: 0.012 | M19: lb | N19: =L13 -> 3732259.4 | O19: gal | P19: 0.138 | Q19: MMBTU | R19: ton
B20: MMBTU | D20: year | F20: gal | H20: 2000 | I20: lb | L20: MMBTU | N20: year | P20: gal | R20: 2000 | S20: lb
A23: = | B23: =(B19*D19*F19)/H20 -> 0 | C23: ton | D23: = | E23: =B23*2000/8760 -> 0 | F23: lb | K23: = | L23: =(L19*N19*P19)/R20 -> 3.0903108 | M23: ton | N23: = | O23: =L23*2000/8760 -> 0.70555041 | P23: lb
C24: year | F24: hr | M24: year | P24: hr
A27: Cálculos Emisiones SOx | K27: Cálculos Emisiones SOx
A29: = | B29: =B6*B14 -> 0.0101 | C29: lb | D29: =B13 -> 0 | E29: gal | F29: 0.138 | G29: MMBTU | H29: ton | K29: = | L29: =L6*L14 -> 0.0101 | M29: lb | N29: =L13 -> 3732259.4 | O29: gal | P29: 0.138 | Q29: MMBTU | R29: ton
B30: MMBTU | D30: year | F30: gal | H30: 2000 | I30: lb | L30: MMBTU | N30: year | P30: gal | R30: 2000 | S30: lb
A33: = | B33: =(B29*D29*F29)/H30 -> 0 | C33: ton | D33: = | E33: =B33*2000/8760 -> 0 | F33: lb | K33: = | L33: =(L29*N29*P29)/R30 -> 2.6010116 | M33: ton | N33: = | O33: =L33*2000/8760 -> 0.59383827 | P33: lb
C34: year | F34: hr | M34: year | P34: hr
A37: Cálculos Emisiones NOx | K37: Cálculos Emisiones NOx
A39: = | B39: 0.88 | C39: lb | D39: =B13 -> 0 | E39: gal | F39: 0.138 | G39: MMBTU | H39: ton | K39: = | L39: 0.88 | M39: lb | N39: =L13 -> 3732259.4 | O39: gal | P39: 0.138 | Q39: MMBTU | R39: ton
B40: MMBTU | D40: year | F40: gal | H40: 2000 | I40: lb | L40: MMBTU | N40: year | P40: gal | R40: 2000 | S40: lb
A43: = | B43: =(B39*D39*F39)/H40 -> 0 | C43: ton | D43: = | E43: =B43*2000/8760 -> 0 | F43: lb | K43: = | L43: =(L39*N39*P39)/R40 -> 226.62279 | M43: ton | N43: = | O43: =L43*2000/8760 -> 51.740364 | P43: lb
C44: year | F44: hr | M44: year | P44: hr
A47: Cálculos Emisiones VOC | K47: Cálculos Emisiones VOC
A49: = | B49: 0.00041 | C49: lb | D49: =B13 -> 0 | E49: gal | F49: 0.138 | G49: MMBTU | H49: ton | K49: = | L49: 0.00041 | M49: lb | N49: =L13 -> 3732259.4 | O49: gal | P49: 0.138 | Q49: MMBTU | R49: ton
B50: MMBTU | D50: year | F50: gal | H50: 2000 | I50: lb | L50: MMBTU | N50: year | P50: gal | R50: 2000 | S50: lb
A53: = | B53: =(B49*D49*F49)/H50 -> 0 | C53: ton | D53: = | E53: =B53*2000/8760 -> 0 | F53: lb | K53: = | L53: =(L49*N49*P49)/R50 -> 0.10558562 | M53: ton | N53: = | O53: =L53*2000/8760 -> 0.024106306 | P53: lb
C54: year | F54: hr | M54: year | P54: hr
A57: Cálculos Emisiones CO | K57: Cálculos Emisiones CO
A59: = | B59: 0.0033 | C59: lb | D59: =B13 -> 0 | E59: gal | F59: 0.138 | G59: MMBTU | H59: ton | K59: = | L59: 0.0033 | M59: lb | N59: =L13 -> 3732259.4 | O59: gal | P59: 0.138 | Q59: MMBTU | R59: ton
B60: MMBTU | D60: year | F60: gal | H60: 2000 | I60: lb | L60: MMBTU | N60: year | P60: gal | R60: 2000 | S60: lb
A63: = | B63: =(B59*D59*F59)/H60 -> 0 | C63: ton | D63: = | E63: =B63*2000/8760 -> 0 | F63: lb | K63: = | L63: =(L59*N59*P59)/R60 -> 0.84983547 | M63: ton | N63: = | O63: =L63*2000/8760 -> 0.19402636 | P63: lb
C64: year | F64: hr | M64: year | P64: hr
A67: Cálculos Emisiones Pb | K67: Cálculos Emisiones Pb
A69: = | B69: 1.4e-05 | C69: lb | D69: =B13 -> 0 | E69: gal | F69: 0.138 | G69: MMBTU | H69: ton | K69: = | L69: 1.4e-05 | M69: lb | N69: =L13 -> 3732259.4 | O69: gal | P69: 0.138 | Q69: MMBTU | R69: ton
B70: MMBTU | D70: year | F70: gal | H70: 2000 | I70: lb | L70: MMBTU | N70: year | P70: gal | R70: 2000 | S70: lb
A73: = | B73: =(B69*D69*F69)/H70 -> 0 | C73: ton | D73: = | E73: =B73*2000/8760 -> 0 | F73: lb | K73: = | L73: =(L69*N69*P69)/R70 -> 0.0036053626 | M73: ton | N73: = | O73: =L73*2000/8760 -> 0.00082314215 | P73: lb
C74: year | F74: hr | M74: year | P74: hr
A77: Cálculos Emisiones CO2e | K77: Cálculos Emisiones CO2e
A79: = | B79: =V14 -> 22.578421 | C79: lb | D79: =D69 -> 0 | E79: gal | G79: ton | K79: = | L79: =V14 -> 22.578421 | M79: lb | N79: =N69 -> 3732259.4 | O79: gal | Q79: ton
C80: gal | E80: year | F80: 2000 | G80: lb | M80: gal | O80: year | P80: 2000 | Q80: lb
A83: = | B83: =B79*D79/F80 -> 0 | C83: ton | D83: = | E83: =B83*(2000/8760) -> 0 | F83: lb | K83: = | L83: =L79*N79/P80 -> 42134.262 | M83: ton | N83: = | O83: =L83*(2000/8760) -> 9619.6945 | P83: lb
C84: year | F84: hr | M84: year | P84: hr

Sheet Cálculos Mayagüez
A1: Cómputo de Emisiones Actuales AÑO 2024- Mayagüez MAYGT5 | K1: Cómputo de Emisiones Actuales AÑO 2025- Mayagüez MAYGT6 | U1: Cómputo de Emisiones Actuales AÑO 2025- Mayagüez MAYGT7 | AE1: Cómputo de Emisiones Actuales AÑO 2025- Mayagüez MAYGT8
A3: Factores de Emisión AP-42 Sect. 3.1 | K3: Factores de Emisión AP-42 Sect. 3.1 | U3: Factores de Emisión AP-42 Sect. 3.1 | AE3: Factores de Emisión AP-42 Sect. 3.1
A4: PM | B4: 0.012lb/MMBTU | K4: PM | L4: 0.012lb/MMBTU | U4: PM | V4: 0.012lb/MMBTU | AE4: PM | AF4: 0.012lb/MMBTU
A5: SOx | B5: 1.01*%S lb/MMBTU | K5: SOx | L5: 1.01*%S lb/MMBTU | U5: SOx | V5: 1.01*%S lb/MMBTU | AE5: SOx | AF5: 1.01*%S lb/MMBTU
A6: NOx | B6: 0.288 lb/MMBTU | C6: Permit Limit (PFE-50-0307-0286-I-II-C) | K6: NOx | L6: 0.288 lb/MMBTU | N6: Permit Limit (PFE-50-0307-0286-I-II-C) | U6: NOx | V6: 0.288 lb/MMBTU | X6: Permit Limit (PFE-50-0307-0286-I-II-C) | AE6: NOx | AF6: 0.288 lb/MMBTU | AH6: Permit Limit (PFE-50-0307-0286-I-II-C)
A7: VOC | B7: 0.00041 lb/MMBTU | K7: VOC | L7: 0.00041 lb/MMBTU | U7: VOC | V7: 0.00041 lb/MMBTU | AE7: VOC | AF7: 0.00041 lb/MMBTU
A8: CO | B8: 0.0033 lb/MMBTU | K8: CO | L8: 0.0033 lb/MMBTU | U8: CO | V8: 0.0033 lb/MMBTU | AE8: CO | AF8: 0.0033 lb/MMBTU
A9: Pb | B9: 0.000014 lb MMBTU | K9: Pb | L9: 0.000014 lb MMBTU | U9: Pb | V9: 0.000014 lb MMBTU | AE9: Pb | AF9: 0.000014 lb MMBTU
A10: CO2e | B10: 22.578 lb/gal | C10: 40 CFR 98 | K10: CO2e | L10: 22.578 lb/gal | M10: 40 CFR 98 | U10: CO2e | V10: 22.578 lb/gal | W10: 40 CFR 98 | AE10: CO2e | AF10: 22.578 lb/gal | AG10: 40 CFR 98
A12: Combustible | B12: =SUM(Turbinas!B37) -> 1120851.5 | C12: gals/year | K12: Combustible | L12: =SUM(Turbinas!C37) -> 4327774.9 | M12: gals/year | U12: Combustible | V12: =SUM(Turbinas!D37) -> 3259842.6 | W12: gals/year | AE12: Combustible | AF12: =SUM(Turbinas!E37) -> 3348002.7 | AG12: gals/year
A13: Azufre % | B13: =Turbinas!Y17 -> 0.01 | K13: Azufre % | L13: =Turbinas!Z17 -> 0.01 | U13: Azufre % | V13: =Turbinas!AA17 -> 0.01 | AE13: Azufre % | AF13: =Turbinas!AB17 -> 0.01 | AO13: =(73.96+0.003*25+0.0006*298)*2.2046*0.138 -> 22.578421 | AP13: lbs/gal
A16: Cálculos Emisiones PM | K16: Cálculos Emisiones PM | U16: Cálculos Emisiones PM | AE16: Cálculos Emisiones PM
A18: = | B18: 0.012 | C18: lb | D18: =B12 -> 1120851.5 | E18: galones | F18: 0.138 | G18: MMBTU | H18: 1 | I18: ton | K18: = | L18: 0.012 | M18: lb | N18: =L12 -> 4327774.9 | O18: galones | P18: 0.138 | Q18: MMBTU | R18: 1 | S18: ton | U18: = | V18: 0.012 | W18: lb | X18: =V12 -> 3259842.6 | Y18: galones | Z18: 0.138 | AA18: MMBTU | AB18: 1 | AC18: ton | AE18: = | AF18: 0.012 | AG18: lb | AH18: =AF12 -> 3348002.7 | AI18: galones | AJ18: 0.138 | AK18: MMBTU | AL18: 1 | AM18: ton
C19: MMBTU | E19: year | G19: gal | H19: 2000 | I19: lb | M19: MMBTU | O19: year | Q19: gal | R19: 2000 | S19: lb | W19: MMBTU | Y19: year | AA19: gal | AB19: 2000 | AC19: lb | AG19: MMBTU | AI19: year | AK19: gal | AL19: 2000 | AM19: lb
A21: = | B21: =(B18*D18*F18)/H19 -> 0.92806503 | C21: ton | E21: = | F21: =B21*2000/8760 -> 0.21188699 | G21: lb | K21: = | L21: =(L18*N18*P18)/R19 -> 3.5833976 | M21: ton | O21: = | P21: =L21*2000/8760 -> 0.81812731 | Q21: lb | U21: = | V21: =(V18*X18*Z18)/AB19 -> 2.6991497 | W21: ton | Y21: = | Z21: =V21*2000/8760 -> 0.61624422 | AA21: lb | AE21: = | AF21: =(AF18*AH18*AJ18)/AL19 -> 2.7721462 | AG21: ton | AI21: = | AJ21: =AF21*2000/8760 -> 0.6329101 | AK21: lb
C22: year | G22: hr | M22: year | Q22: hr | W22: year | AA22: hr | AG22: year | AK22: hr
A24: Cálculos Emisiones SOx | K24: Cálculos Emisiones SOx | U24: Cálculos Emisiones SOx | AE24: Cálculos Emisiones SOx
A26: = | B26: =1.01*B13 -> 0.0101 | C26: lb | D26: =B12 -> 1120851.5 | E26: galones | F26: 0.138 | G26: MMBTU | H26: 1 | I26: ton | K26: = | L26: =1.01*L13 -> 0.0101 | M26: lb | N26: =L12 -> 4327774.9 | O26: galones | P26: 0.138 | Q26: MMBTU | R26: 1 | S26: ton | U26: = | V26: =1.01*V13 -> 0.0101 | W26: lb | X26: =V12 -> 3259842.6 | Y26: galones | Z26: 0.138 | AA26: MMBTU | AB26: 1 | AC26: ton | AE26: = | AF26: =1.01*AF13 -> 0.0101 | AG26: lb | AH26: =AF12 -> 3348002.7 | AI26: galones | AJ26: 0.138 | AK26: MMBTU | AL26: 1 | AM26: ton
C27: MMBTU | E27: year | G27: gal | H27: 2000 | I27: lb | M27: MMBTU | O27: year | Q27: gal | R27: 2000 | S27: lb | W27: MMBTU | Y27: year | AA27: gal | AB27: 2000 | AC27: lb | AG27: MMBTU | AI27: year | AK27: gal | AL27: 2000 | AM27: lb
A29: = | B29: =(B26*D26*F26)/H27 -> 0.7811214 | C29: ton | E29: = | F29: =B29*2000/8760 -> 0.17833822 | G29: lb | K29: = | L29: =(L26*N26*P26)/R27 -> 3.0160263 | M29: ton | O29: = | P29: =L29*2000/8760 -> 0.68859049 | Q29: lb | U29: = | V29: =(V26*X26*Z26)/AB27 -> 2.2717843 | W29: ton | Y29: = | Z29: =V29*2000/8760 -> 0.51867222 | AA29: lb | AE29: = | AF29: =(AF26*AH26*AJ26)/AL27 -> 2.3332231 | AG29: ton | AI29: = | AJ29: =AF29*2000/8760 -> 0.53269933 | AK29: lb
C30: year | G30: hr | M30: year | Q30: hr | W30: year | AA30: hr | AG30: year | AK30: hr
A32: Cálculos Emisiones NOx | K32: Cálculos Emisiones NOx | U32: Cálculos Emisiones NOx | AE32: Cálculos Emisiones NOx
A34: = | B34: =74*20.9/5.9*9190*0.0000001194 -> 0.28763772 | C34: lb | D34: =B12 -> 1120851.5 | E34: galones | F34: 0.138 | G34: MMBTU | H34: 1 | I34: ton | K34: = | L34: =74*20.9/5.9*9190*0.0000001194 -> 0.28763772 | M34: lb | N34: =L12 -> 4327774.9 | O34: galones | P34: 0.138 | Q34: MMBTU | R34: 1 | S34: ton | U34: = | V34: =74*20.9/5.9*9190*0.0000001194 -> 0.28763772 | W34: lb | X34: =V12 -> 3259842.6 | Y34: galones | Z34: 0.138 | AA34: MMBTU | AB34: 1 | AC34: ton | AE34: = | AF34: =74*20.9/5.9*9190*0.0000001194 -> 0.28763772 | AG34: lb | AH34: =AF12 -> 3348002.7 | AI34: galones | AJ34: 0.138 | AK34: MMBTU | AL34: 1 | AM34: ton
C35: MMBTU | E35: year | G35: gal | H35: 2000 | I35: lb | M35: MMBTU | O35: year | Q35: gal | R35: 2000 | S35: lb | W35: MMBTU | Y35: year | AA35: gal | AB35: 2000 | AC35: lb | AG35: MMBTU | AI35: year | AK35: gal | AL35: 2000 | AM35: lb
A37: = | B37: =(B34*D34*F34)/H35 -> 22.245542 | C37: ton | E37: = | F37: =B37*2000/8760 -> 5.0788909 | G37: lb | K37: = | L37: =(L34*N34*P34)/R35 -> 85.893359 | M37: ton | O37: = | P37: =L37*2000/8760 -> 19.610356 | Q37: lb | U37: = | V37: =(V34*X34*Z34)/AB35 -> 64.698104 | W37: ton | Y37: = | Z37: =V37*2000/8760 -> 14.771257 | AA37: lb | AE37: = | AF37: =(AF34*AH34*AJ34)/AL35 -> 66.447818 | AG37: ton | AI37: = | AJ37: =AF37*2000/8760 -> 15.170735 | AK37: lb
C38: year | G38: hr | M38: year | Q38: hr | W38: year | AA38: hr | AG38: year | AK38: hr
A40: Cálculos Emisiones VOC | K40: Cálculos Emisiones VOC | U40: Cálculos Emisiones VOC | AE40: Cálculos Emisiones VOC
A42: = | B42: 0.00041 | C42: lb | D42: =B12 -> 1120851.5 | E42: galones | F42: 0.138 | G42: MMBTU | H42: 1 | I42: ton | K42: = | L42: 0.00041 | M42: lb | N42: =L12 -> 4327774.9 | O42: galones | P42: 0.138 | Q42: MMBTU | R42: 1 | S42: ton | U42: = | V42: 0.00041 | W42: lb | X42: =V12 -> 3259842.6 | Y42: galones | Z42: 0.138 | AA42: MMBTU | AB42: 1 | AC42: ton | AE42: = | AF42: 0.00041 | AG42: lb | AH42: =AF12 -> 3348002.7 | AI42: galones | AJ42: 0.138 | AK42: MMBTU | AL42: 1 | AM42: ton
C43: MMBTU | E43: year | G43: gal | H43: 2000 | I43: lb | M43: MMBTU | O43: year | Q43: gal | R43: 2000 | S43: lb | W43: MMBTU | Y43: year | AA43: gal | AB43: 2000 | AC43: lb | AG43: MMBTU | AI43: year | AK43: gal | AL43: 2000 | AM43: lb
A45: = | B45: =(B42*D42*F42)/H43 -> 0.031708888 | C45: ton | E45: = | F45: =B45*2000/8760 -> 0.0072394722 | G45: lb | K45: = | L45: =(L42*N42*P42)/R43 -> 0.12243275 | M45: ton | O45: = | P45: =L45*2000/8760 -> 0.027952683 | Q45: lb | U45: = | V45: =(V42*X42*Z42)/AB43 -> 0.092220947 | W45: ton | Y45: = | Z45: =V45*2000/8760 -> 0.021055011 | AA45: lb | AE45: = | AF45: =(AF42*AH42*AJ42)/AL43 -> 0.094714996 | AG45: ton | AI45: = | AJ45: =AF45*2000/8760 -> 0.021624428 | AK45: lb
C46: year | G46: hr | M46: year | Q46: hr | W46: year | AA46: hr | AG46: year | AK46: hr
AE50: Cómputo de Emisiones Actuales AÑO 2024- Mayagüez MAYGT8
A51: Cómputo de Emisiones Actuales AÑO 2024- Mayagüez MAYGT5 | K51: Cómputo de Emisiones Actuales AÑO 2024- Mayagüez MAYGT6 | U51: Cómputo de Emisiones Actuales AÑO 2024- Mayagüez MAYGT7
A53: Cálculos Emisiones CO | K53: Cálculos Emisiones CO | U53: Cálculos Emisiones CO | AE53: Cálculos Emisiones CO
A55: = | B55: 0.0033 | C55: lb | D55: =B12 -> 1120851.5 | E55: galones | F55: 0.138 | G55: MMBTU | H55: 1 | I55: ton | K55: = | L55: 0.0033 | M55: lb | N55: =L12 -> 4327774.9 | O55: galones | P55: 0.138 | Q55: MMBTU | R55: 1 | S55: ton | U55: = | V55: 0.0033 | W55: lb | X55: =V12 -> 3259842.6 | Y55: galones | Z55: 0.138 | AA55: MMBTU | AB55: 1 | AC55: ton | AE55: = | AF55: 0.0033 | AG55: lb | AH55: =AF12 -> 3348002.7 | AI55: galones | AJ55: 0.138 | AK55: MMBTU | AL55: 1 | AM55: ton
C56: MMBTU | E56: year | G56: gal | H56: 2000 | I56: lb | M56: MMBTU | O56: year | Q56: gal | R56: 2000 | S56: lb | W56: MMBTU | Y56: year | AA56: gal | AB56: 2000 | AC56: lb | AG56: MMBTU | AI56: year | AK56: gal | AL56: 2000 | AM56: lb
A58: = | B58: =(B55*D55*F55)/H56 -> 0.25521788 | C58: ton | E58: = | F58: =B58*2000/8760 -> 0.058268923 | G58: lb | K58: = | L58: =(L55*N55*P55)/R56 -> 0.98543435 | M58: ton | O58: = | P58: =L58*2000/8760 -> 0.22498501 | Q58: lb | U58: = | V58: =(V55*X55*Z55)/AB56 -> 0.74226616 | W58: ton | Y58: = | Z58: =V58*2000/8760 -> 0.16946716 | AA58: lb | AE58: = | AF58: =(AF55*AH55*AJ55)/AL56 -> 0.76234021 | AG58: ton | AI58: = | AJ58: =AF58*2000/8760 -> 0.17405028 | AK58: lb
C59: year | G59: hr | M59: year | Q59: hr | W59: year | AA59: hr | AG59: year | AK59: hr
A61: Cálculos Emisiones Pb | K61: Cálculos Emisiones Pb | U61: Cálculos Emisiones Pb | AE61: Cálculos Emisiones Pb
A63: = | B63: 1.4e-05 | C63: lb | D63: =B12 -> 1120851.5 | E63: galones | F63: 0.138 | G63: MMBTU | H63: 1 | I63: ton | K63: = | L63: 1.4e-05 | M63: lb | N63: =L12 -> 4327774.9 | O63: galones | P63: 0.138 | Q63: MMBTU | R63: 1 | S63: ton | U63: = | V63: 1.4e-05 | W63: lb | X63: =V12 -> 3259842.6 | Y63: galones | Z63: 0.138 | AA63: MMBTU | AB63: 1 | AC63: ton | AE63: = | AF63: 1.4e-05 | AG63: lb | AH63: =AF12 -> 3348002.7 | AI63: galones | AJ63: 0.138 | AK63: MMBTU | AL63: 1 | AM63: ton
C64: MMBTU | E64: year | G64: gal | H64: 2000 | I64: lb | M64: MMBTU | O64: year | Q64: gal | R64: 2000 | S64: lb | W64: MMBTU | Y64: year | AA64: gal | AB64: 2000 | AC64: lb | AG64: MMBTU | AI64: year | AK64: gal | AL64: 2000 | AM64: lb
A66: = | B66: =(B63*D63*F63)/H64 -> 0.0010827425 | C66: ton | E66: = | F66: =B66*2000/8760 -> 0.00024720149 | G66: lb | K66: = | L66: =(L63*N63*P63)/R64 -> 0.0041806306 | M66: ton | O66: = | P66: =L66*2000/8760 -> 0.00095448187 | Q66: lb | U66: = | V66: =(V63*X63*Z63)/AB64 -> 0.003149008 | W66: ton | Y66: = | Z66: =V66*2000/8760 -> 0.00071895159 | AA66: lb | AE66: = | AF66: =(AF63*AH63*AJ63)/AL64 -> 0.0032341706 | AG66: ton | AI66: = | AJ66: =AF66*2000/8760 -> 0.00073839512 | AK66: lb
C67: year | G67: hr | M67: year | Q67: hr | W67: year | AA67: hr | AG67: year | AK67: hr
A70: Cálculos Emisiones CO2e | K70: Cálculos Emisiones CO2e | U70: Cálculos Emisiones CO2e | AE70: Cálculos Emisiones CO2e
A72: = | B72: =AO13 -> 22.578421 | C72: lb | D72: =D63 -> 1120851.5 | E72: gal | G72: ton | K72: = | L72: =AO13 -> 22.578421 | M72: lb | N72: =N63 -> 4327774.9 | O72: gal | Q72: ton | U72: = | V72: =AO13 -> 22.578421 | W72: lb | X72: =X63 -> 3259842.6 | Y72: gal | AA72: ton | AE72: = | AF72: =AO13 -> 22.578421 | AG72: lb | AH72: =AH63 -> 3348002.7 | AI72: gal | AK72: ton
C73: gal | E73: year | F73: 2000 | G73: lb | M73: gal | O73: year | P73: 2000 | Q73: lb | W73: gal | Y73: year | Z73: 2000 | AA73: lb | AG73: gal | AI73: year | AJ73: 2000 | AK73: lb
A76: = | B76: =B72*D72/F73 -> 12653.528 | C76: ton | D76: = | E76: =B76*(2000/8760) -> 2888.9333 | F76: lb | K76: = | L76: =L72*N72/P73 -> 48857.161 | M76: ton | N76: = | O76: =L76*(2000/8760) -> 11154.603 | P76: lb | U76: = | V76: =V72*X72/Z73 -> 36801.049 | W76: ton | X76: = | Y76: =V76*(2000/8760) -> 8402.0659 | Z76: lb | AE76: = | AF76: =AF72*AH72/AJ73 -> 37796.307 | AG76: ton | AH76: = | AI76: =AF76*(2000/8760) -> 8629.2937 | AJ76: lb
C77: year | F77: hr | M77: year | P77: hr | W77: year | Z77: hr | AG77: year | AJ77: hr

Sheet Mensual 2025
A1: Emisiones mensuales 2025
A3: Concepto | B3: Unidad | C3: 45658 | D3: 45689 | E3: 45717 | F3: 45748 | G3: 45778 | H3: 45809 | I3: 45839 | J3: 45870 | K3: 45901 | L3: 45931 | M3: 45962 | N3: 45992 | O3: Total
A4: PM | B4: ton | C4: =SUM(C22,C35,C52,C67,C111,C123,C135,C147,C163) -> 58.512138 | D4: =SUM(D22,D35,D52,D67,D111,D123,D135,D147,D163) -> 65.181273 | E4: =SUM(E22,E35,E52,E67,E111,E123,E135,E147,E163) -> 36.902754 | F4: =SUM(F22,F35,F52,F67,F111,F123,F135,F147,F163) -> 34.790539 | G4: =SUM(G22,G35,G52,G67,G111,G123,G135,G147,G163) -> 48.652295 | H4: =SUM(H22,H35,H52,H67,H111,H123,H135,H147,H163) -> 80.839133 | I4: =SUM(I22,I35,I52,I67,I111,I123,I135,I147,I163) -> 96.760012 | J4: =SUM(J22,J35,J52,J67,J111,J123,J135,J147,J163) -> 80.134022 | ... N4: =SUM(N22,N35,N52,N67,N111,N123,N135,N147,N163) -> 75.821959 | O4: =SUM(C4:N4) -> 854.81659
A5: PM10 | B5: ton | C5: =SUM(C23,C53,C81,C99) -> 87.262277 | D5: =SUM(D23,D53,D81,D99) -> 93.42743 | E5: =SUM(E23,E53,E81,E99) -> 90.026197 | F5: =SUM(F23,F53,F81,F99) -> 84.519525 | G5: =SUM(G23,G53,G81,G99) -> 97.030327 | H5: =SUM(H23,H53,H81,H99) -> 109.60151 | I5: =SUM(I23,I53,I81,I99) -> 98.339627 | J5: =SUM(J23,J53,J81,J99) -> 76.638488 | ... N5: =SUM(N23,N53,N81,N99) -> 105.04342 | O5: =SUM(C5:N5) -> 1117.4777
A6: PM2.5 | B6: ton | C6: =SUM(C24,C54,C88) -> 37.190198 | D6: =SUM(D24,D54,D88) -> 39.105554 | E6: =SUM(E24,E54,E88) -> 31.159002 | F6: =SUM(F24,F54,F88) -> 28.127481 | G6: =SUM(G24,G54,G88) -> 43.926497 | H6: =SUM(H24,H54,H88) -> 61.960822 | I6: =SUM(I24,I54,I88) -> 50.224372 | J6: =SUM(J24,J54,J88) -> 30.552945 | ... N6: =SUM(N24,N54,N88) -> 45.45389 | O6: =SUM(C6:N6) -> 492.99734
A7: SOx / SO2 | B7: ton | C7: =SUM(C25,C36,C55,C68,C82,C100,C112,C124,C136,C148,C164) -> 894.37631 | D7: =SUM(D25,D36,D55,D68,D82,D100,D112,D124,D136,D148,D164) -> 1007.3208 | E7: =SUM(E25,E36,E55,E68,E82,E100,E112,E124,E136,E148,E164) -> 595.67488 | F7: =SUM(F25,F36,F55,F68,F82,F100,F112,F124,F136,F148,F164) -> 519.05984 | G7: =SUM(G25,G36,G55,G68,G82,G100,G112,G124,G136,G148,G164) -> 877.1004 | H7: =SUM(H25,H36,H55,H68,H82,H100,H112,H124,H136,H148,H164) -> 1172.6979 | I7: =SUM(I25,I36,I55,I68,I82,I100,I112,I124,I136,I148,I164) -> 1226.275 | J7: =SUM(J25,J36,J55,J68,J82,J100,J112,J124,J136,J148,J164) -> 907.38246 | ... N7: =SUM(N25,N36,N55,N68,N82,N100,N112,N124,N136,N148,N164) -> 1290.251 | O7: =SUM(C7:N7) -> 11779.857
A8: NOx | B8: ton | C8: =SUM(C26,C37,C56,C69,C83,C104,C113,C125,C137,C149,C165) -> 1382.0857 | D8: =SUM(D26,D37,D56,D69,D83,D104,D113,D125,D137,D149,D165) -> 1241.4344 | E8: =SUM(E26,E37,E56,E69,E83,E104,E113,E125,E137,E149,E165) -> 1085.8505 | F8: =SUM(F26,F37,F56,F69,F83,F104,F113,F125,F137,F149,F165) -> 1222.1755 | G8: =SUM(G26,G37,G56,G69,G83,G104,G113,G125,G137,G149,G165) -> 1411.3885 | H8: =SUM(H26,H37,H56,H69,H83,H104,H113,H125,H137,H149,H165) -> 1752.2068 | I8: =SUM(I26,I37,I56,I69,I83,I104,I113,I125,I137,I149,I165) -> 1834.3982 | J8: =SUM(J26,J37,J56,J69,J83,J104,J113,J125,J137,J149,J165) -> 1866.2606 | ... N8: =SUM(N26,N37,N56,N69,N83,N104,N113,N125,N137,N149,N165) -> 1517.6275 | O8: =SUM(C8:N8) -> 19158.659
A9: VOC | B9: ton | C9: =SUM(C27,C38,C57,C70,C84,C101,C114,C126,C138,C150,C166) -> 12.343198 | D9: =SUM(D27,D38,D57,D70,D84,D101,D114,D126,D138,D150,D166) -> 13.134758 | E9: =SUM(E27,E38,E57,E70,E84,E101,E114,E126,E138,E150,E166) -> 13.746121 | F9: =SUM(F27,F38,F57,F70,F84,F101,F114,F126,F138,F150,F166) -> 13.835163 | G9: =SUM(G27,G38,G57,G70,G84,G101,G114,G126,G138,G150,G166) -> 10.315818 | H9: =SUM(H27,H38,H57,H70,H84,H101,H114,H126,H138,H150,H166) -> 12.456794 | I9: =SUM(I27,I38,I57,I70,I84,I101,I114,I126,I138,I150,I166) -> 15.658967 | J9: =SUM(J27,J38,J57,J70,J84,J101,J114,J126,J138,J150,J166) -> 14.884425 | ... N9: =SUM(N27,N38,N57,N70,N84,N101,N114,N126,N138,N150,N166) -> 12.003775 | O9: =SUM(C9:N9) -> 167.85986
A10: CO | B10: ton | C10: =SUM(C28,C39,C58,C71,C85,C105,C115,C127,C139,C151,C167) -> 64.675487 | D10: =SUM(D28,D39,D58,D71,D85,D105,D115,D127,D139,D151,D167) -> 63.413539 | E10: =SUM(E28,E39,E58,E71,E85,E105,E115,E127,E139,E151,E167) -> 51.497655 | F10: =SUM(F28,F39,F58,F71,F85,F105,F115,F127,F139,F151,F167) -> 51.812839 | G10: =SUM(G28,G39,G58,G71,G85,G105,G115,G127,G139,G151,G167) -> 60.562184 | H10: =SUM(H28,H39,H58,H71,H85,H105,H115,H127,H139,H151,H167) -> 70.698767 | I10: =SUM(I28,I39,I58,I71,I85,I105,I115,I127,I139,I151,I167) -> 86.894308 | J10: =SUM(J28,J39,J58,J71,J85,J105,J115,J127,J139,J151,J167) -> 92.457228 | ... N10: =SUM(N28,N39,N58,N71,N85,N105,N115,N127,N139,N151,N167) -> 77.228022 | O10: =SUM(C10:N10) -> 918.64079
A11: H2SO4 | B11: ton | C11: =SUM(C29,C59,C89) -> 19.512936 | D11: =SUM(D29,D59,D89) -> 28.244267 | E11: =SUM(E29,E59,E89) -> 21.223166 | F11: =SUM(F29,F59,F89) -> 18.107929 | G11: =SUM(G29,G59,G89) -> 31.65568 | H11: =SUM(H29,H59,H89) -> 43.925453 | I11: =SUM(I29,I59,I89) -> 32.349238 | J11: =SUM(J29,J59,J89) -> 18.245222 | ... N11: =SUM(N29,N59,N89) -> 35.517015 | O11: =SUM(C11:N11) -> 317.61064
A12: Pb | B12: ton | C12: =SUM(C30,C40,C60,C72,C86,C102,C116,C128,C140,C152,C168) -> 0.027116493 | D12: =SUM(D30,D40,D60,D72,D86,D102,D116,D128,D140,D152,D168) -> 0.026616114 | E12: =SUM(E30,E40,E60,E72,E86,E102,E116,E128,E140,E152,E168) -> 0.027922349 | F12: =SUM(F30,F40,F60,F72,F86,F102,F116,F128,F140,F152,F168) -> 0.030565231 | G12: =SUM(G30,G40,G60,G72,G86,G102,G116,G128,G140,G152,G168) -> 0.022616209 | H12: =SUM(H30,H40,H60,H72,H86,H102,H116,H128,H140,H152,H168) -> 0.029973256 | I12: =SUM(I30,I40,I60,I72,I86,I102,I116,I128,I140,I152,I168) -> 0.034587583 | J12: =SUM(J30,J40,J60,J72,J86,J102,J116,J128,J140,J152,J168) -> 0.030125798 | ... N12: =SUM(N30,N40,N60,N72,N86,N102,N116,N128,N140,N152,N168) -> 0.02832908 | O12: =SUM(C12:N12) -> 0.35574706
A13: CO2e | B13: ton | C13: =SUM(C31,C41,C61,C73,C87,C103,C117,C129,C141,C153,C169) -> 610909.39 | D13: =SUM(D31,D41,D61,D73,D87,D103,D117,D129,D141,D153,D169) -> 574977.56 | E13: =SUM(E31,E41,E61,E73,E87,E103,E117,E129,E141,E153,E169) -> 493313.23 | F13: =SUM(F31,F41,F61,F73,F87,F103,F117,F129,F141,F153,F169) -> 513957.17 | G13: =SUM(G31,G41,G61,G73,G87,G103,G117,G129,G141,G153,G169) -> 597630.5 | H13: =SUM(H31,H41,H61,H73,H87,H103,H117,H129,H141,H153,H169) -> 750393.81 | I13: =SUM(I31,I41,I61,I73,I87,I103,I117,I129,I141,I153,I169) -> 782098.18 | J13: =SUM(J31,J41,J61,J73,J87,J103,J117,J129,J141,J153,J169) -> 752623.09 | ... N13: =SUM(N31,N41,N61,N73,N87,N103,N117,N129,N141,N153,N169) -> 665871.88 | O13: =SUM(C13:N13) -> 8197217.4
A14: Detalle por instalación: entradas mensuales y emisiones calculadas
A15: Costa Sur 5 y 6
A16: CS5 combustible #6 | B16: gal | C16: ='Costa Sur'!$D$5 -> 330906.66 | D16: ='Costa Sur'!$D$6 -> 762088.32 | E16: ='Costa Sur'!$D$7 -> 0 | F16: ='Costa Sur'!$D$8 -> 0 | G16: ='Costa Sur'!$D$9 -> 2658474.4 | H16: ='Costa Sur'!$D$10 -> 10104505 | I16: ='Costa Sur'!$D$11 -> 3136727.6 | J16: ='Costa Sur'!$D$12 -> 1383275.5 | K16: ='Costa Sur'!$D$13 -> 665703.36 | L16: ='Costa Sur'!$D$14 -> 2844801.1 | M16: ='Costa Sur'!$D$15 -> 2041878.3 | N16: ='Costa Sur'!$D$16 -> 4440474.4 | O16: =SUM(C16:N16) -> 28368835
A17: CS5 gas natural | B17: SCF | C17: ='Costa Sur'!$B$42 -> 1554213850 | D17: ='Costa Sur'!$B$43 -> 1267505400 | E17: ='Costa Sur'!$B$44 -> 0 | F17: ='Costa Sur'!$B$45 -> 0 | G17: ='Costa Sur'!$B$46 -> 1357855300 | H17: ='Costa Sur'!$B$47 -> 5.2230799e+08 | I17: ='Costa Sur'!$B$48 -> 1422853380 | J17: ='Costa Sur'!$B$49 -> 2189928000 | K17: ='Costa Sur'!$B$50 -> 2168538000 | L17: ='Costa Sur'!$B$51 -> 2250942444 | M17: ='Costa Sur'!$B$52 -> 1824088440 | N17: ='Costa Sur'!$B$53 -> 1158591780 | O17: =SUM(C17:N17) -> 1.5716825e+10
A18: CS5 azufre #6 | B18: % peso | C18: ='Costa Sur'!$H$5 -> 0.49 | D18: ='Costa Sur'!$H$6 -> 0.48 | E18: ='Costa Sur'!$H$7 -> 0.49 | F18: ='Costa Sur'!$H$8 -> 0.48 | G18: ='Costa Sur'!$H$9 -> 0.49 | H18: ='Costa Sur'!$H$10 -> 0.49 | I18: ='Costa Sur'!$H$11 -> 0.49 | J18: ='Costa Sur'!$H$12 -> 0.49 | K18: ='Costa Sur'!$H$13 -> 0.49 | L18: ='Costa Sur'!$H$14 -> 0.49 | M18: ='Costa Sur'!$H$15 -> 0.49 | N18: ='Costa Sur'!$H$16 -> 0.47 | O18: =IF(O16=0,0,SUMPRODUCT(C18:N18,C16:N16)/O16) -> 0.48660083
A19: CS6 combustible #6 | B19: gal | C19: ='Costa Sur'!$E$5 -> 8255977 | D19: ='Costa Sur'!$E$6 -> 8463100.4 | E19: ='Costa Sur'!$E$7 -> 3474278.6 | F19: ='Costa Sur'!$E$8 -> 2669000.5 | G19: ='Costa Sur'!$E$9 -> 8645531.6 | H19: ='Costa Sur'!$E$10 -> 7613907 | I19: ='Costa Sur'!$E$11 -> 8141125.4 | J19: ='Costa Sur'!$E$12 -> 1111535.9 | K19: ='Costa Sur'!$E$13 -> 287365.68 | L19: ='Costa Sur'!$E$14 -> 6398555.5 | M19: ='Costa Sur'!$E$15 -> 3906787.1 | N19: ='Costa Sur'!$E$16 -> 9949477 | O19: =SUM(C19:N19) -> 68916642
A20: CS6 gas natural | B20: SCF | C20: ='Costa Sur'!$C$42 -> 745542910 | D20: ='Costa Sur'!$C$43 -> 526697500 | E20: ='Costa Sur'!$C$44 -> 1555548100 | F20: ='Costa Sur'!$C$45 -> 1605781227 | G20: ='Costa Sur'!$C$46 -> 854542040 | H20: ='Costa Sur'!$C$47 -> 1.1320517e+09 | I20: ='Costa Sur'!$C$48 -> 661591230 | J20: ='Costa Sur'!$C$49 -> 1737847350 | K20: ='Costa Sur'!$C$50 -> 1802932000 | L20: ='Costa Sur'!$C$51 -> 1871443416 | M20: ='Costa Sur'!$C$52 -> 1252750380 | N20: ='Costa Sur'!$C$53 -> 314048870 | O20: =SUM(C20:N20) -> 1.4060777e+10
A21: CS6 azufre #6 | B21: % peso | C21: ='Costa Sur'!$I$5 -> 0.49 | D21: ='Costa Sur'!$I$6 -> 0.48 | E21: ='Costa Sur'!$I$7 -> 0.49 | F21: ='Costa Sur'!$I$8 -> 0.48 | G21: ='Costa Sur'!$I$9 -> 0.49 | H21: ='Costa Sur'!$I$10 -> 0.49 | I21: ='Costa Sur'!$I$11 -> 0.49 | J21: ='Costa Sur'!$I$12 -> 0.49 | K21: ='Costa Sur'!$I$13 -> 0.49 | L21: ='Costa Sur'!$I$14 -> 0.49 | M21: ='Costa Sur'!$I$15 -> 0.49 | N21: ='Costa Sur'!$I$16 -> 0.47 | O21: =IF(O19=0,0,SUMPRODUCT(C21:N21,C19:N19)/O19) -> 0.48549731
A22: PM | B22: ton | C22: =((((C16)*'CS 5'!$E$38*'CS 5'!$H$38+(C17)*'CS 5'!$O$38*'CS 5'!$R$38/1000000)/2000))+((((C19)*'CS 6'!$E$38*'CS 6'!$H$38+(C20)*'CS 6'!$O$38*'CS 6'!$R$38/1000000)/2000)) -> 23.689815 | D22: =((((D16)*'CS 5'!$E$38*'CS 5'!$H$38+(D17)*'CS 5'!$O$38*'CS 5'!$R$38/1000000)/2000))+((((D19)*'CS 6'!$E$38*'CS 6'!$H$38+(D20)*'CS 6'!$O$38*'CS 6'!$R$38/1000000)/2000)) -> 23.691879 | E22: =((((E16)*'CS 5'!$E$38*'CS 5'!$H$38+(E17)*'CS 5'!$O$38*'CS 5'!$R$38/1000000)/2000))+((((E19)*'CS 6'!$E$38*'CS 6'!$H$38+(E20)*'CS 6'!$O$38*'CS 6'!$R$38/1000000)/2000)) -> 11.210125 | F22: =((((F16)*'CS 5'!$E$38*'CS 5'!$H$38+(F17)*'CS 5'!$O$38*'CS 5'!$R$38/1000000)/2000))+((((F19)*'CS 6'!$E$38*'CS 6'!$H$38+(F20)*'CS 6'!$O$38*'CS 6'!$R$38/1000000)/2000)) -> 9.6798446 | G22: =((((G16)*'CS 5'!$E$38*'CS 5'!$H$38+(G17)*'CS 5'!$O$38*'CS 5'!$R$38/1000000)/2000))+((((G19)*'CS 6'!$E$38*'CS 6'!$H$38+(G20)*'CS 6'!$O$38*'CS 6'!$R$38/1000000)/2000)) -> 29.066745 | H22: =((((H16)*'CS 5'!$E$38*'CS 5'!$H$38+(H17)*'CS 5'!$O$38*'CS 5'!$R$38/1000000)/2000))+((((H19)*'CS 6'!$E$38*'CS 6'!$H$38+(H20)*'CS 6'!$O$38*'CS 6'!$R$38/1000000)/2000)) -> 40.845561 | I22: =((((I16)*'CS 5'!$E$38*'CS 5'!$H$38+(I17)*'CS 5'!$O$38*'CS 5'!$R$38/1000000)/2000))+((((I19)*'CS 6'!$E$38*'CS 6'!$H$38+(I20)*'CS 6'!$O$38*'CS 6'!$R$38/1000000)/2000)) -> 28.680128 | J22: =((((J16)*'CS 5'!$E$38*'CS 5'!$H$38+(J17)*'CS 5'!$O$38*'CS 5'!$R$38/1000000)/2000))+((((J19)*'CS 6'!$E$38*'CS 6'!$H$38+(J20)*'CS 6'!$O$38*'CS 6'!$R$38/1000000)/2000)) -> 15.357764 | ... N22: =((((N16)*'CS 5'!$E$38*'CS 5'!$H$38+(N17)*'CS 5'!$O$38*'CS 5'!$R$38/1000000)/2000))+((((N19)*'CS 6'!$E$38*'CS 6'!$H$38+(N20)*'CS 6'!$O$38*'CS 6'!$R$38/1000000)/2000)) -> 33.50814 | O22: =SUM(C22:N22) -> 278.07306
A23: PM10 | B23: ton | C23: =((((C16)*'CS 5'!$E$44*'CS 5'!$H$44+(C17)*'CS 5'!$O$44*'CS 5'!$R$44/1000000)/2000))+((((C19)*'CS 6'!$E$44*'CS 6'!$H$44+(C20)*'CS 6'!$O$44*'CS 6'!$R$44/1000000)/2000)) -> 35.447226 | D23: =((((D16)*'CS 5'!$E$44*'CS 5'!$H$44+(D17)*'CS 5'!$O$44*'CS 5'!$R$44/1000000)/2000))+((((D19)*'CS 6'!$E$44*'CS 6'!$H$44+(D20)*'CS 6'!$O$44*'CS 6'!$R$44/1000000)/2000)) -> 35.232749 | E23: =((((E16)*'CS 5'!$E$44*'CS 5'!$H$44+(E17)*'CS 5'!$O$44*'CS 5'!$R$44/1000000)/2000))+((((E19)*'CS 6'!$E$44*'CS 6'!$H$44+(E20)*'CS 6'!$O$44*'CS 6'!$R$44/1000000)/2000)) -> 16.974805 | F23: =((((F16)*'CS 5'!$E$44*'CS 5'!$H$44+(F17)*'CS 5'!$O$44*'CS 5'!$R$44/1000000)/2000))+((((F19)*'CS 6'!$E$44*'CS 6'!$H$44+(F20)*'CS 6'!$O$44*'CS 6'!$R$44/1000000)/2000)) -> 14.770552 | G23: =((((G16)*'CS 5'!$E$44*'CS 5'!$H$44+(G17)*'CS 5'!$O$44*'CS 5'!$R$44/1000000)/2000))+((((G19)*'CS 6'!$E$44*'CS 6'!$H$44+(G20)*'CS 6'!$O$44*'CS 6'!$R$44/1000000)/2000)) -> 43.230636 | H23: =((((H16)*'CS 5'!$E$44*'CS 5'!$H$44+(H17)*'CS 5'!$O$44*'CS 5'!$R$44/1000000)/2000))+((((H19)*'CS 6'!$E$44*'CS 6'!$H$44+(H20)*'CS 6'!$O$44*'CS 6'!$R$44/1000000)/2000)) -> 60.1234 | I23: =((((I16)*'CS 5'!$E$44*'CS 5'!$H$44+(I17)*'CS 5'!$O$44*'CS 5'!$R$44/1000000)/2000))+((((I19)*'CS 6'!$E$44*'CS 6'!$H$44+(I20)*'CS 6'!$O$44*'CS 6'!$R$44/1000000)/2000)) -> 42.61324 | J23: =((((J16)*'CS 5'!$E$44*'CS 5'!$H$44+(J17)*'CS 5'!$O$44*'CS 5'!$R$44/1000000)/2000))+((((J19)*'CS 6'!$E$44*'CS 6'!$H$44+(J20)*'CS 6'!$O$44*'CS 6'!$R$44/1000000)/2000)) -> 24.028224 | ... N23: =((((N16)*'CS 5'!$E$44*'CS 5'!$H$44+(N17)*'CS 5'!$O$44*'CS 5'!$R$44/1000000)/2000))+((((N19)*'CS 6'!$E$44*'CS 6'!$H$44+(N20)*'CS 6'!$O$44*'CS 6'!$R$44/1000000)/2000)) -> 49.372617 | O23: =SUM(C23:N23) -> 417.27969
A24: PM2.5 | B24: ton | C24: =((((C16)*'CS 5'!$E$50*'CS 5'!$H$50+(C17)*'CS 5'!$O$50*'CS 5'!$R$50/1000000)/2000))+((((C19)*'CS 6'!$E$50*'CS 6'!$H$50+(C20)*'CS 6'!$O$50*'CS 6'!$R$50/1000000)/2000)) -> 30.221588 | D24: =((((D16)*'CS 5'!$E$50*'CS 5'!$H$50+(D17)*'CS 5'!$O$50*'CS 5'!$R$50/1000000)/2000))+((((D19)*'CS 6'!$E$50*'CS 6'!$H$50+(D20)*'CS 6'!$O$50*'CS 6'!$R$50/1000000)/2000)) -> 29.829733 | E24: =((((E16)*'CS 5'!$E$50*'CS 5'!$H$50+(E17)*'CS 5'!$O$50*'CS 5'!$R$50/1000000)/2000))+((((E19)*'CS 6'!$E$50*'CS 6'!$H$50+(E20)*'CS 6'!$O$50*'CS 6'!$R$50/1000000)/2000)) -> 14.665477 | F24: =((((F16)*'CS 5'!$E$50*'CS 5'!$H$50+(F17)*'CS 5'!$O$50*'CS 5'!$R$50/1000000)/2000))+((((F19)*'CS 6'!$E$50*'CS 6'!$H$50+(F20)*'CS 6'!$O$50*'CS 6'!$R$50/1000000)/2000)) -> 12.868323 | G24: =((((G16)*'CS 5'!$E$50*'CS 5'!$H$50+(G17)*'CS 5'!$O$50*'CS 5'!$R$50/1000000)/2000))+((((G19)*'CS 6'!$E$50*'CS 6'!$H$50+(G20)*'CS 6'!$O$50*'CS 6'!$R$50/1000000)/2000)) -> 36.605764 | H24: =((((H16)*'CS 5'!$E$50*'CS 5'!$H$50+(H17)*'CS 5'!$O$50*'CS 5'!$R$50/1000000)/2000))+((((H19)*'CS 6'!$E$50*'CS 6'!$H$50+(H20)*'CS 6'!$O$50*'CS 6'!$R$50/1000000)/2000)) -> 50.305073 | I24: =((((I16)*'CS 5'!$E$50*'CS 5'!$H$50+(I17)*'CS 5'!$O$50*'CS 5'!$R$50/1000000)/2000))+((((I19)*'CS 6'!$E$50*'CS 6'!$H$50+(I20)*'CS 6'!$O$50*'CS 6'!$R$50/1000000)/2000)) -> 36.04202 | J24: =((((J16)*'CS 5'!$E$50*'CS 5'!$H$50+(J17)*'CS 5'!$O$50*'CS 5'!$R$50/1000000)/2000))+((((J19)*'CS 6'!$E$50*'CS 6'!$H$50+(J20)*'CS 6'!$O$50*'CS 6'!$R$50/1000000)/2000)) -> 21.492982 | ... N24: =((((N16)*'CS 5'!$E$50*'CS 5'!$H$50+(N17)*'CS 5'!$O$50*'CS 5'!$R$50/1000000)/2000))+((((N19)*'CS 6'!$E$50*'CS 6'!$H$50+(N20)*'CS 6'!$O$50*'CS 6'!$R$50/1000000)/2000)) -> 41.358428 | O24: =SUM(C24:N24) -> 356.9142
A25: SOx / SO2 | B25: ton | C25: =((((C16)*((157)*C18)/'CS 5'!$H$57+(C17)*'CS 5'!$O$56*'CS 5'!$R$56/1000000)/2000))+((((C19)*((157)*C21)/'CS 6'!$H$57+(C20)*'CS 6'!$O$56*'CS 6'!$R$56/1000000)/2000)) -> 335.07797 | D25: =((((D16)*((157)*D18)/'CS 5'!$H$57+(D17)*'CS 5'!$O$56*'CS 5'!$R$56/1000000)/2000))+((((D19)*((157)*D21)/'CS 6'!$H$57+(D20)*'CS 6'!$O$56*'CS 6'!$R$56/1000000)/2000)) -> 351.33705 | E25: =((((E16)*((157)*E18)/'CS 5'!$H$57+(E17)*'CS 5'!$O$56*'CS 5'!$R$56/1000000)/2000))+((((E19)*((157)*E21)/'CS 6'!$H$57+(E20)*'CS 6'!$O$56*'CS 6'!$R$56/1000000)/2000)) -> 136.87367 | F25: =((((F16)*((157)*F18)/'CS 5'!$H$57+(F17)*'CS 5'!$O$56*'CS 5'!$R$56/1000000)/2000))+((((F19)*((157)*F21)/'CS 6'!$H$57+(F20)*'CS 6'!$O$56*'CS 6'!$R$56/1000000)/2000)) -> 103.90796 | G25: =((((G16)*((157)*G18)/'CS 5'!$H$57+(G17)*'CS 5'!$O$56*'CS 5'!$R$56/1000000)/2000))+((((G19)*((157)*G21)/'CS 6'!$H$57+(G20)*'CS 6'!$O$56*'CS 6'!$R$56/1000000)/2000)) -> 439.41038 | H25: =((((H16)*((157)*H18)/'CS 5'!$H$57+(H17)*'CS 5'!$O$56*'CS 5'!$R$56/1000000)/2000))+((((H19)*((157)*H21)/'CS 6'!$H$57+(H20)*'CS 6'!$O$56*'CS 6'!$R$56/1000000)/2000)) -> 684.9798 | I25: =((((I16)*((157)*I18)/'CS 5'!$H$57+(I17)*'CS 5'!$O$56*'CS 5'!$R$56/1000000)/2000))+((((I19)*((157)*I21)/'CS 6'!$H$57+(I20)*'CS 6'!$O$56*'CS 6'!$R$56/1000000)/2000)) -> 438.13826 | J25: =((((J16)*((157)*J18)/'CS 5'!$H$57+(J17)*'CS 5'!$O$56*'CS 5'!$R$56/1000000)/2000))+((((J19)*((157)*J21)/'CS 6'!$H$57+(J20)*'CS 6'!$O$56*'CS 6'!$R$56/1000000)/2000)) -> 104.13269 | ... N25: =((((N16)*((157)*N18)/'CS 5'!$H$57+(N17)*'CS 5'!$O$56*'CS 5'!$R$56/1000000)/2000))+((((N19)*((157)*N21)/'CS 6'!$H$57+(N20)*'CS 6'!$O$56*'CS 6'!$R$56/1000000)/2000)) -> 533.98035 | O25: =SUM(C25:N25) -> 3772.0941
A26: NOx | B26: ton | C26: =((((C16)*'CS 5'!$E$20*'CS 5'!$H$20+(C17)*'CS 5'!$O$20*'CS 5'!$R$20/1000000)/2000))+((((C19)*'CS 6'!$E$20*'CS 6'!$H$20+(C20)*'CS 6'!$O$20*'CS 6'!$R$20/1000000)/2000)) -> 643.96143 | D26: =((((D16)*'CS 5'!$E$20*'CS 5'!$H$20+(D17)*'CS 5'!$O$20*'CS 5'!$R$20/1000000)/2000))+((((D19)*'CS 6'!$E$20*'CS 6'!$H$20+(D20)*'CS 6'!$O$20*'CS 6'!$R$20/1000000)/2000)) -> 568.70613 | E26: =((((E16)*'CS 5'!$E$20*'CS 5'!$H$20+(E17)*'CS 5'!$O$20*'CS 5'!$R$20/1000000)/2000))+((((E19)*'CS 6'!$E$20*'CS 6'!$H$20+(E20)*'CS 6'!$O$20*'CS 6'!$R$20/1000000)/2000)) -> 374.30957 | F26: =((((F16)*'CS 5'!$E$20*'CS 5'!$H$20+(F17)*'CS 5'!$O$20*'CS 5'!$R$20/1000000)/2000))+((((F19)*'CS 6'!$E$20*'CS 6'!$H$20+(F20)*'CS 6'!$O$20*'CS 6'!$R$20/1000000)/2000)) -> 362.31345 | G26: =((((G16)*'CS 5'!$E$20*'CS 5'!$H$20+(G17)*'CS 5'!$O$20*'CS 5'!$R$20/1000000)/2000))+((((G19)*'CS 6'!$E$20*'CS 6'!$H$20+(G20)*'CS 6'!$O$20*'CS 6'!$R$20/1000000)/2000)) -> 699.38647 | H26: =((((H16)*'CS 5'!$E$20*'CS 5'!$H$20+(H17)*'CS 5'!$O$20*'CS 5'!$R$20/1000000)/2000))+((((H19)*'CS 6'!$E$20*'CS 6'!$H$20+(H20)*'CS 6'!$O$20*'CS 6'!$R$20/1000000)/2000)) -> 766.20179 | I26: =((((I16)*'CS 5'!$E$20*'CS 5'!$H$20+(I17)*'CS 5'!$O$20*'CS 5'!$R$20/1000000)/2000))+((((I19)*'CS 6'!$E$20*'CS 6'!$H$20+(I20)*'CS 6'!$O$20*'CS 6'!$R$20/1000000)/2000)) -> 675.41256 | J26: =((((J16)*'CS 5'!$E$20*'CS 5'!$H$20+(J17)*'CS 5'!$O$20*'CS 5'!$R$20/1000000)/2000))+((((J19)*'CS 6'!$E$20*'CS 6'!$H$20+(J20)*'CS 6'!$O$20*'CS 6'!$R$20/1000000)/2000)) -> 780.34391 | ... N26: =((((N16)*'CS 5'!$E$20*'CS 5'!$H$20+(N17)*'CS 5'!$O$20*'CS 5'!$R$20/1000000)/2000))+((((N19)*'CS 6'!$E$20*'CS 6'!$H$20+(N20)*'CS 6'!$O$20*'CS 6'!$R$20/1000000)/2000)) -> 645.75682 | O26: =SUM(C26:N26) -> 7973.2672
A27: VOC | B27: ton | C27: =((((C16)*'CS 5'!$E$32*'CS 5'!$H$32+(C17)*'CS 5'!$O$32*'CS 5'!$R$32/1000000)/2000))+((((C19)*'CS 6'!$E$32*'CS 6'!$H$32+(C20)*'CS 6'!$O$32*'CS 6'!$R$32/1000000)/2000)) -> 1.79392 | D27: =((((D16)*'CS 5'!$E$32*'CS 5'!$H$32+(D17)*'CS 5'!$O$32*'CS 5'!$R$32/1000000)/2000))+((((D19)*'CS 6'!$E$32*'CS 6'!$H$32+(D20)*'CS 6'!$O$32*'CS 6'!$R$32/1000000)/2000)) -> 1.6458443 | E27: =((((E16)*'CS 5'!$E$32*'CS 5'!$H$32+(E17)*'CS 5'!$O$32*'CS 5'!$R$32/1000000)/2000))+((((E19)*'CS 6'!$E$32*'CS 6'!$H$32+(E20)*'CS 6'!$O$32*'CS 6'!$R$32/1000000)/2000)) -> 0.98585018 | F27: =((((F16)*'CS 5'!$E$32*'CS 5'!$H$32+(F17)*'CS 5'!$O$32*'CS 5'!$R$32/1000000)/2000))+((((F19)*'CS 6'!$E$32*'CS 6'!$H$32+(F20)*'CS 6'!$O$32*'CS 6'!$R$32/1000000)/2000)) -> 0.92823254 | G27: =((((G16)*'CS 5'!$E$32*'CS 5'!$H$32+(G17)*'CS 5'!$O$32*'CS 5'!$R$32/1000000)/2000))+((((G19)*'CS 6'!$E$32*'CS 6'!$H$32+(G20)*'CS 6'!$O$32*'CS 6'!$R$32/1000000)/2000)) -> 2.0224979 | H27: =((((H16)*'CS 5'!$E$32*'CS 5'!$H$32+(H17)*'CS 5'!$O$32*'CS 5'!$R$32/1000000)/2000))+((((H19)*'CS 6'!$E$32*'CS 6'!$H$32+(H20)*'CS 6'!$O$32*'CS 6'!$R$32/1000000)/2000)) -> 2.4157588 | I27: =((((I16)*'CS 5'!$E$32*'CS 5'!$H$32+(I17)*'CS 5'!$O$32*'CS 5'!$R$32/1000000)/2000))+((((I19)*'CS 6'!$E$32*'CS 6'!$H$32+(I20)*'CS 6'!$O$32*'CS 6'!$R$32/1000000)/2000)) -> 1.9667196 | J27: =((((J16)*'CS 5'!$E$32*'CS 5'!$H$32+(J17)*'CS 5'!$O$32*'CS 5'!$R$32/1000000)/2000))+((((J19)*'CS 6'!$E$32*'CS 6'!$H$32+(J20)*'CS 6'!$O$32*'CS 6'!$R$32/1000000)/2000)) -> 1.8771987 | ... N27: =((((N16)*'CS 5'!$E$32*'CS 5'!$H$32+(N17)*'CS 5'!$O$32*'CS 5'!$R$32/1000000)/2000))+((((N19)*'CS 6'!$E$32*'CS 6'!$H$32+(N20)*'CS 6'!$O$32*'CS 6'!$R$32/1000000)/2000)) -> 2.0156388 | O27: =SUM(C27:N27) -> 21.872816
A28: CO | B28: ton | C28: =((((C16)*'CS 5'!$E$26*'CS 5'!$H$26+(C17)*'CS 5'!$O$26*'CS 5'!$R$26/1000000)/2000))+((((C19)*'CS 6'!$E$26*'CS 6'!$H$26+(C20)*'CS 6'!$O$26*'CS 6'!$R$26/1000000)/2000)) -> 13.210123 | D28: =((((D16)*'CS 5'!$E$26*'CS 5'!$H$26+(D17)*'CS 5'!$O$26*'CS 5'!$R$26/1000000)/2000))+((((D19)*'CS 6'!$E$26*'CS 6'!$H$26+(D20)*'CS 6'!$O$26*'CS 6'!$R$26/1000000)/2000)) -> 11.026048 | E28: =((((E16)*'CS 5'!$E$26*'CS 5'!$H$26+(E17)*'CS 5'!$O$26*'CS 5'!$R$26/1000000)/2000))+((((E19)*'CS 6'!$E$26*'CS 6'!$H$26+(E20)*'CS 6'!$O$26*'CS 6'!$R$26/1000000)/2000)) -> 8.2701345 | F28: =((((F16)*'CS 5'!$E$26*'CS 5'!$H$26+(F17)*'CS 5'!$O$26*'CS 5'!$R$26/1000000)/2000))+((((F19)*'CS 6'!$E$26*'CS 6'!$H$26+(F20)*'CS 6'!$O$26*'CS 6'!$R$26/1000000)/2000)) -> 8.2757213 | G28: =((((G16)*'CS 5'!$E$26*'CS 5'!$H$26+(G17)*'CS 5'!$O$26*'CS 5'!$R$26/1000000)/2000))+((((G19)*'CS 6'!$E$26*'CS 6'!$H$26+(G20)*'CS 6'!$O$26*'CS 6'!$R$26/1000000)/2000)) -> 13.575661 | H28: =((((H16)*'CS 5'!$E$26*'CS 5'!$H$26+(H17)*'CS 5'!$O$26*'CS 5'!$R$26/1000000)/2000))+((((H19)*'CS 6'!$E$26*'CS 6'!$H$26+(H20)*'CS 6'!$O$26*'CS 6'!$R$26/1000000)/2000)) -> 12.792151 | I28: =((((I16)*'CS 5'!$E$26*'CS 5'!$H$26+(I17)*'CS 5'!$O$26*'CS 5'!$R$26/1000000)/2000))+((((I19)*'CS 6'!$E$26*'CS 6'!$H$26+(I20)*'CS 6'!$O$26*'CS 6'!$R$26/1000000)/2000)) -> 12.969389 | J28: =((((J16)*'CS 5'!$E$26*'CS 5'!$H$26+(J17)*'CS 5'!$O$26*'CS 5'!$R$26/1000000)/2000))+((((J19)*'CS 6'!$E$26*'CS 6'!$H$26+(J20)*'CS 6'!$O$26*'CS 6'!$R$26/1000000)/2000)) -> 19.09301 | ... N28: =((((N16)*'CS 5'!$E$26*'CS 5'!$H$26+(N17)*'CS 5'!$O$26*'CS 5'!$R$26/1000000)/2000))+((((N19)*'CS 6'!$E$26*'CS 6'!$H$26+(N20)*'CS 6'!$O$26*'CS 6'!$R$26/1000000)/2000)) -> 10.993094 | O28: =SUM(C28:N28) -> 167.08553
A29: H2SO4 | B29: ton | C29: =((((C16)*'CS 5'!$E$62*'CS 5'!$H$62+(C17)*'CS 5'!$O$62*'CS 5'!$R$62/1000000)/2000))+((((C19)*'CS 6'!$E$62*'CS 6'!$H$62+(C20)*'CS 6'!$O$62*'CS 6'!$R$62/1000000)/2000)) -> 15.062553 | D29: =((((D16)*'CS 5'!$E$62*'CS 5'!$H$62+(D17)*'CS 5'!$O$62*'CS 5'!$R$62/1000000)/2000))+((((D19)*'CS 6'!$E$62*'CS 6'!$H$62+(D20)*'CS 6'!$O$62*'CS 6'!$R$62/1000000)/2000)) -> 16.03096 | E29: =((((E16)*'CS 5'!$E$62*'CS 5'!$H$62+(E17)*'CS 5'!$O$62*'CS 5'!$R$62/1000000)/2000))+((((E19)*'CS 6'!$E$62*'CS 6'!$H$62+(E20)*'CS 6'!$O$62*'CS 6'!$R$62/1000000)/2000)) -> 6.2341171 | F29: =((((F16)*'CS 5'!$E$62*'CS 5'!$H$62+(F17)*'CS 5'!$O$62*'CS 5'!$R$62/1000000)/2000))+((((F19)*'CS 6'!$E$62*'CS 6'!$H$62+(F20)*'CS 6'!$O$62*'CS 6'!$R$62/1000000)/2000)) -> 4.8810067 | G29: =((((G16)*'CS 5'!$E$62*'CS 5'!$H$62+(G17)*'CS 5'!$O$62*'CS 5'!$R$62/1000000)/2000))+((((G19)*'CS 6'!$E$62*'CS 6'!$H$62+(G20)*'CS 6'!$O$62*'CS 6'!$R$62/1000000)/2000)) -> 19.646504 | H29: =((((H16)*'CS 5'!$E$62*'CS 5'!$H$62+(H17)*'CS 5'!$O$62*'CS 5'!$R$62/1000000)/2000))+((((H19)*'CS 6'!$E$62*'CS 6'!$H$62+(H20)*'CS 6'!$O$62*'CS 6'!$R$62/1000000)/2000)) -> 30.389335 | I29: =((((I16)*'CS 5'!$E$62*'CS 5'!$H$62+(I17)*'CS 5'!$O$62*'CS 5'!$R$62/1000000)/2000))+((((I19)*'CS 6'!$E$62*'CS 6'!$H$62+(I20)*'CS 6'!$O$62*'CS 6'!$R$62/1000000)/2000)) -> 19.573584 | J29: =((((J16)*'CS 5'!$E$62*'CS 5'!$H$62+(J17)*'CS 5'!$O$62*'CS 5'!$R$62/1000000)/2000))+((((J19)*'CS 6'!$E$62*'CS 6'!$H$62+(J20)*'CS 6'!$O$62*'CS 6'!$R$62/1000000)/2000)) -> 5.1050847 | ... N29: =((((N16)*'CS 5'!$E$62*'CS 5'!$H$62+(N17)*'CS 5'!$O$62*'CS 5'!$R$62/1000000)/2000))+((((N19)*'CS 6'!$E$62*'CS 6'!$H$62+(N20)*'CS 6'!$O$62*'CS 6'!$R$62/1000000)/2000)) -> 24.709458 | O29: =SUM(C29:N29) -> 171.48419
A30: Pb | B30: ton | C30: =((((C16)*'CS 5'!$E$68*'CS 5'!$H$68+(C17)*'CS 5'!$O$68*'CS 5'!$R$68/1000000)/2000))+((((C19)*'CS 6'!$E$68*'CS 6'!$H$68+(C20)*'CS 6'!$O$68*'CS 6'!$R$68/1000000)/2000)) -> 0.0029817953 | D30: =((((D16)*'CS 5'!$E$68*'CS 5'!$H$68+(D17)*'CS 5'!$O$68*'CS 5'!$R$68/1000000)/2000))+((((D19)*'CS 6'!$E$68*'CS 6'!$H$68+(D20)*'CS 6'!$O$68*'CS 6'!$R$68/1000000)/2000)) -> 0.0032034468 | E30: =((((E16)*'CS 5'!$E$68*'CS 5'!$H$68+(E17)*'CS 5'!$O$68*'CS 5'!$R$68/1000000)/2000))+((((E19)*'CS 6'!$E$68*'CS 6'!$H$68+(E20)*'CS 6'!$O$68*'CS 6'!$R$68/1000000)/2000)) -> 0.0012064433 | F30: =((((F16)*'CS 5'!$E$68*'CS 5'!$H$68+(F17)*'CS 5'!$O$68*'CS 5'!$R$68/1000000)/2000))+((((F19)*'CS 6'!$E$68*'CS 6'!$H$68+(F20)*'CS 6'!$O$68*'CS 6'!$R$68/1000000)/2000)) -> 0.00092681041 | G30: =((((G16)*'CS 5'!$E$68*'CS 5'!$H$68+(G17)*'CS 5'!$O$68*'CS 5'!$R$68/1000000)/2000))+((((G19)*'CS 6'!$E$68*'CS 6'!$H$68+(G20)*'CS 6'!$O$68*'CS 6'!$R$68/1000000)/2000)) -> 0.0039253161 | H30: =((((H16)*'CS 5'!$E$68*'CS 5'!$H$68+(H17)*'CS 5'!$O$68*'CS 5'!$R$68/1000000)/2000))+((((H19)*'CS 6'!$E$68*'CS 6'!$H$68+(H20)*'CS 6'!$O$68*'CS 6'!$R$68/1000000)/2000)) -> 0.0061527187 | I30: =((((I16)*'CS 5'!$E$68*'CS 5'!$H$68+(I17)*'CS 5'!$O$68*'CS 5'!$R$68/1000000)/2000))+((((I19)*'CS 6'!$E$68*'CS 6'!$H$68+(I20)*'CS 6'!$O$68*'CS 6'!$R$68/1000000)/2000)) -> 0.0039162345 | J30: =((((J16)*'CS 5'!$E$68*'CS 5'!$H$68+(J17)*'CS 5'!$O$68*'CS 5'!$R$68/1000000)/2000))+((((J19)*'CS 6'!$E$68*'CS 6'!$H$68+(J20)*'CS 6'!$O$68*'CS 6'!$R$68/1000000)/2000)) -> 0.00086632324 | ... N30: =((((N16)*'CS 5'!$E$68*'CS 5'!$H$68+(N17)*'CS 5'!$O$68*'CS 5'!$R$68/1000000)/2000))+((((N19)*'CS 6'!$E$68*'CS 6'!$H$68+(N20)*'CS 6'!$O$68*'CS 6'!$R$68/1000000)/2000)) -> 0.0049969106 | O30: =SUM(C30:N30) -> 0.033782382
A31: CO2e | B31: ton | C31: =((((C16)*'CS 5'!$E$74+(C17)*'CS 5'!$O$74)/'CS 5'!$H$75))+((((C19)*'CS 6'!$E$74+(C20)*'CS 6'!$O$74)/'CS 6'!$H$75)) -> 248541.25 | D31: =((((D16)*'CS 5'!$E$74+(D17)*'CS 5'!$O$74)/'CS 5'!$H$75))+((((D19)*'CS 6'!$E$74+(D20)*'CS 6'!$O$74)/'CS 6'!$H$75)) -> 226259.15 | E31: =((((E16)*'CS 5'!$E$74+(E17)*'CS 5'!$O$74)/'CS 5'!$H$75))+((((E19)*'CS 6'!$E$74+(E20)*'CS 6'!$O$74)/'CS 6'!$H$75)) -> 138218.43 | F31: =((((F16)*'CS 5'!$E$74+(F17)*'CS 5'!$O$74)/'CS 5'!$H$75))+((((F19)*'CS 6'!$E$74+(F20)*'CS 6'!$O$74)/'CS 6'!$H$75)) -> 130930.14 | G31: =((((G16)*'CS 5'!$E$74+(G17)*'CS 5'!$O$74)/'CS 5'!$H$75))+((((G19)*'CS 6'!$E$74+(G20)*'CS 6'!$O$74)/'CS 6'!$H$75)) -> 278081.32 | H31: =((((H16)*'CS 5'!$E$74+(H17)*'CS 5'!$O$74)/'CS 5'!$H$75))+((((H19)*'CS 6'!$E$74+(H20)*'CS 6'!$O$74)/'CS 6'!$H$75)) -> 326622.42 | I31: =((((I16)*'CS 5'!$E$74+(I17)*'CS 5'!$O$74)/'CS 5'!$H$75))+((((I19)*'CS 6'!$E$74+(I20)*'CS 6'!$O$74)/'CS 6'!$H$75)) -> 270037.57 | J31: =((((J16)*'CS 5'!$E$74+(J17)*'CS 5'!$O$74)/'CS 5'!$H$75))+((((J19)*'CS 6'!$E$74+(J20)*'CS 6'!$O$74)/'CS 6'!$H$75)) -> 268591.91 | ... N31: =((((N16)*'CS 5'!$E$74+(N17)*'CS 5'!$O$74)/'CS 5'!$H$75))+((((N19)*'CS 6'!$E$74+(N20)*'CS 6'!$O$74)/'CS 6'!$H$75)) -> 273040.67 | O31: =SUM(C31:N31) -> 3040122.4
A32: Costa Sur turbinas 1-1 y 1-2
A33: Combustible #2 | B33: gal | C33: =SUM('Costa Sur'!$B$24,'Costa Sur'!$C$24) -> 43260 | D33: =SUM('Costa Sur'!$B$25,'Costa Sur'!$C$25) -> 121656 | E33: =SUM('Costa Sur'!$B$26,'Costa Sur'!$C$26) -> 3539 | F33: =SUM('Costa Sur'!$B$27,'Costa Sur'!$C$27) -> 0 | G33: =SUM('Costa Sur'!$B$28,'Costa Sur'!$C$28) -> 0 | H33: =SUM('Costa Sur'!$B$29,'Costa Sur'!$C$29) -> 0 | I33: =SUM('Costa Sur'!$B$30,'Costa Sur'!$C$30) -> 0 | J33: =SUM('Costa Sur'!$B$31,'Costa Sur'!$C$31) -> 0 | K33: =SUM('Costa Sur'!$B$32,'Costa Sur'!$C$32) -> 0 | L33: =SUM('Costa Sur'!$B$33,'Costa Sur'!$C$33) -> 0 | M33: =SUM('Costa Sur'!$B$34,'Costa Sur'!$C$34) -> 0 | N33: =SUM('Costa Sur'!$B$35,'Costa Sur'!$C$35) -> 0 | O33: =SUM(C33:N33) -> 168455
A34: Azufre #2 ponderado | B34: % peso | C34: =IF(C33=0,0,('Costa Sur'!$B$24*'Costa Sur'!$D$24+'Costa Sur'!$C$24*'Costa Sur'!$E$24)/C33) -> 0.001 | D34: =IF(D33=0,0,('Costa Sur'!$B$25*'Costa Sur'!$D$25+'Costa Sur'!$C$25*'Costa Sur'!$E$25)/D33) -> 0.008 | E34: =IF(E33=0,0,('Costa Sur'!$B$26*'Costa Sur'!$D$26+'Costa Sur'!$C$26*'Costa Sur'!$E$26)/E33) -> 0.001 | F34: =IF(F33=0,0,('Costa Sur'!$B$27*'Costa Sur'!$D$27+'Costa Sur'!$C$27*'Costa Sur'!$E$27)/F33) -> 0 | G34: =IF(G33=0,0,('Costa Sur'!$B$28*'Costa Sur'!$D$28+'Costa Sur'!$C$28*'Costa Sur'!$E$28)/G33) -> 0 | H34: =IF(H33=0,0,('Costa Sur'!$B$29*'Costa Sur'!$D$29+'Costa Sur'!$C$29*'Costa Sur'!$E$29)/H33) -> 0 | I34: =IF(I33=0,0,('Costa Sur'!$B$30*'Costa Sur'!$D$30+'Costa Sur'!$C$30*'Costa Sur'!$E$30)/I33) -> 0 | J34: =IF(J33=0,0,('Costa Sur'!$B$31*'Costa Sur'!$D$31+'Costa Sur'!$C$31*'Costa Sur'!$E$31)/J33) -> 0 | K34: =IF(K33=0,0,('Costa Sur'!$B$32*'Costa Sur'!$D$32+'Costa Sur'!$C$32*'Costa Sur'!$E$32)/K33) -> 0 | L34: =IF(L33=0,0,('Costa Sur'!$B$33*'Costa Sur'!$D$33+'Costa Sur'!$C$33*'Costa Sur'!$E$33)/L33) -> 0 | M34: =IF(M33=0,0,('Costa Sur'!$B$34*'Costa Sur'!$D$34+'Costa Sur'!$C$34*'Costa Sur'!$E$34)/M33) -> 0 | N34: =IF(N33=0,0,('Costa Sur'!$B$35*'Costa Sur'!$D$35+'Costa Sur'!$C$35*'Costa Sur'!$E$35)/N33) -> 0 | O34: =IF(O33=0,0,SUMPRODUCT(C34:N34,C33:N33)/O33) -> 0.0060553085
A35: PM | B35: ton | C35: =('Turbinas CS'!$C$19*(C33)*'Turbinas CS'!$G$19/'Turbinas CS'!$I$20) -> 0.03581928 | D35: =('Turbinas CS'!$C$19*(D33)*'Turbinas CS'!$G$19/'Turbinas CS'!$I$20) -> 0.10073117 | E35: =('Turbinas CS'!$C$19*(E33)*'Turbinas CS'!$G$19/'Turbinas CS'!$I$20) -> 0.002930292 | F35: =('Turbinas CS'!$C$19*(F33)*'Turbinas CS'!$G$19/'Turbinas CS'!$I$20) -> 0 | G35: =('Turbinas CS'!$C$19*(G33)*'Turbinas CS'!$G$19/'Turbinas CS'!$I$20) -> 0 | H35: =('Turbinas CS'!$C$19*(H33)*'Turbinas CS'!$G$19/'Turbinas CS'!$I$20) -> 0 | I35: =('Turbinas CS'!$C$19*(I33)*'Turbinas CS'!$G$19/'Turbinas CS'!$I$20) -> 0 | J35: =('Turbinas CS'!$C$19*(J33)*'Turbinas CS'!$G$19/'Turbinas CS'!$I$20) -> 0 | ... N35: =('Turbinas CS'!$C$19*(N33)*'Turbinas CS'!$G$19/'Turbinas CS'!$I$20) -> 0 | O35: =SUM(C35:N35) -> 0.13948074
