Workbook
Name \A: #N/A
Name \B: #N/A

Sheet 2025-Formato 2M
A1: 2025 | B1: Inventario de Emisiones
B2: January | C2: February | D2: March | E2: April | F2: May | G2: June | H2: July | I2: August | J2: September | K2: October | L2: November | M2: December | N2: Total Emisiones (tons/year) | O2: Total Emisiones Permisibles (tons/year)
A3: Pollutant | B3: San Juan | C3: San Juan | D3: San Juan | E3: San Juan | F3: San Juan | G3: San Juan | H3: San Juan | I3: San Juan | J3: San Juan | K3: San Juan | L3: San Juan | M3: San Juan | N3: San Juan | O3: San Juan
A4: PM | B4: ='Mensual 2025'!C52 -> 8.155649 | C4: ='Mensual 2025'!D52 -> 14.957834 | D4: ='Mensual 2025'!E52 -> 20.423651 | E4: ='Mensual 2025'!F52 -> 17.806101 | F4: ='Mensual 2025'!G52 -> 14.278799 | G4: ='Mensual 2025'!H52 -> 18.731875 | H4: ='Mensual 2025'!I52 -> 19.256673 | I4: ='Mensual 2025'!J52 -> 16.162583 | ... M4: ='Mensual 2025'!N52 -> 10.896366 | N4: =SUM(B4:M4) -> 198.26297 | O4: 2946.22
A5: PM10 | B5: ='Mensual 2025'!C53 -> 9.7468946 | C5: ='Mensual 2025'!D53 -> 19.011365 | D5: ='Mensual 2025'!E53 -> 26.118043 | E5: ='Mensual 2025'!F53 -> 22.633104 | F5: ='Mensual 2025'!G53 -> 17.556384 | G5: ='Mensual 2025'!H53 -> 22.67671 | H5: ='Mensual 2025'!I53 -> 23.624255 | I5: ='Mensual 2025'!J53 -> 19.879882 | ... M5: ='Mensual 2025'!N53 -> 13.66397 | N5: =SUM(B5:M5) -> 245.79635 | O5: 1430.51
A6: SO2 | B6: ='Mensual 2025'!C55 -> 48.013777 | C6: ='Mensual 2025'!D55 -> 142.5204 | D6: ='Mensual 2025'!E55 -> 161.59957 | E6: ='Mensual 2025'!F55 -> 142.86692 | F6: ='Mensual 2025'!G55 -> 148.68476 | G6: ='Mensual 2025'!H55 -> 158.54027 | H6: ='Mensual 2025'!I55 -> 135.79835 | I6: ='Mensual 2025'!J55 -> 153.79311 | ... M6: ='Mensual 2025'!N55 -> 115.6882 | N6: =SUM(B6:M6) -> 1611.3022 | O6: 7619.76
A7: NOx | B7: ='Mensual 2025'!C56 -> 67.336217 | C7: ='Mensual 2025'!D56 -> 98.222268 | D7: ='Mensual 2025'!E56 -> 116.43922 | E7: ='Mensual 2025'!F56 -> 108.51106 | F7: ='Mensual 2025'!G56 -> 122.24509 | G7: ='Mensual 2025'!H56 -> 162.38682 | H7: ='Mensual 2025'!I56 -> 145.97317 | I7: ='Mensual 2025'!J56 -> 135.21992 | ... M7: ='Mensual 2025'!N56 -> 91.633878 | N7: =SUM(B7:M7) -> 1479.1188 | O7: 6739.2
A8: CO | B8: ='Mensual 2025'!C58 -> 13.108607 | C8: ='Mensual 2025'!D58 -> 15.725793 | D8: ='Mensual 2025'!E58 -> 16.529173 | E8: ='Mensual 2025'!F58 -> 16.469345 | F8: ='Mensual 2025'!G58 -> 23.437604 | G8: ='Mensual 2025'!H58 -> 31.77438 | H8: ='Mensual 2025'!I58 -> 26.632899 | I8: ='Mensual 2025'!J58 -> 25.677084 | ... M8: ='Mensual 2025'!N58 -> 17.077313 | N8: =SUM(B8:M8) -> 264.31978 | O8: 1654.73
A9: VOC | B9: ='Mensual 2025'!C57 -> 2.1349724 | C9: ='Mensual 2025'!D57 -> 3.4433351 | D9: ='Mensual 2025'!E57 -> 4.8936422 | E9: ='Mensual 2025'!F57 -> 4.2517333 | F9: ='Mensual 2025'!G57 -> 3.2532057 | G9: ='Mensual 2025'!H57 -> 4.5231829 | H9: ='Mensual 2025'!I57 -> 4.7764732 | I9: ='Mensual 2025'!J57 -> 3.7340935 | ... M9: ='Mensual 2025'!N57 -> 2.2933756 | N9: =SUM(B9:M9) -> 47.499901 | O9: 190.7
A10: Pb | B10: ='Mensual 2025'!C60 -> 0.0017665721 | C10: ='Mensual 2025'!D60 -> 0.0044061819 | D10: ='Mensual 2025'!E60 -> 0.0063487831 | E10: ='Mensual 2025'!F60 -> 0.0053468413 | F10: ='Mensual 2025'!G60 -> 0.0034154145 | G10: ='Mensual 2025'!H60 -> 0.0041861589 | H10: ='Mensual 2025'!I60 -> 0.0047914167 | I10: ='Mensual 2025'!J60 -> 0.0039091951 | ... M10: ='Mensual 2025'!N60 -> 0.0028290145 | N10: =SUM(B10:M10) -> 0.051569574 | O10: 3.54
A11: CO2e | B11: ='Mensual 2025'!C61 -> 79568.941 | C11: ='Mensual 2025'!D61 -> 102765.89 | D11: ='Mensual 2025'!E61 -> 126709.73 | E11: ='Mensual 2025'!F61 -> 117800.92 | F11: ='Mensual 2025'!G61 -> 128779 | G11: ='Mensual 2025'!H61 -> 179296.42 | H11: ='Mensual 2025'!I61 -> 164966.97 | I11: ='Mensual 2025'!J61 -> 143894.66 | ... M11: ='Mensual 2025'!N61 -> 90425.488 | N11: =SUM(B11:M11) -> 1618695.1 | O11: N/A
A12: Total | B12: =SUM(B4:B10) -> 148.49788 | C12: =SUM(C4:C10) -> 293.8854 | D12: =SUM(D4:D10) -> 346.00965 | E12: =SUM(E4:E10) -> 312.54361 | F12: =SUM(F4:F10) -> 329.45925 | G12: =SUM(G4:G10) -> 398.63742 | H12: =SUM(H4:H10) -> 356.06661 | I12: =SUM(I4:I10) -> 354.47057 | ... O12: =SUM(O4:O10) -> 20584.66
B14: Palo Seco | C14: Palo Seco | D14: Palo Seco | E14: Palo Seco | F14: Palo Seco | G14: Palo Seco | H14: Palo Seco | I14: Palo Seco | J14: Palo Seco | K14: Palo Seco | L14: Palo Seco | M14: Palo Seco | N14: Palo Seco | O14: Palo Seco
A15: PM10 | B15: ='Mensual 2025'!C81 -> 27.533156 | C15: ='Mensual 2025'!D81 -> 26.025317 | D15: ='Mensual 2025'!E81 -> 27.19635 | E15: ='Mensual 2025'!F81 -> 25.517369 | F15: ='Mensual 2025'!G81 -> 27.700808 | G15: ='Mensual 2025'!H81 -> 18.972897 | H15: ='Mensual 2025'!I81 -> 23.585132 | I15: ='Mensual 2025'!J81 -> 23.014882 | ... M15: ='Mensual 2025'!N81 -> 40.502338 | N15: =SUM(B15:M15) -> 329.04363 | O15: 1387.38
A16: SO2 | B16: ='Mensual 2025'!C82 -> 261.6812 | C16: ='Mensual 2025'!D82 -> 248.523 | D16: ='Mensual 2025'!E82 -> 241.76871 | E16: ='Mensual 2025'!F82 -> 211.44639 | F16: ='Mensual 2025'!G82 -> 264.87306 | G16: ='Mensual 2025'!H82 -> 176.28594 | H16: ='Mensual 2025'!I82 -> 217.12128 | I16: ='Mensual 2025'!J82 -> 205.34919 | ... M16: ='Mensual 2025'!N82 -> 378.00279 | N16: =SUM(B16:M16) -> 3021.0638 | O16: 17464.39
A17: NOx | B17: ='Mensual 2025'!C83 -> 219.90854 | C17: ='Mensual 2025'!D83 -> 194.25978 | D17: ='Mensual 2025'!E83 -> 240.38386 | E17: ='Mensual 2025'!F83 -> 242.68821 | F17: ='Mensual 2025'!G83 -> 200.14771 | G17: ='Mensual 2025'!H83 -> 146.97383 | H17: ='Mensual 2025'!I83 -> 194.22215 | I17: ='Mensual 2025'!J83 -> 182.85727 | ... M17: ='Mensual 2025'!N83 -> 291.62585 | N17: =SUM(B17:M17) -> 2589.2548 | O17: 12276.89
A18: VOC | B18: ='Mensual 2025'!C84 -> 2.8739613 | C18: ='Mensual 2025'!D84 -> 2.755171 | D18: ='Mensual 2025'!E84 -> 3.2726051 | E18: ='Mensual 2025'!F84 -> 3.4481234 | F18: ='Mensual 2025'!G84 -> 2.9563008 | G18: ='Mensual 2025'!H84 -> 2.1352432 | H18: ='Mensual 2025'!I84 -> 2.6281363 | I18: ='Mensual 2025'!J84 -> 2.7084017 | ... M18: ='Mensual 2025'!N84 -> 4.4148334 | N18: =SUM(B18:M18) -> 37.222986 | O18: 130.04
A19: CO | B19: ='Mensual 2025'!C85 -> 18.465924 | C19: ='Mensual 2025'!D85 -> 17.639647 | D19: ='Mensual 2025'!E85 -> 19.995878 | E19: ='Mensual 2025'!F85 -> 20.41451 | F19: ='Mensual 2025'!G85 -> 18.886563 | G19: ='Mensual 2025'!H85 -> 13.393848 | H19: ='Mensual 2025'!I85 -> 16.5834 | I19: ='Mensual 2025'!J85 -> 17.068373 | ... M19: ='Mensual 2025'!N85 -> 28.535966 | N19: =SUM(B19:M19) -> 234.89951 | O19: 856.94
A20: Pb | B20: ='Mensual 2025'!C86 -> 0.0063819498 | C20: ='Mensual 2025'!D86 -> 0.0058806355 | D20: ='Mensual 2025'!E86 -> 0.0074784823 | E20: ='Mensual 2025'!F86 -> 0.0079470541 | F20: ='Mensual 2025'!G86 -> 0.0061942695 | G20: ='Mensual 2025'!H86 -> 0.0046002584 | H20: ='Mensual 2025'!I86 -> 0.0058364245 | I20: ='Mensual 2025'!J86 -> 0.0057507203 | ... M20: ='Mensual 2025'!N86 -> 0.0090176532 | N20: =SUM(B20:M20) -> 0.080116732 | O20: 0.37
A21: CO2e | B21: ='Mensual 2025'!C87 -> 98318.667 | C21: ='Mensual 2025'!D87 -> 91272.324 | D21: ='Mensual 2025'!E87 -> 108886.43 | E21: ='Mensual 2025'!F87 -> 112038.69 | F21: ='Mensual 2025'!G87 -> 96429.833 | G21: ='Mensual 2025'!H87 -> 69756.566 | H21: ='Mensual 2025'!I87 -> 88318.162 | I21: ='Mensual 2025'!J87 -> 87956.554 | ... M21: ='Mensual 2025'!N87 -> 143152.78 | N21: =SUM(B21:M21) -> 1222587.1 | O21: 5418568.6
A22: Subtotal | B22: =SUM(B15:B20) -> 530.46916 | C22: =SUM(C15:C20) -> 489.2088 | D22: =SUM(D15:D20) -> 532.62488 | E22: =SUM(E15:E20) -> 503.52255 | F22: =SUM(F15:F20) -> 514.57063 | G22: =SUM(G15:G20) -> 357.76636 | H22: =SUM(H15:H20) -> 454.14594 | I22: =SUM(I15:I20) -> 431.00386 | ... O22: =SUM(O15:O20) -> 32116.01
A23: Ni Comp | B23: 0 | C23: 0 | D23: 0 | E23: 0 | F23: 0 | G23: 0 | H23: 0 | I23: 0 | J23: 0 | K23: 0 | L23: 0 | M23: 0 | N23: =SUM(B23:M23) -> 0 | O23: N/A
A24: Mn Comp | B24: 0 | C24: 0 | D24: 0 | E24: 0 | F24: 0 | G24: 0 | H24: 0 | I24: 0 | J24: 0 | K24: 0 | L24: 0 | M24: 0 | N24: =SUM(B24:M24) -> 0 | O24: N/A
A25: Formaldehido | B25: 0 | C25: 0 | D25: 0 | E25: 0 | F25: 0 | G25: 0 | H25: 0 | I25: 0 | J25: 0 | K25: 0 | L25: 0 | M25: 0 | N25: =SUM(B25:M25) -> 0 | O25: N/A
A26: Tolueno | B26: 0 | C26: 0 | D26: 0 | E26: 0 | F26: 0 | G26: 0 | H26: 0 | I26: 0 | J26: 0 | K26: 0 | L26: 0 | M26: 0 | N26: =SUM(B26:M26) -> 0 | O26: N/A
A27: POM | B27: 0 | C27: 0 | D27: 0 | E27: 0 | F27: 0 | G27: 0 | H27: 0 | I27: 0 | J27: 0 | K27: 0 | L27: 0 | M27: 0 | N27: =SUM(B27:M27) -> 0 | O27: N/A
A28: CAPs Total | B28: 0 | C28: 0 | D28: 0 | E28: 0 | F28: 0 | G28: 0 | H28: 0 | I28: 0 | J28: 0 | K28: 0 | L28: 0 | M28: 0 | N28: =SUM(B28:M28) -> 0 | O28: N/A
A29: Subtotal CAPs | B29: =B28 -> 0 | C29: =C28 -> 0 | D29: =D28 -> 0 | E29: =E28 -> 0 | F29: =F28 -> 0 | G29: =G28 -> 0 | H29: =H28 -> 0 | I29: =I28 -> 0 | ... O29: =O28 -> N/A
A30: Total | B30: =SUM(B22,B29) -> 530.46916 | C30: =SUM(C22,C29) -> 489.2088 | D30: =SUM(D22,D29) -> 532.62488 | E30: =SUM(E22,E29) -> 503.52255 | F30: =SUM(F22,F29) -> 514.57063 | G30: =SUM(G22,G29) -> 357.76636 | H30: =SUM(H22,H29) -> 454.14594 | I30: =SUM(I22,I29) -> 431.00386 | ... O30: =SUM(O22,O29) -> 32116.01
B32: Aguirre | C32: Aguirre | D32: Aguirre | E32: Aguirre | F32: Aguirre | G32: Aguirre | H32: Aguirre | I32: Aguirre | J32: Aguirre | K32: Aguirre | L32: Aguirre | M32: Aguirre | N32: Aguirre | O32: Aguirre
A33: PM Total | B33: ='Mensual 2025'!C67 -> 23.251875 | C33: ='Mensual 2025'!D67 -> 24.712476 | D33: ='Mensual 2025'!E67 -> 2.6647714 | E33: ='Mensual 2025'!F67 -> 4.3946729 | F33: ='Mensual 2025'!G67 -> 4.3324272 | G33: ='Mensual 2025'!H67 -> 19.773893 | H33: ='Mensual 2025'!I67 -> 47.682175 | I33: ='Mensual 2025'!J67 -> 47.219722 | ... M33: ='Mensual 2025'!N67 -> 30.190408 | N33: =SUM(B33:M33) -> 357.41096 | O33: 2194.88
A34: SO2 | B34: ='Mensual 2025'!C68 -> 207.71136 | C34: ='Mensual 2025'!D68 -> 228.0802 | D34: ='Mensual 2025'!E68 -> 0.22428493 | E34: ='Mensual 2025'!F68 -> 0.36988497 | F34: ='Mensual 2025'!G68 -> 0.36464596 | G34: ='Mensual 2025'!H68 -> 130.61015 | H34: ='Mensual 2025'!I68 -> 411.37772 | I34: ='Mensual 2025'!J68 -> 416.83573 | ... M34: ='Mensual 2025'!N68 -> 257.5054 | N34: =SUM(B34:M34) -> 3020.9634 | O34: 30608.58
A35: NOx | B35: ='Mensual 2025'!C69 -> 310.9797 | C35: ='Mensual 2025'!D69 -> 280.90747 | D35: ='Mensual 2025'!E69 -> 195.41657 | E35: ='Mensual 2025'!F69 -> 322.27601 | F35: ='Mensual 2025'!G69 -> 317.71133 | G35: ='Mensual 2025'!H69 -> 576.36941 | H35: ='Mensual 2025'!I69 -> 736.45754 | I35: ='Mensual 2025'!J69 -> 665.29805 | ... M35: ='Mensual 2025'!N69 -> 430.35239 | N35: =SUM(B35:M35) -> 5821.2385 | O35: 28867.78
A36: VOC | B36: ='Mensual 2025'!C70 -> 2.1326719 | C36: ='Mensual 2025'!D70 -> 2.3142557 | D36: ='Mensual 2025'!E70 -> 0.091046358 | E36: ='Mensual 2025'!F70 -> 0.15015133 | F36: ='Mensual 2025'!G70 -> 0.1480246 | G36: ='Mensual 2025'!H70 -> 1.514276 | H36: ='Mensual 2025'!I70 -> 4.2786527 | I36: ='Mensual 2025'!J70 -> 4.2986045 | ... M36: ='Mensual 2025'!N70 -> 2.8835032 | N36: =SUM(B36:M36) -> 32.090277 | O36: 195.32
A37: CO | B37: ='Mensual 2025'!C71 -> 14.152263 | C37: ='Mensual 2025'!D71 -> 15.317302 | D37: ='Mensual 2025'!E71 -> 0.73281215 | E37: ='Mensual 2025'!F71 -> 1.2085351 | F37: ='Mensual 2025'!G71 -> 1.1914175 | G37: ='Mensual 2025'!H71 -> 10.299742 | H37: ='Mensual 2025'!I71 -> 28.472335 | I37: ='Mensual 2025'!J71 -> 28.552423 | ... M37: ='Mensual 2025'!N71 -> 19.141711 | N37: =SUM(B37:M37) -> 213.75533 | O37: 1299.54
A38: Pb | B38: ='Mensual 2025'!C72 -> 0.0068962448 | C38: ='Mensual 2025'!D72 -> 0.0066095859 | D38: ='Mensual 2025'!E72 -> 0.0031089 | E38: ='Mensual 2025'!F72 -> 0.0051271184 | F38: ='Mensual 2025'!G72 -> 0.0050544984 | G38: ='Mensual 2025'!H72 -> 0.010390848 | H38: ='Mensual 2025'!I72 -> 0.015574799 | I38: ='Mensual 2025'!J72 -> 0.014494781 | ... M38: ='Mensual 2025'!N72 -> 0.0094769502 | N38: =SUM(B38:M38) -> 0.12141317 | O38: 0.63
A39: CO2e | B39: ='Mensual 2025'!C73 -> 100526.1 | C39: ='Mensual 2025'!D73 -> 99136.944 | D39: ='Mensual 2025'!E73 -> 36333.794 | E39: ='Mensual 2025'!F73 -> 59920.764 | F39: ='Mensual 2025'!G73 -> 59072.052 | G39: ='Mensual 2025'!H73 -> 133927.89 | H39: ='Mensual 2025'!I73 -> 221480.68 | I39: ='Mensual 2025'!J73 -> 209390.93 | ... M39: ='Mensual 2025'!N73 -> 137657.09 | N39: =SUM(B39:M39) -> 1713503.6 | O39: 10093497
A40: Subtotal | B40: =SUM(B33:B38) -> 558.23477 | C40: =SUM(C33:C38) -> 551.33831 | D40: =SUM(D33:D38) -> 199.1326 | E40: =SUM(E33:E38) -> 328.40439 | F40: =SUM(F33:F38) -> 323.7529 | G40: =SUM(G33:G38) -> 738.57786 | H40: =SUM(H33:H38) -> 1228.284 | I40: =SUM(I33:I38) -> 1162.219 | ... O40: =SUM(O33:O38) -> 63166.73
A41: Ni Comp | B41: 0 | C41: 0 | D41: 0 | E41: 0 | F41: 0 | G41: 0 | H41: 0 | I41: 0 | J41: 0 | K41: 0 | L41: 0 | M41: 0 | N41: =SUM(B41:M41) -> 0 | O41: 20.71
A42: Mn Comp | B42: 0 | C42: 0 | D42: 0 | E42: 0 | F42: 0 | G42: 0 | H42: 0 | I42: 0 | J42: 0 | K42: 0 | L42: 0 | M42: 0 | N42: =SUM(B42:M42) -> 0 | O42: 19.62
...

Sheet Costa Sur
A2: Costa Sur BC Consumption 2025
A3: Galones | F3: Azufre | L3: Barrels
A4: year | B4: CS3 | C4: CS4 | D4: CS5 | E4: CS6 | F4: CS3 | G4: CS4 | H4: CS5 | I4: CS6 | J4: CS3 | K4: CS4 | L4: CS5 | M4: CS6
A5: 45658 | B5: 0 | C5: 0 | D5: =SUM(L5*42) -> 330906.66 | E5: =SUM(M5*42) -> 8255977 | F5: 0 | G5: 0 | H5: 0.49 | I5: 0.49 | J5: 0 | K5: 0 | L5: 7878.73 | M5: 196570.88
A6: 45689 | B6: 0 | C6: 0 | D6: =SUM(L6*42) -> 762088.32 | E6: =SUM(M6*42) -> 8463100.4 | F6: 0 | G6: 0 | H6: 0.48 | I6: 0.48 | J6: 0 | K6: 0 | L6: 18144.96 | M6: 201502.39
A7: 45717 | B7: 0 | C7: 0 | D7: =SUM(L7*42) -> 0 | E7: =SUM(M7*42) -> 3474278.6 | F7: 0 | G7: 0 | H7: 0.49 | I7: 0.49 | J7: 0 | K7: 0 | L7: 0 | M7: 82720.92
A8: 45748 | B8: 0 | C8: 0 | D8: =SUM(L8*42) -> 0 | E8: =SUM(M8*42) -> 2669000.5 | F8: 0 | G8: 0 | H8: 0.48 | I8: 0.48 | J8: 0 | K8: 0 | L8: 0 | M8: 63547.63
A9: 45778 | B9: 0 | C9: 0 | D9: =SUM(L9*42) -> 2658474.4 | E9: =SUM(M9*42) -> 8645531.6 | F9: 0 | G9: 0 | H9: 0.49 | I9: 0.49 | J9: 0 | K9: 0 | L9: 63297.01 | M9: 205845.99
A10: 45809 | B10: 0 | C10: 0 | D10: =SUM(L10*42) -> 10104505 | E10: =SUM(M10*42) -> 7613907 | F10: 0 | G10: 0 | H10: 0.49 | I10: 0.49 | J10: 0 | K10: 0 | L10: 240583.46 | M10: 181283.5
A11: 45839 | B11: 0 | C11: 0 | D11: =SUM(L11*42) -> 3136727.6 | E11: =SUM(M11*42) -> 8141125.4 | F11: 0 | G11: 0 | H11: 0.49 | I11: 0.49 | J11: 0 | K11: 0 | L11: 74683.99 | M11: 193836.32
A12: 45870 | B12: 0 | C12: 0 | D12: =SUM(L12*42) -> 1383275.5 | E12: =SUM(M12*42) -> 1111535.9 | F12: 0 | G12: 0 | H12: 0.49 | I12: 0.49 | J12: 0 | K12: 0 | L12: 32935.13 | M12: 26465.14
A13: 45901 | B13: 0 | C13: 0 | D13: =SUM(L13*42) -> 665703.36 | E13: =SUM(M13*42) -> 287365.68 | F13: 0 | G13: 0 | H13: 0.49 | I13: 0.49 | J13: 0 | K13: 0 | L13: 15850.08 | M13: 6842.04
A14: 45931 | B14: 0 | C14: 0 | D14: =SUM(L14*42) -> 2844801.1 | E14: =SUM(M14*42) -> 6398555.5 | F14: 0 | G14: 0 | H14: 0.49 | I14: 0.49 | J14: 0 | K14: 0 | L14: 67733.36 | M14: 152346.56
A15: 45962 | B15: 0 | C15: 0 | D15: =SUM(L15*42) -> 2041878.3 | E15: =SUM(M15*42) -> 3906787.1 | F15: 0 | G15: 0 | H15: 0.49 | I15: 0.49 | J15: 0 | K15: 0 | L15: 48616.15 | M15: 93018.74
A16: 45992 | B16: 0 | C16: 0 | D16: =SUM(L16*42) -> 4440474.4 | E16: =SUM(M16*42) -> 9949477 | F16: 0 | G16: 0 | H16: 0.47 | I16: 0.47 | J16: 0 | K16: 0 | L16: 105725.58 | M16: 236892.31
A17: Total | B17: =SUM(B5:B16) -> 0 | C17: =SUM(C5:C16) -> 0 | D17: =SUM(D5:D16) -> 28368835 | E17: =SUM(E5:E16) -> 68916642 | F17: =AVERAGE(F5:F16) -> 0 | G17: =AVERAGE(G5:G16) -> 0 | H17: =AVERAGE(H5:H16) -> 0.48666667 | I17: =AVERAGE(I5:I16) -> 0.48666667
A21: CS #2 FO Consumption 2025
A22: year | B22: Galones | D22: Azufre | G22: Barrels
B23: SCGT1-1 | C23: SCGT1-2 | D23: SCGT1-1 | E23: SCGT1-2 | G23: SCGT1-1 | H23: SCGT1-2
A24: =A5 -> 45658 | B24: 0 | C24: 43260 | D24: 0.001 | E24: 0.001 | G24: 0 | H24: 0
A25: =A6 -> 45689 | B25: 0 | C25: 121656 | D25: 0.008 | E25: 0.008 | G25: 0 | H25: 0
A26: =A7 -> 45717 | B26: 0 | C26: 3539 | D26: 0.001 | E26: 0.001 | G26: 0 | H26: 0
A27: =A8 -> 45748 | B27: 0 | C27: 0 | D27: 0.001 | E27: 0.001 | G27: 0 | H27: 0
A28: =A9 -> 45778 | B28: 0 | C28: 0 | D28: 0.001 | E28: 0.001 | G28: 0 | H28: 0
A29: =A10 -> 45809 | B29: 0 | C29: 0 | D29: 0.001 | E29: 0.001 | G29: 0 | H29: 0
A30: =A11 -> 45839 | B30: 0 | C30: 0 | D30: 0.001 | E30: 0.001 | G30: 0.001 | H30: 0.001
A31: =A12 -> 45870 | B31: 0 | C31: 0 | D31: 0.001 | E31: 0.001 | G31: 0 | H31: 0
A32: =A13 -> 45901 | B32: 0 | C32: 0 | D32: 0.001 | E32: 0.001
A33: =A14 -> 45931 | B33: 0 | C33: 0 | D33: 0.001 | E33: 0.001
A34: =A15 -> 45962 | B34: 0 | C34: 0 | D34: 0.001 | E34: 0.001
A35: =A16 -> 45992 | B35: 0 | C35: 0 | D35: 0.001 | E35: 0.01
A36: Total | B36: =SUM(B24:B35) -> 0 | C36: =SUM(C24:C35) -> 168455 | D36: =SUM(D24:D35) -> 0.019 | E36: =SUM(E24:E35) -> 0.028
A39: Costa Sur Natural Gas Consumtion 2025
A40: year | B40: SCF | D40: Azufre
B41: Unit 5 | C41: Unit 6 | D41: Unit 5 | E41: Unit 6
A42: =A5 -> 45658 | B42: 1554213850 | C42: 745542910 | D42: 0.001 | E42: 0.001
A43: =A6 -> 45689 | B43: 1267505400 | C43: 526697500 | D43: 0.001 | E43: 0.001
A44: =A7 -> 45717 | B44: 0 | C44: 1555548100 | D44: 0.001 | E44: 0.001
A45: =A8 -> 45748 | B45: 0 | C45: 1605781227 | D45: 0.001 | E45: 0.001
A46: =A9 -> 45778 | B46: 1357855300 | C46: 854542040 | D46: 0.001 | E46: 0.001
...

Sheet Turbinas CS
B1: Cómputo de Emisiones Actuales - Costa Sur (Turbinas 1-1 & 1-2) DICIEMBRE 2025
B3: Factores de Emisión AP-42 Section 3.1
B5: PM | C5: 0.012lb/MMBTU
B6: SOx | C6: 1.01*%S lb/MMBTU
B7: NOx | C7: 0.880 lb/MMBTU
B8: VOC | C8: 0.00041 lb/MMBTU
B9: C0 | C9: 0.0033 lb/MMBTU
B10: Pb | C10: 0.0000140 lb MMBTU
B11: CO2e | C11: 163.61 lb/MMBtu (40 CFR 98, Subpart C)
R12: =(73.96+0.003*25+0.0006*298)*2.2046 -> 163.61174
B13: Combustible #2 | C13: ='Costa Sur'!B36+'Costa Sur'!C36 -> 168455 | D13: gal/year
B14: Azufre % | C14: =MAX('Costa Sur'!D35:E35) -> 0.01
B17: Cálculos Emisiones PM
B19: = | C19: 0.012 | D19: lb | E19: =C13 -> 168455 | F19: gal | G19: 0.138 | H19: MMBTU | I19: ton
C20: MMBTU | E20: año | G20: gal | I20: 2000 | J20: lb
B23: = | C23: =C19*E19*G19/I20 -> 0.13948074 | D23: ton | E23: = | F23: =C23*2000/8760 -> 0.031844918 | G23: lb
D24: año | G24: hr
B26: Cálculos Emisiones SOx
B28: = | C28: =1.01*C14 -> 0.0101 | D28: lb | E28: =E19 -> 168455 | F28: gal | G28: 0.138 | H28: MMBTU | I28: ton
C29: MMBTU | E29: año | G29: gal | I29: 2000 | J29: lb
B32: = | C32: =C28*E28*G28/I29 -> 0.11739629 | D32: ton | E32: = | F32: =C32*2000/8760 -> 0.026802806 | G32: lb
D33: año | G33: hr
B35: Cálculos Emisiones NOx
B37: = | C37: 0.88 | D37: lb | E37: =E19 -> 168455 | F37: gal | G37: 0.138 | H37: MMBTU | I37: ton
C38: MMBTU | E38: año | G38: gal | I38: 2000 | J38: lb
B41: = | C41: =C37*E37*G37/I38 -> 10.228588 | D41: ton | E41: = | F41: =C41*2000/8760 -> 2.335294 | G41: lb
D42: año | G42: hr
B44: Cálculos Emisiones VOC
B46: = | C46: 0.00041 | D46: lb | E46: =E19 -> 168455 | F46: gal | G46: 0.138 | H46: MMBTU | I46: ton
C47: MMBTU | E47: año | G47: gal | I47: 2000 | J47: lb
B50: = | C50: =C46*E46*G46/I47 -> 0.004765592 | D50: ton | E50: = | F50: =C50*2000/8760 -> 0.0010880347 | G50: lb
D51: año | G51: hr
B53: Cálculos Emisiones CO
B55: = | C55: 0.0033 | D55: lb | E55: =E19 -> 168455 | F55: gal | G55: 0.138 | H55: MMBTU | I55: ton
C56: MMBTU | E56: año | G56: gal | I56: 2000 | J56: lb
B59: = | C59: =C55*E55*G55/I56 -> 0.038357203 | D59: ton | E59: = | F59: =C59*2000/8760 -> 0.0087573524 | G59: lb
D60: año | G60: hr
B62: Cálculos Emisiones Pb
B64: = | C64: 1.4e-05 | D64: lb | E64: =E19 -> 168455 | F64: gal | G64: 0.138 | H64: MMBTU | I64: ton
C65: MMBTU | E65: año | G65: gal | I65: 2000 | J65: lb
...

Sheet CS 5
A1: Cómputo de Emisiones Actuales para Bunker C y Gas Natural - Costa Sur AÑO 2025 - Unidad 5*
A3: Parametro | B3: Factor de Emisión Combustible Natural Gas | C3: Factor de Emisión Combustible No. 6 Oil | D3: Emisiones Actuales (ton/year) | E3: Emisiones Actuales (lb/hr)
A4: NOx | B4: 0.35 | C4: 0.35 | D4: =B23 -> 3605.144 | E4: =F23 -> 823.09224
A5: CO | B5: 0.009 | C5: 0.0038 | D5: =B29 -> 81.639857 | E5: =F29 -> 18.639237
A6: VOC | B6: 0.0008 | C6: 0.0013 | D6: =B35 -> 9.3041604 | E6: =F35 -> 2.1242375 | F6: Ecuación para el Cómputo
A7: PM | B7: 0.005 | C7: 0.0275 | D7: =B41 -> 99.374466 | E7: =F41 -> 22.688234 | F7: ton/year = | G7: [Consumo de Combustible #6 en galones/year) * ( Valor Calorífico BC 0.15 MMBtu/gal)
A8: PM10 | B8: 0.0081 | C8: 0.04 | D8: =B47 -> 151.30577 | E8: =F47 -> 34.544696 | G8: + (Consumo Gas Natural SCF/year) * (Valor Calorífico GN 1,040 MMBtu/SCF*10^6)]
A9: PM2.5 | B9: 0.0075 | C9: 0.033 | D9: =B53 -> 131.50848 | E9: =F53 -> 30.024768 | G9: * FE en lbs/MMBtu * 1 ton/2,000 lbs
A10: SO2 | B10: 0.004 | C10: 157*%S | D10: =B59 -> 1116.4751 | E10: =F59 -> 254.90298
A11: H2SO4 | B11: 0.00043 | C11: 0.02259 | D11: =B65 -> 51.578181 | E11: =F65 -> 11.77584 | F11: lbs/hr = | G11: (Toneladas Contaminante / year) * (1 year / 8,760 hr) * (2000 lb / ton) | V11: CO2e | W11: =(157765.7+153.2+365.3)*2204.6/13621578 -> 25.617689 | X11: lbs/gal
A12: Pb | B12: 0 | C12: 4.63e-06 | D12: =B71 -> 0.0098510779 | E12: =F71 -> 0.0022491045 | W12: =(989989.8+466.4+556)*2204.62/18132099995 -> 0.12049378 | X12: lbs/scf
A13: CO2e | B13: 25.618 lbs/gal | C13: 0.1205 lbs/SCF | D13: =B77 -> 1310261.8 | E13: =F77 -> 299146.53
A14: Fluoruro | B14: 0 | C14: 0 | D14: 0 | E14: 0
A16: Consumo #6 = | B16: =SUM('Costa Sur'!D17) -> 28368835 | D16: gal/year
A17: Consumo NG = | B17: =SUM('Costa Sur'!B54) -> 1.5716825e+10 | D17: SCF/year
A18: #6 Azufre = | B18: =SUM('Costa Sur'!H17) -> 0.48666667 | D18: %
A20: NOx = | B20: =B16 -> 28368835 | D20: galons | E20: 0.15 | F20: MMBtu | G20: * | H20: =C4 -> 0.35 | I20: lbs | J20: 1 | K20: ton | L20: + | M20: =B17 -> 1.5716825e+10 | N20: SCF | O20: 1040 | P20: MMBtu | Q20: * | R20: =B4 -> 0.35 | S20: lbs | T20: 1 | U20: ton
D21: year | F21: gal | I21: MMBtu | J21: 2000 | K21: lbs | N21: year | O21: 1000000 | P21: SCF | S21: MMBtu | T21: 2000 | U21: lbs
B23: =(B20*E20*H20+M20*O20*R20/1000000)/2000 -> 3605.144 | D23: ton/year | E23: = | F23: =B23*(2000/8760) -> 823.09224 | G23: lb/hr
A26: CO = | B26: =B16 -> 28368835 | D26: galons | E26: 0.15 | F26: MMBtu | G26: * | H26: =C5 -> 0.0038 | I26: lbs | J26: 1 | K26: ton | L26: + | M26: =B17 -> 1.5716825e+10 | N26: SCF | O26: 1040 | P26: MMBtu | Q26: * | R26: =B5 -> 0.009 | S26: lbs | T26: 1 | U26: ton
D27: year | F27: gal | I27: MMBtu | J27: 2000 | K27: lbs | N27: year | O27: 1000000 | P27: SCF | S27: MMBtu | T27: 2000 | U27: lbs
B29: =(B26*E26*H26+M26*O26*R26/1000000)/2000 -> 81.639857 | D29: ton/year | E29: = | F29: =B29*(2000/8760) -> 18.639237 | G29: lb/hr
A32: VOC = | B32: =B16 -> 28368835 | D32: galons | E32: 0.15 | F32: MMBtu | G32: * | H32: =C6 -> 0.0013 | I32: lbs | J32: 1 | K32: ton | L32: + | M32: =B17 -> 1.5716825e+10 | N32: SCF | O32: 1040 | P32: MMBtu | Q32: * | R32: =B6 -> 0.0008 | S32: lbs | T32: 1 | U32: ton
D33: year | F33: gal | I33: MMBtu | J33: 2000 | K33: lbs | N33: year | O33: 1000000 | P33: SCF | S33: MMBtu | T33: 2000 | U33: lbs
B35: =(B32*E32*H32+M32*O32*R32/1000000)/2000 -> 9.3041604 | D35: ton/year | E35: = | F35: =B35*(2000/8760) -> 2.1242375 | G35: lb/hr
A38: PM = | B38: =B16 -> 28368835 | D38: galons | E38: 0.15 | F38: MMBtu | G38: * | H38: =C7 -> 0.0275 | I38: lbs | J38: 1 | K38: ton | L38: + | M38: =B17 -> 1.5716825e+10 | N38: SCF | O38: 1040 | P38: MMBtu | Q38: * | R38: =B7 -> 0.005 | S38: lbs | T38: 1 | U38: ton
D39: year | F39: gal | I39: MMBtu | J39: 2000 | K39: lbs | N39: year | O39: 1000000 | P39: SCF | S39: MMBtu | T39: 2000 | U39: lbs
B41: =(B38*E38*H38+M38*O38*R38/1000000)/2000 -> 99.374466 | D41: ton/year | E41: = | F41: =B41*(2000/8760) -> 22.688234 | G41: lb/hr | L41: lb/hr
A44: PM10 = | B44: =B16 -> 28368835 | D44: galons | E44: 0.15 | F44: MMBtu | G44: * | H44: =C8 -> 0.04 | I44: lbs | J44: 1 | K44: ton | L44: + | M44: =B17 -> 1.5716825e+10 | N44: SCF | O44: 1040 | P44: MMBtu | Q44: * | R44: =B8 -> 0.0081 | S44: lbs | T44: 1 | U44: ton
D45: year | F45: gal | I45: MMBtu | J45: 2000 | K45: lbs | N45: year | O45: 1000000 | P45: SCF | S45: MMBtu | T45: 2000 | U45: lbs
B47: =(B44*E44*H44+M44*O44*R44/1000000)/2000 -> 151.30577 | D47: ton/year | E47: = | F47: =B47*(2000/8760) -> 34.544696 | G47: lb/hr | L47: lb/hr
A50: PM2.5 = | B50: =B16 -> 28368835 | D50: galons | E50: 0.15 | F50: MMBtu | G50: * | H50: =C9 -> 0.033 | I50: lbs | J50: 1 | K50: ton | L50: + | M50: =B17 -> 1.5716825e+10 | N50: SCF | O50: 1040 | P50: MMBtu | Q50: * | R50: =B9 -> 0.0075 | S50: lbs | T50: 1 | U50: ton
D51: year | F51: gal | I51: MMBtu | J51: 2000 | K51: lbs | N51: year | O51: 1000000 | P51: SCF | S51: MMBtu | T51: 2000 | U51: lbs
B53: =(B50*E50*H50+M50*O50*R50/1000000)/2000 -> 131.50848 | D53: ton/year | E53: = | F53: =B53*(2000/8760) -> 30.024768 | G53: lb/hr | L53: lb/hr
A56: SO2 = | B56: =B16 -> 28368835 | D56: galons | G56: * | H56: =(157)*B18 -> 76.406667 | I56: lbs | J56: 1 | K56: ton | L56: + | M56: =B17 -> 1.5716825e+10 | N56: SCF | O56: 1040 | P56: MMBtu | Q56: * | R56: =B10 -> 0.004 | S56: lbs | T56: 1 | U56: ton
D57: year | H57: 1000 | I57: gals | J57: 2000 | K57: lbs | N57: year | O57: 1000000 | P57: SCF | S57: MMBtu | T57: 2000 | U57: lbs
B59: =(B56*H56/H57+M56*O56*R56/1000000)/2000 -> 1116.4751 | D59: ton/year | E59: = | F59: =B59*(2000/8760) -> 254.90298 | G59: lb/hr | L59: lb/hr
A62: H2SO4 = | B62: =B16 -> 28368835 | D62: galons | E62: 0.15 | F62: MMBtu | G62: * | H62: =C11 -> 0.02259 | I62: lbs | J62: 1 | K62: ton | L62: + | M62: =B17 -> 1.5716825e+10 | N62: SCF | O62: 1040 | P62: MMBtu | Q62: * | R62: =B11 -> 0.00043 | S62: lbs | T62: 1 | U62: ton
D63: year | F63: gal | I63: MMBtu | J63: 2000 | K63: lbs | N63: year | O63: 1000000 | P63: SCF | S63: MMBtu | T63: 2000 | U63: lbs
B65: =(B62*E62*H62+M62*O62*R62/1000000)/2000 -> 51.578181 | D65: ton/year | E65: = | F65: =B65*(2000/8760) -> 11.77584 | G65: lb/hr | L65: lb/hr
...

Sheet CS 6
A1: Cómputo de Emisiones Actuales para Bunker C y Gas Natural - Costa Sur AÑO 2025 - Unidad 6*
A3: Parametro | B3: Factor de Emisión Combustible Natural Gas | C3: Factor de Emisión Combustible No. 6 Oil | D3: Emisiones Actuales (ton/year) | E3: Emisiones Actuales (lb/hr)
A4: NOx | B4: 0.35 | C4: 0.35 | D4: =B23 -> 4368.1232 | E4: =F23 -> 997.2884
A5: CO | B5: 0.009 | C5: 0.0038 | D5: =B29 -> 85.445678 | E5: =F29 -> 19.508146
A6: VOC | B6: 0.0008 | C6: 0.0013 | D6: =B35 -> 12.568656 | E6: =F35 -> 2.8695561 | F6: Ecuación para el Cómputo
A7: PM | B7: 0.005 | C7: 0.0275 | D7: =B41 -> 178.69859 | E7: =F41 -> 40.798765 | F7: ton/year = | G7: [Consumo de Combustible #6 en galones/year) * ( Valor Calorífico BC 0.15 MMBtu/gal)
A8: PM10 | B8: 0.0081 | C8: 0.04 | D8: =B47 -> 265.97392 | E8: =F47 -> 60.724638 | G8: + (Consumo Gas Natural SCF/year) * (Valor Calorífico GN 1,040 MMBtu/SCF*10^6)]
A9: PM2.5 | B9: 0.0075 | C9: 0.033 | D9: =B53 -> 225.40572 | E9: =F53 -> 51.462493 | G9: * FE en lbs/MMBtu * 1 ton/2,000 lbs
A10: SO2 | B10: 0.004 | C10: 157*%S | D10: =B59 -> 2662.0918 | E10: =F59 -> 607.78353
A11: H2SO4 | B11: 0.00043 | C11: 0.02259 | D11: =B65 -> 119.90601 | E11: =F65 -> 27.375801 | F11: lbs/hr = | G11: (Toneladas Contaminante / year) * (1 year / 8,760 hr) * (2000 lb / ton) | V11: CO2e | W11: =(157765.7+153.2+365.3)*2204.6/13621578 -> 25.617689 | X11: lbs/gal
A12: Pb | B12: 0 | C12: 4.63e-06 | D12: =B71 -> 0.023931304 | E12: =F71 -> 0.005463768 | W12: =(989989.8+466.4+556)*2204.62/18132099995 -> 0.12049378 | X12: lbs/scf
A13: CO2e | B13: 25.618 lbs/gal | C13: 0.1205 lbs/SCF | D13: =B77 -> 1729860.6 | E13: =F77 -> 394945.35
A14: Fluoruro | B14: 0 | C14: 0 | D14: 0 | E14: 0
A16: Consumo #6 = | B16: =SUM('Costa Sur'!E17) -> 68916642 | D16: gal/year
A17: Consumo NG = | B17: =SUM('Costa Sur'!C54) -> 1.4060777e+10 | D17: SCF/year
A18: #6 Azufre = | B18: =SUM('Costa Sur'!I17) -> 0.48666667 | D18: %
A20: NOx = | B20: =B16 -> 68916642 | D20: galons | E20: 0.15 | F20: MMBtu | G20: * | H20: =C4 -> 0.35 | I20: lbs | J20: 1 | K20: ton | L20: + | M20: =B17 -> 1.4060777e+10 | N20: SCF | O20: 1040 | P20: MMBtu | Q20: * | R20: =B4 -> 0.35 | S20: lbs | T20: 1 | U20: ton
D21: year | F21: gal | I21: MMBtu | J21: 2000 | K21: lbs | N21: year | O21: 1000000 | P21: SCF | S21: MMBtu | T21: 2000 | U21: lbs
B23: =(B20*E20*H20+M20*O20*R20/1000000)/2000 -> 4368.1232 | D23: ton/year | E23: = | F23: =B23*(2000/8760) -> 997.2884 | G23: lb/hr
A26: CO = | B26: =B16 -> 68916642 | D26: galons | E26: 0.15 | F26: MMBtu | G26: * | H26: =C5 -> 0.0038 | I26: lbs | J26: 1 | K26: ton | L26: + | M26: =B17 -> 1.4060777e+10 | N26: SCF | O26: 1040 | P26: MMBtu | Q26: * | R26: =B5 -> 0.009 | S26: lbs | T26: 1 | U26: ton
D27: year | F27: gal | I27: MMBtu | J27: 2000 | K27: lbs | N27: year | O27: 1000000 | P27: SCF | S27: MMBtu | T27: 2000 | U27: lbs
B29: =(B26*E26*H26+M26*O26*R26/1000000)/2000 -> 85.445678 | D29: ton/year | E29: = | F29: =B29*(2000/8760) -> 19.508146 | G29: lb/hr
A32: VOC = | B32: =B16 -> 68916642 | D32: galons | E32: 0.15 | F32: MMBtu | G32: * | H32: =C6 -> 0.0013 | I32: lbs | J32: 1 | K32: ton | L32: + | M32: =B17 -> 1.4060777e+10 | N32: SCF | O32: 1040 | P32: MMBtu | Q32: * | R32: =B6 -> 0.0008 | S32: lbs | T32: 1 | U32: ton
D33: year | F33: gal | I33: MMBtu | J33: 2000 | K33: lbs | N33: year | O33: 1000000 | P33: SCF | S33: MMBtu | T33: 2000 | U33: lbs
B35: =(B32*E32*H32+M32*O32*R32/1000000)/2000 -> 12.568656 | D35: ton/year | E35: = | F35: =B35*(2000/8760) -> 2.8695561 | G35: lb/hr
A38: PM = | B38: =B16 -> 68916642 | D38: galons | E38: 0.15 | F38: MMBtu | G38: * | H38: =C7 -> 0.0275 | I38: lbs | J38: 1 | K38: ton | L38: + | M38: =B17 -> 1.4060777e+10 | N38: SCF | O38: 1040 | P38: MMBtu | Q38: * | R38: =B7 -> 0.005 | S38: lbs | T38: 1 | U38: ton
D39: year | F39: gal | I39: MMBtu | J39: 2000 | K39: lbs | N39: year | O39: 1000000 | P39: SCF | S39: MMBtu | T39: 2000 | U39: lbs
B41: =(B38*E38*H38+M38*O38*R38/1000000)/2000 -> 178.69859 | D41: ton/year | E41: = | F41: =B41*(2000/8760) -> 40.798765 | G41: lb/hr | L41: lb/hr
A44: PM10 = | B44: =B16 -> 68916642 | D44: galons | E44: 0.15 | F44: MMBtu | G44: * | H44: =C8 -> 0.04 | I44: lbs | J44: 1 | K44: ton | L44: + | M44: =B17 -> 1.4060777e+10 | N44: SCF | O44: 1040 | P44: MMBtu | Q44: * | R44: =B8 -> 0.0081 | S44: lbs | T44: 1 | U44: ton
D45: year | F45: gal | I45: MMBtu | J45: 2000 | K45: lbs | N45: year | O45: 1000000 | P45: SCF | S45: MMBtu | T45: 2000 | U45: lbs
B47: =(B44*E44*H44+M44*O44*R44/1000000)/2000 -> 265.97392 | D47: ton/year | E47: = | F47: =B47*(2000/8760) -> 60.724638 | G47: lb/hr | L47: lb/hr
A50: PM2.5 = | B50: =B16 -> 68916642 | D50: galons | E50: 0.15 | F50: MMBtu | G50: * | H50: =C9 -> 0.033 | I50: lbs | J50: 1 | K50: ton | L50: + | M50: =B17 -> 1.4060777e+10 | N50: SCF | O50: 1040 | P50: MMBtu | Q50: * | R50: =B9 -> 0.0075 | S50: lbs | T50: 1 | U50: ton
D51: year | F51: gal | I51: MMBtu | J51: 2000 | K51: lbs | N51: year | O51: 1000000 | P51: SCF | S51: MMBtu | T51: 2000 | U51: lbs
B53: =(B50*E50*H50+M50*O50*R50/1000000)/2000 -> 225.40572 | D53: ton/year | E53: = | F53: =B53*(2000/8760) -> 51.462493 | G53: lb/hr | L53: lb/hr
A56: SO2 = | B56: =B16 -> 68916642 | D56: galons | G56: * | H56: =(157)*B18 -> 76.406667 | I56: lbs | J56: 1 | K56: ton | L56: + | M56: =B17 -> 1.4060777e+10 | N56: SCF | O56: 1040 | P56: MMBtu | Q56: * | R56: =B10 -> 0.004 | S56: lbs | T56: 1 | U56: ton
D57: year | H57: 1000 | I57: gals | J57: 2000 | K57: lbs | N57: year | O57: 1000000 | P57: SCF | S57: MMBtu | T57: 2000 | U57: lbs
B59: =(B56*H56/H57+M56*O56*R56/1000000)/2000 -> 2662.0918 | D59: ton/year | E59: = | F59: =B59*(2000/8760) -> 607.78353 | G59: lb/hr | L59: lb/hr
A62: H2SO4 = | B62: =B16 -> 68916642 | D62: galons | E62: 0.15 | F62: MMBtu | G62: * | H62: =C11 -> 0.02259 | I62: lbs | J62: 1 | K62: ton | L62: + | M62: =B17 -> 1.4060777e+10 | N62: SCF | O62: 1040 | P62: MMBtu | Q62: * | R62: =B11 -> 0.00043 | S62: lbs | T62: 1 | U62: ton
D63: year | F63: gal | I63: MMBtu | J63: 2000 | K63: lbs | N63: year | O63: 1000000 | P63: SCF | S63: MMBtu | T63: 2000 | U63: lbs
B65: =(B62*E62*H62+M62*O62*R62/1000000)/2000 -> 119.90601 | D65: ton/year | E65: = | F65: =B65*(2000/8760) -> 27.375801 | G65: lb/hr | L65: lb/hr
...

Sheet San Juan
A2: San Juan BC Consumption 2025
A3: year | B3: Barrels | F3: Galones | J3: Azufre
B4: SJ7 | C4: SJ8 | D4: SJ9 | E4: SJ10 | F4: SJ7 | G4: SJ8 | H4: SJ9 | I4: SJ10 | J4: SJ7 | K4: SJ8 | L4: SJ9 | M4: SJ10
A5: 45658 | B5: 0 | C5: 0 | D5: 27399.39 | E5: 0 | F5: =B5*42 -> 0 | G5: 0 | H5: =D5*42 -> 1150774.4 | I5: =E5*42 -> 0 | J5: 0.5 | K5: * | L5: 0.5 | M5: *
A6: 45689 | B6: 0 | C6: 0 | D6: 82985.29 | E6: 0 | F6: =B6*42 -> 0 | G6: =C6*42 -> 0 | H6: =D6*42 -> 3485382.2 | I6: =E6*42 -> 0 | J6: 0.5 | K6: * | L6: 0.5 | M6: *
A7: 45717 | B7: 0 | C7: 0 | D7: 94265.43 | E7: 0 | F7: =B7*42 -> 0 | G7: =C7*42 -> 0 | H7: =D7*42 -> 3959148.1 | I7: =E7*42 -> 0 | J7: 0.5 | K7: * | L7: 0.5 | M7: *
A8: 45748 | B8: 0 | C8: 0 | D8: 84800.98 | E8: 0 | F8: =B8*42 -> 0 | G8: =C8*42 -> 0 | H8: =D8*42 -> 3561641.2 | I8: =E8*42 -> 0 | J8: 0.49 | K8: * | L8: 0.49 | M8: *
A9: 45778 | B9: 0 | C9: 0 | D9: 87773.96 | E9: 0 | F9: =B9*42 -> 0 | G9: =C9*42 -> 0 | H9: =D9*42 -> 3686506.3 | I9: =E9*42 -> 0 | J9: 0.49 | K9: * | L9: 0.49 | M9: *
A10: 45809 | B10: 0 | C10: 0 | D10: 95056.56 | E10: 0 | F10: =B10*42 -> 0 | G10: =C10*42 -> 0 | H10: =D10*42 -> 3992375.5 | I10: =E10*42 -> 0 | J10: 0.48 | K10: * | L10: 0.48 | M10: *
A11: 45839 | B11: 0 | C11: 0 | D11: 83259.31 | E11: 0 | F11: =B11*42 -> 0 | G11: =C11*42 -> 0 | H11: =D11*42 -> 3496891 | I11: =E11*42 -> 0 | J11: 0.47 | K11: * | L11: 0.47 | M11: *
A12: 45870 | B12: 0 | C12: 0 | D12: 94556.97 | E12: 0 | F12: =B12*42 -> 0 | G12: =C12*42 -> 0 | H12: =D12*42 -> 3971392.7 | I12: =E12*42 -> 0 | J12: 0.47 | K12: * | L12: 0.47 | M12: *
A13: 45901 | B13: 0 | C13: 0 | D13: 75381.13 | E13: 0 | F13: =B13*42 -> 0 | G13: =C13*42 -> 0 | H13: =D13*42 -> 3166007.5 | I13: =E13*42 -> 0 | J13: 0.46 | K13: * | L13: 0.46 | M13: *
A14: 45931 | B14: 0 | C14: 0 | D14: 87763.54 | E14: 0 | F14: =B14*42 -> 0 | G14: =C14*42 -> 0 | H14: =D14*42 -> 3686068.7 | I14: =E14*42 -> 0 | J14: 0.47 | K14: * | L14: 0.47 | M14: *
A15: 45962 | B15: 0 | C15: 0 | D15: 91960.04 | E15: 0 | F15: =B15*42 -> 0 | G15: =C15*42 -> 0 | H15: =D15*42 -> 3862321.7 | I15: =E15*42 -> 0 | J15: 0.44 | K15: * | L15: 0.44 | M15: *
A16: 45992 | B16: 0 | C16: 0 | D16: 81831.47 | E16: 0 | F16: =B16*42 -> 0 | G16: =C16*42 -> 0 | H16: =D16*42 -> 3436921.7 | I16: =E16*42 -> 0 | J16: 0.41 | K16: * | L16: 0.41 | M16: *
A17: Total | B17: =SUM(B5:B16) -> 0 | C17: =SUM(C5:C16) -> 0 | D17: =SUM(D5:D16) -> 987034.07 | E17: =SUM(E5:E16) -> 0 | F17: =SUM(F5:F16) -> 0 | G17: =SUM(G5:G16) -> 0 | H17: =D17*42 -> 41455431 | I17: =SUM(I5:I16) -> 0 | J17: =AVERAGE(J5:J16) -> 0.47333333 | K17: *** | L17: =AVERAGE(L5:L16) -> 0.47333333 | M17: ***
A20: SJ #2FO Consumption 2025 | M20: San Juan Natural Gas Consumtion 2025
A21: year | B21: Barrels | D21: Galones | F21: Azufre | H21: Horas | M21: year | N21: SCF | P21: Azufre
B22: SJCC5 | C22: SJCC6 | D22: SJCC5 | E22: SJCC6 | F22: SJCC5 | G22: SJCC6 | H22: SJCC5 | I22: SJCC6 | N22: Unit 5 | O22: Unit 6 | P22: Unit 5 | Q22: Unit 6
A23: =A5 -> 45658 | B23: 34419.81 | C23: 0 | D23: =SUM(B23*42) -> 1445632 | E23: =SUM(C23*42) -> 0 | F23: 0.00046 | G23: 0.00046 | H23: 700.1 | I23: 0 | M23: =A5 -> 45658 | N23: 8.1210521e+08 | O23: 0 | P23: 0.001 | Q23: 0.001
A24: =A6 -> 45689 | B24: 68043.8 | C24: 0 | D24: =SUM(B24*42) -> 2857839.6 | E24: =SUM(C24*42) -> 0 | F24: 0.00055 | G24: 0.00055 | H24: 611.5 | I24: 0 | M24: =A6 -> 45689 | N24: 4.5023819e+08 | O24: 0 | P24: 0.001 | Q24: 0.001
A25: =A7 -> 45717 | B25: 128810.15 | C25: 0 | D25: =SUM(B25*42) -> 5410026.3 | E25: =SUM(C25*42) -> 0 | F25: 0.00046 | G25: 0.00046 | H25: 723.6 | I25: 0 | M25: =A7 -> 45717 | N25: 2.7156288e+08 | O25: 0 | P25: 0.001 | Q25: 0.001
A26: =A8 -> 45748 | B26: 101901.78 | C26: 0 | D26: =SUM(B26*42) -> 4279874.8 | E26: =SUM(C26*42) -> 0 | F26: 0.001 | G26: 0.001 | H26: 710.9 | I26: 0 | M26: =A8 -> 45748 | N26: 4.1757739e+08 | O26: 0 | P26: 0.001 | Q26: 0.001
A27: =A9 -> 45778 | B27: 19511.8 | C27: 4723.39 | D27: =SUM(B27*42) -> 819495.6 | E27: =SUM(C27*42) -> 198382.38 | F27: 0.0006 | G27: 0.0006 | H27: 624.4 | I27: 278.3 | M27: =A9 -> 45778 | N27: 8.2228921e+08 | O27: 362953163 | P27: 0.0001 | Q27: 0.001
A28: =A10 -> 45809 | B28: 25971.14 | C28: 18960.82 | D28: =SUM(B28*42) -> 1090787.9 | E28: =SUM(C28*42) -> 796354.44 | F28: 0.0006 | G28: 0.0006 | H28: 701.4 | I28: 704.2 | M28: =A10 -> 45809 | N28: 8.8100825e+08 | O28: 9.1667038e+08 | P28: 0.001 | Q28: 0.001
A29: =A11 -> 45839 | B29: 37966.53 | C29: 44514.26 | D29: =SUM(B29*42) -> 1594594.3 | E29: =SUM(C29*42) -> 1869598.9 | F29: 0.0006 | G29: 0.0006 | H29: 726.4 | I29: 550 | M29: =A11 -> 45839 | N29: 816790064 | O29: 5.4988707e+08 | P29: 0.001 | Q29: 0.001
A30: =A12 -> 45870 | B30: 19269.67 | C30: 15650.72 | D30: =SUM(B30*42) -> 809326.14 | E30: =SUM(C30*42) -> 657330.24 | F30: 0.001 | G30: 0.001 | H30: 667.4 | I30: 300.6 | M30: =A12 -> 45870 | N30: 8.1817107e+08 | O30: 4.7502238e+08 | P30: 0.001 | Q30: 0.001
A31: =A13 -> 45901 | B31: 28984.93 | C31: 29524.3 | D31: =SUM(B31*42) -> 1217367.1 | E31: =SUM(C31*42) -> 1240020.6 | F31: 0.001 | G31: 0.001 | H31: 641.8 | I31: 568.71 | M31: =A13 -> 45901 | N31: 7.7091624e+08 | O31: 6.7776831e+08 | P31: 0.001 | Q31: 0.001
A32: =A14 -> 45931 | B32: 56840.67 | C32: 78697.23 | D32: =SUM(B32*42) -> 2387308.1 | E32: =SUM(C32*42) -> 3305283.7 | F32: 0.0007 | G32: 0.0007 | H32: 656.1 | I32: 722.7 | M32: =A14 -> 45931 | N32: 5.8516464e+08 | O32: 5.3831283e+08 | P32: 0.001 | Q32: 0.001
A33: =A15 -> 45962 | B33: 16740.82 | C33: 37683.24 | D33: =SUM(B33*42) -> 703114.44 | E33: =SUM(C33*42) -> 1582696.1 | F33: 0.001 | G33: 0.001 | H33: 432.8 | I33: 718.5 | M33: =A15 -> 45962 | N33: 5.1874076e+08 | O33: 7.8196268e+08 | P33: 0.001 | Q33: 0.001
A34: =A16 -> 45992 | B34: 1419.96 | C34: 7557.06 | D34: =SUM(B34*42) -> 59638.32 | E34: =SUM(C34*42) -> 317396.52 | F34: 0.001 | G34: 0.001 | H34: 175.72 | I34: 359.82 | M34: =A16 -> 45992 | N34: 2.3444945e+08 | O34: 4.8582834e+08 | P34: 0.001 | Q34: 0.001
A35: Total | B35: =SUM(B23:B34) -> 539881.06 | C35: =SUM(C23:C34) -> 237311.02 | D35: =SUM(D23:D34) -> 22675005 | E35: =SUM(E23:E34) -> 9967062.8 | F35: =AVERAGE(F23:F34) -> 0.0007475 | G35: =AVERAGE(G23:G34) -> 0.0007475 | H35: =SUM(H23:H34) -> 7372.12 | I35: =SUM(I23:I34) -> 4202.83 | M35: TOTAL | N35: =SUM(N23:N34) -> 7.3990133e+09 | O35: =SUM(O23:O34) -> 4.7884051e+09 | P35: 0.001 | Q35: 0.001

Sheet Cálculos SJ
A1: Cómputo de Emisiones Actuales AÑO 2025 - San Juan 7-10
A3: Factores de Emisión de acuerdo a Permiso Título V
A5: PM10 | B5: 0.040 lbs/MMBtu | D5: MATS Emission Limit + AP-42 Section 1.3 Condensable PM
A6: PM | B6: 0.030 lbs/MMBtu | D6: MATS Emission Limit
A7: SO2 | B7: 157*%S lbs/1000gal | D7: AP-42 Section 1.3
A8: H2SO4 | B8: 0.0405 lbs/MMBtu
A9: NOx (7&8) | B9: 47 lbs/1000gal | D9: AP-42 Section 1.3 wall fired boilers
A10: NOx (9&10) | B10: 32 lbs/1000gal | D10: AP-42 Section 1.3 tangential fired boilers
A11: VOC | B11: 0.76 lbs/1000gal | D11: AP-42 Section 1.3
A12: CO | B12: 5 lbs/1000gal | D12: AP-42 Section 1.3
A13: Pb | B13: 0.00151 lbs/1000gal
A14: CO2e | B14: 24.891 lbs/gal | D14: eGGRT GHG Report | R14: =(515657.4+515.5+1229.1)*2204.6/45826002 -> 24.891206 | S14: lbs/gal
A16: Combustible #6 | B16: =SUM('San Juan'!F17+'San Juan'!G17) -> 0 | C16: gal/year 7&8
A17: Combustible #6 | B17: =SUM('San Juan'!H17+'San Juan'!I17) -> 41455431 | C17: gal/year 9&10
A18: % Azufre | B18: =SUM('San Juan'!J17+'San Juan'!L17)/2 -> 0.47333333 | D18: NO INCLUIR EN PRINT OUT"=('San Juan'!J17+'San Juan'!K17+'San Juan'!L17+'San Juan'!M17)/4" se saco del promedio a la u-10 ya que estubo apagada
A21: Cálculos Emisiones PM10
A23: = | B23: 0.04 | C23: lbs | D23: =B16+B17 -> 41455431 | E23: gal | F23: ton | H23: 0.15 | I23: MMBtu
B24: MMBtu | D24: year | F24: 2000 | G24: lbs | H24: gal
A26: = | B26: =((B23*D23*H23)/F24) -> 124.36629 | C26: ton
C27: year
A29: Cálculos Emisiones PM
A31: = | B31: 0.03 | C31: lbs | D31: =D23 -> 41455431 | E31: gal | F31: ton | H31: 0.15 | I31: MMBtu
B32: MMBtu | D32: year | F32: 2000 | G32: lbs | H32: gal
A34: = | B34: =((B31*D31*H31)/F32) -> 93.27472 | C34: ton
C35: year
A38: Cálculos Emisiones H2SO4
A40: = | B40: 0.0405 | C40: lbs | D40: =D31 -> 41455431 | E40: gal | F40: ton | H40: 0.15 | I40: MMBtu
B41: MMBtu | D41: year | F41: 2000 | G41: lbs | H41: gal
A43: = | B43: =((B40*D40*H40)/F41) -> 125.92087 | C43: ton
C44: year
A46: Cálculos Emisiones SO2
I47: NOTA PARA EFECTOS DE CALCULO SE SUBSTITUYO EL PROMEDIO DE AZUFRE POR EL CALCULO A MANO = .47; LA CELDA DEBE SER =B14
A48: = | B48: =(157+5.7)*B18 -> 77.011333 | C48: lbs | D48: =D40 -> 41455431 | E48: gal | F48: ton
B49: 1000 | C49: gals | D49: year | F49: 2000 | G49: lbs
A51: = | B51: =((B48/B49*D48)/F49) -> 1596.269 | C51: ton
C52: year
A55: Cálculos Emisiones Nox (7&8)
A57: = | B57: 47 | C57: lbs | D57: =B16 -> 0 | E57: gal | F57: ton
B58: 1000 | C58: gal | D58: year | F58: 2000 | G58: lbs
A60: = | B60: =((B57/B58)*D57)/F58 -> 0 | C60: ton
...

Sheet Cálculos SJ5
A1: Cómputo de Emisiones Actuales para Distillate Oil y Gas Natural - San Juan AÑO 2025 - Unidad 5
A3: Parametro | B3: Factor de Emisión Combustible Natural Gas | C3: Factor de Emisión Combustible No. 2 Oil | D3: Emisiones Actuales (ton/year) | E3: Emisiones Actuales (lb/hr)
A4: NOx | B4: 0.092099392 | C4: 0.10805849 | D4: =B23 -> 516.60241 | E4: =F23 -> 117.94576
A5: CO | B5: 0.022429677 | C5: 0.0094426363 | D5: =B29 -> 99.412028 | E5: =F29 -> 22.69681
A6: VOC | B6: 0.0021 | C6: 0.0083 | D6: =B35 -> 20.910318 | E6: =F35 -> 4.7740453 | F6: Ecuación para el Cómputo
A7: PM | B7: 0.0066 | C7: 0.0284 | D7: =B41 -> 69.339018 | E7: =F41 -> 15.830826 | F7: ton/year = | G7: [Consumo de Combustible #6 en galones/year) * ( Valor Calorífico BC 0.138 MMBtu/gal)
A8: PM10 | B8: 0.0066 | C8: 0.0357 | D8: =B47 -> 80.760418 | E8: =F47 -> 18.438451 | G8: + (Consumo Gas Natural SCF/year) * (Valor Calorífico GN 1,020 MMBtu/SCF*10^6)]
A9: PM2.5 | B9: 0.0066 | C9: 0.0357 | D9: =B52 -> 80.760418 | E9: =F52 -> 18.438451 | G9: * FE en lbs/MMBtu * 1 ton/2,000 lbs
A10: SO2 | B10: 0.0028 | C10: 1.01*%S | D10: =B58 -> 11.747006 | E10: =F58 -> 2.6819649
A11: H2SO4 | B11: 0.00043 | C11: 0.0077 | D11: =B64 -> 13.669834 | E11: =F64 -> 3.1209666 | F11: lbs/hr = | G11: (Toneladas Contaminante / year) * (1 year / 8,760 hr) * (2000 lb / ton) | V11: CO2e | W11: =(73.96+0.003*25+0.0006*298)*2.2046*0.138 -> 22.578421 | X11: lbs/gal
A12: Pb | B12: 0 | C12: 9e-06 | D12: =B70 -> 0.014081178 | E12: =F70 -> 0.0032148808 | W12: =(475409.8+224+267)*2204.62/8707340462.38 -> 0.12049379 | X12: lbs/scf
A13: CO2e | B13: 22.578 lbs/gal | C13: 0.1205 lbs/SCF | D13: =B76 -> 701750.46 | E13: =F76 -> 160217
A14: Fluoruro | B14: 0 | C14: 0 | D14: 0 | E14: 0
A16: Consumo #2 = | B16: =SUM('San Juan'!D35) -> 22675005 | D16: gal/year
A17: Consumo NG = | B17: =SUM('San Juan'!N35) -> 7.3990133e+09 | D17: SCF/year
A18: #2 Azufre = | B18: =SUM('San Juan'!F35) -> 0.0007475 | D18: %
A20: NOx = | B20: =B16 -> 22675005 | D20: galons | E20: 0.138 | F20: MMBtu | G20: * | H20: =C4 -> 0.10805849 | I20: lbs | J20: 1 | K20: ton | L20: + | M20: =B17 -> 7.3990133e+09 | N20: SCF | O20: 1020 | P20: MMBtu | Q20: * | R20: =B4 -> 0.092099392 | S20: lbs | T20: 1 | U20: ton
D21: year | F21: gal | I21: MMBtu | J21: 2000 | K21: lbs | N21: year | O21: 1000000 | P21: SCF | S21: MMBtu | T21: 2000 | U21: lbs
B23: =(B20*E20*H20+M20*O20*R20/1000000)/2000 -> 516.60241 | D23: ton/year | E23: = | F23: =B23*(2000/8760) -> 117.94576 | G23: lb/hr
A26: CO = | B26: =B16 -> 22675005 | D26: galons | E26: 0.138 | F26: MMBtu | G26: * | H26: =C5 -> 0.0094426363 | I26: lbs | J26: 1 | K26: ton | L26: + | M26: =B17 -> 7.3990133e+09 | N26: SCF | O26: 1020 | P26: MMBtu | Q26: * | R26: =B5 -> 0.022429677 | S26: lbs | T26: 1 | U26: ton
D27: year | F27: gal | I27: MMBtu | J27: 2000 | K27: lbs | N27: year | O27: 1000000 | P27: SCF | S27: MMBtu | T27: 2000 | U27: lbs
B29: =(B26*E26*H26+M26*O26*R26/1000000)/2000 -> 99.412028 | D29: ton/year | E29: = | F29: =B29*(2000/8760) -> 22.69681 | G29: lb/hr
A32: VOC = | B32: =B16 -> 22675005 | D32: galons | E32: 0.138 | F32: MMBtu | G32: * | H32: =C6 -> 0.0083 | I32: lbs | J32: 1 | K32: ton | L32: + | M32: =B17 -> 7.3990133e+09 | N32: SCF | O32: 1020 | P32: MMBtu | Q32: * | R32: =B6 -> 0.0021 | S32: lbs | T32: 1 | U32: ton
D33: year | F33: gal | I33: MMBtu | J33: 2000 | K33: lbs | N33: year | O33: 1000000 | P33: SCF | S33: MMBtu | T33: 2000 | U33: lbs
B35: =(B32*E32*H32+M32*O32*R32/1000000)/2000 -> 20.910318 | D35: ton/year | E35: = | F35: =B35*(2000/8760) -> 4.7740453 | G35: lb/hr
A38: PM = | B38: =B16 -> 22675005 | D38: galons | E38: 0.138 | F38: MMBtu | G38: * | H38: =C7 -> 0.0284 | I38: lbs | J38: 1 | K38: ton | L38: + | M38: =B17 -> 7.3990133e+09 | N38: SCF | O38: 1020 | P38: MMBtu | Q38: * | R38: =B7 -> 0.0066 | S38: lbs | T38: 1 | U38: ton
D39: year | F39: gal | I39: MMBtu | J39: 2000 | K39: lbs | N39: year | O39: 1000000 | P39: SCF | S39: MMBtu | T39: 2000 | U39: lbs
B41: =(B38*E38*H38+M38*O38*R38/1000000)/2000 -> 69.339018 | D41: ton/year | E41: = | F41: =B41*(2000/8760) -> 15.830826 | G41: lb/hr | L41: lb/hr
A44: PM10 = | B44: =B16 -> 22675005 | D44: galons | E44: 0.138 | F44: MMBtu | G44: * | H44: =C8 -> 0.0357 | I44: lbs | J44: 1 | K44: ton | L44: + | M44: =B17 -> 7.3990133e+09 | N44: SCF | O44: 1020 | P44: MMBtu | Q44: * | R44: =B8 -> 0.0066 | S44: lbs | T44: 1 | U44: ton
D45: year | F45: gal | I45: MMBtu | J45: 2000 | K45: lbs | N45: year | O45: 1000000 | P45: SCF | S45: MMBtu | T45: 2000 | U45: lbs
B47: =(B44*E44*H44+M44*O44*R44/1000000)/2000 -> 80.760418 | D47: ton/year | E47: = | F47: =B47*(2000/8760) -> 18.438451 | G47: lb/hr | L47: lb/hr
A49: PM2.5 = | B49: =B16 -> 22675005 | D49: galons | E49: 0.138 | F49: MMBtu | G49: * | H49: =C9 -> 0.0357 | I49: lbs | J49: 1 | K49: ton | L49: + | M49: =B17 -> 7.3990133e+09 | N49: SCF | O49: 1020 | P49: MMBtu | Q49: * | R49: =B9 -> 0.0066 | S49: lbs | T49: 1 | U49: ton
D50: year | F50: gal | I50: MMBtu | J50: 2000 | K50: lbs | N50: year | O50: 1000000 | P50: SCF | S50: MMBtu | T50: 2000 | U50: lbs
B52: =(B49*E49*H49+M49*O49*R49/1000000)/2000 -> 80.760418 | D52: ton/year | E52: = | F52: =B52*(2000/8760) -> 18.438451 | G52: lb/hr | L52: lb/hr
A55: SO2 = | B55: =B16 -> 22675005 | D55: galons | E55: 0.138 | F55: MMBtu | G55: * | H55: =1.01*B18 -> 0.000754975 | I55: lbs | J55: 1 | K55: ton | L55: + | M55: =B17 -> 7.3990133e+09 | N55: SCF | O55: 1020 | P55: MMBtu | Q55: * | R55: =B10 -> 0.0028 | S55: lbs | T55: 1 | U55: ton
D56: year | F56: gal | I56: MMBtu | J56: 2000 | K56: lbs | N56: year | O56: 1000000 | P56: SCF | S56: MMBtu | T56: 2000 | U56: lbs
B58: =(B55*E55*H55+M55*O55*R55/1000000)/2000 -> 11.747006 | D58: ton/year | E58: = | F58: =B58*(2000/8760) -> 2.6819649 | G58: lb/hr | L58: lb/hr
A61: H2SO4 = | B61: =B16 -> 22675005 | D61: galons | E61: 0.138 | F61: MMBtu | G61: * | H61: =C11 -> 0.0077 | I61: lbs | J61: 1 | K61: ton | L61: + | M61: =B17 -> 7.3990133e+09 | N61: SCF | O61: 1020 | P61: MMBtu | Q61: * | R61: =B11 -> 0.00043 | S61: lbs | T61: 1 | U61: ton
D62: year | F62: gal | I62: MMBtu | J62: 2000 | K62: lbs | N62: year | O62: 1000000 | P62: SCF | S62: MMBtu | T62: 2000 | U62: lbs
B64: =(B61*E61*H61+M61*O61*R61/1000000)/2000 -> 13.669834 | D64: ton/year | E64: = | F64: =B64*(2000/8760) -> 3.1209666 | G64: lb/hr | L64: lb/hr
...

Sheet Cálculos SJ6
A1: Cómputo de Emisiones Actuales para Distillate Oil y Gas Natural - San Juan AÑO 2025 - Unidad 6
A3: Parametro | B3: Factor de Emisión Combustible Natural Gas | C3: Factor de Emisión Combustible No. 2 Oil | D3: Emisiones Actuales (ton/year) | E3: Emisiones Actuales (lb/hr)
A4: NOx | B4: 0.092099392 | C4: 0.10805849 | D4: =B23 -> 299.22947 | E4: =F23 -> 68.317232
A5: CO | B5: 0.022429677 | C5: 0.0094426363 | D5: =B29 -> 61.269172 | E5: =F29 -> 13.988395
A6: VOC | B6: 0.0021 | C6: 0.0083 | D6: =B35 -> 10.836519 | E6: =F35 -> 2.4740911 | F6: Ecuación para el Cómputo
A7: PM | B7: 0.0066 | C7: 0.0284 | D7: =B41 -> 35.649228 | E7: =F41 -> 8.1390932 | F7: ton/year = | G7: [Consumo de Combustible #6 en galones/year) * ( Valor Calorífico BC 0.138 MMBtu/gal)
A8: PM10 | B8: 0.0066 | C8: 0.0357 | D8: =B47 -> 40.669638 | E8: =F47 -> 9.2853054 | G8: + (Consumo Gas Natural SCF/year) * (Valor Calorífico GN 1,020 MMBtu/SCF*10^6)]
A9: PM2.5 | B9: 0.0066 | C9: 0.0357 | D9: =B53 -> 40.669638 | E9: =F53 -> 9.2853054 | G9: * FE en lbs/MMBtu * 1 ton/2,000 lbs
A10: SO2 | B10: 0.0028 | C10: 1.01*%S | D10: =B59 -> 7.3570595 | E10: =F59 -> 1.6796939
A11: H2SO4 | B11: 0.00043 | C11: 0.0077 | D11: =B65 -> 6.3455977 | E11: =F65 -> 1.4487666 | F11: lbs/hr = | G11: (Toneladas Contaminante / year) * (1 year / 8,760 hr) * (2000 lb / ton) | V11: CO2e | W11: =(73.96+0.003*25+0.0006*298)*2.2046*0.138 -> 22.578421 | X11: lbs/gal
A12: Pb | B12: 0 | C12: 9e-06 | D12: =B71 -> 0.006189546 | E12: =F71 -> 0.0014131384 | W12: =(475409.8+224+267)*2204.62/8707340462.38 -> 0.12049379 | X12: lbs/scf
A13: CO2e | B13: 22.578 lbs/gal | C13: 0.1205 lbs/SCF | D13: =B77 -> 401006.8 | E13: =F77 -> 91554.064
A14: Fluoruro | B14: 0 | C14: 0 | D14: 0 | E14: 0
A16: Consumo #2 = | B16: =SUM('San Juan'!E35) -> 9967062.8 | D16: gal/year
A17: Consumo NG = | B17: =SUM('San Juan'!O35) -> 4.7884051e+09 | D17: SCF/year
A18: #2 Azufre = | B18: =SUM('San Juan'!G35) -> 0.0007475 | D18: %
A20: NOx = | B20: =B16 -> 9967062.8 | D20: galons | E20: 0.138 | F20: MMBtu | G20: * | H20: =C4 -> 0.10805849 | I20: lbs | J20: 1 | K20: ton | L20: + | M20: =B17 -> 4.7884051e+09 | N20: SCF | O20: 1020 | P20: MMBtu | Q20: * | R20: =B4 -> 0.092099392 | S20: lbs | T20: 1 | U20: ton
D21: year | F21: gal | I21: MMBtu | J21: 2000 | K21: lbs | N21: year | O21: 1000000 | P21: SCF | S21: MMBtu | T21: 2000 | U21: lbs
B23: =(B20*E20*H20+M20*O20*R20/1000000)/2000 -> 299.22947 | D23: ton/year | E23: = | F23: =B23*(2000/8760) -> 68.317232 | G23: lb/hr
A26: CO = | B26: =B16 -> 9967062.8 | D26: galons | E26: 0.138 | F26: MMBtu | G26: * | H26: =C5 -> 0.0094426363 | I26: lbs | J26: 1 | K26: ton | L26: + | M26: =B17 -> 4.7884051e+09 | N26: SCF | O26: 1020 | P26: MMBtu | Q26: * | R26: =B5 -> 0.022429677 | S26: lbs | T26: 1 | U26: ton
D27: year | F27: gal | I27: MMBtu | J27: 2000 | K27: lbs | N27: year | O27: 1000000 | P27: SCF | S27: MMBtu | T27: 2000 | U27: lbs
B29: =(B26*E26*H26+M26*O26*R26/1000000)/2000 -> 61.269172 | D29: ton/year | E29: = | F29: =B29*(2000/8760) -> 13.988395 | G29: lb/hr
A32: VOC = | B32: =B16 -> 9967062.8 | D32: galons | E32: 0.138 | F32: MMBtu | G32: * | H32: =C6 -> 0.0083 | I32: lbs | J32: 1 | K32: ton | L32: + | M32: =B17 -> 4.7884051e+09 | N32: SCF | O32: 1020 | P32: MMBtu | Q32: * | R32: =B6 -> 0.0021 | S32: lbs | T32: 1 | U32: ton
D33: year | F33: gal | I33: MMBtu | J33: 2000 | K33: lbs | N33: year | O33: 1000000 | P33: SCF | S33: MMBtu | T33: 2000 | U33: lbs
B35: =(B32*E32*H32+M32*O32*R32/1000000)/2000 -> 10.836519 | D35: ton/year | E35: = | F35: =B35*(2000/8760) -> 2.4740911 | G35: lb/hr
A38: PM = | B38: =B16 -> 9967062.8 | D38: galons | E38: 0.138 | F38: MMBtu | G38: * | H38: =C7 -> 0.0284 | I38: lbs | J38: 1 | K38: ton | L38: + | M38: =B17 -> 4.7884051e+09 | N38: SCF | O38: 1020 | P38: MMBtu | Q38: * | R38: =B7 -> 0.0066 | S38: lbs | T38: 1 | U38: ton
D39: year | F39: gal | I39: MMBtu | J39: 2000 | K39: lbs | N39: year | O39: 1000000 | P39: SCF | S39: MMBtu | T39: 2000 | U39: lbs
B41: =(B38*E38*H38+M38*O38*R38/1000000)/2000 -> 35.649228 | D41: ton/year | E41: = | F41: =B41*(2000/8760) -> 8.1390932 | G41: lb/hr | L41: lb/hr
A44: PM10 = | B44: =B16 -> 9967062.8 | D44: galons | E44: 0.138 | F44: MMBtu | G44: * | H44: =C8 -> 0.0357 | I44: lbs | J44: 1 | K44: ton | L44: + | M44: =B17 -> 4.7884051e+09 | N44: SCF | O44: 1020 | P44: MMBtu | Q44: * | R44: =B8 -> 0.0066 | S44: lbs | T44: 1 | U44: ton
D45: year | F45: gal | I45: MMBtu | J45: 2000 | K45: lbs | N45: year | O45: 1000000 | P45: SCF | S45: MMBtu | T45: 2000 | U45: lbs
B47: =(B44*E44*H44+M44*O44*R44/1000000)/2000 -> 40.669638 | D47: ton/year | E47: = | F47: =B47*(2000/8760) -> 9.2853054 | G47: lb/hr | L47: lb/hr
A50: PM2.5 = | B50: =B16 -> 9967062.8 | D50: galons | E50: 0.138 | F50: MMBtu | G50: * | H50: =C9 -> 0.0357 | I50: lbs | J50: 1 | K50: ton | L50: + | M50: =B17 -> 4.7884051e+09 | N50: SCF | O50: 1020 | P50: MMBtu | Q50: * | R50: =B9 -> 0.0066 | S50: lbs | T50: 1 | U50: ton
D51: year | F51: gal | I51: MMBtu | J51: 2000 | K51: lbs | N51: year | O51: 1000000 | P51: SCF | S51: MMBtu | T51: 2000 | U51: lbs
B53: =(B50*E50*H50+M50*O50*R50/1000000)/2000 -> 40.669638 | D53: ton/year | E53: = | F53: =B53*(2000/8760) -> 9.2853054 | G53: lb/hr | L53: lb/hr
A56: SO2 = | B56: =B16 -> 9967062.8 | D56: galons | E56: 0.138 | F56: MMBtu | G56: * | H56: =1.01*B18 -> 0.000754975 | I56: lbs | J56: 1 | K56: ton | L56: + | M56: =B17 -> 4.7884051e+09 | N56: SCF | O56: 1020 | P56: MMBtu | Q56: * | R56: =B10 -> 0.0028 | S56: lbs | T56: 1 | U56: ton
D57: year | F57: gal | I57: MMBtu | J57: 2000 | K57: lbs | N57: year | O57: 1000000 | P57: SCF | S57: MMBtu | T57: 2000 | U57: lbs
B59: =(B56*E56*H56+M56*O56*R56/1000000)/2000 -> 7.3570595 | D59: ton/year | E59: = | F59: =B59*(2000/8760) -> 1.6796939 | G59: lb/hr | L59: lb/hr
A62: H2SO4 = | B62: =B16 -> 9967062.8 | D62: galons | E62: 0.138 | F62: MMBtu | G62: * | H62: =C11 -> 0.0077 | I62: lbs | J62: 1 | K62: ton | L62: + | M62: =B17 -> 4.7884051e+09 | N62: SCF | O62: 1020 | P62: MMBtu | Q62: * | R62: =B11 -> 0.00043 | S62: lbs | T62: 1 | U62: ton
D63: year | F63: gal | I63: MMBtu | J63: 2000 | K63: lbs | N63: year | O63: 1000000 | P63: SCF | S63: MMBtu | T63: 2000 | U63: lbs
B65: =(B62*E62*H62+M62*O62*R62/1000000)/2000 -> 6.3455977 | D65: ton/year | E65: = | F65: =B65*(2000/8760) -> 1.4487666 | G65: lb/hr | L65: lb/hr
...

Sheet Aguirre
A2: Aguirre BC Consumption 2025 | H2: Azufre % por peso
A3: year | B3: Barrels | D3: Galones | F3: Total gal/year
B4: AG-1 | C4: AG-2 | D4: AG-1 | E4: AG-2 | H4: AG-1 | I4: AG-2
A5: 45658 | B5: 128445.58 | D5: =SUM(B5*42) -> 5394714.4 | E5: =SUM(C5*42) -> 0 | F5: =D5+E5 -> 5394714.4 | H5: 0.49 | I5: 0.49
A6: 45689 | B6: 138619.11 | C6: 2465.31 | D6: =SUM(B6*42) -> 5822002.6 | E6: =SUM(C6*42) -> 103543.02 | F6: =D6+E6 -> 5925545.6 | H6: 0.49 | I6: 0.49
A7: 45717 | B7: 0 | C7: 0 | D7: =SUM(B7*42) -> 0 | E7: =SUM(C7*42) -> 0 | F7: =D7+E7 -> 0 | H7: 0.49 | I7: 0.49
A8: 45748 | B8: 0 | C8: 0 | D8: =SUM(B8*42) -> 0 | E8: =SUM(C8*42) -> 0 | F8: =D8+E8 -> 0 | H8: 0.49 | I8: 0.49
A9: 45778 | B9: 0 | C9: 0 | D9: =SUM(B9*42) -> 0 | E9: =SUM(C9*42) -> 0 | F9: =D9+E9 -> 0 | H9: 0.49 | I9: 0.49
A10: 45809 | B10: 0 | C10: 80496.6 | D10: =SUM(B10*42) -> 0 | E10: =SUM(C10*42) -> 3380857.2 | F10: =D10+E10 -> 3380857.2 | H10: 0.49 | I10: 0.49
A11: 45839 | B11: 0 | C11: 254304.08 | D11: =SUM(B11*42) -> 0 | E11: =SUM(C11*42) -> 10680771 | F11: =D11+E11 -> 10680771 | H11: 0.49 | I11: 0.49
A12: 45870 | B12: 0 | C12: 257735.63 | D12: =SUM(B12*42) -> 0 | E12: =SUM(C12*42) -> 10824896 | F12: =D12+E12 -> 10824896 | H12: 0.49 | I12: 0.49
A13: 45901 | B13: 0 | C13: 311396.12 | D13: =SUM(B13*42) -> 0 | E13: =SUM(C13*42) -> 13078637 | F13: =D13+E13 -> 13078637 | H13: 0.49 | I13: 0.49
A14: 45931 | B14: 0 | C14: 271547.44 | D14: =SUM(B14*42) -> 0 | E14: =SUM(C14*42) -> 11404992 | F14: =D14+E14 -> 11404992 | H14: 0.48 | I14: 0.48
A15: 45962 | B15: 0 | C15: 279961.08 | D15: =SUM(B15*42) -> 0 | E15: =SUM(C15*42) -> 11758365 | F15: =D15+E15 -> 11758365 | H15: 0.47 | I15: 0.47
A16: 45992 | B16: 0 | C16: 173368.59 | D16: =SUM(B16*42) -> 0 | E16: =SUM(C16*42) -> 7281480.8 | F16: =D16+E16 -> 7281480.8 | H16: 0.45 | I16: 0.45
A17: Total | B17: =SUM(B5:B16) -> 267064.69 | C17: =SUM(C5:C16) -> 1631274.9 | D17: =SUM(D5:D16) -> 11216717 | E17: =SUM(E5:E16) -> 68513544 | F17: =D17+E17 -> 79730261 | H17: =AVERAGE(H5:H16) -> 0.48416667 | I17: =AVERAGE(I5:I16) -> 0.48416667 | J17: avg
F18: =SUM(F5:F16) -> 79730261
A20: Aguirre CC #2 FO Consumption 2025
A21: Galones | K21: Azufre | V21: Azufre Average
A22: year | B22: CC1-1 | C22: CC1-2 | D22: CC1-3 | E22: CC1-4 | F22: CC2-1 | H22: CC2-2 | I22: CC2-3 | J22: CC2-4 | K22: CC1-1 | L22: CC1-2 | M22: CC1-3 | N22: CC1-4 | O22: CC2-1 | P22: CC2-2 | Q22: CC2-3 | R22: CC2-4 | V22: CC1-1 | W22: CC1-2 | X22: CC1-3 | Y22: CC1-4 | Z22: CC2-1 | AA22: CC2-2 | AB22: CC2-3 | AC22: CC2-4
A23: 45658 | B23: 1216712 | C23: 768329 | D23: 0 | E23: 876861 | F23: 0 | G23: 45658 | H23: 0 | I23: 0 | J23: 60702 | K23: 0.001 | L23: 0.001 | M23: 0.001 | N23: 0.001 | O23: 0.001 | P23: 0.001 | Q23: 0.001 | R23: 0.001 | V23: 0.0039 | W23: 0.0039 | X23: 0.0039 | Y23: 0.0039 | Z23: 0.0039 | AA23: 0 | AB23: 0.0039 | AC23: 0
A24: 45689 | B24: 514000 | C24: 908875 | D24: 0 | E24: 788097 | F24: 0 | G24: 45689 | H24: 0 | I24: 0 | J24: 0 | K24: 0.001 | L24: 0.001 | M24: 0.001 | N24: 0.001 | O24: 0.001 | P24: 0.001 | Q24: 0.001 | R24: 0.001 | V24: 0.0044803387 | W24: 0.0044803387 | X24: 0.0041487674 | Y24: 0.0044988309 | Z24: 0.0043206426 | AA24: 0 | AB24: 0.0045345685 | AC24: 0
A25: 45717 | B25: 368405 | C25: 1546590 | D25: 0 | E25: 1303328 | F25: 0 | G25: 45717 | H25: 0 | I25: 0 | J25: 0 | K25: 0.001 | L25: 0.001 | M25: 0.001 | N25: 0.001 | O25: 0.001 | P25: 0.001 | Q25: 0.001 | R25: 0.001 | V25: 0.0044909213 | W25: 0.0044822349 | X25: 0 | Y25: 0.0046234638 | Z25: 0.0044822349 | AA25: 0 | AB25: 0.0044822349 | AC25: 0.0042703915
A26: 45748 | B26: 1905203 | C26: 1681733 | D26: 0 | E26: 1720640 | F26: 0 | G26: 45748 | H26: 0 | I26: 0 | J26: 0 | K26: 0.001 | L26: 0.001 | M26: 0.001 | N26: 0.001 | O26: 0.001 | P26: 0.001 | Q26: 0.001 | R26: 0.001 | V26: 0.0041843664 | W26: 0.0041826294 | X26: 0.0041895776 | Y26: 0.0041843664 | Z26: 0.0041821331 | AA26: 0 | AB26: 0.0041831638 | AC26: 0.0041687329
A27: 45778 | B27: 1322347 | C27: 791784 | D27: 0 | E27: 955022 | F27: 826213 | G27: 45778 | H27: 849289 | I27: 0 | J27: 487745 | K27: 0.001 | L27: 0.001 | M27: 0.001 | N27: 0.001 | O27: 0.001 | P27: 0.001 | Q27: 0.001 | R27: 0.001 | V27: 0.0041947855 | W27: 0.0041 | X27: 0.0041924159 | Y27: 0.0041896154 | Z27: 0.0042129527 | AA27: 0 | AB27: 0.0041770132 | AC27: 0.0042232212
A28: 45809 | B28: 1496097 | C28: 1053405 | D28: 0 | E28: 1201103 | F28: 1671863 | G28: 45809 | H28: 1417711 | I28: 0 | J28: 1274004 | K28: 0.001 | L28: 0.001 | M28: 0.001 | N28: 0.001 | O28: 0.001 | P28: 0.001 | Q28: 0.001 | R28: 0.001 | V28: 0.0042693321 | W28: 0 | X28: 0.004261152 | Y28: 0.0042614306 | Z28: 0.0042670622 | AA28: 0 | AB28: 0.0042647449 | AC28: 0.0042668295
A29: 45839 | B29: 1477595 | C29: 1188605 | D29: 0 | E29: 969773 | F29: 1480777 | G29: 45839 | H29: 1530583 | I29: 0 | J29: 1127839 | K29: 0.001 | L29: 0.001 | M29: 0.001 | N29: 0.001 | O29: 0.001 | P29: 0.001 | Q29: 0.001 | R29: 0.001 | V29: 0.0041484189 | W29: 0.0041203132 | X29: 0.0041355044 | Y29: 0.0041366182 | Z29: 0.004124547 | AA29: 0 | AB29: 0.0041230985 | AC29: 0.0041531995
A30: 45870 | B30: 1423460 | C30: 1173512 | D30: 0 | E30: 0 | F30: 1386791 | G30: 45870 | H30: 1439718 | I30: 0 | J30: 1121016 | K30: 0.001 | L30: 0.001 | M30: 0.001 | N30: 0.001 | O30: 0.001 | P30: 0.001 | Q30: 0.001 | R30: 0.001 | V30: 0.0045350538 | W30: 0.0045970635 | X30: 0.0046397544 | Y30: 0.0045832145 | Z30: 0.0045440445 | AA30: 0 | AB30: 0.0045505545 | AC30: 0.0045737741
A31: 45901 | B31: 896538 | C31: 608182 | D31: 0 | E31: 0 | F31: 1026305 | G31: 45901 | H31: 806236 | I31: 0 | J31: 768256 | K31: 0.001 | L31: 0.001 | M31: 0.001 | N31: 0.001 | O31: 0.001 | P31: 0.001 | Q31: 0.001 | R31: 0.001 | V31: 0.0028938693 | W31: 0.0032466574 | X31: 0.0042429148 | Y31: 0.0034112672 | Z31: 0.0030495641 | AA31: 0 | AB31: 0.0030131938 | AC31: 0.0033391204
