Workbook
Name \A: #N/A
Name \B: #N/A

Sheet 2026
A1: 2026 | B1: Inventario de Emisiones
B2: January | C2: February | D2: March | E2: April | F2: May | G2: June | H2: Total Emisiones (tons) January–June | I2: Total Emisiones Permisibles (tons/year)
A3: Pollutant | B3: San Juan | C3: San Juan | D3: San Juan | E3: San Juan | F3: San Juan | G3: San Juan | H3: San Juan | I3: San Juan
A4: PM | B4: ='Mensual 2026'!C27 -> 6.6521011 | C4: ='Mensual 2026'!D27 -> 9.0407409 | D4: ='Mensual 2026'!E27 -> 9.6363335 | E4: ='Mensual 2026'!F27 -> 13.457679 | F4: ='Mensual 2026'!G27 -> 12.544566 | G4: ='Mensual 2026'!H27 -> 9.9134503 | H4: =SUM(B4:G4) -> 61.244871 | I4: 2946.22
A5: PM10 | B5: ='Mensual 2026'!C28 -> 7.7257351 | C5: ='Mensual 2026'!D28 -> 10.954619 | D5: ='Mensual 2026'!E28 -> 11.808579 | E5: ='Mensual 2026'!F28 -> 16.772662 | F5: ='Mensual 2026'!G28 -> 15.51046 | G5: ='Mensual 2026'!H28 -> 11.054879 | H5: =SUM(B5:G5) -> 73.826934 | I5: 1430.51
A6: SO2 | B6: ='Mensual 2026'!C30 -> 50.125231 | C6: ='Mensual 2026'!D30 -> 89.042531 | D6: ='Mensual 2026'!E30 -> 61.767045 | E6: ='Mensual 2026'!F30 -> 130.26289 | F6: ='Mensual 2026'!G30 -> 112.911 | G6: ='Mensual 2026'!H30 -> 50.070977 | H6: =SUM(B6:G6) -> 494.17967 | I6: 7619.76
A7: NOx | B7: ='Mensual 2026'!C31 -> 68.484658 | C7: ='Mensual 2026'!D31 -> 83.195874 | D7: ='Mensual 2026'!E31 -> 73.950232 | E7: ='Mensual 2026'!F31 -> 105.88885 | F7: ='Mensual 2026'!G31 -> 98.573427 | G7: ='Mensual 2026'!H31 -> 110.65009 | H7: =SUM(B7:G7) -> 540.74313 | I7: 6739.2
A8: CO | B8: ='Mensual 2026'!C33 -> 14.624824 | C8: ='Mensual 2026'!D33 -> 16.610419 | D8: ='Mensual 2026'!E33 -> 13.587212 | E8: ='Mensual 2026'!F33 -> 19.286703 | F8: ='Mensual 2026'!G33 -> 18.113922 | G8: ='Mensual 2026'!H33 -> 24.685851 | H8: =SUM(B8:G8) -> 106.90893 | I8: 1654.73
A9: VOC | B9: ='Mensual 2026'!C32 -> 1.6778241 | C9: ='Mensual 2026'!D32 -> 2.0866109 | D9: ='Mensual 2026'!E32 -> 2.3846941 | E9: ='Mensual 2026'!F32 -> 3.0507974 | F9: ='Mensual 2026'!G32 -> 2.9484668 | G9: ='Mensual 2026'!H32 -> 2.7233337 | H9: =SUM(B9:G9) -> 14.871727 | I9: 190.7
A10: Pb | B10: ='Mensual 2026'!C35 -> 0.001108239 | C10: ='Mensual 2026'!D35 -> 0.0019704416 | D10: ='Mensual 2026'!E35 -> 0.0023767461 | E10: ='Mensual 2026'!F35 -> 0.0035023488 | F10: ='Mensual 2026'!G35 -> 0.0031717003 | G10: ='Mensual 2026'!H35 -> 0.0012013694 | H10: =SUM(B10:G10) -> 0.013330845 | I10: 3.54
A11: CO2e | B11: ='Mensual 2026'!C36 -> 78002.133 | C11: ='Mensual 2026'!D36 -> 88849.305 | D11: ='Mensual 2026'!E36 -> 83383.298 | E11: ='Mensual 2026'!F36 -> 110489.84 | F11: ='Mensual 2026'!G36 -> 106169.21 | G11: ='Mensual 2026'!H36 -> 132747.52 | H11: =SUM(B11:G11) -> 599641.3 | I11: N/A
A12: Total | B12: =SUM(B4:B10) -> 149.29148 | C12: =SUM(C4:C10) -> 210.93276 | D12: =SUM(D4:D10) -> 173.13647 | E12: =SUM(E4:E10) -> 288.72308 | F12: =SUM(F4:F10) -> 260.60501 | G12: =SUM(G4:G10) -> 209.09978 | H12: =SUM(H4:H10) -> 1291.7886 | I12: =SUM(I4:I10) -> 20584.66
B14: Palo Seco | C14: Palo Seco | D14: Palo Seco | E14: Palo Seco | F14: Palo Seco | G14: Palo Seco | H14: Palo Seco | I14: Palo Seco
A15: PM10 | B15: ='Mensual 2026'!C52 -> 31.676696 | C15: ='Mensual 2026'!D52 -> 15.970892 | D15: ='Mensual 2026'!E52 -> 0.37835504 | E15: ='Mensual 2026'!F52 -> 25.517369 | F15: ='Mensual 2026'!G52 -> 24.008014 | G15: ='Mensual 2026'!H52 -> 45.400407 | H15: =SUM(B15:G15) -> 142.95173 | I15: 1387.38
A16: SO2 | B16: ='Mensual 2026'!C54 -> 305.7335 | C16: ='Mensual 2026'!D54 -> 152.362 | D16: ='Mensual 2026'!E54 -> 1.0533372 | E16: ='Mensual 2026'!F54 -> 211.42502 | F16: ='Mensual 2026'!G54 -> 230.9973 | G16: ='Mensual 2026'!H54 -> 432.63426 | H16: =SUM(B16:G16) -> 1334.2054 | I16: 17464.39
A17: NOx | B17: ='Mensual 2026'!C55 -> 236.55013 | C17: ='Mensual 2026'!D55 -> 120.73762 | D17: ='Mensual 2026'!E55 -> 9.8015465 | E17: ='Mensual 2026'!F55 -> 242.68821 | F17: ='Mensual 2026'!G55 -> 174.69902 | G17: ='Mensual 2026'!H55 -> 331.62798 | H17: =SUM(B17:G17) -> 1116.1045 | I17: 12276.89
A18: VOC | B18: ='Mensual 2026'!C56 -> 3.3125256 | C18: ='Mensual 2026'!D56 -> 1.6849876 | D18: ='Mensual 2026'!E56 -> 0.083611644 | E18: ='Mensual 2026'!F56 -> 3.4481234 | F18: ='Mensual 2026'!G56 -> 2.4374387 | G18: ='Mensual 2026'!H56 -> 4.6642847 | H18: =SUM(B18:G18) -> 15.630972 | I18: 130.04
A19: CO | B19: ='Mensual 2026'!C57 -> 21.409241 | C19: ='Mensual 2026'!D57 -> 10.948795 | D19: ='Mensual 2026'!E57 -> 0.43245868 | E19: ='Mensual 2026'!F57 -> 20.41451 | F19: ='Mensual 2026'!G57 -> 16.004466 | G19: ='Mensual 2026'!H57 -> 30.707196 | H19: =SUM(B19:G19) -> 99.916667 | I19: 856.94
A20: Pb | B20: ='Mensual 2026'!C59 -> 0.0067586595 | C20: ='Mensual 2026'!D59 -> 0.0034202622 | D20: ='Mensual 2026'!E59 -> 0.0002756549 | E20: ='Mensual 2026'!F59 -> 0.0079470541 | F20: ='Mensual 2026'!G59 -> 0.0051044124 | G20: ='Mensual 2026'!H59 -> 0.0096967401 | H20: =SUM(B20:G20) -> 0.033202783 | I20: 0.37
A21: CO2e | B21: ='Mensual 2026'!C60 -> 107317.55 | C21: ='Mensual 2026'!D60 -> 54700.107 | D21: ='Mensual 2026'!E60 -> 3313.2803 | E21: ='Mensual 2026'!F60 -> 112038.69 | F21: ='Mensual 2026'!G60 -> 81752.398 | G21: ='Mensual 2026'!H60 -> 156069.3 | H21: =SUM(B21:G21) -> 515191.33 | I21: 5418568.6
A22: Subtotal | B22: =SUM(B15:B20) -> 598.68884 | C22: =SUM(C15:C20) -> 301.70771 | D22: =SUM(D15:D20) -> 11.749585 | E22: =SUM(E15:E20) -> 503.50117 | F22: =SUM(F15:F20) -> 448.15134 | G22: =SUM(G15:G20) -> 845.04382 | H22: =SUM(H15:H20) -> 2708.8425 | I22: =SUM(I15:I20) -> 32116.01
A23: Ni Comp | B23: 0 | C23: 0 | D23: 0 | E23: 0 | F23: 0 | G23: 0 | H23: =SUM(B23:G23) -> 0 | I23: N/A
A24: Mn Comp | B24: 0 | C24: 0 | D24: 0 | E24: 0 | F24: 0 | G24: 0 | H24: =SUM(B24:G24) -> 0 | I24: N/A
A25: Formaldehido | B25: 0 | C25: 0 | D25: 0 | E25: 0 | F25: 0 | G25: 0 | H25: =SUM(B25:G25) -> 0 | I25: N/A
A26: Tolueno | B26: 0 | C26: 0 | D26: 0 | E26: 0 | F26: 0 | G26: 0 | H26: =SUM(B26:G26) -> 0 | I26: N/A
A27: POM | B27: 0 | C27: 0 | D27: 0 | E27: 0 | F27: 0 | G27: 0 | H27: =SUM(B27:G27) -> 0 | I27: N/A
A28: CAPs Total | B28: 0 | C28: 0 | D28: 0 | E28: 0 | F28: 0 | G28: 0 | H28: =SUM(B28:G28) -> 0 | I28: N/A
A29: Subtotal CAPs | B29: =SUM(B23:B28) -> 0 | C29: =SUM(C23:C28) -> 0 | D29: =SUM(D23:D28) -> 0 | E29: =SUM(E23:E28) -> 0 | F29: =SUM(F23:F28) -> 0 | G29: =SUM(G23:G28) -> 0 | H29: =SUM(H23:H28) -> 0 | I29: =SUM(I23:I28) -> 0
A30: Total | B30: =SUM(B22,B29) -> 598.68884 | C30: =SUM(C22,C29) -> 301.70771 | D30: =SUM(D22,D29) -> 11.749585 | E30: =SUM(E22,E29) -> 503.50117 | F30: =SUM(F22,F29) -> 448.15134 | G30: =SUM(G22,G29) -> 845.04382 | H30: =SUM(H22,H29) -> 2708.8425 | I30: =SUM(I22,I29) -> 32116.01
B32: Aguirre | C32: Aguirre | D32: Aguirre | E32: Aguirre | F32: Aguirre | G32: Aguirre | H32: Aguirre | I32: Aguirre
A33: PM Total | B33: ='Mensual 2026'!C39 -> 45.205194 | C33: ='Mensual 2026'!D39 -> 34.622343 | D33: ='Mensual 2026'!E39 -> 38.516546 | E33: ='Mensual 2026'!F39 -> 36.26323 | F33: ='Mensual 2026'!G39 -> 45.401952 | G33: ='Mensual 2026'!H39 -> 45.887051 | H33: =SUM(B33:G33) -> 245.89631 | I33: 2194.88
A34: SO2 | B34: ='Mensual 2026'!C40 -> 396.24468 | C34: ='Mensual 2026'!D40 -> 308.07359 | D34: ='Mensual 2026'!E40 -> 344.809 | E34: ='Mensual 2026'!F40 -> 320.32937 | F34: ='Mensual 2026'!G40 -> 405.38764 | G34: ='Mensual 2026'!H40 -> 413.24933 | H34: =SUM(B34:G34) -> 2188.0936 | I34: 30608.58
A35: NOx | B35: ='Mensual 2026'!C41 -> 539.00605 | C35: ='Mensual 2026'!D41 -> 422.07665 | D35: ='Mensual 2026'!E41 -> 435.10324 | E35: ='Mensual 2026'!F41 -> 476.93718 | F35: ='Mensual 2026'!G41 -> 543.38345 | G35: ='Mensual 2026'!H41 -> 564.01373 | H35: =SUM(B35:G35) -> 2980.5203 | I35: 28867.78
A36: VOC | B36: ='Mensual 2026'!C42 -> 4.5451311 | C36: ='Mensual 2026'!D42 -> 3.3377798 | D36: ='Mensual 2026'!E42 -> 3.7970409 | E36: ='Mensual 2026'!F42 -> 3.4604885 | F36: ='Mensual 2026'!G42 -> 4.3872793 | G36: ='Mensual 2026'!H42 -> 4.3634203 | H36: =SUM(B36:G36) -> 23.89114 | I36: 195.32
A37: CO | B37: ='Mensual 2026'!C43 -> 30.073776 | C37: ='Mensual 2026'!D43 -> 22.103632 | D37: ='Mensual 2026'!E43 -> 25.113161 | E37: ='Mensual 2026'!F43 -> 22.944026 | F37: ='Mensual 2026'!G43 -> 29.04563 | G37: ='Mensual 2026'!H43 -> 28.904331 | H37: =SUM(B37:G37) -> 158.18456 | I37: 1299.54
A38: Pb | B38: ='Mensual 2026'!C44 -> 0.012784975 | C38: ='Mensual 2026'!D44 -> 0.0097944478 | D38: ='Mensual 2026'!E44 -> 0.010446002 | E38: ='Mensual 2026'!F44 -> 0.010762474 | F38: ='Mensual 2026'!G44 -> 0.012697856 | G38: ='Mensual 2026'!H44 -> 0.01299325 | H38: =SUM(B38:G38) -> 0.069479006 | I38: 0.63
A39: CO2e | B39: ='Mensual 2026'!C45 -> 192468.11 | C39: ='Mensual 2026'!D45 -> 145959.34 | D39: ='Mensual 2026'!E45 -> 158117.9 | E39: ='Mensual 2026'!F45 -> 158248.29 | F39: ='Mensual 2026'!G45 -> 189846.77 | G39: ='Mensual 2026'!H45 -> 192965.46 | H39: =SUM(B39:G39) -> 1037605.9 | I39: N/A
A40: Subtotal | B40: =SUM(B33:B38) -> 1015.0876 | C40: =SUM(C33:C38) -> 790.22379 | D40: =SUM(D33:D38) -> 847.34944 | E40: =SUM(E33:E38) -> 859.94505 | F40: =SUM(F33:F38) -> 1027.6186 | G40: =SUM(G33:G38) -> 1056.4309 | H40: =SUM(H33:H38) -> 5596.6554 | I40: =SUM(I33:I38) -> 63166.73
A41: Ni Comp | B41: 0 | C41: 0 | D41: 0 | E41: 0 | F41: 0 | G41: 0 | H41: =SUM(B41:G41) -> 0 | I41: N/A
A42: Mn Comp | B42: 0 | C42: 0 | D42: 0 | E42: 0 | F42: 0 | G42: 0 | H42: =SUM(B42:G42) -> 0 | I42: N/A
...

Sheet Costa Sur
A2: Costa Sur BC Consumption 2022
A3: Galones | F3: Azufre | L3: Barrels
A4: year | B4: CS3 | C4: CS4 | D4: CS5 | E4: CS6 | F4: CS3 | G4: CS4 | H4: CS5 | I4: CS6 | J4: CS3 | K4: CS4 | L4: CS5 | M4: CS6
A5: 46023 | B5: 0 | C5: 0 | F5: 0 | G5: 0 | H5: 0.48 | I5: 0.48 | J5: 0 | K5: 0
A6: 46054 | B6: 0 | C6: 0 | F6: 0 | G6: 0 | H6: 0.48 | I6: 0.48 | J6: 0 | K6: 0
A7: 46082 | B7: 0 | C7: 0 | F7: 0 | G7: 0 | H7: 0.48 | I7: 0.48 | J7: 0 | K7: 0
A8: 46113 | B8: 0 | C8: 0 | F8: 0 | G8: 0 | H8: 0.48 | I8: 0.47 | J8: 0 | K8: 0
A9: 46143 | B9: 0 | C9: 0 | F9: 0 | G9: 0 | H9: 0.47 | I9: 0.47 | J9: 0 | K9: 0
A10: 46174 | B10: 0 | C10: 0 | D10: 490512.54 | E10: 1798110.3 | F10: 0 | G10: 0 | H10: 0.47 | I10: 0.47 | J10: 0 | K10: 0
A11: 46204 | B11: 0 | C11: 0 | D11: =SUM(L11*42) -> 0 | E11: =SUM(M11*42) -> 0 | F11: 0 | G11: 0 | J11: 0 | K11: 0
A12: 46235 | B12: 0 | C12: 0 | D12: =SUM(L12*42) -> 0 | E12: =SUM(M12*42) -> 0 | F12: 0 | G12: 0 | J12: 0 | K12: 0
A13: 46266 | B13: 0 | C13: 0 | D13: =SUM(L13*42) -> 0 | E13: =SUM(M13*42) -> 0 | F13: 0 | G13: 0 | J13: 0 | K13: 0
A14: 46296 | B14: 0 | C14: 0 | D14: =SUM(L14*42) -> 0 | E14: =SUM(M14*42) -> 0 | F14: 0 | G14: 0 | J14: 0 | K14: 0
A15: 46327 | B15: 0 | C15: 0 | D15: =SUM(L15*42) -> 0 | E15: =SUM(M15*42) -> 0 | F15: 0 | G15: 0 | J15: 0 | K15: 0
A16: 46357 | B16: 0 | C16: 0 | D16: =SUM(L16*42) -> 0 | E16: =SUM(M16*42) -> 0 | F16: 0 | G16: 0 | J16: 0 | K16: 0
A17: Total | B17: =SUM(B5:B16) -> 0 | C17: =SUM(C5:C16) -> 0 | D17: =SUM(D5:D16) -> 490512.54 | E17: =SUM(E5:E16) -> 1798110.3 | F17: =AVERAGE(F5:F16) -> 0 | G17: =AVERAGE(G5:G16) -> 0
A21: CS #2 FO Consumption 2022
A22: year | B22: Galones | D22: Azufre | G22: Barrels
B23: SCGT1-1 | C23: SCGT1-2 | D23: SCGT1-1 | E23: SCGT1-2 | G23: SCGT1-1 | H23: SCGT1-2
A24: =A5 -> 46023 | B24: 0 | C24: 0 | D24: 0.01 | E24: 0.01 | G24: 0 | H24: 0
A25: =A6 -> 46054 | B25: 0 | C25: 0 | D25: 0.01 | E25: 0.01 | G25: 0 | H25: 0
A26: =A7 -> 46082 | B26: 0 | C26: 0 | D26: 0.01 | E26: 0.01 | G26: 0 | H26: 0
A27: =A8 -> 46113 | B27: 0 | C27: 0 | D27: 0.01 | E27: 0.01 | G27: 0 | H27: 0
A28: =A9 -> 46143 | B28: 0 | C28: 0 | D28: 0.01 | E28: 0.01 | G28: 0 | H28: 0
A29: =A10 -> 46174 | B29: 0 | C29: 0 | D29: 0.01 | E29: 0.01 | G29: 0 | H29: 0
A30: =A11 -> 46204 | B30: 0 | C30: 0 | D30: 0.01 | E30: 0.01
A31: =A12 -> 46235 | B31: 0 | C31: 0 | D31: 0.01 | E31: 0.01
A32: =A13 -> 46266 | B32: 0 | C32: 0 | D32: 0.01 | E32: 0.01
A33: =A14 -> 46296 | B33: 0 | C33: 0 | D33: 0.01 | E33: 0.01
A34: =A15 -> 46327 | B34: 0 | C34: 0 | D34: 0.01 | E34: 0.01
A35: =A16 -> 46357 | B35: 0 | C35: 0 | D35: 0.01 | E35: 0.01
A36: Total | B36: =SUM(B24:B35) -> 0 | C36: =SUM(C24:C35) -> 0
A39: Costa Sur Natural Gas Consumtion 2022
A40: year | B40: SCF | D40: Azufre
B41: Unit 5 | C41: Unit 6 | D41: Unit 5 | E41: Unit 6
A42: =A5 -> 46023 | D42: 4.7e-05 | E42: 4.7e-05
A43: =A6 -> 46054 | D43: 2.9e-05 | E43: 2.9e-05
A44: =A7 -> 46082 | D44: 8.1e-05 | E44: 8.1e-05
A45: =A8 -> 46113 | D45: 7.6e-05 | E45: 7.6e-05
A46: =A9 -> 46143 | D46: 0.00017 | E46: 0.00017
...

Sheet Turbinas CS
B1: Cómputo de Emisiones Actuales - Costa Sur (Turbinas 1-1 & 1-2) JUNIO 2022
B3: Factores de Emisión AP-42 Section 3.1
B5: PM | C5: 0.012lb/MMBTU
B6: SOx | C6: 1.01*%S lb/MMBTU
B7: NOx | C7: 0.880 lb/MMBTU
B8: VOC | C8: 0.00041 lb/MMBTU
B9: C0 | C9: 0.0033 lb/MMBTU
B10: Pb | C10: 0.0000140 lb MMBTU
B11: CO2e | C11: 163.61 lb/MMBtu (40 CFR 98, Subpart C)
R12: =(73.96+0.003*25+0.0006*298)*2.2046 -> 163.61174
B13: Combustible #2 | C13: ='Costa Sur'!B29+'Costa Sur'!C29 -> 0 | D13: gal/year
B14: Azufre % | C14: =MAX('Costa Sur'!D29:E29) -> 0.01
B17: Cálculos Emisiones PM
B19: = | C19: 0.012 | D19: lb | E19: =C13 -> 0 | F19: gal | G19: 0.138 | H19: MMBTU | I19: ton
C20: MMBTU | E20: año | G20: gal | I20: 2000 | J20: lb
B23: = | C23: =C19*E19*G19/I20 -> 0 | D23: ton | E23: = | F23: =C23*2000/8760 -> 0 | G23: lb
D24: año | G24: hr
B26: Cálculos Emisiones SOx
B28: = | C28: =1.01*C14 -> 0.0101 | D28: lb | E28: =E19 -> 0 | F28: gal | G28: 0.138 | H28: MMBTU | I28: ton
C29: MMBTU | E29: año | G29: gal | I29: 2000 | J29: lb
B32: = | C32: =C28*E28*G28/I29 -> 0 | D32: ton | E32: = | F32: =C32*2000/8760 -> 0 | G32: lb
D33: año | G33: hr
B35: Cálculos Emisiones NOx
B37: = | C37: 0.88 | D37: lb | E37: =E19 -> 0 | F37: gal | G37: 0.138 | H37: MMBTU | I37: ton
C38: MMBTU | E38: año | G38: gal | I38: 2000 | J38: lb
B41: = | C41: =C37*E37*G37/I38 -> 0 | D41: ton | E41: = | F41: =C41*2000/8760 -> 0 | G41: lb
D42: año | G42: hr
B44: Cálculos Emisiones VOC
B46: = | C46: 0.00041 | D46: lb | E46: =E19 -> 0 | F46: gal | G46: 0.138 | H46: MMBTU | I46: ton
C47: MMBTU | E47: año | G47: gal | I47: 2000 | J47: lb
B50: = | C50: =C46*E46*G46/I47 -> 0 | D50: ton | E50: = | F50: =C50*2000/8760 -> 0 | G50: lb
D51: año | G51: hr
B53: Cálculos Emisiones CO
B55: = | C55: 0.0033 | D55: lb | E55: =E19 -> 0 | F55: gal | G55: 0.138 | H55: MMBTU | I55: ton
C56: MMBTU | E56: año | G56: gal | I56: 2000 | J56: lb
B59: = | C59: =C55*E55*G55/I56 -> 0 | D59: ton | E59: = | F59: =C59*2000/8760 -> 0 | G59: lb
D60: año | G60: hr
B62: Cálculos Emisiones Pb
B64: = | C64: 1.4e-05 | D64: lb | E64: =E19 -> 0 | F64: gal | G64: 0.138 | H64: MMBTU | I64: ton
C65: MMBTU | E65: año | G65: gal | I65: 2000 | J65: lb
...

Sheet Calculos CS 3 y 4
A1: Cómputo de Emisiones Actuales JUNIO 2022 - Costa Sur 3 y 4
A3: Factores de Emisión AP-42
A5: PM | B5: (9.19)(%S) + 3.22 lb/1000gal
A6: SOx | B6: (157)*%S lb/1000gal
A7: NOx | B7: 32 (Tangencial) lb/1000gal
A8: VOC | B8: 0.76 lb/1000gal
A9: CO | B9: 5 lb/1000gal
A10: Pb | B10: 0.00151 lb/1000gal
A12: Combustible #6 | B12: ='Costa Sur'!B17+'Costa Sur'!C17 -> 0 | C12: gal/año
A13: Azufre % | B13: =('Costa Sur'!F17+'Costa Sur'!G17)/2 -> 0
A16: Cálculos Emisiones PM
A18: = | B18: =(9.19*B13)+3.22 -> 3.22 | C18: lb | D18: =B12 -> 0 | E18: gal | F18: ton
B19: 1000 | C19: gal | D19: año | F19: 2000 | G19: lb
A22: = | B22: =((B18/B19)*D18)/F19 -> 0 | C22: ton | D22: = | E22: =B22*(2000/8760) -> 0 | F22: lb
C23: año | F23: hr
A25: Cálculos Emisiones SOx
A27: = | B27: =(157+5.7)*B13 -> 0 | C27: lb | D27: =B12 -> 0 | E27: gal | F27: ton
B28: 1000 | C28: gal | D28: año | F28: 2000 | G28: lb
A31: = | B31: =((B27/B28)*D27)/F28 -> 0 | C31: ton | D31: = | E31: =B31*(2000/8760) -> 0 | F31: lb
C32: año | F32: hr
A34: Cálculos Emisiones NOx
A36: = | B36: 32 | C36: lb | D36: =B12 -> 0 | E36: gal | F36: ton
B37: 1000 | C37: gal | D37: año | F37: 2000 | G37: lb
A40: = | B40: =((B36/B37)*D36)/F37 -> 0 | C40: ton | D40: = | E40: =B40*(2000/8760) -> 0 | F40: lb
C41: año | F41: hr
A49: Cálculos Emisiones VOC
A51: = | B51: 0.76 | C51: lb | D51: =B12 -> 0 | E51: gal | F51: ton
B52: 1000 | C52: gal | D52: año | F52: 2000 | G52: lb
A55: = | B55: =((B51/B52)*D51)/F52 -> 0 | C55: ton | D55: = | E55: =B55*(2000/8760) -> 0 | F55: lb
C57: año | F57: hr
A60: Cálculos Emisiones CO
A62: = | B62: 5 | C62: lb | D62: =B12 -> 0 | E62: gal | F62: ton
B63: 1000 | C63: gal | D63: año | F63: 2000 | G63: lb
A66: = | B66: =((B62/B63)*D62)/F63 -> 0 | C66: ton | D66: = | E66: =B66*(2000/8760) -> 0 | F66: lb
C67: año | F67: hr
A69: Cálculos Emisiones Pb
A71: = | B71: 0.00151 | C71: lb | D71: =B12 -> 0 | E71: gal | F71: ton
B72: 1000 | C72: gal | D72: año | F72: 2000 | G72: lb
A75: = | B75: =((B71/B72)*D71)/F72 -> 0 | C75: ton | D75: = | E75: =B75*(2000/8760) -> 0 | F75: lb
C76: año | F76: hr

Sheet CS 5
A1: Cómputo de Emisiones Actuales para Bunker C y Gas Natural - Costa Sur JUNIO 2022 - Unidad 5*
A3: Parametro | B3: Factor de Emisión Combustible Natural Gas | C3: Factor de Emisión Combustible No. 6 Oil | D3: Emisiones Actuales (ton/year) | E3: Emisiones Actuales (lb/hr)
A4: NOx | B4: 0.35 | C4: 0.35 | D4: =B23 -> 419.62631 | E4: =F23 -> 95.805093
A5: CO | B5: 0.009 | C5: 0.0038 | D5: =B29 -> 10.599091 | E5: =F29 -> 2.4198838
A6: VOC | B6: 0.0008 | C6: 0.0013 | D6: =B35 -> 0.97754007 | E6: =F35 -> 0.22318266 | F6: Ecuación para el Cómputo
A7: PM | B7: 0.005 | C7: 0.0275 | D7: =B41 -> 6.8224015 | E7: =F41 -> 1.5576259 | F7: ton/year = | G7: [Consumo de Combustible #6 en galones/year) * ( Valor Calorífico BC 0.15 MMBtu/gal)
A8: PM10 | B8: 0.0081 | C8: 0.04 | D8: =B47 -> 10.884903 | E8: =F47 -> 2.4851377 | G8: + (Consumo Gas Natural SCF/year) * (Valor Calorífico GN 1,040 MMBtu/SCF*10^6)]
A9: PM2.5 | B9: 0.0075 | C9: 0.033 | D9: =B53 -> 9.9300976 | E9: =F53 -> 2.2671456 | G9: * FE en lbs/MMBtu * 1 ton/2,000 lbs
A10: SO2 | B10: 0.004 | C10: 157*%S | D10: =B59 -> 22.746036 | E10: =F59 -> 5.1931588
A11: H2SO4 | B11: 0.00043 | C11: 0.02259 | D11: =B65 -> 1.3307727 | E11: =F65 -> 0.30382939 | F11: lbs/hr = | G11: (Toneladas Contaminante / year) * (1 year / 8,760 hr) * (2000 lb / ton) | V11: CO2e | W11: =(157765.7+153.2+365.3)*2204.6/13621578 -> 25.617689 | X11: lbs/gal
A12: Pb | B12: 0 | C12: 4.63e-06 | D12: =B71 -> 0.00017033048 | E12: =F71 -> 3.8888237e-05 | W12: =(989989.8+466.4+556)*2204.62/18132099995 -> 0.12049378 | X12: lbs/scf
A13: CO2e | B13: 25.618 lbs/gal | C13: 0.1205 lbs/SCF | D13: =B77 -> 140928.2 | E13: =F77 -> 32175.388
A14: Fluoruro | B14: 0 | C14: 0 | D14: 0 | E14: 0
A16: Consumo #6 = | B16: ='Costa Sur'!D10 -> 490512.54 | D16: gal/year
A17: Consumo NG = | B17: ='Costa Sur'!B47 -> 2234892060 | D17: SCF/year
A18: #6 Azufre = | B18: ='Costa Sur'!H10 -> 0.47 | D18: %
A20: NOx = | B20: =B16 -> 490512.54 | D20: galones | E20: 0.15 | F20: MMBtu | G20: * | H20: =C4 -> 0.35 | I20: lbs | J20: 1 | K20: ton | L20: + | M20: =B17 -> 2234892060 | N20: SCF | O20: 1040 | P20: MMBtu | Q20: * | R20: =B4 -> 0.35 | S20: lbs | T20: 1 | U20: ton
D21: year | F21: gal | I21: MMBtu | J21: 2000 | K21: lbs | N21: year | O21: 1000000 | P21: SCF | S21: MMBtu | T21: 2000 | U21: lbs
B23: =(B20*E20*H20+M20*O20*R20/1000000)/2000 -> 419.62631 | D23: ton/year | E23: = | F23: =B23*(2000/8760) -> 95.805093 | G23: lb/hr
A26: CO = | B26: =B16 -> 490512.54 | D26: galones | E26: 0.15 | F26: MMBtu | G26: * | H26: =C5 -> 0.0038 | I26: lbs | J26: 1 | K26: ton | L26: + | M26: =B17 -> 2234892060 | N26: SCF | O26: 1040 | P26: MMBtu | Q26: * | R26: =B5 -> 0.009 | S26: lbs | T26: 1 | U26: ton
D27: year | F27: gal | I27: MMBtu | J27: 2000 | K27: lbs | N27: year | O27: 1000000 | P27: SCF | S27: MMBtu | T27: 2000 | U27: lbs
B29: =(B26*E26*H26+M26*O26*R26/1000000)/2000 -> 10.599091 | D29: ton/year | E29: = | F29: =B29*(2000/8760) -> 2.4198838 | G29: lb/hr
A32: VOC = | B32: =B16 -> 490512.54 | D32: galones | E32: 0.15 | F32: MMBtu | G32: * | H32: =C6 -> 0.0013 | I32: lbs | J32: 1 | K32: ton | L32: + | M32: =B17 -> 2234892060 | N32: SCF | O32: 1040 | P32: MMBtu | Q32: * | R32: =B6 -> 0.0008 | S32: lbs | T32: 1 | U32: ton
D33: year | F33: gal | I33: MMBtu | J33: 2000 | K33: lbs | N33: year | O33: 1000000 | P33: SCF | S33: MMBtu | T33: 2000 | U33: lbs
B35: =(B32*E32*H32+M32*O32*R32/1000000)/2000 -> 0.97754007 | D35: ton/year | E35: = | F35: =B35*(2000/8760) -> 0.22318266 | G35: lb/hr
A38: PM = | B38: =B16 -> 490512.54 | D38: galones | E38: 0.15 | F38: MMBtu | G38: * | H38: =C7 -> 0.0275 | I38: lbs | J38: 1 | K38: ton | L38: + | M38: =B17 -> 2234892060 | N38: SCF | O38: 1040 | P38: MMBtu | Q38: * | R38: =B7 -> 0.005 | S38: lbs | T38: 1 | U38: ton
D39: year | F39: gal | I39: MMBtu | J39: 2000 | K39: lbs | N39: year | O39: 1000000 | P39: SCF | S39: MMBtu | T39: 2000 | U39: lbs
B41: =(B38*E38*H38+M38*O38*R38/1000000)/2000 -> 6.8224015 | D41: ton/year | E41: = | F41: =B41*(2000/8760) -> 1.5576259 | G41: lb/hr | L41: lb/hr
A44: PM10 = | B44: =B16 -> 490512.54 | D44: galones | E44: 0.15 | F44: MMBtu | G44: * | H44: =C8 -> 0.04 | I44: lbs | J44: 1 | K44: ton | L44: + | M44: =B17 -> 2234892060 | N44: SCF | O44: 1040 | P44: MMBtu | Q44: * | R44: =B8 -> 0.0081 | S44: lbs | T44: 1 | U44: ton
D45: year | F45: gal | I45: MMBtu | J45: 2000 | K45: lbs | N45: year | O45: 1000000 | P45: SCF | S45: MMBtu | T45: 2000 | U45: lbs
B47: =(B44*E44*H44+M44*O44*R44/1000000)/2000 -> 10.884903 | D47: ton/year | E47: = | F47: =B47*(2000/8760) -> 2.4851377 | G47: lb/hr | L47: lb/hr
A50: PM2.5 = | B50: =B16 -> 490512.54 | D50: galones | E50: 0.15 | F50: MMBtu | G50: * | H50: =C9 -> 0.033 | I50: lbs | J50: 1 | K50: ton | L50: + | M50: =B17 -> 2234892060 | N50: SCF | O50: 1040 | P50: MMBtu | Q50: * | R50: =B9 -> 0.0075 | S50: lbs | T50: 1 | U50: ton
D51: year | F51: gal | I51: MMBtu | J51: 2000 | K51: lbs | N51: year | O51: 1000000 | P51: SCF | S51: MMBtu | T51: 2000 | U51: lbs
B53: =(B50*E50*H50+M50*O50*R50/1000000)/2000 -> 9.9300976 | D53: ton/year | E53: = | F53: =B53*(2000/8760) -> 2.2671456 | G53: lb/hr | L53: lb/hr
A56: SO2 = | B56: =B16 -> 490512.54 | D56: galones | G56: * | H56: =(157)*B18 -> 73.79 | I56: lbs | J56: 1 | K56: ton | L56: + | M56: =B17 -> 2234892060 | N56: SCF | O56: 1040 | P56: MMBtu | Q56: * | R56: =B10 -> 0.004 | S56: lbs | T56: 1 | U56: ton
D57: year | H57: 1000 | I57: gals | J57: 2000 | K57: lbs | N57: year | O57: 1000000 | P57: SCF | S57: MMBtu | T57: 2000 | U57: lbs
B59: =(B56*H56/H57+M56*O56*R56/1000000)/2000 -> 22.746036 | D59: ton/year | E59: = | F59: =B59*(2000/8760) -> 5.1931588 | G59: lb/hr | L59: lb/hr
A62: H2SO4 = | B62: =B16 -> 490512.54 | D62: galones | E62: 0.15 | F62: MMBtu | G62: * | H62: =C11 -> 0.02259 | I62: lbs | J62: 1 | K62: ton | L62: + | M62: =B17 -> 2234892060 | N62: SCF | O62: 1040 | P62: MMBtu | Q62: * | R62: =B11 -> 0.00043 | S62: lbs | T62: 1 | U62: ton
D63: year | F63: gal | I63: MMBtu | J63: 2000 | K63: lbs | N63: year | O63: 1000000 | P63: SCF | S63: MMBtu | T63: 2000 | U63: lbs
B65: =(B62*E62*H62+M62*O62*R62/1000000)/2000 -> 1.3307727 | D65: ton/year | E65: = | F65: =B65*(2000/8760) -> 0.30382939 | G65: lb/hr | L65: lb/hr
...

Sheet CS6
A1: Cómputo de Emisiones Actuales para Bunker C y Gas Natural - Costa Sur JUNIO 2022 - Unidad 6*
A3: Parametro | B3: Factor de Emisión Combustible Natural Gas | C3: Factor de Emisión Combustible No. 6 Oil | D3: Emisiones Actuales (ton/year) | E3: Emisiones Actuales (lb/hr)
A4: NOx | B4: 0.35 | C4: 0.35 | D4: =B23 -> 404.93599 | E4: =F23 -> 92.45114
A5: CO | B5: 0.009 | C5: 0.0038 | D5: =B29 -> 9.7113768 | E5: =F29 -> 2.2172093
A6: VOC | B6: 0.0008 | C6: 0.0013 | D6: =B35 -> 0.99299712 | E6: =F35 -> 0.22671167 | F6: Ecuación para el Cómputo
A7: PM | B7: 0.005 | C7: 0.0275 | D7: =B41 -> 8.819111 | E7: =F41 -> 2.0134957 | F7: ton/year = | G7: [Consumo de Combustible #6 en galones/year) * ( Valor Calorífico BC 0.15 MMBtu/gal)
A8: PM10 | B8: 0.0081 | C8: 0.04 | D8: =B47 -> 13.673355 | E8: =F47 -> 3.1217705 | G8: + (Consumo Gas Natural SCF/year) * (Valor Calorífico GN 1,040 MMBtu/SCF*10^6)]
A9: PM2.5 | B9: 0.0075 | C9: 0.033 | D9: =B53 -> 12.116086 | E9: =F53 -> 2.7662296 | G9: * FE en lbs/MMBtu * 1 ton/2,000 lbs
A10: SO2 | B10: 0.004 | C10: 157*%S | D10: =B59 -> 70.429686 | E10: =F59 -> 16.079837
A11: H2SO4 | B11: 0.00043 | C11: 0.02259 | D11: =B65 -> 3.4859521 | E11: =F65 -> 0.79587948 | F11: lbs/hr = | G11: (Toneladas Contaminante / year) * (1 year / 8,760 hr) * (2000 lb / ton) | V11: CO2e | W11: =(157765.7+153.2+365.3)*2204.6/13621578 -> 25.617689 | X11: lbs/gal
A12: Pb | B12: 0 | C12: 4.63e-06 | D12: =B71 -> 0.0006243938 | E12: =F71 -> 0.00014255566 | W12: =(989989.8+466.4+556)*2204.62/18132099995 -> 0.12049378 | X12: lbs/scf
A13: CO2e | B13: 25.618 lbs/gal | C13: 0.1205 lbs/SCF | D13: =B77 -> 141451.81 | E13: =F77 -> 32294.934
A14: Fluoruro | B14: 0 | C14: 0 | D14: 0 | E14: 0
A16: Consumo #6 = | B16: ='Costa Sur'!E10 -> 1798110.3 | D16: gal/year
A17: Consumo NG = | B17: ='Costa Sur'!C47 -> 1.9655802e+09 | D17: SCF/year
A18: #6 Azufre = | B18: ='Costa Sur'!I10 -> 0.47 | D18: %
A20: NOx = | B20: =B16 -> 1798110.3 | D20: galones | E20: 0.15 | F20: MMBtu | G20: * | H20: =C4 -> 0.35 | I20: lbs | J20: 1 | K20: ton | L20: + | M20: =B17 -> 1.9655802e+09 | N20: SCF | O20: 1040 | P20: MMBtu | Q20: * | R20: =B4 -> 0.35 | S20: lbs | T20: 1 | U20: ton
D21: year | F21: gal | I21: MMBtu | J21: 2000 | K21: lbs | N21: year | O21: 1000000 | P21: SCF | S21: MMBtu | T21: 2000 | U21: lbs
B23: =(B20*E20*H20+M20*O20*R20/1000000)/2000 -> 404.93599 | D23: ton/year | E23: = | F23: =B23*(2000/8760) -> 92.45114 | G23: lb/hr
A26: CO = | B26: =B16 -> 1798110.3 | D26: galones | E26: 0.15 | F26: MMBtu | G26: * | H26: =C5 -> 0.0038 | I26: lbs | J26: 1 | K26: ton | L26: + | M26: =B17 -> 1.9655802e+09 | N26: SCF | O26: 1040 | P26: MMBtu | Q26: * | R26: =B5 -> 0.009 | S26: lbs | T26: 1 | U26: ton
D27: year | F27: gal | I27: MMBtu | J27: 2000 | K27: lbs | N27: year | O27: 1000000 | P27: SCF | S27: MMBtu | T27: 2000 | U27: lbs
B29: =(B26*E26*H26+M26*O26*R26/1000000)/2000 -> 9.7113768 | D29: ton/year | E29: = | F29: =B29*(2000/8760) -> 2.2172093 | G29: lb/hr
A32: VOC = | B32: =B16 -> 1798110.3 | D32: galones | E32: 0.15 | F32: MMBtu | G32: * | H32: =C6 -> 0.0013 | I32: lbs | J32: 1 | K32: ton | L32: + | M32: =B17 -> 1.9655802e+09 | N32: SCF | O32: 1040 | P32: MMBtu | Q32: * | R32: =B6 -> 0.0008 | S32: lbs | T32: 1 | U32: ton
D33: year | F33: gal | I33: MMBtu | J33: 2000 | K33: lbs | N33: year | O33: 1000000 | P33: SCF | S33: MMBtu | T33: 2000 | U33: lbs
B35: =(B32*E32*H32+M32*O32*R32/1000000)/2000 -> 0.99299712 | D35: ton/year | E35: = | F35: =B35*(2000/8760) -> 0.22671167 | G35: lb/hr
A38: PM = | B38: =B16 -> 1798110.3 | D38: galones | E38: 0.15 | F38: MMBtu | G38: * | H38: =C7 -> 0.0275 | I38: lbs | J38: 1 | K38: ton | L38: + | M38: =B17 -> 1.9655802e+09 | N38: SCF | O38: 1040 | P38: MMBtu | Q38: * | R38: =B7 -> 0.005 | S38: lbs | T38: 1 | U38: ton
D39: year | F39: gal | I39: MMBtu | J39: 2000 | K39: lbs | N39: year | O39: 1000000 | P39: SCF | S39: MMBtu | T39: 2000 | U39: lbs
B41: =(B38*E38*H38+M38*O38*R38/1000000)/2000 -> 8.819111 | D41: ton/year | E41: = | F41: =B41*(2000/8760) -> 2.0134957 | G41: lb/hr | L41: lb/hr
A44: PM10 = | B44: =B16 -> 1798110.3 | D44: galones | E44: 0.15 | F44: MMBtu | G44: * | H44: =C8 -> 0.04 | I44: lbs | J44: 1 | K44: ton | L44: + | M44: =B17 -> 1.9655802e+09 | N44: SCF | O44: 1040 | P44: MMBtu | Q44: * | R44: =B8 -> 0.0081 | S44: lbs | T44: 1 | U44: ton
D45: year | F45: gal | I45: MMBtu | J45: 2000 | K45: lbs | N45: year | O45: 1000000 | P45: SCF | S45: MMBtu | T45: 2000 | U45: lbs
B47: =(B44*E44*H44+M44*O44*R44/1000000)/2000 -> 13.673355 | D47: ton/year | E47: = | F47: =B47*(2000/8760) -> 3.1217705 | G47: lb/hr | L47: lb/hr
A50: PM2.5 = | B50: =B16 -> 1798110.3 | D50: galones | E50: 0.15 | F50: MMBtu | G50: * | H50: =C9 -> 0.033 | I50: lbs | J50: 1 | K50: ton | L50: + | M50: =B17 -> 1.9655802e+09 | N50: SCF | O50: 1040 | P50: MMBtu | Q50: * | R50: =B9 -> 0.0075 | S50: lbs | T50: 1 | U50: ton
D51: year | F51: gal | I51: MMBtu | J51: 2000 | K51: lbs | N51: year | O51: 1000000 | P51: SCF | S51: MMBtu | T51: 2000 | U51: lbs
B53: =(B50*E50*H50+M50*O50*R50/1000000)/2000 -> 12.116086 | D53: ton/year | E53: = | F53: =B53*(2000/8760) -> 2.7662296 | G53: lb/hr | L53: lb/hr
A56: SO2 = | B56: =B16 -> 1798110.3 | D56: galones | G56: * | H56: =(157)*B18 -> 73.79 | I56: lbs | J56: 1 | K56: ton | L56: + | M56: =B17 -> 1.9655802e+09 | N56: SCF | O56: 1040 | P56: MMBtu | Q56: * | R56: =B10 -> 0.004 | S56: lbs | T56: 1 | U56: ton
D57: year | H57: 1000 | I57: gals | J57: 2000 | K57: lbs | N57: year | O57: 1000000 | P57: SCF | S57: MMBtu | T57: 2000 | U57: lbs
B59: =(B56*H56/H57+M56*O56*R56/1000000)/2000 -> 70.429686 | D59: ton/year | E59: = | F59: =B59*(2000/8760) -> 16.079837 | G59: lb/hr | L59: lb/hr
A62: H2SO4 = | B62: =B16 -> 1798110.3 | D62: galones | E62: 0.15 | F62: MMBtu | G62: * | H62: =C11 -> 0.02259 | I62: lbs | J62: 1 | K62: ton | L62: + | M62: =B17 -> 1.9655802e+09 | N62: SCF | O62: 1040 | P62: MMBtu | Q62: * | R62: =B11 -> 0.00043 | S62: lbs | T62: 1 | U62: ton
D63: year | F63: gal | I63: MMBtu | J63: 2000 | K63: lbs | N63: year | O63: 1000000 | P63: SCF | S63: MMBtu | T63: 2000 | U63: lbs
B65: =(B62*E62*H62+M62*O62*R62/1000000)/2000 -> 3.4859521 | D65: ton/year | E65: = | F65: =B65*(2000/8760) -> 0.79587948 | G65: lb/hr | L65: lb/hr
...

Sheet San Juan
A2: San Juan BC Consumption 2023
A3: year | B3: Barrels | F3: Galones | J3: Azufre
B4: SJ7 | C4: SJ8 | D4: SJ9 | E4: SJ10 | F4: SJ7 | G4: SJ8 | H4: SJ9 | I4: SJ10 | J4: SJ7 | K4: SJ8 | L4: SJ9 | M4: SJ10
A5: 46023
A6: 46054
A7: 46082
A8: 46113
A9: 46143
A10: 46174 | B10: 419.41 | C10: 0 | D10: 28472.37 | E10: 0 | F10: =SUM(B10*42) -> 17615.22 | G10: 0 | H10: =SUM(D10*42) -> 1195839.5 | I10: 0 | J10: 0.48 | L10: 0.48
A11: 46204 | C11: 0 | E11: 0 | F11: =SUM(B11*42) -> 0 | G11: 0 | H11: =SUM(D11*42) -> 0 | I11: 0
A12: 46235 | C12: 0 | E12: 0 | F12: =SUM(B12*42) -> 0 | G12: 0 | H12: =SUM(D12*42) -> 0 | I12: 0
A13: 46266 | C13: 0 | E13: 0 | F13: =SUM(B13*42) -> 0 | G13: 0 | H13: =SUM(D13*42) -> 0 | I13: 0
A14: 46296 | C14: 0 | E14: 0 | F14: =SUM(B14*42) -> 0 | G14: 0 | H14: =SUM(D14*42) -> 0 | I14: 0
A15: 46327 | C15: 0 | E15: 0 | F15: =SUM(B15*42) -> 0 | G15: 0 | H15: =SUM(D15*42) -> 0 | I15: 0
A16: 46357 | C16: 0 | E16: 0 | F16: =SUM(B16*42) -> 0 | G16: 0 | H16: =SUM(D16*42) -> 0 | I16: 0
A17: Total | B17: =SUM(B5:B16) -> 419.41 | C17: =SUM(C5:C16) -> 0 | D17: =SUM(D5:D16) -> 28472.37 | E17: =SUM(E5:E16) -> 0 | F17: =SUM(F5:F16) -> 17615.22 | G17: =SUM(G5:G16) -> 0 | H17: =SUM(H5:H16) -> 1195839.5 | I17: =SUM(I5:I16) -> 0 | J17: =AVERAGE(J5:J16) -> 0.48 | K17: =SUM(K5:K16) -> 0 | L17: =AVERAGE(L5:L16) -> 0.48 | M17: =IFERROR(AVERAGE(M5:M16),"n.a.") -> n.a.
A20: SJ #2FO Consumption 2023 | M20: San Juan Natural Gas Consumtion 2023
A21: year | B21: Barrels | D21: Galones | F21: Azufre | H21: Horas | M21: year | N21: SCF | P21: Azufre
B22: SJCC5 | C22: SJCC6 | D22: SJCC5 | E22: SJCC6 | F22: SJCC5 | G22: SJCC6 | H22: SJCC5 | I22: SJCC6 | N22: Unit 5 | O22: Unit 6 | P22: Unit 5 | Q22: Unit 6
A23: =A5 -> 46023 | M23: =A5 -> 46023
A24: =A6 -> 46054 | M24: =A6 -> 46054
A25: =A7 -> 46082 | M25: =A7 -> 46082
A26: =A8 -> 46113 | M26: =A8 -> 46113
A27: =A9 -> 46143 | M27: =A9 -> 46143
A28: =A10 -> 46174 | B28: 10935.17 | C28: 0 | D28: =SUM(B28*42) -> 459277.14 | E28: =SUM(C28*42) -> 0 | F28: 0.0007 | G28: 0.0007 | H28: 667.64 | I28: 0 | M28: =A10 -> 46174 | N28: 9.4998965e+08 | O28: 9.1667038e+08 | P28: 0.001 | Q28: 0.001
A29: =A11 -> 46204 | D29: =SUM(B29*42) -> 0 | E29: =SUM(C29*42) -> 0 | M29: =A11 -> 46204
A30: =A12 -> 46235 | D30: =SUM(B30*42) -> 0 | E30: =SUM(C30*42) -> 0 | M30: =A12 -> 46235
A31: =A13 -> 46266 | D31: =SUM(B31*42) -> 0 | E31: =SUM(C31*42) -> 0 | M31: =A13 -> 46266
A32: =A14 -> 46296 | D32: =SUM(B32*42) -> 0 | E32: =SUM(C32*42) -> 0 | M32: =A14 -> 46296
A33: =A15 -> 46327 | D33: =SUM(B33*42) -> 0 | E33: =SUM(C33*42) -> 0 | M33: =A15 -> 46327
A34: =A16 -> 46357 | D34: =SUM(B34*42) -> 0 | E34: =SUM(C34*42) -> 0 | M34: =A16 -> 46357
A35: Total | B35: =SUM(B23:B34) -> 10935.17 | C35: =SUM(C23:C34) -> 0 | D35: =SUM(D23:D34) -> 459277.14 | E35: =SUM(E23:E34) -> 0 | F35: =AVERAGE(F23:F34) -> 0.0007 | G35: =AVERAGE(G23:G34) -> 0.0007 | H35: =SUM(H23:H34) -> 667.64 | I35: =SUM(I23:I34) -> 0 | M35: TOTAL | N35: =SUM(N23:N34) -> 9.4998965e+08 | O35: =SUM(O23:O34) -> 9.1667038e+08 | P35: =0 -> 0 | Q35: =0 -> 0

Sheet Cálculos SJ
A1: Cómputo de Emisiones Actuales JUNIO 2022 - San Juan 7-10
A3: Factores de Emisión de acuerdo a Permiso Título V
A5: PM10 | B5: 0.040 lbs/MMBtu | D5: MATS Emission Limit + AP-42 Section 1.3 Condensable PM
A6: PM | B6: 0.030 lbs/MMBtu | D6: MATS Emission Limit
A7: SO2 | B7: 157*%S lbs/1000gal | D7: AP-42 Section 1.3
A8: H2SO4 | B8: 0.0405 lbs/MMBtu
A9: NOx (7&8) | B9: 47 lbs/1000gal | D9: AP-42 Section 1.3 wall fired boilers
A10: NOx (9&10) | B10: 32 lbs/1000gal | D10: AP-42 Section 1.3 tangential fired boilers
A11: VOC | B11: 0.76 lbs/1000gal | D11: AP-42 Section 1.3
A12: CO | B12: 5 lbs/1000gal | D12: AP-42 Section 1.3
A13: Pb | B13: 0.00151 lbs/1000gal
A14: CO2e | B14: 24.891 lbs/gal | D14: eGGRT GHG Report | R14: 24.891206 | S14: lbs/gal
A16: Combustible #6 | B16: ='San Juan'!F10+'San Juan'!G10 -> 17615.22 | C16: gal/year 7&8
A17: Combustible #6 | B17: =+'San Juan'!H10+'San Juan'!I10 -> 1195839.5 | C17: gal/year 9&10
A18: % Azufre | B18: =IF(MAX('San Juan'!J10:M10)>0,AVERAGE('San Juan'!J10:M10),0) -> 0.48 | D18: NO INCLUIR EN PRINT OUT"=('San Juan'!J17+'San Juan'!K17+'San Juan'!L17+'San Juan'!M17)/4" se saco del promedio a la u-10 ya que estubo apagada
A21: Cálculos Emisiones PM10
A23: = | B23: 0.04 | C23: lbs | D23: =B16+B17 -> 1213454.8 | E23: gal | F23: ton | H23: 0.15 | I23: MMBtu
B24: MMBtu | D24: year | F24: 2000 | G24: lbs | H24: gal
A26: = | B26: =((B23*D23*H23)/F24) -> 3.6403643 | C26: ton
C27: year
A29: Cálculos Emisiones PM
A31: = | B31: 0.03 | C31: lbs | D31: =D23 -> 1213454.8 | E31: gal | F31: ton | H31: 0.15 | I31: MMBtu
B32: MMBtu | D32: year | F32: 2000 | G32: lbs | H32: gal
A34: = | B34: =((B31*D31*H31)/F32) -> 2.7302732 | C34: ton
C35: year
A38: Cálculos Emisiones H2SO4
A40: = | B40: 0.0405 | C40: lbs | D40: =D31 -> 1213454.8 | E40: gal | F40: ton | H40: 0.15 | I40: MMBtu
B41: MMBtu | D41: year | F41: 2000 | G41: lbs | H41: gal
A43: = | B43: =((B40*D40*H40)/F41) -> 3.6858688 | C43: ton
C44: year
A46: Cálculos Emisiones SO2
I47: NOTA PARA EFECTOS DE CALCULO SE SUBSTITUYO EL PROMEDIO DE AZUFRE POR EL CALCULO A MANO = .47; LA CELDA DEBE SER =B14
A48: = | B48: =(157+5.7)*B18 -> 78.096 | C48: lbs | D48: =D40 -> 1213454.8 | E48: gal | F48: ton
B49: 1000 | C49: gals | D49: year | F49: 2000 | G49: lbs
A51: = | B51: =((B48/B49*D48)/F49) -> 47.382981 | C51: ton
C52: year
A55: Cálculos Emisiones Nox (7&8)
A57: = | B57: 47 | C57: lbs | D57: =B16 -> 17615.22 | E57: gal | F57: ton
B58: 1000 | C58: gal | D58: year | F58: 2000 | G58: lbs
A60: = | B60: =((B57/B58)*D57)/F58 -> 0.41395767 | C60: ton
...

Sheet Cálculos SJ5
A1: Cómputo de Emisiones Actuales para Distillate Oil y Gas Natural - San Juan JUNIO 2022 - Unidad 5
A3: Parametro | B3: Factor de Emisión Combustible Natural Gas | C3: Factor de Emisión Combustible No. 2 Oil | D3: Emisiones Actuales (ton/year) | E3: Emisiones Actuales (lb/hr)
A4: NOx | B4: 0.092099392 | C4: 0.10805849 | D4: =B23 -> 48.046056 | E4: =F23 -> 10.969419
A5: CO | B5: 0.022429677 | C5: 0.0094426363 | D5: =B29 -> 11.166298 | E5: =F29 -> 2.5493832
A6: VOC | B6: 0.0021 | C6: 0.0083 | D6: =B35 -> 1.2804669 | E6: =F35 -> 0.29234405 | F6: Ecuación para el Cómputo
A7: PM | B7: 0.0066 | C7: 0.0284 | D7: =B41 -> 4.0976647 | E7: =F41 -> 0.93553988 | F7: ton/year = | G7: [Consumo de Combustible #6 en galones/year) * ( Valor Calorífico BC 0.138 MMBtu/gal)
A8: PM10 | B8: 0.0066 | C8: 0.0357 | D8: =B47 -> 4.3290025 | E8: =F47 -> 0.98835675 | G8: + (Consumo Gas Natural SCF/year) * (Valor Calorífico GN 1,020 MMBtu/SCF*10^6)]
A9: PM2.5 | B9: 0.0066 | C9: 0.0357 | D9: =B53 -> 4.3290025 | E9: =F53 -> 0.98835675 | G9: * FE en lbs/MMBtu * 1 ton/2,000 lbs
A10: SO2 | B10: 0.0028 | C10: 1.01*%S | D10: =B59 -> 1.3789901 | E10: =F59 -> 0.31483793
A11: H2SO4 | B11: 0.00043 | C11: 0.0077 | D11: =B65 -> 0.45234668 | E11: =F65 -> 0.1032755 | F11: lbs/hr = | G11: (Toneladas Contaminante / year) * (1 year / 8,760 hr) * (2000 lb / ton) | V11: CO2e | W11: =(73.96+0.003*25+0.0006*298)*2.2046*0.138 -> 22.578421 | X11: lbs/gal
A12: Pb | B12: 0 | C12: 9e-06 | D12: =B71 -> 0.0002852111 | E12: =F71 -> 6.511669e-05 | W12: =(475409.8+224+267)*2204.62/8707340462.38 -> 0.12049379 | X12: lbs/scf
A13: CO2e | B13: 22.578 lbs/gal | C13: 0.1205 lbs/SCF | D13: =B77 -> 62418.801 | E13: =F77 -> 14250.868
A14: Fluoruro | B14: 0 | C14: 0 | D14: 0 | E14: 0
A16: Consumo #2 = | B16: ='San Juan'!D28 -> 459277.14 | D16: gal/year
A17: Consumo NG = | B17: ='San Juan'!N28 -> 9.4998965e+08 | D17: SCF/year
A18: #2 Azufre = | B18: ='San Juan'!F28 -> 0.0007 | D18: %
A20: NOx = | B20: =B16 -> 459277.14 | D20: galones | E20: 0.138 | F20: MMBtu | G20: * | H20: =C4 -> 0.10805849 | I20: lbs | J20: 1 | K20: ton | L20: + | M20: =B17 -> 9.4998965e+08 | N20: SCF | O20: 1020 | P20: MMBtu | Q20: * | R20: =B4 -> 0.092099392 | S20: lbs | T20: 1 | U20: ton
D21: year | F21: gal | I21: MMBtu | J21: 2000 | K21: lbs | N21: year | O21: 1000000 | P21: SCF | S21: MMBtu | T21: 2000 | U21: lbs
B23: =(B20*E20*H20+M20*O20*R20/1000000)/2000 -> 48.046056 | D23: ton/year | E23: = | F23: =B23*(2000/8760) -> 10.969419 | G23: lb/hr
A26: CO = | B26: =B16 -> 459277.14 | D26: galones | E26: 0.138 | F26: MMBtu | G26: * | H26: =C5 -> 0.0094426363 | I26: lbs | J26: 1 | K26: ton | L26: + | M26: =B17 -> 9.4998965e+08 | N26: SCF | O26: 1020 | P26: MMBtu | Q26: * | R26: =B5 -> 0.022429677 | S26: lbs | T26: 1 | U26: ton
D27: year | F27: gal | I27: MMBtu | J27: 2000 | K27: lbs | N27: year | O27: 1000000 | P27: SCF | S27: MMBtu | T27: 2000 | U27: lbs
B29: =(B26*E26*H26+M26*O26*R26/1000000)/2000 -> 11.166298 | D29: ton/year | E29: = | F29: =B29*(2000/8760) -> 2.5493832 | G29: lb/hr
A32: VOC = | B32: =B16 -> 459277.14 | D32: galones | E32: 0.138 | F32: MMBtu | G32: * | H32: =C6 -> 0.0083 | I32: lbs | J32: 1 | K32: ton | L32: + | M32: =B17 -> 9.4998965e+08 | N32: SCF | O32: 1020 | P32: MMBtu | Q32: * | R32: =B6 -> 0.0021 | S32: lbs | T32: 1 | U32: ton
D33: year | F33: gal | I33: MMBtu | J33: 2000 | K33: lbs | N33: year | O33: 1000000 | P33: SCF | S33: MMBtu | T33: 2000 | U33: lbs
B35: =(B32*E32*H32+M32*O32*R32/1000000)/2000 -> 1.2804669 | D35: ton/year | E35: = | F35: =B35*(2000/8760) -> 0.29234405 | G35: lb/hr
A38: PM = | B38: =B16 -> 459277.14 | D38: galones | E38: 0.138 | F38: MMBtu | G38: * | H38: =C7 -> 0.0284 | I38: lbs | J38: 1 | K38: ton | L38: + | M38: =B17 -> 9.4998965e+08 | N38: SCF | O38: 1020 | P38: MMBtu | Q38: * | R38: =B7 -> 0.0066 | S38: lbs | T38: 1 | U38: ton
D39: year | F39: gal | I39: MMBtu | J39: 2000 | K39: lbs | N39: year | O39: 1000000 | P39: SCF | S39: MMBtu | T39: 2000 | U39: lbs
B41: =(B38*E38*H38+M38*O38*R38/1000000)/2000 -> 4.0976647 | D41: ton/year | E41: = | F41: =B41*(2000/8760) -> 0.93553988 | G41: lb/hr | L41: lb/hr
A44: PM10 = | B44: =B16 -> 459277.14 | D44: galones | E44: 0.138 | F44: MMBtu | G44: * | H44: =C8 -> 0.0357 | I44: lbs | J44: 1 | K44: ton | L44: + | M44: =B17 -> 9.4998965e+08 | N44: SCF | O44: 1020 | P44: MMBtu | Q44: * | R44: =B8 -> 0.0066 | S44: lbs | T44: 1 | U44: ton
D45: year | F45: gal | I45: MMBtu | J45: 2000 | K45: lbs | N45: year | O45: 1000000 | P45: SCF | S45: MMBtu | T45: 2000 | U45: lbs
B47: =(B44*E44*H44+M44*O44*R44/1000000)/2000 -> 4.3290025 | D47: ton/year | E47: = | F47: =B47*(2000/8760) -> 0.98835675 | G47: lb/hr | L47: lb/hr
A50: PM2.5 = | B50: =B16 -> 459277.14 | D50: galones | E50: 0.138 | F50: MMBtu | G50: * | H50: =C9 -> 0.0357 | I50: lbs | J50: 1 | K50: ton | L50: + | M50: =B17 -> 9.4998965e+08 | N50: SCF | O50: 1020 | P50: MMBtu | Q50: * | R50: =B9 -> 0.0066 | S50: lbs | T50: 1 | U50: ton
D51: year | F51: gal | I51: MMBtu | J51: 2000 | K51: lbs | N51: year | O51: 1000000 | P51: SCF | S51: MMBtu | T51: 2000 | U51: lbs
B53: =(B50*E50*H50+M50*O50*R50/1000000)/2000 -> 4.3290025 | D53: ton/year | E53: = | F53: =B53*(2000/8760) -> 0.98835675 | G53: lb/hr | L53: lb/hr
A56: SO2 = | B56: =B16 -> 459277.14 | D56: galones | E56: 0.138 | F56: MMBtu | G56: * | H56: =1.01*B18 -> 0.000707 | I56: lbs | J56: 1 | K56: ton | L56: + | M56: =B17 -> 9.4998965e+08 | N56: SCF | O56: 1020 | P56: MMBtu | Q56: * | R56: =B10 -> 0.0028 | S56: lbs | T56: 1 | U56: ton
D57: year | F57: gal | I57: MMBtu | J57: 2000 | K57: lbs | N57: year | O57: 1000000 | P57: SCF | S57: MMBtu | T57: 2000 | U57: lbs
B59: =(B56*E56*H56+M56*O56*R56/1000000)/2000 -> 1.3789901 | D59: ton/year | E59: = | F59: =B59*(2000/8760) -> 0.31483793 | G59: lb/hr | L59: lb/hr
A62: H2SO4 = | B62: =B16 -> 459277.14 | D62: galones | E62: 0.138 | F62: MMBtu | G62: * | H62: =C11 -> 0.0077 | I62: lbs | J62: 1 | K62: ton | L62: + | M62: =B17 -> 9.4998965e+08 | N62: SCF | O62: 1020 | P62: MMBtu | Q62: * | R62: =B11 -> 0.00043 | S62: lbs | T62: 1 | U62: ton
D63: year | F63: gal | I63: MMBtu | J63: 2000 | K63: lbs | N63: year | O63: 1000000 | P63: SCF | S63: MMBtu | T63: 2000 | U63: lbs
B65: =(B62*E62*H62+M62*O62*R62/1000000)/2000 -> 0.45234668 | D65: ton/year | E65: = | F65: =B65*(2000/8760) -> 0.1032755 | G65: lb/hr | L65: lb/hr
...

Sheet Cálculos SJ6
A1: Cómputo de Emisiones Actuales para Distillate Oil y Gas Natural - San Juan JUNIO 2024 - Unidad 5
A3: Parametro | B3: Factor de Emisión Combustible Natural Gas | C3: Factor de Emisión Combustible No. 2 Oil | D3: Emisiones Actuales (ton/year) | E3: Emisiones Actuales (lb/hr)
A4: NOx | B4: 0.092099392 | C4: 0.10805849 | D4: =B23 -> 43.05664 | E4: =F23 -> 9.8302831
A5: CO | B5: 0.022429677 | C5: 0.0094426363 | D5: =B29 -> 10.485916 | E5: =F29 -> 2.3940448
A6: VOC | B6: 0.0021 | C6: 0.0083 | D6: =B35 -> 0.98175397 | E6: =F35 -> 0.22414474 | F6: Ecuación para el Cómputo
A7: PM | B7: 0.0066 | C7: 0.0284 | D7: =B41 -> 3.0855125 | E7: =F41 -> 0.7044549 | F7: ton/year = | G7: [Consumo de Combustible #6 en galones/year) * ( Valor Calorífico BC 0.138 MMBtu/gal)
A8: PM10 | B8: 0.0066 | C8: 0.0357 | D8: =B47 -> 3.0855125 | E8: =F47 -> 0.7044549 | G8: + (Consumo Gas Natural SCF/year) * (Valor Calorífico GN 1,020 MMBtu/SCF*10^6)]
A9: PM2.5 | B9: 0.0066 | C9: 0.0357 | D9: =B53 -> 3.0855125 | E9: =F53 -> 0.7044549 | G9: * FE en lbs/MMBtu * 1 ton/2,000 lbs
A10: SO2 | B10: 0.0028 | C10: 1.01*%S | D10: =B59 -> 1.3090053 | E10: =F59 -> 0.29885966
A11: H2SO4 | B11: 0.00043 | C11: 0.0077 | D11: =B65 -> 0.20102581 | E11: =F65 -> 0.045896304 | F11: lbs/hr = | G11: (Toneladas Contaminante / year) * (1 year / 8,760 hr) * (2000 lb / ton) | V11: CO2e | W11: =(73.96+0.003*25+0.0006*298)*2.2046*0.138 -> 22.578421 | X11: lbs/gal
A12: Pb | B12: 0 | C12: 9e-06 | D12: =B71 -> 0 | E12: =F71 -> 0 | W12: =(475409.8+224+267)*2204.62/8707340462.38 -> 0.12049379 | X12: lbs/scf
A13: CO2e | B13: 22.578 lbs/gal | C13: 0.1205 lbs/SCF | D13: =B77 -> 55226.542 | E13: =F77 -> 12608.8
A14: Fluoruro | B14: 0 | C14: 0 | D14: 0 | E14: 0
A16: Consumo #2 = | B16: ='San Juan'!E28 -> 0 | D16: gal/year
A17: Consumo NG = | B17: ='San Juan'!O28 -> 9.1667038e+08 | D17: SCF/year
A18: #2 Azufre = | B18: ='San Juan'!G28 -> 0.0007 | D18: %
A20: NOx = | B20: =B16 -> 0 | D20: galones | E20: 0.138 | F20: MMBtu | G20: * | H20: =C4 -> 0.10805849 | I20: lbs | J20: 1 | K20: ton | L20: + | M20: =B17 -> 9.1667038e+08 | N20: SCF | O20: 1020 | P20: MMBtu | Q20: * | R20: =B4 -> 0.092099392 | S20: lbs | T20: 1 | U20: ton
D21: year | F21: gal | I21: MMBtu | J21: 2000 | K21: lbs | N21: year | O21: 1000000 | P21: SCF | S21: MMBtu | T21: 2000 | U21: lbs
B23: =(B20*E20*H20+M20*O20*R20/1000000)/2000 -> 43.05664 | D23: ton/year | E23: = | F23: =B23*(2000/8760) -> 9.8302831 | G23: lb/hr
A26: CO = | B26: =B16 -> 0 | D26: galones | E26: 0.138 | F26: MMBtu | G26: * | H26: =C5 -> 0.0094426363 | I26: lbs | J26: 1 | K26: ton | L26: + | M26: =B17 -> 9.1667038e+08 | N26: SCF | O26: 1020 | P26: MMBtu | Q26: * | R26: =B5 -> 0.022429677 | S26: lbs | T26: 1 | U26: ton
D27: year | F27: gal | I27: MMBtu | J27: 2000 | K27: lbs | N27: year | O27: 1000000 | P27: SCF | S27: MMBtu | T27: 2000 | U27: lbs
B29: =(B26*E26*H26+M26*O26*R26/1000000)/2000 -> 10.485916 | D29: ton/year | E29: = | F29: =B29*(2000/8760) -> 2.3940448 | G29: lb/hr
A32: VOC = | B32: =B16 -> 0 | D32: galones | E32: 0.138 | F32: MMBtu | G32: * | H32: =C6 -> 0.0083 | I32: lbs | J32: 1 | K32: ton | L32: + | M32: =B17 -> 9.1667038e+08 | N32: SCF | O32: 1020 | P32: MMBtu | Q32: * | R32: =B6 -> 0.0021 | S32: lbs | T32: 1 | U32: ton
D33: year | F33: gal | I33: MMBtu | J33: 2000 | K33: lbs | N33: year | O33: 1000000 | P33: SCF | S33: MMBtu | T33: 2000 | U33: lbs
B35: =(B32*E32*H32+M32*O32*R32/1000000)/2000 -> 0.98175397 | D35: ton/year | E35: = | F35: =B35*(2000/8760) -> 0.22414474 | G35: lb/hr
A38: PM = | B38: =B16 -> 0 | D38: galones | E38: 0.138 | F38: MMBtu | G38: * | H38: =C7 -> 0.0284 | I38: lbs | J38: 1 | K38: ton | L38: + | M38: =B17 -> 9.1667038e+08 | N38: SCF | O38: 1020 | P38: MMBtu | Q38: * | R38: =B7 -> 0.0066 | S38: lbs | T38: 1 | U38: ton
D39: year | F39: gal | I39: MMBtu | J39: 2000 | K39: lbs | N39: year | O39: 1000000 | P39: SCF | S39: MMBtu | T39: 2000 | U39: lbs
B41: =(B38*E38*H38+M38*O38*R38/1000000)/2000 -> 3.0855125 | D41: ton/year | E41: = | F41: =B41*(2000/8760) -> 0.7044549 | G41: lb/hr | L41: lb/hr
A44: PM10 = | B44: =B16 -> 0 | D44: galones | E44: 0.138 | F44: MMBtu | G44: * | H44: =C8 -> 0.0357 | I44: lbs | J44: 1 | K44: ton | L44: + | M44: =B17 -> 9.1667038e+08 | N44: SCF | O44: 1020 | P44: MMBtu | Q44: * | R44: =B8 -> 0.0066 | S44: lbs | T44: 1 | U44: ton
D45: year | F45: gal | I45: MMBtu | J45: 2000 | K45: lbs | N45: year | O45: 1000000 | P45: SCF | S45: MMBtu | T45: 2000 | U45: lbs
B47: =(B44*E44*H44+M44*O44*R44/1000000)/2000 -> 3.0855125 | D47: ton/year | E47: = | F47: =B47*(2000/8760) -> 0.7044549 | G47: lb/hr | L47: lb/hr
A50: PM2.5 = | B50: =B16 -> 0 | D50: galones | E50: 0.138 | F50: MMBtu | G50: * | H50: =C9 -> 0.0357 | I50: lbs | J50: 1 | K50: ton | L50: + | M50: =B17 -> 9.1667038e+08 | N50: SCF | O50: 1020 | P50: MMBtu | Q50: * | R50: =B9 -> 0.0066 | S50: lbs | T50: 1 | U50: ton
D51: year | F51: gal | I51: MMBtu | J51: 2000 | K51: lbs | N51: year | O51: 1000000 | P51: SCF | S51: MMBtu | T51: 2000 | U51: lbs
B53: =(B50*E50*H50+M50*O50*R50/1000000)/2000 -> 3.0855125 | D53: ton/year | E53: = | F53: =B53*(2000/8760) -> 0.7044549 | G53: lb/hr | L53: lb/hr
A56: SO2 = | B56: =B16 -> 0 | D56: galones | E56: 0.138 | F56: MMBtu | G56: * | H56: =1.01*B18 -> 0.000707 | I56: lbs | J56: 1 | K56: ton | L56: + | M56: =B17 -> 9.1667038e+08 | N56: SCF | O56: 1020 | P56: MMBtu | Q56: * | R56: =B10 -> 0.0028 | S56: lbs | T56: 1 | U56: ton
D57: year | F57: gal | I57: MMBtu | J57: 2000 | K57: lbs | N57: year | O57: 1000000 | P57: SCF | S57: MMBtu | T57: 2000 | U57: lbs
B59: =(B56*E56*H56+M56*O56*R56/1000000)/2000 -> 1.3090053 | D59: ton/year | E59: = | F59: =B59*(2000/8760) -> 0.29885966 | G59: lb/hr | L59: lb/hr
A62: H2SO4 = | B62: =B16 -> 0 | D62: galones | E62: 0.138 | F62: MMBtu | G62: * | H62: =C11 -> 0.0077 | I62: lbs | J62: 1 | K62: ton | L62: + | M62: =B17 -> 9.1667038e+08 | N62: SCF | O62: 1020 | P62: MMBtu | Q62: * | R62: =B11 -> 0.00043 | S62: lbs | T62: 1 | U62: ton
D63: year | F63: gal | I63: MMBtu | J63: 2000 | K63: lbs | N63: year | O63: 1000000 | P63: SCF | S63: MMBtu | T63: 2000 | U63: lbs
B65: =(B62*E62*H62+M62*O62*R62/1000000)/2000 -> 0.20102581 | D65: ton/year | E65: = | F65: =B65*(2000/8760) -> 0.045896304 | G65: lb/hr | L65: lb/hr
...

Sheet Aguirre
A2: Aguirre BC Consumption 2023 | H2: Azufre % por peso
A3: year | B3: Barrels | D3: Galones | F3: Total gal/year
B4: AG-1 | C4: AG-2 | D4: AG-1 | E4: AG-2 | H4: AG-1 | I4: AG-2
A5: 46023
A6: 46054
A7: 46082
A8: 46113
A9: 46143
A10: 46174 | B10: 0 | C10: 264973.12 | D10: =SUM(B10*42) -> 0 | E10: =SUM(C10*42) -> 11128871 | F10: =D10+E10 -> 11128871 | H10: 0.47 | I10: 0.47
A11: 46204 | D11: =SUM(B11*42) -> 0 | E11: =SUM(C11*42) -> 0 | F11: =D11+E11 -> 0
A12: 46235 | D12: =SUM(B12*42) -> 0 | E12: =SUM(C12*42) -> 0 | F12: =D12+E12 -> 0
A13: 46266 | D13: =SUM(B13*42) -> 0 | E13: =SUM(C13*42) -> 0 | F13: =D13+E13 -> 0
A14: 46296 | D14: =SUM(B14*42) -> 0 | E14: =SUM(C14*42) -> 0 | F14: =D14+E14 -> 0
A15: 46327 | D15: =SUM(B15*42) -> 0 | E15: =SUM(C15*42) -> 0 | F15: =D15+E15 -> 0
A16: 46357 | D16: =SUM(B16*42) -> 0 | E16: =SUM(C16*42) -> 0 | F16: =D16+E16 -> 0
A17: Total | B17: =SUM(B5:B16) -> 0 | C17: =SUM(C5:C16) -> 264973.12 | D17: =SUM(D5:D16) -> 0 | E17: =SUM(E5:E16) -> 11128871 | F17: =D17+E17 -> 11128871 | H17: =AVERAGE(H5:H16) -> 0.47 | I17: =AVERAGE(I5:I16) -> 0.47 | J17: avg
F18: =SUM(F5:F16) -> 11128871
A20: Aguirre CC #2 FO Consumption 2023
A21: Galones | K21: Azufre
A22: year | B22: CC1-1 | C22: CC1-2 | D22: CC1-3 | E22: CC1-4 | F22: CC2-1 | H22: CC2-2 | I22: CC2-3 | J22: CC2-4 | K22: CC1-1 | L22: CC1-2 | M22: CC1-3 | N22: CC1-4 | O22: CC2-1 | P22: CC2-2 | Q22: CC2-3 | R22: CC2-4
A23: =A5 -> 46023 | G23: =A23 -> 46023 | K23: 0.01 | L23: 0.01 | M23: 0.01 | N23: 0.01 | O23: 0.01 | P23: 0.01 | Q23: 0.01 | R23: 0.01
A24: =A6 -> 46054 | G24: =A24 -> 46054 | K24: 0.01 | L24: 0.01 | M24: 0.01 | N24: 0.01 | O24: 0.01 | P24: 0.01 | Q24: 0.01 | R24: 0.01
A25: =A7 -> 46082 | G25: =A25 -> 46082 | K25: 0.01 | L25: 0.01 | M25: 0.01 | N25: 0.01 | O25: 0.01 | P25: 0.01 | Q25: 0.01 | R25: 0.01
A26: =A8 -> 46113 | G26: =A26 -> 46113 | K26: 0.01 | L26: 0.01 | M26: 0.01 | N26: 0.01 | O26: 0.01 | P26: 0.01 | Q26: 0.01 | R26: 0.01
A27: =A9 -> 46143 | G27: =A27 -> 46143 | K27: 0.01 | L27: 0.01 | M27: 0.01 | N27: 0.01 | O27: 0.01 | P27: 0.01 | Q27: 0.01 | R27: 0.01
A28: =A10 -> 46174 | B28: 1193105 | C28: 1003434 | D28: 0 | E28: 0 | F28: 598335 | G28: =A28 -> 46174 | H28: 900401 | I28: 0 | J28: 1057264 | K28: 0.01 | L28: 0.01 | M28: 0.01 | N28: 0.01 | O28: 0.01 | P28: 0.01 | Q28: 0.01 | R28: 0.01
A29: =A11 -> 46204 | F29: 0 | G29: =A29 -> 46204 | K29: 0.01 | L29: 0.01 | M29: 0.01 | N29: 0.01 | O29: 0.01 | P29: 0.01 | Q29: 0.01 | R29: 0.01
A30: =A12 -> 46235 | F30: 0 | G30: =A30 -> 46235 | K30: 0.01 | L30: 0.01 | M30: 0.01 | N30: 0.01 | O30: 0.01 | P30: 0.01 | Q30: 0.01 | R30: 0.01
A31: =A13 -> 46266 | F31: 0 | G31: =A31 -> 46266 | K31: 0.01 | L31: 0.01 | M31: 0.01 | N31: 0.01 | O31: 0.01 | P31: 0.01 | Q31: 0.01 | R31: 0.01
A32: =A14 -> 46296 | F32: 0 | G32: =A32 -> 46296 | K32: 0.01 | L32: 0.01 | M32: 0.01 | N32: 0.01 | O32: 0.01 | P32: 0.01 | Q32: 0.01 | R32: 0.01
A33: =A15 -> 46327 | F33: 0 | G33: =A33 -> 46327 | K33: 0.01 | L33: 0.01 | M33: 0.01 | N33: 0.01 | O33: 0.01 | P33: 0.01 | Q33: 0.01 | R33: 0.01
A34: =A16 -> 46357 | F34: 0 | G34: =A34 -> 46357 | K34: 0.01 | L34: 0.01 | M34: 0.01 | N34: 0.01 | O34: 0.01 | P34: 0.01 | Q34: 0.01 | R34: 0.01
A35: Total | B35: =SUM(B23:B34) -> 1193105 | C35: =SUM(C23:C34) -> 1003434 | D35: =SUM(D23:D34) -> 0 | E35: =SUM(E23:E34) -> 0 | F35: =SUM(F23:F34) -> 598335 | H35: =SUM(H23:H34) -> 900401 | I35: =SUM(I23:I34) -> 0 | J35: =SUM(J23:J34) -> 1057264 | K35: =AVERAGE(K23:K34) -> 0.01 | L35: =AVERAGE(L23:L34) -> 0.01 | M35: =AVERAGE(M23:M34) -> 0.01 | N35: =AVERAGE(N23:N34) -> 0.01 | O35: =AVERAGE(O23:O34) -> 0.01 | P35: 0 | Q35: =AVERAGE(Q23:Q34) -> 0.01 | R35: =AVERAGE(R23:R34) -> 0.01
B36: =SUM(B29:B34) -> 0 | C36: =SUM(C29:C34) -> 0 | D36: =SUM(D29:D34) -> 0 | E36: =SUM(E23:E34) -> 0 | F36: =SUM(F29:F34) -> 0 | H36: =SUM(H29:H34) -> 0 | I36: =SUM(I29:I34) -> 0 | J36: =SUM(J29:J34) -> 0
H37: =B35+C35+D35+E35+F35+H35+I35+J35 -> 4752539
A38: Aguirre Turbines #2 FO Consumption 2020
A39: Galones | D39: Azufre
A40: 46023 | B40: 0 | C40: 0 | D40: 0 | E40: 0
A41: 46054 | B41: 0 | C41: 0 | D41: 0 | E41: 0
A42: =A24 -> 46054 | B42: 0 | C42: 0 | D42: 0 | E42: 0
...

Sheet Cálculos AG
A1: Ejemplo Cómputo de Emisiones JUNIO 2022 - Termoleléctrica Aguirre 1 y Aguirre 2 | J1: Ejemplo Cómputo de Emisiones JUNIO 2022 - Aguirre (Ciclo Combinado + Turbinas de Gas)
A3: Factores de Emisión AP-42 Section 1.3 | J3: Factores de Emisión AP-42 Section 3.1
A4: PM | B4: (9.19)(%S) + 3.22 lb/1000gal | J4: PM | K4: 0.012 lb/MMBTU
A5: SOx | B5: 157*%S lb/1000gal | J5: SOx | K5: 1.01*%S lb/MMBTU
A6: NOx | B6: 0.33 lb/MMBtu (CD Relatively Maintained NOx Target) | J6: NOx | K6: 0.880 lb/MMBTU
A7: VOC | B7: 0.76 lb/1000gal | J7: VOC | K7: 0.00041 lb/MMBTU
A8: CO | B8: 5 lb/1000gal | J8: CO | K8: 0.0033 lb/MMBTU
A9: Pb | B9: 0.00151 lb/1000gal | J9: Pb | K9: 0.0000140 lb/MMBTU
A10: CO2e | B10: 25.036 lb/gal | C10: 40 CFR 98 | J10: CO2e | K10: 22.578 lb/gal | L10: 40 CFR 98
A12: Combustible #6 | B12: =Aguirre!F10 -> 11128871 | C12: gal/year | J12: Combustible #2 | K12: =SUM(Aguirre!B28:F28,Aguirre!H28:J28,Aguirre!B46:C46) -> 4752539 | L12: gal/year | V12: =323412*2204.6/28478821 -> 25.035941 | W12: lbs/gal
A13: Azufre % | B13: =AVERAGE(Aguirre!H10:I10) -> 0.47 | J13: Azufre % | K13: =AVERAGE(Aguirre!K28:R28,Aguirre!D46:E46) -> 0.008 | V13: =(73.96+0.003*26+0.0006*298)*2.2046*0.138 -> 22.579333 | W13: lbs/gal
A16: Cálculos Emisiones PM | J16: Cálculos Emisiones PM
A18: = | B18: =(9.19*B13)+3.22 -> 7.5393 | C18: lb | D18: =B12 -> 11128871 | E18: gal | F18: ton | J18: = | K18: 0.012 | L18: lb | M18: =K12 -> 4752539 | N18: gal | O18: 0.138 | P18: MMBTU | Q18: ton
B19: 1000 | C19: gal | D19: year | F19: 2000 | G19: lb | K19: MMBTU | M19: year | O19: gal | Q19: 2000 | R19: lb
A22: = | B22: =((B18/B19)*D18)/F19 -> 41.951949 | C22: ton | J22: = | K22: =((K18*M18*O18)/Q19) -> 3.9351023 | L22: ton
C23: year | L23: year
A26: Cálculos Emisiones SOx | J26: Cálculos Emisiones SOx
A28: = | B28: =157*B13 -> 73.79 | C28: lb | D28: =B12 -> 11128871 | E28: gal | F28: ton | J28: = | K28: =1.01*K13 -> 0.00808 | L28: lb | M28: =K12 -> 4752539 | N28: gal | O28: 0.138 | P28: MMBTU | Q28: ton
B29: 1000 | C29: gal | D29: year | F29: 2000 | G29: lb | K29: MMBTU | M29: year | O29: gal | Q29: 2000 | R29: lb
A32: = | B32: =((B28/B29)*D28)/F29 -> 410.5997 | C32: ton | J32: = | K32: =((K28*M28*O28)/Q29) -> 2.6496355 | L32: ton
C33: year | L33: year
A36: Cálculos Emisiones NOx | J36: Cálculos Emisiones NOx
A38: = | B38: 0.33 | C38: lb | D38: =B12 -> 11128871 | E38: gal | F38: 0.15 MMBtu | H38: ton | J38: = | K38: 0.88 | L38: lb | M38: =K12 -> 4752539 | N38: gal | O38: 0.138 | P38: MMBTU | Q38: ton
C39: MMBtu | D39: year | F39: gal | H39: 2000 | I39: lb | K39: MMBTU | M39: year | O39: gal | Q39: 2000 | R39: lb
A42: = | B42: =B38*D38*0.15/2000 -> 275.43956 | C42: ton | J42: = | K42: =((K38*M38*O38)/Q39) -> 288.57417 | L42: ton
C43: year | L43: year
A46: Cálculos Emisiones VOC | J46: Cálculos Emisiones VOC
A48: = | B48: 0.76 | C48: lb | D48: =B12 -> 11128871 | E48: gal | F48: ton | J48: = | K48: 0.00041 | L48: lb | M48: =K12 -> 4752539 | N48: gal | O48: 0.138 | P48: MMBTU | Q48: ton
B49: 1000 | C49: gal | D49: year | F49: 2000 | G49: lb | K49: MMBTU | M49: year | O49: gal | Q49: 2000 | R49: lb
A52: = | B52: =((B48/B49)*D48)/F49 -> 4.228971 | C52: ton | J52: = | K52: =((K48*M48*O48)/Q49) -> 0.13444933 | L52: ton
C53: year | L53: year
A56: Cálculos Emisiones CO | J56: Cálculos Emisiones CO
A58: = | B58: 5 | C58: lb | D58: =B12 -> 11128871 | E58: gal | F58: ton | J58: = | K58: 0.0033 | L58: lb | M58: =K12 -> 4752539 | N58: gal | O58: 0.138 | P58: MMBTU | Q58: ton
B59: 1000 | C59: gal | D59: year | F59: 2000 | G59: lb | K59: MMBTU | M59: year | O59: gal | Q59: 2000 | R59: lb
A62: = | B62: =((B58/B59)*D58)/F59 -> 27.822178 | C62: ton | J62: = | K62: =((K58*M58*O58)/Q59) -> 1.0821531 | L62: ton
C63: year | L63: year
A66: Cálculos Emisiones Pb | J66: Cálculos Emisiones Pb
A68: = | B68: 0.00151 | C68: lb | D68: =B12 -> 11128871 | E68: gal | F68: ton | J68: = | K68: 1.4e-05 | L68: lb | M68: =K12 -> 4752539 | N68: gal | O68: 0.138 | P68: MMBTU | Q68: ton
B69: 1000 | C69: gal | D69: year | F69: 2000 | G69: lb | K69: MMBTU | M69: year | O69: gal | Q69: 2000 | R69: lb
A72: = | B72: =((B68/B69)*D68)/F69 -> 0.0084022976 | C72: ton | J72: = | K72: =((K68*M68*O68)/Q69) -> 0.0045909527 | L72: ton
...

Sheet Palo Seco
A2: Palo Seco BC Consumption 2026
A3: Gallons | F3: Azufre
A4: year | B4: PS-1 | C4: PS-2 | D4: PS-3 | E4: PS-4 | F4: PS-1 | G4: PS-2 | H4: PS-3 | I4: PS-4
A5: 46023
A6: 46054
A7: 46082
A8: 46113
A9: 46143
A10: 46174 | D10: 5478665 | E10: 6759249 | H10: 0.45 | I10: 0.45
A11: 46204
A12: 46235
A13: 46266
A14: 46296
A15: 46327
A16: 46357
A17: Total | B17: =SUM(B5:B16) -> 0 | C17: =SUM(C5:C16) -> 0 | D17: =SUM(D5:D16) -> 5478665 | E17: =SUM(E5:E16) -> 6759249 | F17: =IFERROR(AVERAGE(F5:F10),"n.a.") -> n.a. | G17: =IFERROR(AVERAGE(G5:G10),"n.a.") -> n.a. | H17: =AVERAGE(H5:H16) -> 0.45 | I17: =AVERAGE(I5:I16) -> 0.45
A18: Total (gal/yr) | B18: =B17 -> 0 | C18: =C17 -> 0 | D18: =D17 -> 5478665 | E18: =E17 -> 6759249 | F18: =IFERROR(AVERAGE(F5:F16),"n.a.") -> n.a. | G18: =IFERROR(AVERAGE(G5:G16),"n.a.") -> n.a. | H18: =AVERAGE(H5:H16) -> 0.45 | I18: =AVERAGE(I5:I16) -> 0.45
A20: Palo Seco #2 FO Consumtion 2026
A21: year | B21: Gallons | F21: Azufre | J21: year | K21: Barrels | M21: Azufre
B22: PSGT1-1 | C22: PSGT1-2 | D22: PSGT2-1 | E22: PSGT2-2 | F22: PSGT1-1 | G22: PSGT1-2 | H22: PSGT2-1 | I22: PSGT2-2 | K22: PSGT3-1 | L22: PSGT3-2 | M22: PSGT3-1 | N22: PSGT3-2
A23: =A5 -> 46023 | E23: 0 | F23: 0.01 | G23: 0.01 | H23: 0.01 | I23: 0.01 | J23: =A5 -> 46023 | K23: 0 | L23: 0 | M23: 0 | N23: 0
A24: =A6 -> 46054 | E24: 0 | F24: 0.01 | G24: 0.01 | H24: 0.01 | I24: 0.01 | J24: =A6 -> 46054
A25: =A7 -> 46082 | E25: 0 | F25: 0.01 | G25: 0.01 | H25: 0.01 | I25: 0.01 | J25: =A7 -> 46082
A26: =A8 -> 46113 | E26: 0 | F26: 0.01 | G26: 0.01 | H26: 0.01 | I26: 0.01 | J26: =A8 -> 46113
A27: =A9 -> 46143 | E27: 0 | F27: 0.01 | G27: 0.01 | H27: 0.01 | I27: 0.01 | J27: =A9 -> 46143
A28: =A10 -> 46174 | B28: 473204 | C28: 0 | D28: 0 | E28: 0 | F28: 0.01 | G28: 0.01 | H28: 0.01 | I28: 0.01 | J28: =A10 -> 46174
A29: =A11 -> 46204 | E29: 0 | F29: 0.01 | G29: 0.01 | H29: 0.01 | I29: 0.01 | J29: =A11 -> 46204
A30: =A12 -> 46235 | E30: 0 | F30: 0.01 | G30: 0.01 | H30: 0.01 | I30: 0.01 | J30: =A12 -> 46235
A31: =A13 -> 46266 | E31: 0 | F31: 0.01 | G31: 0.01 | H31: 0.01 | I31: 0.01 | J31: =A13 -> 46266
A32: =A14 -> 46296 | E32: 0 | F32: 0.01 | G32: 0.01 | H32: 0.01 | I32: 0.01 | J32: =A14 -> 46296
A33: =A15 -> 46327 | E33: 0 | F33: 0.01 | G33: 0.01 | H33: 0.01 | I33: 0.01 | J33: =A15 -> 46327
A34: =A16 -> 46357 | E34: 0 | F34: 0.01 | G34: 0.01 | H34: 0.01 | I34: 0.01 | J34: =A16 -> 46357
A35: Total | B35: =SUM(B23:B34) -> 473204 | C35: =SUM(C23:C34) -> 0 | D35: =SUM(D23:D34) -> 0 | E35: =SUM(E23:E34) -> 0 | F35: =AVERAGE(F23:F34) -> 0.01 | G35: =AVERAGE(G23:G34) -> 0.01 | H35: =AVERAGE(H23:H34) -> 0.01 | I35: =AVERAGE(I23:I28) -> 0.01 | J35: Total | K35: =SUM(K23:K34) -> 0 | L35: =SUM(L23:L34) -> 0 | M35: =AVERAGE(M23:M34) -> 0 | N35: =AVERAGE(N23:N34) -> 0
A36: Total (gal/yr) | B36: =B35 -> 473204 | C36: =C35 -> 0 | D36: =D35 -> 0 | E36: =E35 -> 0 | J36: Total (gal/yr) | K36: =K35*42 -> 0 | L36: =L35*42 -> 0
B37: =SUM(B29:B34)*42 -> 0 | C37: =SUM(C29:C34)*42 -> 0 | D37: =SUM(D29:D34)*42 -> 0 | E37: =SUM(E29:E34)*42 -> 0 | K37: =SUM(K29:K34)*42 -> 0 | L37: =SUM(L29:L34)*42 -> 0
H38: =SUM(B36+C36+D36+E36+K36+L36) -> 473204
A39: Palo Seco MobilePacs | K39: =AVERAGE(M35,I35,G35,F35) -> 0.0075
A40: year | B40: Gallons Distillate | F40: SCF Natural Gas
B41: PSMP1 | C41: PSMP2 | D41: PSMP3 | E41: TOTAL | F41: MP1 | G41: MP2 | H41: MP3 | I41: TOTAL
A42: =A23 -> 46023 | E42: =SUM(B42:D42) -> 0 | I42: =SUM(F42:H42) -> 0
...

Sheet Cálculos PS
A1: Cómputo de Emisiones Actuales JUNIO 2022 - Palo Seco (Termo) - Unidades 1 a 4 | I1: Cómputo de Emisiones Actuales JUNIO 2022 - Palo Seco (Turbinas) - Bloques 1 a 3
A3: Factores de Emisión AP-42 Section 1.3 | I3: Factores de Emisión AP-42 Section 3.1
A4: PM | B4: (9.19)(%S) + 3.22 lb/1000gal | I4: PM | J4: 0.012lb/MMBTU
A5: SOx | B5: 157*%S lb/1000gal | I5: SOx | J5: 1.01*%S lb/MMBTU
A6: NOx | B6: 0.36 lb/MMBtu (CD Relatively Maintained NOx Target) | I6: NOx | J6: 0.88 lb/MMBTU
A7: VOC | B7: 0.76 lb/1000gal | I7: VOC | J7: 0.00041 l/MMBTU
