Workbook
Name \A: #N/A
Name \B: #N/A

Sheet 2026
A1: 2026 | B1: Inventario de Emisiones
B2: January | C2: February | D2: March | E2: April | F2: May | G2: June | H2: Total Emisiones (tons) January–June | I2: Total Emisiones Permisibles (tons/year)
A3: Pollutant | B3: San Juan | C3: San Juan | D3: San Juan | E3: San Juan | F3: San Juan | G3: San Juan | H3: San Juan | I3: San Juan
A4: PM | B4: ='Mensual 2026'!C27 -> 6.6521011 | C4: ='Mensual 2026'!D27 -> 9.0407409 | D4: ='Mensual 2026'!E27 -> 9.6363335 | E4: ='Mensual 2026'!F27 -> 13.457679 | F4: ='Mensual 2026'!G27 -> 12.544566 | G4: ='Mensual 2026'!H27 -> 9.9134503 | H4: =SUM(B4:G4) -> 61.244871 | I4: 2946.22
A5: PM10 | B5: ='Mensual 2026'!C28 -> 7.7257351 | C5: ='Mensual 2026'!D28 -> 10.954619 | D5: ='Mensual 2026'!E28 -> 11.808579 | E5: ='Mensual 2026'!F28 -> 16.772662 | F5: ='Mensual 2026'!G28 -> 15.51046 | G5: ='Mensual 2026'!H28 -> 11.054879 | H5: =SUM(B5:G5) -> 73.826934 | I5: 1430.51
A6: SO2 | B6: ='Mensual 2026'!C30 -> 50.125231 | C6: ='Mensual 2026'!D30 -> 89.042531 | D6: ='Mensual 2026'!E30 -> 61.767045 | E6: ='Mensual 2026'!F30 -> 130.26289 | F6: ='Mensual 2026'!G30 -> 112.911 | G6: ='Mensual 2026'!H30 -> 50.070977 | H6: =SUM(B6:G6) -> 494.17967 | I6: 7619.76
A7: NOx | B7: ='Mensual 2026'!C31 -> 68.484658 | C7: ='Mensual 2026'!D31 -> 83.195874 | D7: ='Mensual 2026'!E31 -> 73.950232 | E7: ='Mensual 2026'!F31 -> 105.88885 | F7: ='Mensual 2026'!G31 -> 98.573427 | G7: ='Mensual 2026'!H31 -> 110.65009 | H7: =SUM(B7:G7) -> 540.74313 | I7: 6739.2
A8: CO | B8: ='Mensual 2026'!C33 -> 14.624824 | C8: ='Mensual 2026'!D33 -> 16.610419 | D8: ='Mensual 2026'!E33 -> 13.587212 | E8: ='Mensual 2026'!F33 -> 19.286703 | F8: ='Mensual 2026'!G33 -> 18.113922 | G8: ='Mensual 2026'!H33 -> 24.685851 | H8: =SUM(B8:G8) -> 106.90893 | I8: 1654.73
A9: VOC | B9: ='Mensual 2026'!C32 -> 1.6778241 | C9: ='Mensual 2026'!D32 -> 2.0866109 | D9: ='Mensual 2026'!E32 -> 2.3846941 | E9: ='Mensual 2026'!F32 -> 3.0507974 | F9: ='Mensual 2026'!G32 -> 2.9484668 | G9: ='Mensual 2026'!H32 -> 2.7233337 | H9: =SUM(B9:G9) -> 14.871727 | I9: 190.7
A10: Pb | B10: ='Mensual 2026'!C35 -> 0.001108239 | C10: ='Mensual 2026'!D35 -> 0.0019704416 | D10: ='Mensual 2026'!E35 -> 0.0023767461 | E10: ='Mensual 2026'!F35 -> 0.0035023488 | F10: ='Mensual 2026'!G35 -> 0.0031717003 | G10: ='Mensual 2026'!H35 -> 0.0012013694 | H10: =SUM(B10:G10) -> 0.013330845 | I10: 3.54
A11: CO2e | B11: ='Mensual 2026'!C36 -> 78002.133 | C11: ='Mensual 2026'!D36 -> 88849.305 | D11: ='Mensual 2026'!E36 -> 83383.298 | E11: ='Mensual 2026'!F36 -> 110489.84 | F11: ='Mensual 2026'!G36 -> 106169.21 | G11: ='Mensual 2026'!H36 -> 132747.52 | H11: =SUM(B11:G11) -> 599641.3 | I11: N/A
A12: Total | B12: =SUM(B4:B10) -> 149.29148 | C12: =SUM(C4:C10) -> 210.93276 | D12: =SUM(D4:D10) -> 173.13647 | E12: =SUM(E4:E10) -> 288.72308 | F12: =SUM(F4:F10) -> 260.60501 | G12: =SUM(G4:G10) -> 209.09978 | H12: =SUM(H4:H10) -> 1291.7886 | I12: =SUM(I4:I10) -> 20584.66
B14: Palo Seco | C14: Palo Seco | D14: Palo Seco | E14: Palo Seco | F14: Palo Seco | G14: Palo Seco | H14: Palo Seco | I14: Palo Seco
A15: PM10 | B15: ='Mensual 2026'!C52 -> 31.676696 | C15: ='Mensual 2026'!D52 -> 15.970892 | D15: ='Mensual 2026'!E52 -> 0.37835504 | E15: ='Mensual 2026'!F52 -> 25.517369 | F15: ='Mensual 2026'!G52 -> 24.008014 | G15: ='Mensual 2026'!H52 -> 45.400407 | H15: =SUM(B15:G15) -> 142.95173 | I15: 1387.38
A16: SO2 | B16: ='Mensual 2026'!C54 -> 305.7335 | C16: ='Mensual 2026'!D54 -> 152.362 | D16: ='Mensual 2026'!E54 -> 1.0533372 | E16: ='Mensual 2026'!F54 -> 211.42502 | F16: ='Mensual 2026'!G54 -> 230.9973 | G16: ='Mensual 2026'!H54 -> 432.63426 | H16: =SUM(B16:G16) -> 1334.2054 | I16: 17464.39
A17: NOx | B17: ='Mensual 2026'!C55 -> 236.55013 | C17: ='Mensual 2026'!D55 -> 120.73762 | D17: ='Mensual 2026'!E55 -> 9.8015465 | E17: ='Mensual 2026'!F55 -> 242.68821 | F17: ='Mensual 2026'!G55 -> 174.69902 | G17: ='Mensual 2026'!H55 -> 331.62798 | H17: =SUM(B17:G17) -> 1116.1045 | I17: 12276.89
A18: VOC | B18: ='Mensual 2026'!C56 -> 3.3125256 | C18: ='Mensual 2026'!D56 -> 1.6849876 | D18: ='Mensual 2026'!E56 -> 0.083611644 | E18: ='Mensual 2026'!F56 -> 3.4481234 | F18: ='Mensual 2026'!G56 -> 2.4374387 | G18: ='Mensual 2026'!H56 -> 4.6642847 | H18: =SUM(B18:G18) -> 15.630972 | I18: 130.04
A19: CO | B19: ='Mensual 2026'!C57 -> 21.409241 | C19: ='Mensual 2026'!D57 -> 10.948795 | D19: ='Mensual 2026'!E57 -> 0.43245868 | E19: ='Mensual 2026'!F57 -> 20.41451 | F19: ='Mensual 2026'!G57 -> 16.004466 | G19: ='Mensual 2026'!H57 -> 30.707196 | H19: =SUM(B19:G19) -> 99.916667 | I19: 856.94
A20: Pb | B20: ='Mensual 2026'!C59 -> 0.0067586595 | C20: ='Mensual 2026'!D59 -> 0.0034202622 | D20: ='Mensual 2026'!E59 -> 0.0002756549 | E20: ='Mensual 2026'!F59 -> 0.0079470541 | F20: ='Mensual 2026'!G59 -> 0.0051044124 | G20: ='Mensual 2026'!H59 -> 0.0096967401 | H20: =SUM(B20:G20) -> 0.033202783 | I20: 0.37
A21: CO2e | B21: ='Mensual 2026'!C60 -> 107317.55 | C21: ='Mensual 2026'!D60 -> 54700.107 | D21: ='Mensual 2026'!E60 -> 3313.2803 | E21: ='Mensual 2026'!F60 -> 112038.69 | F21: ='Mensual 2026'!G60 -> 81752.398 | G21: ='Mensual 2026'!H60 -> 156069.3 | H21: =SUM(B21:G21) -> 515191.33 | I21: 5418568.6
A22: Subtotal | B22: =SUM(B15:B20) -> 598.68884 | C22: =SUM(C15:C20) -> 301.70771 | D22: =SUM(D15:D20) -> 11.749585 | E22: =SUM(E15:E20) -> 503.50117 | F22: =SUM(F15:F20) -> 448.15134 | G22: =SUM(G15:G20) -> 845.04382 | H22: =SUM(H15:H20) -> 2708.8425 | I22: =SUM(I15:I20) -> 32116.01
A23: Ni Comp | B23: 0 | C23: 0 | D23: 0 | E23: 0 | F23: 0 | G23: 0 | H23: =SUM(B23:G23) -> 0 | I23: N/A
A24: Mn Comp | B24: 0 | C24: 0 | D24: 0 | E24: 0 | F24: 0 | G24: 0 | H24: =SUM(B24:G24) -> 0 | I24: N/A
A25: Formaldehido | B25: 0 | C25: 0 | D25: 0 | E25: 0 | F25: 0 | G25: 0 | H25: =SUM(B25:G25) -> 0 | I25: N/A
A26: Tolueno | B26: 0 | C26: 0 | D26: 0 | E26: 0 | F26: 0 | G26: 0 | H26: =SUM(B26:G26) -> 0 | I26: N/A
A27: POM | B27: 0 | C27: 0 | D27: 0 | E27: 0 | F27: 0 | G27: 0 | H27: =SUM(B27:G27) -> 0 | I27: N/A
A28: CAPs Total | B28: 0 | C28: 0 | D28: 0 | E28: 0 | F28: 0 | G28: 0 | H28: =SUM(B28:G28) -> 0 | I28: N/A
A29: Subtotal CAPs | B29: =SUM(B23:B28) -> 0 | C29: =SUM(C23:C28) -> 0 | D29: =SUM(D23:D28) -> 0 | E29: =SUM(E23:E28) -> 0 | F29: =SUM(F23:F28) -> 0 | G29: =SUM(G23:G28) -> 0 | H29: =SUM(H23:H28) -> 0 | I29: =SUM(I23:I28) -> 0
A30: Total | B30: =SUM(B22,B29) -> 598.68884 | C30: =SUM(C22,C29) -> 301.70771 | D30: =SUM(D22,D29) -> 11.749585 | E30: =SUM(E22,E29) -> 503.50117 | F30: =SUM(F22,F29) -> 448.15134 | G30: =SUM(G22,G29) -> 845.04382 | H30: =SUM(H22,H29) -> 2708.8425 | I30: =SUM(I22,I29) -> 32116.01
B32: Aguirre | C32: Aguirre | D32: Aguirre | E32: Aguirre | F32: Aguirre | G32: Aguirre | H32: Aguirre | I32: Aguirre
A33: PM Total | B33: ='Mensual 2026'!C39 -> 45.205194 | C33: ='Mensual 2026'!D39 -> 34.622343 | D33: ='Mensual 2026'!E39 -> 38.516546 | E33: ='Mensual 2026'!F39 -> 36.26323 | F33: ='Mensual 2026'!G39 -> 45.401952 | G33: ='Mensual 2026'!H39 -> 45.887051 | H33: =SUM(B33:G33) -> 245.89631 | I33: 2194.88
A34: SO2 | B34: ='Mensual 2026'!C40 -> 396.24468 | C34: ='Mensual 2026'!D40 -> 308.07359 | D34: ='Mensual 2026'!E40 -> 344.809 | E34: ='Mensual 2026'!F40 -> 320.32937 | F34: ='Mensual 2026'!G40 -> 405.38764 | G34: ='Mensual 2026'!H40 -> 413.24933 | H34: =SUM(B34:G34) -> 2188.0936 | I34: 30608.58
A35: NOx | B35: ='Mensual 2026'!C41 -> 539.00605 | C35: ='Mensual 2026'!D41 -> 422.07665 | D35: ='Mensual 2026'!E41 -> 435.10324 | E35: ='Mensual 2026'!F41 -> 476.93718 | F35: ='Mensual 2026'!G41 -> 543.38345 | G35: ='Mensual 2026'!H41 -> 564.01373 | H35: =SUM(B35:G35) -> 2980.5203 | I35: 28867.78
A36: VOC | B36: ='Mensual 2026'!C42 -> 4.5451311 | C36: ='Mensual 2026'!D42 -> 3.3377798 | D36: ='Mensual 2026'!E42 -> 3.7970409 | E36: ='Mensual 2026'!F42 -> 3.4604885 | F36: ='Mensual 2026'!G42 -> 4.3872793 | G36: ='Mensual 2026'!H42 -> 4.3634203 | H36: =SUM(B36:G36) -> 23.89114 | I36: 195.32
A37: CO | B37: ='Mensual 2026'!C43 -> 30.073776 | C37: ='Mensual 2026'!D43 -> 22.103632 | D37: ='Mensual 2026'!E43 -> 25.113161 | E37: ='Mensual 2026'!F43 -> 22.944026 | F37: ='Mensual 2026'!G43 -> 29.04563 | G37: ='Mensual 2026'!H43 -> 28.904331 | H37: =SUM(B37:G37) -> 158.18456 | I37: 1299.54
A38: Pb | B38: ='Mensual 2026'!C44 -> 0.012784975 | C38: ='Mensual 2026'!D44 -> 0.0097944478 | D38: ='Mensual 2026'!E44 -> 0.010446002 | E38: ='Mensual 2026'!F44 -> 0.010762474 | F38: ='Mensual 2026'!G44 -> 0.012697856 | G38: ='Mensual 2026'!H44 -> 0.01299325 | H38: =SUM(B38:G38) -> 0.069479006 | I38: 0.63
A39: CO2e | B39: ='Mensual 2026'!C45 -> 192468.11 | C39: ='Mensual 2026'!D45 -> 145959.34 | D39: ='Mensual 2026'!E45 -> 158117.9 | E39: ='Mensual 2026'!F45 -> 158248.29 | F39: ='Mensual 2026'!G45 -> 189846.77 | G39: ='Mensual 2026'!H45 -> 192965.46 | H39: =SUM(B39:G39) -> 1037605.9 | I39: N/A
A40: Subtotal | B40: =SUM(B33:B38) -> 1015.0876 | C40: =SUM(C33:C38) -> 790.22379 | D40: =SUM(D33:D38) -> 847.34944 | E40: =SUM(E33:E38) -> 859.94505 | F40: =SUM(F33:F38) -> 1027.6186 | G40: =SUM(G33:G38) -> 1056.4309 | H40: =SUM(H33:H38) -> 5596.6554 | I40: =SUM(I33:I38) -> 63166.73
A41: Ni Comp | B41: 0 | C41: 0 | D41: 0 | E41: 0 | F41: 0 | G41: 0 | H41: =SUM(B41:G41) -> 0 | I41: N/A
A42: Mn Comp | B42: 0 | C42: 0 | D42: 0 | E42: 0 | F42: 0 | G42: 0 | H42: =SUM(B42:G42) -> 0 | I42: N/A
A43: Formaldehido | B43: 0 | C43: 0 | D43: 0 | E43: 0 | F43: 0 | G43: 0 | H43: =SUM(B43:G43) -> 0 | I43: N/A
A44: Chloride | B44: 0 | C44: 0 | D44: 0 | E44: 0 | F44: 0 | G44: 0 | H44: =SUM(B44:G44) -> 0 | I44: N/A
A45: CAPs Total | B45: 0 | C45: 0 | D45: 0 | E45: 0 | F45: 0 | G45: 0 | H45: =SUM(B45:G45) -> 0 | I45: N/A
A46: Subtotal CAPs | B46: =SUM(B41:B45) -> 0 | C46: =SUM(C41:C45) -> 0 | D46: =SUM(D41:D45) -> 0 | E46: =SUM(E41:E45) -> 0 | F46: =SUM(F41:F45) -> 0 | G46: =SUM(G41:G45) -> 0 | H46: =SUM(H41:H45) -> 0 | I46: =SUM(I41:I45) -> 0
A47: Total | B47: =SUM(B46,B40) -> 1015.0876 | C47: =SUM(C46,C40) -> 790.22379 | D47: =SUM(D46,D40) -> 847.34944 | E47: =SUM(E46,E40) -> 859.94505 | F47: =SUM(F46,F40) -> 1027.6186 | G47: =SUM(G46,G40) -> 1056.4309 | H47: =SUM(H46,H40) -> 5596.6554 | I47: =SUM(I46,I40) -> 63166.73
B49: Costa Sur | C49: Costa Sur | D49: Costa Sur | E49: Costa Sur | F49: Costa Sur | G49: Costa Sur | H49: Costa Sur | I49: Costa Sur
A50: PM | B50: ='Mensual 2026'!C15 -> 7.8217208 | C50: ='Mensual 2026'!D15 -> 22.224864 | D50: ='Mensual 2026'!E15 -> 19.984056 | E50: ='Mensual 2026'!F15 -> 8.3705581 | F50: ='Mensual 2026'!G15 -> 19.53911 | G50: ='Mensual 2026'!H15 -> 15.641512 | H50: =SUM(B50:G50) -> 93.581821 | I50: 590
A51: PM10 | B51: ='Mensual 2026'!C16 -> 12.365071 | C51: ='Mensual 2026'!D16 -> 32.642574 | D51: ='Mensual 2026'!E16 -> 30.580513 | E51: ='Mensual 2026'!F16 -> 13.469097 | F51: ='Mensual 2026'!G16 -> 29.721732 | G51: ='Mensual 2026'!H16 -> 24.558258 | H51: =SUM(B51:G51) -> 143.33724 | I51: 1038
A52: PM2.5 | B52: ='Mensual 2026'!C17 -> 11.177535 | C52: ='Mensual 2026'!D17 -> 27.241896 | D52: ='Mensual 2026'!E17 -> 26.723847 | E52: ='Mensual 2026'!F17 -> 12.390461 | F52: ='Mensual 2026'!G17 -> 25.806267 | G52: ='Mensual 2026'!H17 -> 22.046183 | H52: =SUM(B52:G52) -> 125.38619 | I52: 803
A53: SOx | B53: ='Mensual 2026'!C18 -> 37.873692 | C53: ='Mensual 2026'!D18 -> 364.98375 | D53: ='Mensual 2026'!E18 -> 205.36598 | E53: ='Mensual 2026'!F18 -> 16.326349 | F53: ='Mensual 2026'!G18 -> 224.02043 | G53: ='Mensual 2026'!H18 -> 93.175722 | H53: =SUM(B53:G53) -> 941.74592 | I53: 9884
A54: NOx | B54: ='Mensual 2026'!C19 -> 441.55713 | C54: ='Mensual 2026'!D19 -> 392.07313 | D54: ='Mensual 2026'!E19 -> 778.00234 | E54: ='Mensual 2026'!F19 -> 554.36726 | F54: ='Mensual 2026'!G19 -> 699.09806 | G54: ='Mensual 2026'!H19 -> 824.5623 | H54: =SUM(B54:G54) -> 3689.6602 | I54: 10521
A55: VOC | B55: ='Mensual 2026'!C20 -> 1.0429126 | C55: ='Mensual 2026'!D20 -> 1.2655854 | D55: ='Mensual 2026'!E20 -> 1.9753963 | E55: ='Mensual 2026'!F20 -> 1.277148 | F55: ='Mensual 2026'!G20 -> 1.810205 | G55: ='Mensual 2026'!H20 -> 1.9705372 | H55: =SUM(B55:G55) -> 9.3417844 | I55: 36
A56: CO | B56: ='Mensual 2026'!C21 -> 11.004479 | C56: ='Mensual 2026'!D21 -> 6.2399313 | D56: ='Mensual 2026'!E21 -> 17.95588 | E56: ='Mensual 2026'!F21 -> 14.150921 | F56: ='Mensual 2026'!G21 -> 15.769235 | G56: ='Mensual 2026'!H21 -> 20.310468 | H56: =SUM(B56:G56) -> 85.430914 | I56: 388
A57: H2SO4 | B57: ='Mensual 2026'!C22 -> 2.0333716 | C57: ='Mensual 2026'!D22 -> 16.854305 | D57: ='Mensual 2026'!E22 -> 9.6915368 | E57: ='Mensual 2026'!F22 -> 1.1252901 | F57: ='Mensual 2026'!G22 -> 10.266545 | G57: ='Mensual 2026'!H22 -> 4.8167248 | H57: =SUM(B57:G57) -> 44.787773 | I57: 469
A58: Pb | B58: ='Mensual 2026'!C23 -> 0.00031149852 | C58: ='Mensual 2026'!D23 -> 0.0034208126 | D58: ='Mensual 2026'!E23 -> 0.0018251948 | E58: ='Mensual 2026'!F23 -> 9.2811091e-05 | F58: ='Mensual 2026'!G23 -> 0.0019655882 | G58: ='Mensual 2026'!H23 -> 0.00079472428 | H58: =SUM(B58:G58) -> 0.0084106294 | I58: 0.08
A59: Fluoruro | B59: =('Tasas 2026'!C118*'CS 5'!$C$14+'Tasas 2026'!C119*'CS 5'!$B$14+'Tasas 2026'!C120*'CS6'!$C$14+'Tasas 2026'!C121*'CS6'!$B$14)/2000 -> 0 | C59: =('Tasas 2026'!D118*'CS 5'!$C$14+'Tasas 2026'!D119*'CS 5'!$B$14+'Tasas 2026'!D120*'CS6'!$C$14+'Tasas 2026'!D121*'CS6'!$B$14)/2000 -> 0 | D59: =('Tasas 2026'!E118*'CS 5'!$C$14+'Tasas 2026'!E119*'CS 5'!$B$14+'Tasas 2026'!E120*'CS6'!$C$14+'Tasas 2026'!E121*'CS6'!$B$14)/2000 -> 0 | E59: =('Tasas 2026'!F118*'CS 5'!$C$14+'Tasas 2026'!F119*'CS 5'!$B$14+'Tasas 2026'!F120*'CS6'!$C$14+'Tasas 2026'!F121*'CS6'!$B$14)/2000 -> 0 | F59: =('Tasas 2026'!G118*'CS 5'!$C$14+'Tasas 2026'!G119*'CS 5'!$B$14+'Tasas 2026'!G120*'CS6'!$C$14+'Tasas 2026'!G121*'CS6'!$B$14)/2000 -> 0 | G59: =('Tasas 2026'!H118*'CS 5'!$C$14+'Tasas 2026'!H119*'CS 5'!$B$14+'Tasas 2026'!H120*'CS6'!$C$14+'Tasas 2026'!H121*'CS6'!$B$14)/2000 -> 0 | H59: =SUM(B59:G59) -> 0 | I59: 0
A60: CO2e | B60: ='Mensual 2026'!C24 -> 149862.55 | C60: ='Mensual 2026'!D24 -> 166376.97 | D60: ='Mensual 2026'!E24 -> 279191.77 | E60: ='Mensual 2026'!F24 -> 184611.47 | F60: ='Mensual 2026'!G24 -> 254737.81 | G60: ='Mensual 2026'!H24 -> 282380.01 | H60: =SUM(B60:G60) -> 1317160.6 | I60: N/A
A61: Total | B61: =SUM(B50:B59) -> 524.87623 | C61: =SUM(C50:C59) -> 863.52946 | D61: =SUM(D50:D59) -> 1090.2814 | E61: =SUM(E50:E59) -> 621.47718 | F61: =SUM(F50:F59) -> 1026.0336 | G61: =SUM(G50:G59) -> 1007.0825 | H61: =SUM(H50:H59) -> 5133.2803 | I61: =SUM(I50:I59) -> 23729.08
B63: Cambalache | C63: Cambalache | D63: Cambalache | E63: Cambalache | F63: Cambalache | G63: Cambalache | H63: Cambalache | I63: Cambalache
A64: PM10 | B64: ='Mensual 2026'!C63 -> 0.459 | C64: ='Mensual 2026'!D63 -> 0.867 | D64: ='Mensual 2026'!E63 -> 2.4225 | E64: ='Mensual 2026'!F63 -> 6.324 | F64: ='Mensual 2026'!G63 -> 4.896 | G64: ='Mensual 2026'!H63 -> 5.1255 | H64: =SUM(B64:G64) -> 20.094 | I64: 670
A65: SOx | B65: ='Mensual 2026'!C64 -> 1.233 | C65: ='Mensual 2026'!D64 -> 2.329 | D65: ='Mensual 2026'!E64 -> 6.5075 | E65: ='Mensual 2026'!F64 -> 16.988 | F65: ='Mensual 2026'!G64 -> 13.152 | G65: ='Mensual 2026'!H64 -> 13.7685 | H65: =SUM(B65:G65) -> 53.978 | I65: 1800
A66: NOx | B66: ='Mensual 2026'!C65 -> 2.43405 | C66: ='Mensual 2026'!D65 -> 3.39745 | D66: ='Mensual 2026'!E65 -> 9.5058 | E66: ='Mensual 2026'!F65 -> 14.7476 | F66: ='Mensual 2026'!G65 -> 14.13155 | G66: ='Mensual 2026'!H65 -> 12.42535 | H66: =SUM(B66:G66) -> 56.6418 | I66: 1801
A67: VOC | B67: ='Mensual 2026'!C66 -> 0.105 | C67: ='Mensual 2026'!D66 -> 0.207 | D67: ='Mensual 2026'!E66 -> 0.5885 | E67: ='Mensual 2026'!F66 -> 1.469 | F67: ='Mensual 2026'!G66 -> 1.142 | G67: ='Mensual 2026'!H66 -> 1.2485 | H67: =SUM(B67:G67) -> 4.76 | I67: 180
A68: CO | B68: ='Mensual 2026'!C67 -> 0.649 | C68: ='Mensual 2026'!D67 -> 0.718 | D68: ='Mensual 2026'!E67 -> 2.2025 | E68: ='Mensual 2026'!F67 -> 3.37 | F68: ='Mensual 2026'!G67 -> 3.674 | G68: ='Mensual 2026'!H67 -> 2.4855 | H68: =SUM(B68:G68) -> 13.099 | I68: 713
A69: Pb | B69: ='Mensual 2026'!C68 -> 0.000165 | C69: ='Mensual 2026'!D68 -> 0.000342 | D69: ='Mensual 2026'!E68 -> 0.000991 | E69: ='Mensual 2026'!F68 -> 0.0023515 | F69: ='Mensual 2026'!G68 -> 0.001837 | G69: ='Mensual 2026'!H68 -> 0.0021085 | H69: =SUM(B69:G69) -> 0.007795 | I69: 0.3
A70: CO2e | B70: ='Mensual 2026'!C69 -> 1691.2027 | C70: ='Mensual 2026'!D69 -> 2764.8793 | D70: ='Mensual 2026'!E69 -> 8825.0516 | E70: ='Mensual 2026'!F69 -> 17324.551 | F70: ='Mensual 2026'!G69 -> 14868.606 | G70: ='Mensual 2026'!H69 -> 14396.5 | H70: =SUM(B70:G70) -> 59870.791 | I70: N/A
A71: Total | B71: =SUM(B64:B69) -> 4.880215 | C71: =SUM(C64:C69) -> 7.518792 | D71: =SUM(D64:D69) -> 21.227791 | E71: =SUM(E64:E69) -> 42.900951 | F71: =SUM(F64:F69) -> 36.997387 | G71: =SUM(G64:G69) -> 35.055459 | H71: =SUM(H64:H69) -> 148.58059 | I71: =SUM(I64:I69) -> 5164.3
B73: Mayagüez | C73: Mayagüez | D73: Mayagüez | E73: Mayagüez | F73: Mayagüez | G73: Mayagüez | H73: Mayagüez | I73: Mayagüez
A74: PM | B74: ='Mensual 2026'!C108 -> 0.58587293 | C74: ='Mensual 2026'!D108 -> 0.49734565 | D74: ='Mensual 2026'!E108 -> 0.70287595 | E74: ='Mensual 2026'!F108 -> 0.63049633 | F74: ='Mensual 2026'!G108 -> 0.53846993 | G74: ='Mensual 2026'!H108 -> 0.91730477 | H74: =SUM(B74:G74) -> 3.8723656 | I74: 83.1
A75: SOx | B75: ='Mensual 2026'!C109 -> 0.049310971 | C75: ='Mensual 2026'!D109 -> 0.41859926 | D75: ='Mensual 2026'!E109 -> 0.59158726 | E75: ='Mensual 2026'!F109 -> 0.53066775 | F75: ='Mensual 2026'!G109 -> 0.45321219 | G75: ='Mensual 2026'!H109 -> 0.77206485 | H75: =SUM(B75:G75) -> 2.8154423 | I75: 304.82
A76: NOx | B76: ='Mensual 2026'!C110 -> 14.043263 | C76: ='Mensual 2026'!D110 -> 11.921281 | D76: ='Mensual 2026'!E110 -> 16.847803 | E76: ='Mensual 2026'!F110 -> 15.112877 | F76: ='Mensual 2026'!G110 -> 12.907022 | G76: ='Mensual 2026'!H110 -> 21.987621 | H76: =SUM(B76:G76) -> 92.819866 | I76: 796.29
A77: VOC | B77: ='Mensual 2026'!C111 -> 0.020017325 | C77: ='Mensual 2026'!D111 -> 0.016992643 | D77: ='Mensual 2026'!E111 -> 0.024014928 | E77: ='Mensual 2026'!F111 -> 0.021541958 | F77: ='Mensual 2026'!G111 -> 0.018397723 | G77: ='Mensual 2026'!H111 -> 0.031341246 | H77: =SUM(B77:G77) -> 0.13230582 | I77: 25.06
A78: CO | B78: ='Mensual 2026'!C112 -> 0.16111506 | C78: ='Mensual 2026'!D112 -> 0.13677005 | D78: ='Mensual 2026'!E112 -> 0.19329089 | E78: ='Mensual 2026'!F112 -> 0.17338649 | F78: ='Mensual 2026'!G112 -> 0.14807923 | G78: ='Mensual 2026'!H112 -> 0.25225881 | H78: =SUM(B78:G78) -> 1.0649005 | I78: 93.93
A79: Pb | B79: ='Mensual 2026'!C113 -> 0.00068351842 | C79: ='Mensual 2026'!D113 -> 0.00058023659 | D79: ='Mensual 2026'!E113 -> 0.00082002194 | E79: ='Mensual 2026'!F113 -> 0.00073557905 | F79: ='Mensual 2026'!G113 -> 0.00062821492 | G79: ='Mensual 2026'!H113 -> 0.0010701889 | H79: =SUM(B79:G79) -> 0.0045177598 | I79: 0.017
A80: CO2e | B80: ='Mensual 2026'!C114 -> 7987.9743 | C80: ='Mensual 2026'!D114 -> 6780.9658 | D80: ='Mensual 2026'!E114 -> 9583.23 | E80: ='Mensual 2026'!F114 -> 8596.3837 | F80: ='Mensual 2026'!G114 -> 7341.667 | G80: ='Mensual 2026'!H114 -> 12506.819 | H80: =SUM(B80:G80) -> 52797.04 | I80: N/A
A81: Total | B81: =SUM(B74:B79) -> 14.860262 | C81: =SUM(C74:C79) -> 12.991568 | D81: =SUM(D74:D79) -> 18.360392 | E81: =SUM(E74:E79) -> 16.469705 | F81: =SUM(F74:F79) -> 14.065809 | G81: =SUM(G74:G79) -> 23.961661 | H81: =SUM(H74:H79) -> 100.7094 | I81: =SUM(I74:I79) -> 1303.217
B83: Dagüao | C83: Dagüao | D83: Dagüao | E83: Dagüao | F83: Dagüao | G83: Dagüao | H83: Dagüao | I83: Dagüao
A84: PM | B84: ='Mensual 2026'!C72 -> 0 | C84: ='Mensual 2026'!D72 -> 0 | D84: ='Mensual 2026'!E72 -> 0.026745228 | E84: ='Mensual 2026'!F72 -> 0.13251064 | F84: ='Mensual 2026'!G72 -> 0.31959392 | G84: ='Mensual 2026'!H72 -> 0.40692971 | H84: =SUM(B84:G84) -> 0.8857795 | I84: 9.41
A85: SOx | B85: ='Mensual 2026'!C73 -> 0 | C85: ='Mensual 2026'!D73 -> 0 | D85: ='Mensual 2026'!E73 -> 0.022510567 | E85: ='Mensual 2026'!F73 -> 0.11152979 | F85: ='Mensual 2026'!G73 -> 0.26899155 | G85: ='Mensual 2026'!H73 -> 0.34249917 | H85: =SUM(B85:G85) -> 0.74553108 | I85: 395.87
A86: NOx | B86: ='Mensual 2026'!C74 -> 0 | C86: ='Mensual 2026'!D74 -> 0 | D86: ='Mensual 2026'!E74 -> 1.9613167 | E86: ='Mensual 2026'!F74 -> 9.7174466 | F86: ='Mensual 2026'!G74 -> 23.436888 | G86: ='Mensual 2026'!H74 -> 29.841512 | H86: =SUM(B86:G86) -> 64.957163 | I86: 689.83
A87: VOC | B87: ='Mensual 2026'!C75 -> 0 | C87: ='Mensual 2026'!D75 -> 0 | D87: ='Mensual 2026'!E75 -> 0.00091379529 | E87: ='Mensual 2026'!F75 -> 0.0045274467 | F87: ='Mensual 2026'!G75 -> 0.010919459 | G87: ='Mensual 2026'!H75 -> 0.013903432 | H87: =SUM(B87:G87) -> 0.030264133 | I87: 0.32
A88: CO | B88: ='Mensual 2026'!C76 -> 0 | C88: ='Mensual 2026'!D76 -> 0 | D88: ='Mensual 2026'!E76 -> 0.0073549377 | E88: ='Mensual 2026'!F76 -> 0.036440425 | F88: ='Mensual 2026'!G76 -> 0.087888329 | G88: ='Mensual 2026'!H76 -> 0.11190567 | H88: =SUM(B88:G88) -> 0.24358936 | I88: 2.59
A89: Pb | B89: ='Mensual 2026'!C77 -> 0 | C89: ='Mensual 2026'!D77 -> 0 | D89: ='Mensual 2026'!E77 -> 3.1202766e-05 | E89: ='Mensual 2026'!F77 -> 0.00015459574 | F89: ='Mensual 2026'!G77 -> 0.00037285958 | G89: ='Mensual 2026'!H77 -> 0.00047475133 | H89: =SUM(B89:G89) -> 0.0010334094 | I89: 0.011
A90: CO2e | B90: ='Mensual 2026'!C78 -> 0 | C90: ='Mensual 2026'!D78 -> 0 | D90: ='Mensual 2026'!E78 -> 364.65278 | E90: ='Mensual 2026'!F78 -> 1806.6913 | F90: ='Mensual 2026'!G78 -> 4357.4433 | G90: ='Mensual 2026'!H78 -> 5548.2066 | H90: =SUM(B90:G90) -> 12076.994 | I90: N/A
A91: Total | B91: =SUM(B84:B89) -> 0 | C91: =SUM(C84:C89) -> 0 | D91: =SUM(D84:D89) -> 2.0188725 | E91: =SUM(E84:E89) -> 10.00261 | F91: =SUM(F84:F89) -> 24.124654 | G91: =SUM(G84:G89) -> 30.717225 | H91: =SUM(H84:H89) -> 66.863361 | I91: =SUM(I84:I89) -> 1098.031
B93: Jobos | C93: Jobos | D93: Jobos | E93: Jobos | F93: Jobos | G93: Jobos | H93: Jobos | I93: Jobos
A94: PM | B94: ='Mensual 2026'!C99 -> 0 | C94: ='Mensual 2026'!D99 -> 0 | D94: ='Mensual 2026'!E99 -> 0.056356992 | E94: ='Mensual 2026'!F99 -> 0.12315341 | F94: ='Mensual 2026'!G99 -> 0.14343941 | G94: ='Mensual 2026'!H99 -> 0.28514167 | H94: =SUM(B94:G94) -> 0.60809148 | I94: 9.86
A95: SOx | B95: ='Mensual 2026'!C100 -> 0 | C95: ='Mensual 2026'!D100 -> 0 | D95: ='Mensual 2026'!E100 -> 0.047433802 | E95: ='Mensual 2026'!F100 -> 0.10365412 | F95: ='Mensual 2026'!G100 -> 0.12072817 | G95: ='Mensual 2026'!H100 -> 0.23999424 | H95: =SUM(B95:G95) -> 0.51181033 | I95: 414.78
A96: NOx | B96: ='Mensual 2026'!C101 -> 0 | C96: ='Mensual 2026'!D101 -> 0 | D96: ='Mensual 2026'!E101 -> 4.1328461 | E96: ='Mensual 2026'!F101 -> 9.0312499 | F96: ='Mensual 2026'!G101 -> 10.51889 | G96: ='Mensual 2026'!H101 -> 20.910389 | H96: =SUM(B96:G96) -> 44.593375 | I96: 722.78
A97: VOC | B97: ='Mensual 2026'!C102 -> 0 | C97: ='Mensual 2026'!D102 -> 0 | D97: ='Mensual 2026'!E102 -> 0.0019255306 | E97: ='Mensual 2026'!F102 -> 0.0042077414 | F97: ='Mensual 2026'!G102 -> 0.0049008464 | G97: ='Mensual 2026'!H102 -> 0.0097423405 | H97: =SUM(B97:G97) -> 0.020776459 | I97: 0.34
A98: CO | B98: ='Mensual 2026'!C103 -> 0 | C98: ='Mensual 2026'!D103 -> 0 | D98: ='Mensual 2026'!E103 -> 0.015498173 | E98: ='Mensual 2026'!F103 -> 0.033867187 | F98: ='Mensual 2026'!G103 -> 0.039445837 | G98: ='Mensual 2026'!H103 -> 0.07841396 | H98: =SUM(B98:G98) -> 0.16722516 | I98: 2.71
A99: Pb | B99: ='Mensual 2026'!C104 -> 0 | C99: ='Mensual 2026'!D104 -> 0 | D99: ='Mensual 2026'!E104 -> 6.5749824e-05 | E99: ='Mensual 2026'!F104 -> 0.00014367898 | F99: ='Mensual 2026'!G104 -> 0.00016734598 | G99: ='Mensual 2026'!H104 -> 0.00033266528 | H99: =SUM(B99:G99) -> 0.00070944006 | I99: 0.011
A100: CO2e | B100: ='Mensual 2026'!C105 -> 0 | C100: ='Mensual 2026'!D105 -> 0 | D100: ='Mensual 2026'!E105 -> 768.38881 | E100: ='Mensual 2026'!F105 -> 1679.112 | F100: ='Mensual 2026'!G105 -> 1955.6976 | G100: ='Mensual 2026'!H105 -> 3887.7105 | H100: =SUM(B100:G100) -> 8290.9089 | I100: N/A
A101: Total | B101: =SUM(B94:B99) -> 0 | C101: =SUM(C94:C99) -> 0 | D101: =SUM(D94:D99) -> 4.2541263 | E101: =SUM(E94:E99) -> 9.2962761 | F101: =SUM(F94:F99) -> 10.827572 | G101: =SUM(G94:G99) -> 21.524014 | H101: =SUM(H94:H99) -> 45.901988 | I101: =SUM(I94:I99) -> 1150.481
B103: Vega Baja | C103: Vega Baja | D103: Vega Baja | E103: Vega Baja | F103: Vega Baja | G103: Vega Baja | H103: Vega Baja | I103: Vega Baja
A104: PM | B104: ='Mensual 2026'!C90 -> 0 | C104: ='Mensual 2026'!D90 -> 0 | D104: ='Mensual 2026'!E90 -> 0 | E104: ='Mensual 2026'!F90 -> 0 | F104: ='Mensual 2026'!G90 -> 0 | G104: ='Mensual 2026'!H90 -> 0 | H104: =SUM(B104:G104) -> 0 | I104: 9.41
A105: SOx | B105: ='Mensual 2026'!C91 -> 0 | C105: ='Mensual 2026'!D91 -> 0 | D105: ='Mensual 2026'!E91 -> 0 | E105: ='Mensual 2026'!F91 -> 0 | F105: ='Mensual 2026'!G91 -> 0 | G105: ='Mensual 2026'!H91 -> 0 | H105: =SUM(B105:G105) -> 0 | I105: 395.87
A106: NOx | B106: ='Mensual 2026'!C92 -> 0 | C106: ='Mensual 2026'!D92 -> 0 | D106: ='Mensual 2026'!E92 -> 0 | E106: ='Mensual 2026'!F92 -> 0 | F106: ='Mensual 2026'!G92 -> 0 | G106: ='Mensual 2026'!H92 -> 0 | H106: =SUM(B106:G106) -> 0 | I106: 689.83
A107: VOC | B107: ='Mensual 2026'!C93 -> 0 | C107: ='Mensual 2026'!D93 -> 0 | D107: ='Mensual 2026'!E93 -> 0 | E107: ='Mensual 2026'!F93 -> 0 | F107: ='Mensual 2026'!G93 -> 0 | G107: ='Mensual 2026'!H93 -> 0 | H107: =SUM(B107:G107) -> 0 | I107: 0.32
A108: CO | B108: ='Mensual 2026'!C94 -> 0 | C108: ='Mensual 2026'!D94 -> 0 | D108: ='Mensual 2026'!E94 -> 0 | E108: ='Mensual 2026'!F94 -> 0 | F108: ='Mensual 2026'!G94 -> 0 | G108: ='Mensual 2026'!H94 -> 0 | H108: =SUM(B108:G108) -> 0 | I108: 2.59
...

Sheet Costa Sur
A2: Costa Sur BC Consumption 2022
A3: Galones | F3: Azufre | L3: Barrels
A4: year | B4: CS3 | C4: CS4 | D4: CS5 | E4: CS6 | F4: CS3 | G4: CS4 | H4: CS5 | I4: CS6 | J4: CS3 | K4: CS4 | L4: CS5 | M4: CS6
A5: 46023 | B5: 0 | C5: 0 | F5: 0 | G5: 0 | H5: 0.48 | I5: 0.48 | J5: 0 | K5: 0
A6: 46054 | B6: 0 | C6: 0 | F6: 0 | G6: 0 | H6: 0.48 | I6: 0.48 | J6: 0 | K6: 0
A7: 46082 | B7: 0 | C7: 0 | F7: 0 | G7: 0 | H7: 0.48 | I7: 0.48 | J7: 0 | K7: 0
A8: 46113 | B8: 0 | C8: 0 | F8: 0 | G8: 0 | H8: 0.48 | I8: 0.47 | J8: 0 | K8: 0
A9: 46143 | B9: 0 | C9: 0 | F9: 0 | G9: 0 | H9: 0.47 | I9: 0.47 | J9: 0 | K9: 0
A10: 46174 | B10: 0 | C10: 0 | D10: 490512.54 | E10: 1798110.3 | F10: 0 | G10: 0 | H10: 0.47 | I10: 0.47 | J10: 0 | K10: 0
A11: 46204 | B11: 0 | C11: 0 | D11: =SUM(L11*42) -> 0 | E11: =SUM(M11*42) -> 0 | F11: 0 | G11: 0 | J11: 0 | K11: 0
A12: 46235 | B12: 0 | C12: 0 | D12: =SUM(L12*42) -> 0 | E12: =SUM(M12*42) -> 0 | F12: 0 | G12: 0 | J12: 0 | K12: 0
A13: 46266 | B13: 0 | C13: 0 | D13: =SUM(L13*42) -> 0 | E13: =SUM(M13*42) -> 0 | F13: 0 | G13: 0 | J13: 0 | K13: 0
A14: 46296 | B14: 0 | C14: 0 | D14: =SUM(L14*42) -> 0 | E14: =SUM(M14*42) -> 0 | F14: 0 | G14: 0 | J14: 0 | K14: 0
A15: 46327 | B15: 0 | C15: 0 | D15: =SUM(L15*42) -> 0 | E15: =SUM(M15*42) -> 0 | F15: 0 | G15: 0 | J15: 0 | K15: 0
A16: 46357 | B16: 0 | C16: 0 | D16: =SUM(L16*42) -> 0 | E16: =SUM(M16*42) -> 0 | F16: 0 | G16: 0 | J16: 0 | K16: 0
A17: Total | B17: =SUM(B5:B16) -> 0 | C17: =SUM(C5:C16) -> 0 | D17: =SUM(D5:D16) -> 490512.54 | E17: =SUM(E5:E16) -> 1798110.3 | F17: =AVERAGE(F5:F16) -> 0 | G17: =AVERAGE(G5:G16) -> 0
A21: CS #2 FO Consumption 2022
A22: year | B22: Galones | D22: Azufre | G22: Barrels
B23: SCGT1-1 | C23: SCGT1-2 | D23: SCGT1-1 | E23: SCGT1-2 | G23: SCGT1-1 | H23: SCGT1-2
A24: =A5 -> 46023 | B24: 0 | C24: 0 | D24: 0.01 | E24: 0.01 | G24: 0 | H24: 0
A25: =A6 -> 46054 | B25: 0 | C25: 0 | D25: 0.01 | E25: 0.01 | G25: 0 | H25: 0
A26: =A7 -> 46082 | B26: 0 | C26: 0 | D26: 0.01 | E26: 0.01 | G26: 0 | H26: 0
A27: =A8 -> 46113 | B27: 0 | C27: 0 | D27: 0.01 | E27: 0.01 | G27: 0 | H27: 0
A28: =A9 -> 46143 | B28: 0 | C28: 0 | D28: 0.01 | E28: 0.01 | G28: 0 | H28: 0
A29: =A10 -> 46174 | B29: 0 | C29: 0 | D29: 0.01 | E29: 0.01 | G29: 0 | H29: 0
A30: =A11 -> 46204 | B30: 0 | C30: 0 | D30: 0.01 | E30: 0.01
A31: =A12 -> 46235 | B31: 0 | C31: 0 | D31: 0.01 | E31: 0.01
A32: =A13 -> 46266 | B32: 0 | C32: 0 | D32: 0.01 | E32: 0.01
A33: =A14 -> 46296 | B33: 0 | C33: 0 | D33: 0.01 | E33: 0.01
A34: =A15 -> 46327 | B34: 0 | C34: 0 | D34: 0.01 | E34: 0.01
A35: =A16 -> 46357 | B35: 0 | C35: 0 | D35: 0.01 | E35: 0.01
A36: Total | B36: =SUM(B24:B35) -> 0 | C36: =SUM(C24:C35) -> 0
A39: Costa Sur Natural Gas Consumtion 2022
A40: year | B40: SCF | D40: Azufre
B41: Unit 5 | C41: Unit 6 | D41: Unit 5 | E41: Unit 6
A42: =A5 -> 46023 | D42: 4.7e-05 | E42: 4.7e-05
A43: =A6 -> 46054 | D43: 2.9e-05 | E43: 2.9e-05
A44: =A7 -> 46082 | D44: 8.1e-05 | E44: 8.1e-05
A45: =A8 -> 46113 | D45: 7.6e-05 | E45: 7.6e-05
A46: =A9 -> 46143 | D46: 0.00017 | E46: 0.00017
A47: =A10 -> 46174 | B47: 2234892060 | C47: 1.9655802e+09 | D47: 2.28e-05 | E47: 2.28e-05
A48: =A11 -> 46204
A49: =A12 -> 46235
A50: =A13 -> 46266
A51: =A14 -> 46296
A52: =A15 -> 46327
A53: =A16 -> 46357
A54: TOTAL | B54: =SUM(B42:B53) -> 2234892060 | C54: =SUM(C42:C53) -> 1.9655802e+09 | D54: =0 -> 0 | E54: =0 -> 0

Sheet Turbinas CS
B1: Cómputo de Emisiones Actuales - Costa Sur (Turbinas 1-1 & 1-2) JUNIO 2022
B3: Factores de Emisión AP-42 Section 3.1
B5: PM | C5: 0.012lb/MMBTU
B6: SOx | C6: 1.01*%S lb/MMBTU
B7: NOx | C7: 0.880 lb/MMBTU
B8: VOC | C8: 0.00041 lb/MMBTU
B9: C0 | C9: 0.0033 lb/MMBTU
B10: Pb | C10: 0.0000140 lb MMBTU
B11: CO2e | C11: 163.61 lb/MMBtu (40 CFR 98, Subpart C)
R12: =(73.96+0.003*25+0.0006*298)*2.2046 -> 163.61174
B13: Combustible #2 | C13: ='Costa Sur'!B29+'Costa Sur'!C29 -> 0 | D13: gal/year
B14: Azufre % | C14: =MAX('Costa Sur'!D29:E29) -> 0.01
B17: Cálculos Emisiones PM
B19: = | C19: 0.012 | D19: lb | E19: =C13 -> 0 | F19: gal | G19: 0.138 | H19: MMBTU | I19: ton
C20: MMBTU | E20: año | G20: gal | I20: 2000 | J20: lb
B23: = | C23: =C19*E19*G19/I20 -> 0 | D23: ton | E23: = | F23: =C23*2000/8760 -> 0 | G23: lb
D24: año | G24: hr
B26: Cálculos Emisiones SOx
B28: = | C28: =1.01*C14 -> 0.0101 | D28: lb | E28: =E19 -> 0 | F28: gal | G28: 0.138 | H28: MMBTU | I28: ton
C29: MMBTU | E29: año | G29: gal | I29: 2000 | J29: lb
B32: = | C32: =C28*E28*G28/I29 -> 0 | D32: ton | E32: = | F32: =C32*2000/8760 -> 0 | G32: lb
D33: año | G33: hr
B35: Cálculos Emisiones NOx
B37: = | C37: 0.88 | D37: lb | E37: =E19 -> 0 | F37: gal | G37: 0.138 | H37: MMBTU | I37: ton
C38: MMBTU | E38: año | G38: gal | I38: 2000 | J38: lb
B41: = | C41: =C37*E37*G37/I38 -> 0 | D41: ton | E41: = | F41: =C41*2000/8760 -> 0 | G41: lb
D42: año | G42: hr
B44: Cálculos Emisiones VOC
B46: = | C46: 0.00041 | D46: lb | E46: =E19 -> 0 | F46: gal | G46: 0.138 | H46: MMBTU | I46: ton
C47: MMBTU | E47: año | G47: gal | I47: 2000 | J47: lb
B50: = | C50: =C46*E46*G46/I47 -> 0 | D50: ton | E50: = | F50: =C50*2000/8760 -> 0 | G50: lb
D51: año | G51: hr
B53: Cálculos Emisiones CO
B55: = | C55: 0.0033 | D55: lb | E55: =E19 -> 0 | F55: gal | G55: 0.138 | H55: MMBTU | I55: ton
C56: MMBTU | E56: año | G56: gal | I56: 2000 | J56: lb
B59: = | C59: =C55*E55*G55/I56 -> 0 | D59: ton | E59: = | F59: =C59*2000/8760 -> 0 | G59: lb
D60: año | G60: hr
B62: Cálculos Emisiones Pb
B64: = | C64: 1.4e-05 | D64: lb | E64: =E19 -> 0 | F64: gal | G64: 0.138 | H64: MMBTU | I64: ton
C65: MMBTU | E65: año | G65: gal | I65: 2000 | J65: lb
B68: = | C68: =C64*E64*G64/I65 -> 0 | D68: ton | E68: = | F68: =C68*2000/8760 -> 0 | G68: lb
D69: año | G69: hr
B71: Cálculos Emisiones CO2e
B73: = | C73: =R12 -> 163.61174 | D73: lb | E73: =E19 -> 0 | F73: gal | G73: 0.138 | H73: MMBTU | I73: ton
C74: MMBTU | E74: año | G74: gal | I74: 2000 | J74: lb
B77: = | C77: =C73*E73*G73/I74 -> 0 | D77: ton | E77: = | F77: =C77*2000/8760 -> 0 | G77: lb
D78: año | G78: hr

Sheet Calculos CS 3 y 4
A1: Cómputo de Emisiones Actuales JUNIO 2022 - Costa Sur 3 y 4
A3: Factores de Emisión AP-42
A5: PM | B5: (9.19)(%S) + 3.22 lb/1000gal
A6: SOx | B6: (157)*%S lb/1000gal
A7: NOx | B7: 32 (Tangencial) lb/1000gal
A8: VOC | B8: 0.76 lb/1000gal
A9: CO | B9: 5 lb/1000gal
A10: Pb | B10: 0.00151 lb/1000gal
A12: Combustible #6 | B12: ='Costa Sur'!B17+'Costa Sur'!C17 -> 0 | C12: gal/año
A13: Azufre % | B13: =('Costa Sur'!F17+'Costa Sur'!G17)/2 -> 0
A16: Cálculos Emisiones PM
A18: = | B18: =(9.19*B13)+3.22 -> 3.22 | C18: lb | D18: =B12 -> 0 | E18: gal | F18: ton
B19: 1000 | C19: gal | D19: año | F19: 2000 | G19: lb
A22: = | B22: =((B18/B19)*D18)/F19 -> 0 | C22: ton | D22: = | E22: =B22*(2000/8760) -> 0 | F22: lb
C23: año | F23: hr
A25: Cálculos Emisiones SOx
A27: = | B27: =(157+5.7)*B13 -> 0 | C27: lb | D27: =B12 -> 0 | E27: gal | F27: ton
B28: 1000 | C28: gal | D28: año | F28: 2000 | G28: lb
A31: = | B31: =((B27/B28)*D27)/F28 -> 0 | C31: ton | D31: = | E31: =B31*(2000/8760) -> 0 | F31: lb
C32: año | F32: hr
A34: Cálculos Emisiones NOx
A36: = | B36: 32 | C36: lb | D36: =B12 -> 0 | E36: gal | F36: ton
B37: 1000 | C37: gal | D37: año | F37: 2000 | G37: lb
A40: = | B40: =((B36/B37)*D36)/F37 -> 0 | C40: ton | D40: = | E40: =B40*(2000/8760) -> 0 | F40: lb
C41: año | F41: hr
A49: Cálculos Emisiones VOC
A51: = | B51: 0.76 | C51: lb | D51: =B12 -> 0 | E51: gal | F51: ton
B52: 1000 | C52: gal | D52: año | F52: 2000 | G52: lb
A55: = | B55: =((B51/B52)*D51)/F52 -> 0 | C55: ton | D55: = | E55: =B55*(2000/8760) -> 0 | F55: lb
C57: año | F57: hr
A60: Cálculos Emisiones CO
A62: = | B62: 5 | C62: lb | D62: =B12 -> 0 | E62: gal | F62: ton
B63: 1000 | C63: gal | D63: año | F63: 2000 | G63: lb
A66: = | B66: =((B62/B63)*D62)/F63 -> 0 | C66: ton | D66: = | E66: =B66*(2000/8760) -> 0 | F66: lb
C67: año | F67: hr
A69: Cálculos Emisiones Pb
A71: = | B71: 0.00151 | C71: lb | D71: =B12 -> 0 | E71: gal | F71: ton
B72: 1000 | C72: gal | D72: año | F72: 2000 | G72: lb
A75: = | B75: =((B71/B72)*D71)/F72 -> 0 | C75: ton | D75: = | E75: =B75*(2000/8760) -> 0 | F75: lb
C76: año | F76: hr

Sheet CS 5
A1: Cómputo de Emisiones Actuales para Bunker C y Gas Natural - Costa Sur JUNIO 2022 - Unidad 5*
A3: Parametro | B3: Factor de Emisión Combustible Natural Gas | C3: Factor de Emisión Combustible No. 6 Oil | D3: Emisiones Actuales (ton/year) | E3: Emisiones Actuales (lb/hr)
A4: NOx | B4: 0.35 | C4: 0.35 | D4: =B23 -> 419.62631 | E4: =F23 -> 95.805093
A5: CO | B5: 0.009 | C5: 0.0038 | D5: =B29 -> 10.599091 | E5: =F29 -> 2.4198838
A6: VOC | B6: 0.0008 | C6: 0.0013 | D6: =B35 -> 0.97754007 | E6: =F35 -> 0.22318266 | F6: Ecuación para el Cómputo
A7: PM | B7: 0.005 | C7: 0.0275 | D7: =B41 -> 6.8224015 | E7: =F41 -> 1.5576259 | F7: ton/year = | G7: [Consumo de Combustible #6 en galones/year) * ( Valor Calorífico BC 0.15 MMBtu/gal)
A8: PM10 | B8: 0.0081 | C8: 0.04 | D8: =B47 -> 10.884903 | E8: =F47 -> 2.4851377 | G8: + (Consumo Gas Natural SCF/year) * (Valor Calorífico GN 1,040 MMBtu/SCF*10^6)]
A9: PM2.5 | B9: 0.0075 | C9: 0.033 | D9: =B53 -> 9.9300976 | E9: =F53 -> 2.2671456 | G9: * FE en lbs/MMBtu * 1 ton/2,000 lbs
A10: SO2 | B10: 0.004 | C10: 157*%S | D10: =B59 -> 22.746036 | E10: =F59 -> 5.1931588
A11: H2SO4 | B11: 0.00043 | C11: 0.02259 | D11: =B65 -> 1.3307727 | E11: =F65 -> 0.30382939 | F11: lbs/hr = | G11: (Toneladas Contaminante / year) * (1 year / 8,760 hr) * (2000 lb / ton) | V11: CO2e | W11: =(157765.7+153.2+365.3)*2204.6/13621578 -> 25.617689 | X11: lbs/gal
A12: Pb | B12: 0 | C12: 4.63e-06 | D12: =B71 -> 0.00017033048 | E12: =F71 -> 3.8888237e-05 | W12: =(989989.8+466.4+556)*2204.62/18132099995 -> 0.12049378 | X12: lbs/scf
A13: CO2e | B13: 25.618 lbs/gal | C13: 0.1205 lbs/SCF | D13: =B77 -> 140928.2 | E13: =F77 -> 32175.388
A14: Fluoruro | B14: 0 | C14: 0 | D14: 0 | E14: 0
A16: Consumo #6 = | B16: ='Costa Sur'!D10 -> 490512.54 | D16: gal/year
A17: Consumo NG = | B17: ='Costa Sur'!B47 -> 2234892060 | D17: SCF/year
A18: #6 Azufre = | B18: ='Costa Sur'!H10 -> 0.47 | D18: %
A20: NOx = | B20: =B16 -> 490512.54 | D20: galones | E20: 0.15 | F20: MMBtu | G20: * | H20: =C4 -> 0.35 | I20: lbs | J20: 1 | K20: ton | L20: + | M20: =B17 -> 2234892060 | N20: SCF | O20: 1040 | P20: MMBtu | Q20: * | R20: =B4 -> 0.35 | S20: lbs | T20: 1 | U20: ton
D21: year | F21: gal | I21: MMBtu | J21: 2000 | K21: lbs | N21: year | O21: 1000000 | P21: SCF | S21: MMBtu | T21: 2000 | U21: lbs
B23: =(B20*E20*H20+M20*O20*R20/1000000)/2000 -> 419.62631 | D23: ton/year | E23: = | F23: =B23*(2000/8760) -> 95.805093 | G23: lb/hr
A26: CO = | B26: =B16 -> 490512.54 | D26: galones | E26: 0.15 | F26: MMBtu | G26: * | H26: =C5 -> 0.0038 | I26: lbs | J26: 1 | K26: ton | L26: + | M26: =B17 -> 2234892060 | N26: SCF | O26: 1040 | P26: MMBtu | Q26: * | R26: =B5 -> 0.009 | S26: lbs | T26: 1 | U26: ton
D27: year | F27: gal | I27: MMBtu | J27: 2000 | K27: lbs | N27: year | O27: 1000000 | P27: SCF | S27: MMBtu | T27: 2000 | U27: lbs
B29: =(B26*E26*H26+M26*O26*R26/1000000)/2000 -> 10.599091 | D29: ton/year | E29: = | F29: =B29*(2000/8760) -> 2.4198838 | G29: lb/hr
A32: VOC = | B32: =B16 -> 490512.54 | D32: galones | E32: 0.15 | F32: MMBtu | G32: * | H32: =C6 -> 0.0013 | I32: lbs | J32: 1 | K32: ton | L32: + | M32: =B17 -> 2234892060 | N32: SCF | O32: 1040 | P32: MMBtu | Q32: * | R32: =B6 -> 0.0008 | S32: lbs | T32: 1 | U32: ton
D33: year | F33: gal | I33: MMBtu | J33: 2000 | K33: lbs | N33: year | O33: 1000000 | P33: SCF | S33: MMBtu | T33: 2000 | U33: lbs
B35: =(B32*E32*H32+M32*O32*R32/1000000)/2000 -> 0.97754007 | D35: ton/year | E35: = | F35: =B35*(2000/8760) -> 0.22318266 | G35: lb/hr
A38: PM = | B38: =B16 -> 490512.54 | D38: galones | E38: 0.15 | F38: MMBtu | G38: * | H38: =C7 -> 0.0275 | I38: lbs | J38: 1 | K38: ton | L38: + | M38: =B17 -> 2234892060 | N38: SCF | O38: 1040 | P38: MMBtu | Q38: * | R38: =B7 -> 0.005 | S38: lbs | T38: 1 | U38: ton
D39: year | F39: gal | I39: MMBtu | J39: 2000 | K39: lbs | N39: year | O39: 1000000 | P39: SCF | S39: MMBtu | T39: 2000 | U39: lbs
B41: =(B38*E38*H38+M38*O38*R38/1000000)/2000 -> 6.8224015 | D41: ton/year | E41: = | F41: =B41*(2000/8760) -> 1.5576259 | G41: lb/hr | L41: lb/hr
A44: PM10 = | B44: =B16 -> 490512.54 | D44: galones | E44: 0.15 | F44: MMBtu | G44: * | H44: =C8 -> 0.04 | I44: lbs | J44: 1 | K44: ton | L44: + | M44: =B17 -> 2234892060 | N44: SCF | O44: 1040 | P44: MMBtu | Q44: * | R44: =B8 -> 0.0081 | S44: lbs | T44: 1 | U44: ton
D45: year | F45: gal | I45: MMBtu | J45: 2000 | K45: lbs | N45: year | O45: 1000000 | P45: SCF | S45: MMBtu | T45: 2000 | U45: lbs
B47: =(B44*E44*H44+M44*O44*R44/1000000)/2000 -> 10.884903 | D47: ton/year | E47: = | F47: =B47*(2000/8760) -> 2.4851377 | G47: lb/hr | L47: lb/hr
A50: PM2.5 = | B50: =B16 -> 490512.54 | D50: galones | E50: 0.15 | F50: MMBtu | G50: * | H50: =C9 -> 0.033 | I50: lbs | J50: 1 | K50: ton | L50: + | M50: =B17 -> 2234892060 | N50: SCF | O50: 1040 | P50: MMBtu | Q50: * | R50: =B9 -> 0.0075 | S50: lbs | T50: 1 | U50: ton
D51: year | F51: gal | I51: MMBtu | J51: 2000 | K51: lbs | N51: year | O51: 1000000 | P51: SCF | S51: MMBtu | T51: 2000 | U51: lbs
B53: =(B50*E50*H50+M50*O50*R50/1000000)/2000 -> 9.9300976 | D53: ton/year | E53: = | F53: =B53*(2000/8760) -> 2.2671456 | G53: lb/hr | L53: lb/hr
A56: SO2 = | B56: =B16 -> 490512.54 | D56: galones | G56: * | H56: =(157)*B18 -> 73.79 | I56: lbs | J56: 1 | K56: ton | L56: + | M56: =B17 -> 2234892060 | N56: SCF | O56: 1040 | P56: MMBtu | Q56: * | R56: =B10 -> 0.004 | S56: lbs | T56: 1 | U56: ton
D57: year | H57: 1000 | I57: gals | J57: 2000 | K57: lbs | N57: year | O57: 1000000 | P57: SCF | S57: MMBtu | T57: 2000 | U57: lbs
B59: =(B56*H56/H57+M56*O56*R56/1000000)/2000 -> 22.746036 | D59: ton/year | E59: = | F59: =B59*(2000/8760) -> 5.1931588 | G59: lb/hr | L59: lb/hr
A62: H2SO4 = | B62: =B16 -> 490512.54 | D62: galones | E62: 0.15 | F62: MMBtu | G62: * | H62: =C11 -> 0.02259 | I62: lbs | J62: 1 | K62: ton | L62: + | M62: =B17 -> 2234892060 | N62: SCF | O62: 1040 | P62: MMBtu | Q62: * | R62: =B11 -> 0.00043 | S62: lbs | T62: 1 | U62: ton
D63: year | F63: gal | I63: MMBtu | J63: 2000 | K63: lbs | N63: year | O63: 1000000 | P63: SCF | S63: MMBtu | T63: 2000 | U63: lbs
B65: =(B62*E62*H62+M62*O62*R62/1000000)/2000 -> 1.3307727 | D65: ton/year | E65: = | F65: =B65*(2000/8760) -> 0.30382939 | G65: lb/hr | L65: lb/hr
A68: Pb = | B68: =B16 -> 490512.54 | D68: galones | E68: 0.15 | F68: MMBtu | G68: * | H68: =C12 -> 4.63e-06 | I68: lbs | J68: 1 | K68: ton | L68: + | M68: =B17 -> 2234892060 | N68: SCF | O68: 1040 | P68: MMBtu | Q68: * | R68: =B12 -> 0 | S68: lbs | T68: 1 | U68: ton
D69: year | F69: gal | I69: MMBtu | J69: 2000 | K69: lbs | N69: year | O69: 1000000 | P69: SCF | S69: MMBtu | T69: 2000 | U69: lbs
B71: =(B68*E68*H68+M68*O68*R68/1000000)/2000 -> 0.00017033048 | D71: ton/year | E71: = | F71: =B71*(2000/8760) -> 3.8888237e-05 | G71: lb/hr
A74: CO2e = | B74: =B16 -> 490512.54 | D74: galones | E74: =W11 -> 25.617689 | F74: lbs | G74: * | H74: 1 | I74: ton | J74: + | M74: =B17 -> 2234892060 | N74: SCF | O74: =W12 -> 0.12049378 | P74: lbs | Q74: * | R74: 1 | S74: ton
D75: year | F75: gal | H75: 2000 | I75: lbs | N75: year | P75: SCF | R75: 2000 | S75: lbs
B77: =(B74*E74+M74*O74)/H75 -> 140928.2 | D77: ton/year | E77: = | F77: =B77*(2000/8760) -> 32175.388 | G77: lb/hr
B80: Nota:
B81: * La formula y los factores de emisión utilizados son los aprobados en la última revisión del permiso
B82: de construcción PFE-31-0810-0455-II-C, con fecha del 21 de JUNIO de 2012, para la quema dual
B83: de combustible 100% Bunker C y 100% Gas Natural, según corresponda.

Sheet CS6
A1: Cómputo de Emisiones Actuales para Bunker C y Gas Natural - Costa Sur JUNIO 2022 - Unidad 6*
A3: Parametro | B3: Factor de Emisión Combustible Natural Gas | C3: Factor de Emisión Combustible No. 6 Oil | D3: Emisiones Actuales (ton/year) | E3: Emisiones Actuales (lb/hr)
A4: NOx | B4: 0.35 | C4: 0.35 | D4: =B23 -> 404.93599 | E4: =F23 -> 92.45114
A5: CO | B5: 0.009 | C5: 0.0038 | D5: =B29 -> 9.7113768 | E5: =F29 -> 2.2172093
A6: VOC | B6: 0.0008 | C6: 0.0013 | D6: =B35 -> 0.99299712 | E6: =F35 -> 0.22671167 | F6: Ecuación para el Cómputo
A7: PM | B7: 0.005 | C7: 0.0275 | D7: =B41 -> 8.819111 | E7: =F41 -> 2.0134957 | F7: ton/year = | G7: [Consumo de Combustible #6 en galones/year) * ( Valor Calorífico BC 0.15 MMBtu/gal)
A8: PM10 | B8: 0.0081 | C8: 0.04 | D8: =B47 -> 13.673355 | E8: =F47 -> 3.1217705 | G8: + (Consumo Gas Natural SCF/year) * (Valor Calorífico GN 1,040 MMBtu/SCF*10^6)]
A9: PM2.5 | B9: 0.0075 | C9: 0.033 | D9: =B53 -> 12.116086 | E9: =F53 -> 2.7662296 | G9: * FE en lbs/MMBtu * 1 ton/2,000 lbs
A10: SO2 | B10: 0.004 | C10: 157*%S | D10: =B59 -> 70.429686 | E10: =F59 -> 16.079837
A11: H2SO4 | B11: 0.00043 | C11: 0.02259 | D11: =B65 -> 3.4859521 | E11: =F65 -> 0.79587948 | F11: lbs/hr = | G11: (Toneladas Contaminante / year) * (1 year / 8,760 hr) * (2000 lb / ton) | V11: CO2e | W11: =(157765.7+153.2+365.3)*2204.6/13621578 -> 25.617689 | X11: lbs/gal
A12: Pb | B12: 0 | C12: 4.63e-06 | D12: =B71 -> 0.0006243938 | E12: =F71 -> 0.00014255566 | W12: =(989989.8+466.4+556)*2204.62/18132099995 -> 0.12049378 | X12: lbs/scf
A13: CO2e | B13: 25.618 lbs/gal | C13: 0.1205 lbs/SCF | D13: =B77 -> 141451.81 | E13: =F77 -> 32294.934
A14: Fluoruro | B14: 0 | C14: 0 | D14: 0 | E14: 0
A16: Consumo #6 = | B16: ='Costa Sur'!E10 -> 1798110.3 | D16: gal/year
A17: Consumo NG = | B17: ='Costa Sur'!C47 -> 1.9655802e+09 | D17: SCF/year
A18: #6 Azufre = | B18: ='Costa Sur'!I10 -> 0.47 | D18: %
A20: NOx = | B20: =B16 -> 1798110.3 | D20: galones | E20: 0.15 | F20: MMBtu | G20: * | H20: =C4 -> 0.35 | I20: lbs | J20: 1 | K20: ton | L20: + | M20: =B17 -> 1.9655802e+09 | N20: SCF | O20: 1040 | P20: MMBtu | Q20: * | R20: =B4 -> 0.35 | S20: lbs | T20: 1 | U20: ton
D21: year | F21: gal | I21: MMBtu | J21: 2000 | K21: lbs | N21: year | O21: 1000000 | P21: SCF | S21: MMBtu | T21: 2000 | U21: lbs
B23: =(B20*E20*H20+M20*O20*R20/1000000)/2000 -> 404.93599 | D23: ton/year | E23: = | F23: =B23*(2000/8760) -> 92.45114 | G23: lb/hr
A26: CO = | B26: =B16 -> 1798110.3 | D26: galones | E26: 0.15 | F26: MMBtu | G26: * | H26: =C5 -> 0.0038 | I26: lbs | J26: 1 | K26: ton | L26: + | M26: =B17 -> 1.9655802e+09 | N26: SCF | O26: 1040 | P26: MMBtu | Q26: * | R26: =B5 -> 0.009 | S26: lbs | T26: 1 | U26: ton
D27: year | F27: gal | I27: MMBtu | J27: 2000 | K27: lbs | N27: year | O27: 1000000 | P27: SCF | S27: MMBtu | T27: 2000 | U27: lbs
B29: =(B26*E26*H26+M26*O26*R26/1000000)/2000 -> 9.7113768 | D29: ton/year | E29: = | F29: =B29*(2000/8760) -> 2.2172093 | G29: lb/hr
A32: VOC = | B32: =B16 -> 1798110.3 | D32: galones | E32: 0.15 | F32: MMBtu | G32: * | H32: =C6 -> 0.0013 | I32: lbs | J32: 1 | K32: ton | L32: + | M32: =B17 -> 1.9655802e+09 | N32: SCF | O32: 1040 | P32: MMBtu | Q32: * | R32: =B6 -> 0.0008 | S32: lbs | T32: 1 | U32: ton
D33: year | F33: gal | I33: MMBtu | J33: 2000 | K33: lbs | N33: year | O33: 1000000 | P33: SCF | S33: MMBtu | T33: 2000 | U33: lbs
B35: =(B32*E32*H32+M32*O32*R32/1000000)/2000 -> 0.99299712 | D35: ton/year | E35: = | F35: =B35*(2000/8760) -> 0.22671167 | G35: lb/hr
A38: PM = | B38: =B16 -> 1798110.3 | D38: galones | E38: 0.15 | F38: MMBtu | G38: * | H38: =C7 -> 0.0275 | I38: lbs | J38: 1 | K38: ton | L38: + | M38: =B17 -> 1.9655802e+09 | N38: SCF | O38: 1040 | P38: MMBtu | Q38: * | R38: =B7 -> 0.005 | S38: lbs | T38: 1 | U38: ton
D39: year | F39: gal | I39: MMBtu | J39: 2000 | K39: lbs | N39: year | O39: 1000000 | P39: SCF | S39: MMBtu | T39: 2000 | U39: lbs
B41: =(B38*E38*H38+M38*O38*R38/1000000)/2000 -> 8.819111 | D41: ton/year | E41: = | F41: =B41*(2000/8760) -> 2.0134957 | G41: lb/hr | L41: lb/hr
A44: PM10 = | B44: =B16 -> 1798110.3 | D44: galones | E44: 0.15 | F44: MMBtu | G44: * | H44: =C8 -> 0.04 | I44: lbs | J44: 1 | K44: ton | L44: + | M44: =B17 -> 1.9655802e+09 | N44: SCF | O44: 1040 | P44: MMBtu | Q44: * | R44: =B8 -> 0.0081 | S44: lbs | T44: 1 | U44: ton
D45: year | F45: gal | I45: MMBtu | J45: 2000 | K45: lbs | N45: year | O45: 1000000 | P45: SCF | S45: MMBtu | T45: 2000 | U45: lbs
B47: =(B44*E44*H44+M44*O44*R44/1000000)/2000 -> 13.673355 | D47: ton/year | E47: = | F47: =B47*(2000/8760) -> 3.1217705 | G47: lb/hr | L47: lb/hr
A50: PM2.5 = | B50: =B16 -> 1798110.3 | D50: galones | E50: 0.15 | F50: MMBtu | G50: * | H50: =C9 -> 0.033 | I50: lbs | J50: 1 | K50: ton | L50: + | M50: =B17 -> 1.9655802e+09 | N50: SCF | O50: 1040 | P50: MMBtu | Q50: * | R50: =B9 -> 0.0075 | S50: lbs | T50: 1 | U50: ton
D51: year | F51: gal | I51: MMBtu | J51: 2000 | K51: lbs | N51: year | O51: 1000000 | P51: SCF | S51: MMBtu | T51: 2000 | U51: lbs
B53: =(B50*E50*H50+M50*O50*R50/1000000)/2000 -> 12.116086 | D53: ton/year | E53: = | F53: =B53*(2000/8760) -> 2.7662296 | G53: lb/hr | L53: lb/hr
A56: SO2 = | B56: =B16 -> 1798110.3 | D56: galones | G56: * | H56: =(157)*B18 -> 73.79 | I56: lbs | J56: 1 | K56: ton | L56: + | M56: =B17 -> 1.9655802e+09 | N56: SCF | O56: 1040 | P56: MMBtu | Q56: * | R56: =B10 -> 0.004 | S56: lbs | T56: 1 | U56: ton
D57: year | H57: 1000 | I57: gals | J57: 2000 | K57: lbs | N57: year | O57: 1000000 | P57: SCF | S57: MMBtu | T57: 2000 | U57: lbs
B59: =(B56*H56/H57+M56*O56*R56/1000000)/2000 -> 70.429686 | D59: ton/year | E59: = | F59: =B59*(2000/8760) -> 16.079837 | G59: lb/hr | L59: lb/hr
A62: H2SO4 = | B62: =B16 -> 1798110.3 | D62: galones | E62: 0.15 | F62: MMBtu | G62: * | H62: =C11 -> 0.02259 | I62: lbs | J62: 1 | K62: ton | L62: + | M62: =B17 -> 1.9655802e+09 | N62: SCF | O62: 1040 | P62: MMBtu | Q62: * | R62: =B11 -> 0.00043 | S62: lbs | T62: 1 | U62: ton
D63: year | F63: gal | I63: MMBtu | J63: 2000 | K63: lbs | N63: year | O63: 1000000 | P63: SCF | S63: MMBtu | T63: 2000 | U63: lbs
B65: =(B62*E62*H62+M62*O62*R62/1000000)/2000 -> 3.4859521 | D65: ton/year | E65: = | F65: =B65*(2000/8760) -> 0.79587948 | G65: lb/hr | L65: lb/hr
A68: Pb = | B68: =B16 -> 1798110.3 | D68: galones | E68: 0.15 | F68: MMBtu | G68: * | H68: =C12 -> 4.63e-06 | I68: lbs | J68: 1 | K68: ton | L68: + | M68: =B17 -> 1.9655802e+09 | N68: SCF | O68: 1040 | P68: MMBtu | Q68: * | R68: =B12 -> 0 | S68: lbs | T68: 1 | U68: ton
D69: year | F69: gal | I69: MMBtu | J69: 2000 | K69: lbs | N69: year | O69: 1000000 | P69: SCF | S69: MMBtu | T69: 2000 | U69: lbs
B71: =(B68*E68*H68+M68*O68*R68/1000000)/2000 -> 0.0006243938 | D71: ton/year | E71: = | F71: =B71*(2000/8760) -> 0.00014255566 | G71: lb/hr
A74: CO2e = | B74: =B16 -> 1798110.3 | D74: galones | E74: =W11 -> 25.617689 | F74: lbs | G74: * | H74: 1 | I74: ton | J74: + | M74: =B17 -> 1.9655802e+09 | N74: SCF | O74: =W12 -> 0.12049378 | P74: lbs | Q74: * | R74: 1 | S74: ton
D75: year | F75: gal | H75: 2000 | I75: lbs | N75: year | P75: SCF | R75: 2000 | S75: lbs
B77: =(B74*E74+M74*O74)/H75 -> 141451.81 | D77: ton/year | E77: = | F77: =B77*(2000/8760) -> 32294.934 | G77: lb/hr
B80: Nota:
B81: * La formula y los factores de emisión utilizados son los aprobados en la última revisión del permiso
B82: de construcción PFE-31-0810-0455-II-C, con fecha del 21 de JUNIO de 2012, para la quema dual
B83: de combustible 100% Bunker C y 100% Gas Natural, según corresponda.

Sheet San Juan
A2: San Juan BC Consumption 2023
A3: year | B3: Barrels | F3: Galones | J3: Azufre
B4: SJ7 | C4: SJ8 | D4: SJ9 | E4: SJ10 | F4: SJ7 | G4: SJ8 | H4: SJ9 | I4: SJ10 | J4: SJ7 | K4: SJ8 | L4: SJ9 | M4: SJ10
A5: 46023
A6: 46054
A7: 46082
A8: 46113
A9: 46143
A10: 46174 | B10: 419.41 | C10: 0 | D10: 28472.37 | E10: 0 | F10: =SUM(B10*42) -> 17615.22 | G10: 0 | H10: =SUM(D10*42) -> 1195839.5 | I10: 0 | J10: 0.48 | L10: 0.48
A11: 46204 | C11: 0 | E11: 0 | F11: =SUM(B11*42) -> 0 | G11: 0 | H11: =SUM(D11*42) -> 0 | I11: 0
A12: 46235 | C12: 0 | E12: 0 | F12: =SUM(B12*42) -> 0 | G12: 0 | H12: =SUM(D12*42) -> 0 | I12: 0
A13: 46266 | C13: 0 | E13: 0 | F13: =SUM(B13*42) -> 0 | G13: 0 | H13: =SUM(D13*42) -> 0 | I13: 0
A14: 46296 | C14: 0 | E14: 0 | F14: =SUM(B14*42) -> 0 | G14: 0 | H14: =SUM(D14*42) -> 0 | I14: 0
A15: 46327 | C15: 0 | E15: 0 | F15: =SUM(B15*42) -> 0 | G15: 0 | H15: =SUM(D15*42) -> 0 | I15: 0
A16: 46357 | C16: 0 | E16: 0 | F16: =SUM(B16*42) -> 0 | G16: 0 | H16: =SUM(D16*42) -> 0 | I16: 0
A17: Total | B17: =SUM(B5:B16) -> 419.41 | C17: =SUM(C5:C16) -> 0 | D17: =SUM(D5:D16) -> 28472.37 | E17: =SUM(E5:E16) -> 0 | F17: =SUM(F5:F16) -> 17615.22 | G17: =SUM(G5:G16) -> 0 | H17: =SUM(H5:H16) -> 1195839.5 | I17: =SUM(I5:I16) -> 0 | J17: =AVERAGE(J5:J16) -> 0.48 | K17: =SUM(K5:K16) -> 0 | L17: =AVERAGE(L5:L16) -> 0.48 | M17: =IFERROR(AVERAGE(M5:M16),"n.a.") -> n.a.
A20: SJ #2FO Consumption 2023 | M20: San Juan Natural Gas Consumtion 2023
A21: year | B21: Barrels | D21: Galones | F21: Azufre | H21: Horas | M21: year | N21: SCF | P21: Azufre
B22: SJCC5 | C22: SJCC6 | D22: SJCC5 | E22: SJCC6 | F22: SJCC5 | G22: SJCC6 | H22: SJCC5 | I22: SJCC6 | N22: Unit 5 | O22: Unit 6 | P22: Unit 5 | Q22: Unit 6
A23: =A5 -> 46023 | M23: =A5 -> 46023
A24: =A6 -> 46054 | M24: =A6 -> 46054
A25: =A7 -> 46082 | M25: =A7 -> 46082
A26: =A8 -> 46113 | M26: =A8 -> 46113
A27: =A9 -> 46143 | M27: =A9 -> 46143
A28: =A10 -> 46174 | B28: 10935.17 | C28: 0 | D28: =SUM(B28*42) -> 459277.14 | E28: =SUM(C28*42) -> 0 | F28: 0.0007 | G28: 0.0007 | H28: 667.64 | I28: 0 | M28: =A10 -> 46174 | N28: 9.4998965e+08 | O28: 9.1667038e+08 | P28: 0.001 | Q28: 0.001
A29: =A11 -> 46204 | D29: =SUM(B29*42) -> 0 | E29: =SUM(C29*42) -> 0 | M29: =A11 -> 46204
A30: =A12 -> 46235 | D30: =SUM(B30*42) -> 0 | E30: =SUM(C30*42) -> 0 | M30: =A12 -> 46235
A31: =A13 -> 46266 | D31: =SUM(B31*42) -> 0 | E31: =SUM(C31*42) -> 0 | M31: =A13 -> 46266
A32: =A14 -> 46296 | D32: =SUM(B32*42) -> 0 | E32: =SUM(C32*42) -> 0 | M32: =A14 -> 46296
A33: =A15 -> 46327 | D33: =SUM(B33*42) -> 0 | E33: =SUM(C33*42) -> 0 | M33: =A15 -> 46327
A34: =A16 -> 46357 | D34: =SUM(B34*42) -> 0 | E34: =SUM(C34*42) -> 0 | M34: =A16 -> 46357
A35: Total | B35: =SUM(B23:B34) -> 10935.17 | C35: =SUM(C23:C34) -> 0 | D35: =SUM(D23:D34) -> 459277.14 | E35: =SUM(E23:E34) -> 0 | F35: =AVERAGE(F23:F34) -> 0.0007 | G35: =AVERAGE(G23:G34) -> 0.0007 | H35: =SUM(H23:H34) -> 667.64 | I35: =SUM(I23:I34) -> 0 | M35: TOTAL | N35: =SUM(N23:N34) -> 9.4998965e+08 | O35: =SUM(O23:O34) -> 9.1667038e+08 | P35: =0 -> 0 | Q35: =0 -> 0

Sheet Cálculos SJ
A1: Cómputo de Emisiones Actuales JUNIO 2022 - San Juan 7-10
A3: Factores de Emisión de acuerdo a Permiso Título V
A5: PM10 | B5: 0.040 lbs/MMBtu | D5: MATS Emission Limit + AP-42 Section 1.3 Condensable PM
A6: PM | B6: 0.030 lbs/MMBtu | D6: MATS Emission Limit
A7: SO2 | B7: 157*%S lbs/1000gal | D7: AP-42 Section 1.3
A8: H2SO4 | B8: 0.0405 lbs/MMBtu
A9: NOx (7&8) | B9: 47 lbs/1000gal | D9: AP-42 Section 1.3 wall fired boilers
A10: NOx (9&10) | B10: 32 lbs/1000gal | D10: AP-42 Section 1.3 tangential fired boilers
A11: VOC | B11: 0.76 lbs/1000gal | D11: AP-42 Section 1.3
A12: CO | B12: 5 lbs/1000gal | D12: AP-42 Section 1.3
A13: Pb | B13: 0.00151 lbs/1000gal
A14: CO2e | B14: 24.891 lbs/gal | D14: eGGRT GHG Report | R14: 24.891206 | S14: lbs/gal
A16: Combustible #6 | B16: ='San Juan'!F10+'San Juan'!G10 -> 17615.22 | C16: gal/year 7&8
A17: Combustible #6 | B17: =+'San Juan'!H10+'San Juan'!I10 -> 1195839.5 | C17: gal/year 9&10
A18: % Azufre | B18: =IF(MAX('San Juan'!J10:M10)>0,AVERAGE('San Juan'!J10:M10),0) -> 0.48 | D18: NO INCLUIR EN PRINT OUT"=('San Juan'!J17+'San Juan'!K17+'San Juan'!L17+'San Juan'!M17)/4" se saco del promedio a la u-10 ya que estubo apagada
A21: Cálculos Emisiones PM10
A23: = | B23: 0.04 | C23: lbs | D23: =B16+B17 -> 1213454.8 | E23: gal | F23: ton | H23: 0.15 | I23: MMBtu
B24: MMBtu | D24: year | F24: 2000 | G24: lbs | H24: gal
A26: = | B26: =((B23*D23*H23)/F24) -> 3.6403643 | C26: ton
C27: year
A29: Cálculos Emisiones PM
A31: = | B31: 0.03 | C31: lbs | D31: =D23 -> 1213454.8 | E31: gal | F31: ton | H31: 0.15 | I31: MMBtu
B32: MMBtu | D32: year | F32: 2000 | G32: lbs | H32: gal
A34: = | B34: =((B31*D31*H31)/F32) -> 2.7302732 | C34: ton
C35: year
A38: Cálculos Emisiones H2SO4
A40: = | B40: 0.0405 | C40: lbs | D40: =D31 -> 1213454.8 | E40: gal | F40: ton | H40: 0.15 | I40: MMBtu
B41: MMBtu | D41: year | F41: 2000 | G41: lbs | H41: gal
A43: = | B43: =((B40*D40*H40)/F41) -> 3.6858688 | C43: ton
C44: year
A46: Cálculos Emisiones SO2
I47: NOTA PARA EFECTOS DE CALCULO SE SUBSTITUYO EL PROMEDIO DE AZUFRE POR EL CALCULO A MANO = .47; LA CELDA DEBE SER =B14
A48: = | B48: =(157+5.7)*B18 -> 78.096 | C48: lbs | D48: =D40 -> 1213454.8 | E48: gal | F48: ton
B49: 1000 | C49: gals | D49: year | F49: 2000 | G49: lbs
A51: = | B51: =((B48/B49*D48)/F49) -> 47.382981 | C51: ton
C52: year
A55: Cálculos Emisiones Nox (7&8)
A57: = | B57: 47 | C57: lbs | D57: =B16 -> 17615.22 | E57: gal | F57: ton
B58: 1000 | C58: gal | D58: year | F58: 2000 | G58: lbs
A60: = | B60: =((B57/B58)*D57)/F58 -> 0.41395767 | C60: ton
C61: year
A63: Cálculos Emisiones Nox (9&10)
A65: = | B65: 32 | C65: lbs | D65: =B17 -> 1195839.5 | E65: gal | F65: ton
B66: 1000 | C66: gal | D66: year | F66: 2000 | G66: lbs
A68: = | B68: =((B65/B66)*D65)/F66 -> 19.133433 | C68: ton
C69: year
A71: Cálculos Emisiones VOC
A73: = | B73: 0.76 | C73: lbs | D73: =D48 -> 1213454.8 | E73: gal | F73: ton
B74: 1000 | C74: gal | D74: year | F74: 2000 | G74: lbs
A76: = | B76: =((B73/B74)*D73)/F74 -> 0.46111281 | C76: ton
C77: year
A79: Cálculos Emisiones CO
A81: = | B81: 5 | C81: lbs | D81: =D73 -> 1213454.8 | E81: gal | F81: ton
B82: 1000 | C82: gal | D82: year | F82: 2000 | G82: lbs
A84: = | B84: =((B81/B82)*D81)/F82 -> 3.0336369 | C84: ton
C85: year
A87: Cálculos Emisiones Pb
A89: = | B89: 0.00151 | C89: lbs | D89: =D81 -> 1213454.8 | E89: gal | F89: ton
B90: 1000 | C90: gal | D90: year | F90: 2000 | G90: lbs
A92: = | B92: =((B89/B90)*D89)/F90 -> 0.00091615834 | C92: ton
C93: year
A96: Cálculos Emisiones CO2e
A98: = | B98: =R14 -> 24.891206 | C98: lbs | D98: =D89 -> 1213454.8 | E98: gal | F98: ton
C99: gal | D99: year | F99: 2000 | G99: lbs
A101: = | B101: =B98*D98/F99 -> 15102.176 | C101: ton
C102: year

Sheet Cálculos SJ5
A1: Cómputo de Emisiones Actuales para Distillate Oil y Gas Natural - San Juan JUNIO 2022 - Unidad 5
A3: Parametro | B3: Factor de Emisión Combustible Natural Gas | C3: Factor de Emisión Combustible No. 2 Oil | D3: Emisiones Actuales (ton/year) | E3: Emisiones Actuales (lb/hr)
A4: NOx | B4: 0.092099392 | C4: 0.10805849 | D4: =B23 -> 48.046056 | E4: =F23 -> 10.969419
A5: CO | B5: 0.022429677 | C5: 0.0094426363 | D5: =B29 -> 11.166298 | E5: =F29 -> 2.5493832
A6: VOC | B6: 0.0021 | C6: 0.0083 | D6: =B35 -> 1.2804669 | E6: =F35 -> 0.29234405 | F6: Ecuación para el Cómputo
A7: PM | B7: 0.0066 | C7: 0.0284 | D7: =B41 -> 4.0976647 | E7: =F41 -> 0.93553988 | F7: ton/year = | G7: [Consumo de Combustible #6 en galones/year) * ( Valor Calorífico BC 0.138 MMBtu/gal)
A8: PM10 | B8: 0.0066 | C8: 0.0357 | D8: =B47 -> 4.3290025 | E8: =F47 -> 0.98835675 | G8: + (Consumo Gas Natural SCF/year) * (Valor Calorífico GN 1,020 MMBtu/SCF*10^6)]
A9: PM2.5 | B9: 0.0066 | C9: 0.0357 | D9: =B53 -> 4.3290025 | E9: =F53 -> 0.98835675 | G9: * FE en lbs/MMBtu * 1 ton/2,000 lbs
A10: SO2 | B10: 0.0028 | C10: 1.01*%S | D10: =B59 -> 1.3789901 | E10: =F59 -> 0.31483793
A11: H2SO4 | B11: 0.00043 | C11: 0.0077 | D11: =B65 -> 0.45234668 | E11: =F65 -> 0.1032755 | F11: lbs/hr = | G11: (Toneladas Contaminante / year) * (1 year / 8,760 hr) * (2000 lb / ton) | V11: CO2e | W11: =(73.96+0.003*25+0.0006*298)*2.2046*0.138 -> 22.578421 | X11: lbs/gal
A12: Pb | B12: 0 | C12: 9e-06 | D12: =B71 -> 0.0002852111 | E12: =F71 -> 6.511669e-05 | W12: =(475409.8+224+267)*2204.62/8707340462.38 -> 0.12049379 | X12: lbs/scf
A13: CO2e | B13: 22.578 lbs/gal | C13: 0.1205 lbs/SCF | D13: =B77 -> 62418.801 | E13: =F77 -> 14250.868
A14: Fluoruro | B14: 0 | C14: 0 | D14: 0 | E14: 0
A16: Consumo #2 = | B16: ='San Juan'!D28 -> 459277.14 | D16: gal/year
A17: Consumo NG = | B17: ='San Juan'!N28 -> 9.4998965e+08 | D17: SCF/year
A18: #2 Azufre = | B18: ='San Juan'!F28 -> 0.0007 | D18: %
A20: NOx = | B20: =B16 -> 459277.14 | D20: galones | E20: 0.138 | F20: MMBtu | G20: * | H20: =C4 -> 0.10805849 | I20: lbs | J20: 1 | K20: ton | L20: + | M20: =B17 -> 9.4998965e+08 | N20: SCF | O20: 1020 | P20: MMBtu | Q20: * | R20: =B4 -> 0.092099392 | S20: lbs | T20: 1 | U20: ton
D21: year | F21: gal | I21: MMBtu | J21: 2000 | K21: lbs | N21: year | O21: 1000000 | P21: SCF | S21: MMBtu | T21: 2000 | U21: lbs
B23: =(B20*E20*H20+M20*O20*R20/1000000)/2000 -> 48.046056 | D23: ton/year | E23: = | F23: =B23*(2000/8760) -> 10.969419 | G23: lb/hr
A26: CO = | B26: =B16 -> 459277.14 | D26: galones | E26: 0.138 | F26: MMBtu | G26: * | H26: =C5 -> 0.0094426363 | I26: lbs | J26: 1 | K26: ton | L26: + | M26: =B17 -> 9.4998965e+08 | N26: SCF | O26: 1020 | P26: MMBtu | Q26: * | R26: =B5 -> 0.022429677 | S26: lbs | T26: 1 | U26: ton
D27: year | F27: gal | I27: MMBtu | J27: 2000 | K27: lbs | N27: year | O27: 1000000 | P27: SCF | S27: MMBtu | T27: 2000 | U27: lbs
B29: =(B26*E26*H26+M26*O26*R26/1000000)/2000 -> 11.166298 | D29: ton/year | E29: = | F29: =B29*(2000/8760) -> 2.5493832 | G29: lb/hr
A32: VOC = | B32: =B16 -> 459277.14 | D32: galones | E32: 0.138 | F32: MMBtu | G32: * | H32: =C6 -> 0.0083 | I32: lbs | J32: 1 | K32: ton | L32: + | M32: =B17 -> 9.4998965e+08 | N32: SCF | O32: 1020 | P32: MMBtu | Q32: * | R32: =B6 -> 0.0021 | S32: lbs | T32: 1 | U32: ton
D33: year | F33: gal | I33: MMBtu | J33: 2000 | K33: lbs | N33: year | O33: 1000000 | P33: SCF | S33: MMBtu | T33: 2000 | U33: lbs
B35: =(B32*E32*H32+M32*O32*R32/1000000)/2000 -> 1.2804669 | D35: ton/year | E35: = | F35: =B35*(2000/8760) -> 0.29234405 | G35: lb/hr
A38: PM = | B38: =B16 -> 459277.14 | D38: galones | E38: 0.138 | F38: MMBtu | G38: * | H38: =C7 -> 0.0284 | I38: lbs | J38: 1 | K38: ton | L38: + | M38: =B17 -> 9.4998965e+08 | N38: SCF | O38: 1020 | P38: MMBtu | Q38: * | R38: =B7 -> 0.0066 | S38: lbs | T38: 1 | U38: ton
D39: year | F39: gal | I39: MMBtu | J39: 2000 | K39: lbs | N39: year | O39: 1000000 | P39: SCF | S39: MMBtu | T39: 2000 | U39: lbs
B41: =(B38*E38*H38+M38*O38*R38/1000000)/2000 -> 4.0976647 | D41: ton/year | E41: = | F41: =B41*(2000/8760) -> 0.93553988 | G41: lb/hr | L41: lb/hr
A44: PM10 = | B44: =B16 -> 459277.14 | D44: galones | E44: 0.138 | F44: MMBtu | G44: * | H44: =C8 -> 0.0357 | I44: lbs | J44: 1 | K44: ton | L44: + | M44: =B17 -> 9.4998965e+08 | N44: SCF | O44: 1020 | P44: MMBtu | Q44: * | R44: =B8 -> 0.0066 | S44: lbs | T44: 1 | U44: ton
D45: year | F45: gal | I45: MMBtu | J45: 2000 | K45: lbs | N45: year | O45: 1000000 | P45: SCF | S45: MMBtu | T45: 2000 | U45: lbs
B47: =(B44*E44*H44+M44*O44*R44/1000000)/2000 -> 4.3290025 | D47: ton/year | E47: = | F47: =B47*(2000/8760) -> 0.98835675 | G47: lb/hr | L47: lb/hr
A50: PM2.5 = | B50: =B16 -> 459277.14 | D50: galones | E50: 0.138 | F50: MMBtu | G50: * | H50: =C9 -> 0.0357 | I50: lbs | J50: 1 | K50: ton | L50: + | M50: =B17 -> 9.4998965e+08 | N50: SCF | O50: 1020 | P50: MMBtu | Q50: * | R50: =B9 -> 0.0066 | S50: lbs | T50: 1 | U50: ton
D51: year | F51: gal | I51: MMBtu | J51: 2000 | K51: lbs | N51: year | O51: 1000000 | P51: SCF | S51: MMBtu | T51: 2000 | U51: lbs
B53: =(B50*E50*H50+M50*O50*R50/1000000)/2000 -> 4.3290025 | D53: ton/year | E53: = | F53: =B53*(2000/8760) -> 0.98835675 | G53: lb/hr | L53: lb/hr
A56: SO2 = | B56: =B16 -> 459277.14 | D56: galones | E56: 0.138 | F56: MMBtu | G56: * | H56: =1.01*B18 -> 0.000707 | I56: lbs | J56: 1 | K56: ton | L56: + | M56: =B17 -> 9.4998965e+08 | N56: SCF | O56: 1020 | P56: MMBtu | Q56: * | R56: =B10 -> 0.0028 | S56: lbs | T56: 1 | U56: ton
D57: year | F57: gal | I57: MMBtu | J57: 2000 | K57: lbs | N57: year | O57: 1000000 | P57: SCF | S57: MMBtu | T57: 2000 | U57: lbs
B59: =(B56*E56*H56+M56*O56*R56/1000000)/2000 -> 1.3789901 | D59: ton/year | E59: = | F59: =B59*(2000/8760) -> 0.31483793 | G59: lb/hr | L59: lb/hr
A62: H2SO4 = | B62: =B16 -> 459277.14 | D62: galones | E62: 0.138 | F62: MMBtu | G62: * | H62: =C11 -> 0.0077 | I62: lbs | J62: 1 | K62: ton | L62: + | M62: =B17 -> 9.4998965e+08 | N62: SCF | O62: 1020 | P62: MMBtu | Q62: * | R62: =B11 -> 0.00043 | S62: lbs | T62: 1 | U62: ton
D63: year | F63: gal | I63: MMBtu | J63: 2000 | K63: lbs | N63: year | O63: 1000000 | P63: SCF | S63: MMBtu | T63: 2000 | U63: lbs
B65: =(B62*E62*H62+M62*O62*R62/1000000)/2000 -> 0.45234668 | D65: ton/year | E65: = | F65: =B65*(2000/8760) -> 0.1032755 | G65: lb/hr | L65: lb/hr
A68: Pb = | B68: =B16 -> 459277.14 | D68: galones | E68: 0.138 | F68: MMBtu | G68: * | H68: =C12 -> 9e-06 | I68: lbs | J68: 1 | K68: ton | L68: + | M68: =B17 -> 9.4998965e+08 | N68: SCF | O68: 1020 | P68: MMBtu | Q68: * | R68: =B12 -> 0 | S68: lbs | T68: 1 | U68: ton
D69: year | F69: gal | I69: MMBtu | J69: 2000 | K69: lbs | N69: year | O69: 1000000 | P69: SCF | S69: MMBtu | T69: 2000 | U69: lbs
B71: =(B68*E68*H68+M68*O68*R68/1000000)/2000 -> 0.0002852111 | D71: ton/year | E71: = | F71: =B71*(2000/8760) -> 6.511669e-05 | G71: lb/hr
A74: CO2e = | B74: =B16 -> 459277.14 | D74: galones | E74: =W11 -> 22.578421 | F74: lbs | G74: * | H74: 1 | I74: ton | J74: + | M74: =B17 -> 9.4998965e+08 | N74: SCF | O74: =W12 -> 0.12049379 | P74: lbs | Q74: * | R74: 1 | S74: ton
D75: year | F75: gal | H75: 2000 | I75: lbs | N75: year | P75: SCF | R75: 2000 | S75: lbs
B77: =(B74*E74+M74*O74)/H75 -> 62418.801 | D77: ton/year | E77: = | F77: =B77*(2000/8760) -> 14250.868 | G77: lb/hr
B80: Nota:
B81: * La formula y los factores de emisión utilizados son los aprobados en la última revisión del permiso
B82: de construcción PFE-31-0810-0455-II-C, con fecha del 21 de JUNIO de 2012, para la quema dual
B83: de combustible 100% Bunker C y 100% Gas Natural, según corresponda.

Sheet Cálculos SJ6
A1: Cómputo de Emisiones Actuales para Distillate Oil y Gas Natural - San Juan JUNIO 2024 - Unidad 5
A3: Parametro | B3: Factor de Emisión Combustible Natural Gas | C3: Factor de Emisión Combustible No. 2 Oil | D3: Emisiones Actuales (ton/year) | E3: Emisiones Actuales (lb/hr)
A4: NOx | B4: 0.092099392 | C4: 0.10805849 | D4: =B23 -> 43.05664 | E4: =F23 -> 9.8302831
A5: CO | B5: 0.022429677 | C5: 0.0094426363 | D5: =B29 -> 10.485916 | E5: =F29 -> 2.3940448
A6: VOC | B6: 0.0021 | C6: 0.0083 | D6: =B35 -> 0.98175397 | E6: =F35 -> 0.22414474 | F6: Ecuación para el Cómputo
A7: PM | B7: 0.0066 | C7: 0.0284 | D7: =B41 -> 3.0855125 | E7: =F41 -> 0.7044549 | F7: ton/year = | G7: [Consumo de Combustible #6 en galones/year) * ( Valor Calorífico BC 0.138 MMBtu/gal)
A8: PM10 | B8: 0.0066 | C8: 0.0357 | D8: =B47 -> 3.0855125 | E8: =F47 -> 0.7044549 | G8: + (Consumo Gas Natural SCF/year) * (Valor Calorífico GN 1,020 MMBtu/SCF*10^6)]
A9: PM2.5 | B9: 0.0066 | C9: 0.0357 | D9: =B53 -> 3.0855125 | E9: =F53 -> 0.7044549 | G9: * FE en lbs/MMBtu * 1 ton/2,000 lbs
A10: SO2 | B10: 0.0028 | C10: 1.01*%S | D10: =B59 -> 1.3090053 | E10: =F59 -> 0.29885966
A11: H2SO4 | B11: 0.00043 | C11: 0.0077 | D11: =B65 -> 0.20102581 | E11: =F65 -> 0.045896304 | F11: lbs/hr = | G11: (Toneladas Contaminante / year) * (1 year / 8,760 hr) * (2000 lb / ton) | V11: CO2e | W11: =(73.96+0.003*25+0.0006*298)*2.2046*0.138 -> 22.578421 | X11: lbs/gal
A12: Pb | B12: 0 | C12: 9e-06 | D12: =B71 -> 0 | E12: =F71 -> 0 | W12: =(475409.8+224+267)*2204.62/8707340462.38 -> 0.12049379 | X12: lbs/scf
A13: CO2e | B13: 22.578 lbs/gal | C13: 0.1205 lbs/SCF | D13: =B77 -> 55226.542 | E13: =F77 -> 12608.8
A14: Fluoruro | B14: 0 | C14: 0 | D14: 0 | E14: 0
A16: Consumo #2 = | B16: ='San Juan'!E28 -> 0 | D16: gal/year
A17: Consumo NG = | B17: ='San Juan'!O28 -> 9.1667038e+08 | D17: SCF/year
A18: #2 Azufre = | B18: ='San Juan'!G28 -> 0.0007 | D18: %
A20: NOx = | B20: =B16 -> 0 | D20: galones | E20: 0.138 | F20: MMBtu | G20: * | H20: =C4 -> 0.10805849 | I20: lbs | J20: 1 | K20: ton | L20: + | M20: =B17 -> 9.1667038e+08 | N20: SCF | O20: 1020 | P20: MMBtu | Q20: * | R20: =B4 -> 0.092099392 | S20: lbs | T20: 1 | U20: ton
D21: year | F21: gal | I21: MMBtu | J21: 2000 | K21: lbs | N21: year | O21: 1000000 | P21: SCF | S21: MMBtu | T21: 2000 | U21: lbs
B23: =(B20*E20*H20+M20*O20*R20/1000000)/2000 -> 43.05664 | D23: ton/year | E23: = | F23: =B23*(2000/8760) -> 9.8302831 | G23: lb/hr
A26: CO = | B26: =B16 -> 0 | D26: galones | E26: 0.138 | F26: MMBtu | G26: * | H26: =C5 -> 0.0094426363 | I26: lbs | J26: 1 | K26: ton | L26: + | M26: =B17 -> 9.1667038e+08 | N26: SCF | O26: 1020 | P26: MMBtu | Q26: * | R26: =B5 -> 0.022429677 | S26: lbs | T26: 1 | U26: ton
D27: year | F27: gal | I27: MMBtu | J27: 2000 | K27: lbs | N27: year | O27: 1000000 | P27: SCF | S27: MMBtu | T27: 2000 | U27: lbs
B29: =(B26*E26*H26+M26*O26*R26/1000000)/2000 -> 10.485916 | D29: ton/year | E29: = | F29: =B29*(2000/8760) -> 2.3940448 | G29: lb/hr
A32: VOC = | B32: =B16 -> 0 | D32: galones | E32: 0.138 | F32: MMBtu | G32: * | H32: =C6 -> 0.0083 | I32: lbs | J32: 1 | K32: ton | L32: + | M32: =B17 -> 9.1667038e+08 | N32: SCF | O32: 1020 | P32: MMBtu | Q32: * | R32: =B6 -> 0.0021 | S32: lbs | T32: 1 | U32: ton
D33: year | F33: gal | I33: MMBtu | J33: 2000 | K33: lbs | N33: year | O33: 1000000 | P33: SCF | S33: MMBtu | T33: 2000 | U33: lbs
B35: =(B32*E32*H32+M32*O32*R32/1000000)/2000 -> 0.98175397 | D35: ton/year | E35: = | F35: =B35*(2000/8760) -> 0.22414474 | G35: lb/hr
A38: PM = | B38: =B16 -> 0 | D38: galones | E38: 0.138 | F38: MMBtu | G38: * | H38: =C7 -> 0.0284 | I38: lbs | J38: 1 | K38: ton | L38: + | M38: =B17 -> 9.1667038e+08 | N38: SCF | O38: 1020 | P38: MMBtu | Q38: * | R38: =B7 -> 0.0066 | S38: lbs | T38: 1 | U38: ton
D39: year | F39: gal | I39: MMBtu | J39: 2000 | K39: lbs | N39: year | O39: 1000000 | P39: SCF | S39: MMBtu | T39: 2000 | U39: lbs
B41: =(B38*E38*H38+M38*O38*R38/1000000)/2000 -> 3.0855125 | D41: ton/year | E41: = | F41: =B41*(2000/8760) -> 0.7044549 | G41: lb/hr | L41: lb/hr
A44: PM10 = | B44: =B16 -> 0 | D44: galones | E44: 0.138 | F44: MMBtu | G44: * | H44: =C8 -> 0.0357 | I44: lbs | J44: 1 | K44: ton | L44: + | M44: =B17 -> 9.1667038e+08 | N44: SCF | O44: 1020 | P44: MMBtu | Q44: * | R44: =B8 -> 0.0066 | S44: lbs | T44: 1 | U44: ton
D45: year | F45: gal | I45: MMBtu | J45: 2000 | K45: lbs | N45: year | O45: 1000000 | P45: SCF | S45: MMBtu | T45: 2000 | U45: lbs
B47: =(B44*E44*H44+M44*O44*R44/1000000)/2000 -> 3.0855125 | D47: ton/year | E47: = | F47: =B47*(2000/8760) -> 0.7044549 | G47: lb/hr | L47: lb/hr
A50: PM2.5 = | B50: =B16 -> 0 | D50: galones | E50: 0.138 | F50: MMBtu | G50: * | H50: =C9 -> 0.0357 | I50: lbs | J50: 1 | K50: ton | L50: + | M50: =B17 -> 9.1667038e+08 | N50: SCF | O50: 1020 | P50: MMBtu | Q50: * | R50: =B9 -> 0.0066 | S50: lbs | T50: 1 | U50: ton
D51: year | F51: gal | I51: MMBtu | J51: 2000 | K51: lbs | N51: year | O51: 1000000 | P51: SCF | S51: MMBtu | T51: 2000 | U51: lbs
B53: =(B50*E50*H50+M50*O50*R50/1000000)/2000 -> 3.0855125 | D53: ton/year | E53: = | F53: =B53*(2000/8760) -> 0.7044549 | G53: lb/hr | L53: lb/hr
A56: SO2 = | B56: =B16 -> 0 | D56: galones | E56: 0.138 | F56: MMBtu | G56: * | H56: =1.01*B18 -> 0.000707 | I56: lbs | J56: 1 | K56: ton | L56: + | M56: =B17 -> 9.1667038e+08 | N56: SCF | O56: 1020 | P56: MMBtu | Q56: * | R56: =B10 -> 0.0028 | S56: lbs | T56: 1 | U56: ton
D57: year | F57: gal | I57: MMBtu | J57: 2000 | K57: lbs | N57: year | O57: 1000000 | P57: SCF | S57: MMBtu | T57: 2000 | U57: lbs
B59: =(B56*E56*H56+M56*O56*R56/1000000)/2000 -> 1.3090053 | D59: ton/year | E59: = | F59: =B59*(2000/8760) -> 0.29885966 | G59: lb/hr | L59: lb/hr
A62: H2SO4 = | B62: =B16 -> 0 | D62: galones | E62: 0.138 | F62: MMBtu | G62: * | H62: =C11 -> 0.0077 | I62: lbs | J62: 1 | K62: ton | L62: + | M62: =B17 -> 9.1667038e+08 | N62: SCF | O62: 1020 | P62: MMBtu | Q62: * | R62: =B11 -> 0.00043 | S62: lbs | T62: 1 | U62: ton
D63: year | F63: gal | I63: MMBtu | J63: 2000 | K63: lbs | N63: year | O63: 1000000 | P63: SCF | S63: MMBtu | T63: 2000 | U63: lbs
B65: =(B62*E62*H62+M62*O62*R62/1000000)/2000 -> 0.20102581 | D65: ton/year | E65: = | F65: =B65*(2000/8760) -> 0.045896304 | G65: lb/hr | L65: lb/hr
A68: Pb = | B68: =B16 -> 0 | D68: galones | E68: 0.138 | F68: MMBtu | G68: * | H68: =C12 -> 9e-06 | I68: lbs | J68: 1 | K68: ton | L68: + | M68: =B17 -> 9.1667038e+08 | N68: SCF | O68: 1020 | P68: MMBtu | Q68: * | R68: =B12 -> 0 | S68: lbs | T68: 1 | U68: ton
D69: year | F69: gal | I69: MMBtu | J69: 2000 | K69: lbs | N69: year | O69: 1000000 | P69: SCF | S69: MMBtu | T69: 2000 | U69: lbs
B71: =(B68*E68*H68+M68*O68*R68/1000000)/2000 -> 0 | D71: ton/year | E71: = | F71: =B71*(2000/8760) -> 0 | G71: lb/hr
A74: CO2e = | B74: =B16 -> 0 | D74: galones | E74: =W11 -> 22.578421 | F74: lbs | G74: * | H74: 1 | I74: ton | J74: + | M74: =B17 -> 9.1667038e+08 | N74: SCF | O74: =W12 -> 0.12049379 | P74: lbs | Q74: * | R74: 1 | S74: ton
D75: year | F75: gal | H75: 2000 | I75: lbs | N75: year | P75: SCF | R75: 2000 | S75: lbs
B77: =(B74*E74+M74*O74)/H75 -> 55226.542 | D77: ton/year | E77: = | F77: =B77*(2000/8760) -> 12608.8 | G77: lb/hr
B80: Nota:
B81: * La formula y los factores de emisión utilizados son los aprobados en la última revisión del permiso
B82: de construcción PFE-31-0810-0455-II-C, con fecha del 21 de JUNIO de 2012, para la quema dual
B83: de combustible 100% Bunker C y 100% Gas Natural, según corresponda.

Sheet Aguirre
A2: Aguirre BC Consumption 2023 | H2: Azufre % por peso
A3: year | B3: Barrels | D3: Galones | F3: Total gal/year
B4: AG-1 | C4: AG-2 | D4: AG-1 | E4: AG-2 | H4: AG-1 | I4: AG-2
A5: 46023
A6: 46054
A7: 46082
A8: 46113
A9: 46143
A10: 46174 | B10: 0 | C10: 264973.12 | D10: =SUM(B10*42) -> 0 | E10: =SUM(C10*42) -> 11128871 | F10: =D10+E10 -> 11128871 | H10: 0.47 | I10: 0.47
A11: 46204 | D11: =SUM(B11*42) -> 0 | E11: =SUM(C11*42) -> 0 | F11: =D11+E11 -> 0
A12: 46235 | D12: =SUM(B12*42) -> 0 | E12: =SUM(C12*42) -> 0 | F12: =D12+E12 -> 0
A13: 46266 | D13: =SUM(B13*42) -> 0 | E13: =SUM(C13*42) -> 0 | F13: =D13+E13 -> 0
A14: 46296 | D14: =SUM(B14*42) -> 0 | E14: =SUM(C14*42) -> 0 | F14: =D14+E14 -> 0
A15: 46327 | D15: =SUM(B15*42) -> 0 | E15: =SUM(C15*42) -> 0 | F15: =D15+E15 -> 0
A16: 46357 | D16: =SUM(B16*42) -> 0 | E16: =SUM(C16*42) -> 0 | F16: =D16+E16 -> 0
A17: Total | B17: =SUM(B5:B16) -> 0 | C17: =SUM(C5:C16) -> 264973.12 | D17: =SUM(D5:D16) -> 0 | E17: =SUM(E5:E16) -> 11128871 | F17: =D17+E17 -> 11128871 | H17: =AVERAGE(H5:H16) -> 0.47 | I17: =AVERAGE(I5:I16) -> 0.47 | J17: avg
F18: =SUM(F5:F16) -> 11128871
A20: Aguirre CC #2 FO Consumption 2023
A21: Galones | K21: Azufre
A22: year | B22: CC1-1 | C22: CC1-2 | D22: CC1-3 | E22: CC1-4 | F22: CC2-1 | H22: CC2-2 | I22: CC2-3 | J22: CC2-4 | K22: CC1-1 | L22: CC1-2 | M22: CC1-3 | N22: CC1-4 | O22: CC2-1 | P22: CC2-2 | Q22: CC2-3 | R22: CC2-4
A23: =A5 -> 46023 | G23: =A23 -> 46023 | K23: 0.01 | L23: 0.01 | M23: 0.01 | N23: 0.01 | O23: 0.01 | P23: 0.01 | Q23: 0.01 | R23: 0.01
A24: =A6 -> 46054 | G24: =A24 -> 46054 | K24: 0.01 | L24: 0.01 | M24: 0.01 | N24: 0.01 | O24: 0.01 | P24: 0.01 | Q24: 0.01 | R24: 0.01
A25: =A7 -> 46082 | G25: =A25 -> 46082 | K25: 0.01 | L25: 0.01 | M25: 0.01 | N25: 0.01 | O25: 0.01 | P25: 0.01 | Q25: 0.01 | R25: 0.01
A26: =A8 -> 46113 | G26: =A26 -> 46113 | K26: 0.01 | L26: 0.01 | M26: 0.01 | N26: 0.01 | O26: 0.01 | P26: 0.01 | Q26: 0.01 | R26: 0.01
A27: =A9 -> 46143 | G27: =A27 -> 46143 | K27: 0.01 | L27: 0.01 | M27: 0.01 | N27: 0.01 | O27: 0.01 | P27: 0.01 | Q27: 0.01 | R27: 0.01
A28: =A10 -> 46174 | B28: 1193105 | C28: 1003434 | D28: 0 | E28: 0 | F28: 598335 | G28: =A28 -> 46174 | H28: 900401 | I28: 0 | J28: 1057264 | K28: 0.01 | L28: 0.01 | M28: 0.01 | N28: 0.01 | O28: 0.01 | P28: 0.01 | Q28: 0.01 | R28: 0.01
A29: =A11 -> 46204 | F29: 0 | G29: =A29 -> 46204 | K29: 0.01 | L29: 0.01 | M29: 0.01 | N29: 0.01 | O29: 0.01 | P29: 0.01 | Q29: 0.01 | R29: 0.01
A30: =A12 -> 46235 | F30: 0 | G30: =A30 -> 46235 | K30: 0.01 | L30: 0.01 | M30: 0.01 | N30: 0.01 | O30: 0.01 | P30: 0.01 | Q30: 0.01 | R30: 0.01
A31: =A13 -> 46266 | F31: 0 | G31: =A31 -> 46266 | K31: 0.01 | L31: 0.01 | M31: 0.01 | N31: 0.01 | O31: 0.01 | P31: 0.01 | Q31: 0.01 | R31: 0.01
A32: =A14 -> 46296 | F32: 0 | G32: =A32 -> 46296 | K32: 0.01 | L32: 0.01 | M32: 0.01 | N32: 0.01 | O32: 0.01 | P32: 0.01 | Q32: 0.01 | R32: 0.01
A33: =A15 -> 46327 | F33: 0 | G33: =A33 -> 46327 | K33: 0.01 | L33: 0.01 | M33: 0.01 | N33: 0.01 | O33: 0.01 | P33: 0.01 | Q33: 0.01 | R33: 0.01
A34: =A16 -> 46357 | F34: 0 | G34: =A34 -> 46357 | K34: 0.01 | L34: 0.01 | M34: 0.01 | N34: 0.01 | O34: 0.01 | P34: 0.01 | Q34: 0.01 | R34: 0.01
A35: Total | B35: =SUM(B23:B34) -> 1193105 | C35: =SUM(C23:C34) -> 1003434 | D35: =SUM(D23:D34) -> 0 | E35: =SUM(E23:E34) -> 0 | F35: =SUM(F23:F34) -> 598335 | H35: =SUM(H23:H34) -> 900401 | I35: =SUM(I23:I34) -> 0 | J35: =SUM(J23:J34) -> 1057264 | K35: =AVERAGE(K23:K34) -> 0.01 | L35: =AVERAGE(L23:L34) -> 0.01 | M35: =AVERAGE(M23:M34) -> 0.01 | N35: =AVERAGE(N23:N34) -> 0.01 | O35: =AVERAGE(O23:O34) -> 0.01 | P35: 0 | Q35: =AVERAGE(Q23:Q34) -> 0.01 | R35: =AVERAGE(R23:R34) -> 0.01
B36: =SUM(B29:B34) -> 0 | C36: =SUM(C29:C34) -> 0 | D36: =SUM(D29:D34) -> 0 | E36: =SUM(E23:E34) -> 0 | F36: =SUM(F29:F34) -> 0 | H36: =SUM(H29:H34) -> 0 | I36: =SUM(I29:I34) -> 0 | J36: =SUM(J29:J34) -> 0
H37: =B35+C35+D35+E35+F35+H35+I35+J35 -> 4752539
A38: Aguirre Turbines #2 FO Consumption 2020
A39: Galones | D39: Azufre
A40: 46023 | B40: 0 | C40: 0 | D40: 0 | E40: 0
A41: 46054 | B41: 0 | C41: 0 | D41: 0 | E41: 0
A42: =A24 -> 46054 | B42: 0 | C42: 0 | D42: 0 | E42: 0
A43: =A25 -> 46082 | B43: 0 | C43: 0 | D43: 0 | E43: 0
A44: =A26 -> 46113 | B44: 0 | C44: 0 | D44: 0 | E44: 0
A45: =A27 -> 46143 | B45: 0 | C45: 0 | D45: 0 | E45: 0
A46: =A28 -> 46174 | B46: 0 | C46: 0 | D46: 0 | E46: 0
A47: =A29 -> 46204
A48: =A30 -> 46235
A49: =A31 -> 46266
A50: =A32 -> 46296
A51: =A33 -> 46327
A52: =A34 -> 46357
A53: Total | B53: =SUM(B41:B52) -> 0 | C53: =SUM(C41:C52) -> 0 | D53: =AVERAGE(D41:D52) -> 0 | E53: =AVERAGE(E41:E52) -> 0
B55: =B53+C53 -> 0 | H55: =H37+B55 -> 4752539 | J55: =SUM(K35:R35) -> 0.07 | K55: =SUM(D53:E53) -> 0
K56: =SUM(J55:K55)/10 -> 0.007

Sheet Cálculos AG
A1: Ejemplo Cómputo de Emisiones JUNIO 2022 - Termoleléctrica Aguirre 1 y Aguirre 2 | J1: Ejemplo Cómputo de Emisiones JUNIO 2022 - Aguirre (Ciclo Combinado + Turbinas de Gas)
A3: Factores de Emisión AP-42 Section 1.3 | J3: Factores de Emisión AP-42 Section 3.1
A4: PM | B4: (9.19)(%S) + 3.22 lb/1000gal | J4: PM | K4: 0.012 lb/MMBTU
A5: SOx | B5: 157*%S lb/1000gal | J5: SOx | K5: 1.01*%S lb/MMBTU
A6: NOx | B6: 0.33 lb/MMBtu (CD Relatively Maintained NOx Target) | J6: NOx | K6: 0.880 lb/MMBTU
A7: VOC | B7: 0.76 lb/1000gal | J7: VOC | K7: 0.00041 lb/MMBTU
A8: CO | B8: 5 lb/1000gal | J8: CO | K8: 0.0033 lb/MMBTU
A9: Pb | B9: 0.00151 lb/1000gal | J9: Pb | K9: 0.0000140 lb/MMBTU
A10: CO2e | B10: 25.036 lb/gal | C10: 40 CFR 98 | J10: CO2e | K10: 22.578 lb/gal | L10: 40 CFR 98
A12: Combustible #6 | B12: =Aguirre!F10 -> 11128871 | C12: gal/year | J12: Combustible #2 | K12: =SUM(Aguirre!B28:F28,Aguirre!H28:J28,Aguirre!B46:C46) -> 4752539 | L12: gal/year | V12: =323412*2204.6/28478821 -> 25.035941 | W12: lbs/gal
A13: Azufre % | B13: =AVERAGE(Aguirre!H10:I10) -> 0.47 | J13: Azufre % | K13: =AVERAGE(Aguirre!K28:R28,Aguirre!D46:E46) -> 0.008 | V13: =(73.96+0.003*26+0.0006*298)*2.2046*0.138 -> 22.579333 | W13: lbs/gal
A16: Cálculos Emisiones PM | J16: Cálculos Emisiones PM
A18: = | B18: =(9.19*B13)+3.22 -> 7.5393 | C18: lb | D18: =B12 -> 11128871 | E18: gal | F18: ton | J18: = | K18: 0.012 | L18: lb | M18: =K12 -> 4752539 | N18: gal | O18: 0.138 | P18: MMBTU | Q18: ton
B19: 1000 | C19: gal | D19: year | F19: 2000 | G19: lb | K19: MMBTU | M19: year | O19: gal | Q19: 2000 | R19: lb
A22: = | B22: =((B18/B19)*D18)/F19 -> 41.951949 | C22: ton | J22: = | K22: =((K18*M18*O18)/Q19) -> 3.9351023 | L22: ton
C23: year | L23: year
A26: Cálculos Emisiones SOx | J26: Cálculos Emisiones SOx
A28: = | B28: =157*B13 -> 73.79 | C28: lb | D28: =B12 -> 11128871 | E28: gal | F28: ton | J28: = | K28: =1.01*K13 -> 0.00808 | L28: lb | M28: =K12 -> 4752539 | N28: gal | O28: 0.138 | P28: MMBTU | Q28: ton
B29: 1000 | C29: gal | D29: year | F29: 2000 | G29: lb | K29: MMBTU | M29: year | O29: gal | Q29: 2000 | R29: lb
A32: = | B32: =((B28/B29)*D28)/F29 -> 410.5997 | C32: ton | J32: = | K32: =((K28*M28*O28)/Q29) -> 2.6496355 | L32: ton
C33: year | L33: year
A36: Cálculos Emisiones NOx | J36: Cálculos Emisiones NOx
A38: = | B38: 0.33 | C38: lb | D38: =B12 -> 11128871 | E38: gal | F38: 0.15 MMBtu | H38: ton | J38: = | K38: 0.88 | L38: lb | M38: =K12 -> 4752539 | N38: gal | O38: 0.138 | P38: MMBTU | Q38: ton
C39: MMBtu | D39: year | F39: gal | H39: 2000 | I39: lb | K39: MMBTU | M39: year | O39: gal | Q39: 2000 | R39: lb
A42: = | B42: =B38*D38*0.15/2000 -> 275.43956 | C42: ton | J42: = | K42: =((K38*M38*O38)/Q39) -> 288.57417 | L42: ton
C43: year | L43: year
A46: Cálculos Emisiones VOC | J46: Cálculos Emisiones VOC
A48: = | B48: 0.76 | C48: lb | D48: =B12 -> 11128871 | E48: gal | F48: ton | J48: = | K48: 0.00041 | L48: lb | M48: =K12 -> 4752539 | N48: gal | O48: 0.138 | P48: MMBTU | Q48: ton
B49: 1000 | C49: gal | D49: year | F49: 2000 | G49: lb | K49: MMBTU | M49: year | O49: gal | Q49: 2000 | R49: lb
A52: = | B52: =((B48/B49)*D48)/F49 -> 4.228971 | C52: ton | J52: = | K52: =((K48*M48*O48)/Q49) -> 0.13444933 | L52: ton
C53: year | L53: year
A56: Cálculos Emisiones CO | J56: Cálculos Emisiones CO
A58: = | B58: 5 | C58: lb | D58: =B12 -> 11128871 | E58: gal | F58: ton | J58: = | K58: 0.0033 | L58: lb | M58: =K12 -> 4752539 | N58: gal | O58: 0.138 | P58: MMBTU | Q58: ton
B59: 1000 | C59: gal | D59: year | F59: 2000 | G59: lb | K59: MMBTU | M59: year | O59: gal | Q59: 2000 | R59: lb
A62: = | B62: =((B58/B59)*D58)/F59 -> 27.822178 | C62: ton | J62: = | K62: =((K58*M58*O58)/Q59) -> 1.0821531 | L62: ton
C63: year | L63: year
A66: Cálculos Emisiones Pb | J66: Cálculos Emisiones Pb
A68: = | B68: 0.00151 | C68: lb | D68: =B12 -> 11128871 | E68: gal | F68: ton | J68: = | K68: 1.4e-05 | L68: lb | M68: =K12 -> 4752539 | N68: gal | O68: 0.138 | P68: MMBTU | Q68: ton
B69: 1000 | C69: gal | D69: year | F69: 2000 | G69: lb | K69: MMBTU | M69: year | O69: gal | Q69: 2000 | R69: lb
A72: = | B72: =((B68/B69)*D68)/F69 -> 0.0084022976 | C72: ton | J72: = | K72: =((K68*M68*O68)/Q69) -> 0.0045909527 | L72: ton
C73: year | L73: year
A76: Cálculos Emisiones CO2e | J76: Cálculos Emisiones CO2e
A78: = | B78: =V12 -> 25.035941 | C78: lb | D78: =B12 -> 11128871 | E78: gal | F78: ton | J78: = | K78: =V13 -> 22.579333 | L78: lb | M78: =K12 -> 4752539 | N78: gal | O78: ton
C79: gal | D79: year | F79: 2000 | G79: lb | L79: gal | M79: year | O79: 2000 | P79: lb
A82: = | B82: =B78*D78/F79 -> 139310.88 | C82: ton | J82: = | K82: =K78*M78/O79 -> 53654.581 | L82: ton
C83: year | L83: year

Sheet Palo Seco
A2: Palo Seco BC Consumption 2026
A3: Gallons | F3: Azufre
A4: year | B4: PS-1 | C4: PS-2 | D4: PS-3 | E4: PS-4 | F4: PS-1 | G4: PS-2 | H4: PS-3 | I4: PS-4
A5: 46023
A6: 46054
A7: 46082
A8: 46113
A9: 46143
A10: 46174 | D10: 5478665 | E10: 6759249 | H10: 0.45 | I10: 0.45
A11: 46204
A12: 46235
A13: 46266
A14: 46296
A15: 46327
A16: 46357
A17: Total | B17: =SUM(B5:B16) -> 0 | C17: =SUM(C5:C16) -> 0 | D17: =SUM(D5:D16) -> 5478665 | E17: =SUM(E5:E16) -> 6759249 | F17: =IFERROR(AVERAGE(F5:F10),"n.a.") -> n.a. | G17: =IFERROR(AVERAGE(G5:G10),"n.a.") -> n.a. | H17: =AVERAGE(H5:H16) -> 0.45 | I17: =AVERAGE(I5:I16) -> 0.45
A18: Total (gal/yr) | B18: =B17 -> 0 | C18: =C17 -> 0 | D18: =D17 -> 5478665 | E18: =E17 -> 6759249 | F18: =IFERROR(AVERAGE(F5:F16),"n.a.") -> n.a. | G18: =IFERROR(AVERAGE(G5:G16),"n.a.") -> n.a. | H18: =AVERAGE(H5:H16) -> 0.45 | I18: =AVERAGE(I5:I16) -> 0.45
A20: Palo Seco #2 FO Consumtion 2026
A21: year | B21: Gallons | F21: Azufre | J21: year | K21: Barrels | M21: Azufre
B22: PSGT1-1 | C22: PSGT1-2 | D22: PSGT2-1 | E22: PSGT2-2 | F22: PSGT1-1 | G22: PSGT1-2 | H22: PSGT2-1 | I22: PSGT2-2 | K22: PSGT3-1 | L22: PSGT3-2 | M22: PSGT3-1 | N22: PSGT3-2
A23: =A5 -> 46023 | E23: 0 | F23: 0.01 | G23: 0.01 | H23: 0.01 | I23: 0.01 | J23: =A5 -> 46023 | K23: 0 | L23: 0 | M23: 0 | N23: 0
A24: =A6 -> 46054 | E24: 0 | F24: 0.01 | G24: 0.01 | H24: 0.01 | I24: 0.01 | J24: =A6 -> 46054
A25: =A7 -> 46082 | E25: 0 | F25: 0.01 | G25: 0.01 | H25: 0.01 | I25: 0.01 | J25: =A7 -> 46082
A26: =A8 -> 46113 | E26: 0 | F26: 0.01 | G26: 0.01 | H26: 0.01 | I26: 0.01 | J26: =A8 -> 46113
A27: =A9 -> 46143 | E27: 0 | F27: 0.01 | G27: 0.01 | H27: 0.01 | I27: 0.01 | J27: =A9 -> 46143
A28: =A10 -> 46174 | B28: 473204 | C28: 0 | D28: 0 | E28: 0 | F28: 0.01 | G28: 0.01 | H28: 0.01 | I28: 0.01 | J28: =A10 -> 46174
A29: =A11 -> 46204 | E29: 0 | F29: 0.01 | G29: 0.01 | H29: 0.01 | I29: 0.01 | J29: =A11 -> 46204
A30: =A12 -> 46235 | E30: 0 | F30: 0.01 | G30: 0.01 | H30: 0.01 | I30: 0.01 | J30: =A12 -> 46235
A31: =A13 -> 46266 | E31: 0 | F31: 0.01 | G31: 0.01 | H31: 0.01 | I31: 0.01 | J31: =A13 -> 46266
A32: =A14 -> 46296 | E32: 0 | F32: 0.01 | G32: 0.01 | H32: 0.01 | I32: 0.01 | J32: =A14 -> 46296
A33: =A15 -> 46327 | E33: 0 | F33: 0.01 | G33: 0.01 | H33: 0.01 | I33: 0.01 | J33: =A15 -> 46327
A34: =A16 -> 46357 | E34: 0 | F34: 0.01 | G34: 0.01 | H34: 0.01 | I34: 0.01 | J34: =A16 -> 46357
A35: Total | B35: =SUM(B23:B34) -> 473204 | C35: =SUM(C23:C34) -> 0 | D35: =SUM(D23:D34) -> 0 | E35: =SUM(E23:E34) -> 0 | F35: =AVERAGE(F23:F34) -> 0.01 | G35: =AVERAGE(G23:G34) -> 0.01 | H35: =AVERAGE(H23:H34) -> 0.01 | I35: =AVERAGE(I23:I28) -> 0.01 | J35: Total | K35: =SUM(K23:K34) -> 0 | L35: =SUM(L23:L34) -> 0 | M35: =AVERAGE(M23:M34) -> 0 | N35: =AVERAGE(N23:N34) -> 0
A36: Total (gal/yr) | B36: =B35 -> 473204 | C36: =C35 -> 0 | D36: =D35 -> 0 | E36: =E35 -> 0 | J36: Total (gal/yr) | K36: =K35*42 -> 0 | L36: =L35*42 -> 0
B37: =SUM(B29:B34)*42 -> 0 | C37: =SUM(C29:C34)*42 -> 0 | D37: =SUM(D29:D34)*42 -> 0 | E37: =SUM(E29:E34)*42 -> 0 | K37: =SUM(K29:K34)*42 -> 0 | L37: =SUM(L29:L34)*42 -> 0
H38: =SUM(B36+C36+D36+E36+K36+L36) -> 473204
A39: Palo Seco MobilePacs | K39: =AVERAGE(M35,I35,G35,F35) -> 0.0075
A40: year | B40: Gallons Distillate | F40: SCF Natural Gas
B41: PSMP1 | C41: PSMP2 | D41: PSMP3 | E41: TOTAL | F41: MP1 | G41: MP2 | H41: MP3 | I41: TOTAL
A42: =A23 -> 46023 | E42: =SUM(B42:D42) -> 0 | I42: =SUM(F42:H42) -> 0
A43: =A24 -> 46054 | E43: =SUM(B43:D43) -> 0 | I43: =SUM(F43:H43) -> 0
A44: =A25 -> 46082 | E44: =SUM(B44:D44) -> 0 | I44: =SUM(F44:H44) -> 0
A45: =A26 -> 46113 | E45: =SUM(B45:D45) -> 0 | I45: =SUM(F45:H45) -> 0
A46: =A27 -> 46143 | E46: =SUM(B46:D46) -> 0 | I46: =SUM(F46:H46) -> 0
A47: =A28 -> 46174 | B47: 0 | C47: 0 | D47: 0 | E47: =SUM(B47:D47) -> 0 | F47: 118033.4 | G47: 0.001 | H47: 0.001 | I47: =SUM(F47:H47) -> 118033.4
A48: =A29 -> 46204 | E48: =SUM(B48:D48) -> 0 | I48: =SUM(F48:H48) -> 0
A49: =A30 -> 46235 | E49: =SUM(B49:D49) -> 0 | I49: =SUM(F49:H49) -> 0
A50: =A31 -> 46266 | E50: =SUM(B50:D50) -> 0 | I50: =SUM(F50:H50) -> 0
A51: =A32 -> 46296 | E51: =SUM(B51:D51) -> 0 | I51: =SUM(F51:H51) -> 0
A52: =A33 -> 46327 | E52: =SUM(B52:D52) -> 0 | I52: =SUM(F52:H52) -> 0
A53: =A34 -> 46357 | E53: =SUM(B53:D53) -> 0 | I53: =SUM(F53:H53) -> 0
A54: Total | B54: =SUM(B42:B53) -> 0 | C54: =SUM(C42:C53) -> 0 | D54: =SUM(D42:D53) -> 0 | E54: =SUM(E42:E53) -> 0 | F54: =SUM(F42:F53) -> 118033.4 | G54: =SUM(G42:G53) -> 0.001 | H54: =SUM(H42:H53) -> 0.001 | I54: =SUM(I42:I53) -> 118033.4
A55: Total (gal/yr) | B55: =B54 -> 0 | C55: =C54 -> 0 | D55: =D54 -> 0 | E55: =E54 -> 0 | F55: =F54 -> 118033.4 | G55: =G54 -> 0.001 | H55: =H54 -> 0.001 | I55: =I54 -> 118033.4
K56: =AVERAGE(M35,I35,G35,F35) -> 0.0075
E57: =E36+K36 -> 0
D59: =E36+K36 -> 0

Sheet Cálculos PS
A1: Cómputo de Emisiones Actuales JUNIO 2022 - Palo Seco (Termo) - Unidades 1 a 4 | I1: Cómputo de Emisiones Actuales JUNIO 2022 - Palo Seco (Turbinas) - Bloques 1 a 3
A3: Factores de Emisión AP-42 Section 1.3 | I3: Factores de Emisión AP-42 Section 3.1
A4: PM | B4: (9.19)(%S) + 3.22 lb/1000gal | I4: PM | J4: 0.012lb/MMBTU
A5: SOx | B5: 157*%S lb/1000gal | I5: SOx | J5: 1.01*%S lb/MMBTU
A6: NOx | B6: 0.36 lb/MMBtu (CD Relatively Maintained NOx Target) | I6: NOx | J6: 0.88 lb/MMBTU
A7: VOC | B7: 0.76 lb/1000gal | I7: VOC | J7: 0.00041 l/MMBTU
A8: CO | B8: 5 lb/1000gal | I8: CO | J8: 0.0033 lb/MMBTU
A9: HAP,s (Pb) | B9: 0.00151 lb/1000gal | I9: HAP,s (Pb) | J9: 0.000014 lb MMBTU
A10: CO2e | B10: 24.632 lb/gal | C10: 40 CFR 98 | I10: CO2e | J10: 22.578 lb/gal | K10: 40 CFR 98
A12: Combustible #6 | B12: =SUM('Palo Seco'!B10:E10) -> 12237914 | C12: gal/year | I12: Combustible #2 | J12: =SUM('Palo Seco'!B28:E28) -> 473204 | K12: gal/year
A13: Azufre % | B13: =AVERAGE('Palo Seco'!F10:I10) -> 0.45 | I13: Azufre % | J13: =AVERAGE('Palo Seco'!F28:I28) -> 0.01 | V13: =(867406.4)*2204.6/77635189 -> 24.631667 | W13: lbs/gal
V14: =(73.96+0.003*25+0.0006*298)*2.2046*0.138 -> 22.578421 | W14: lbs/gal
A16: Cálculos Emisiones PM | I16: Cálculos Emisiones PM
A18: = | B18: =(9.19*B13)+3.22 -> 7.3555 | C18: lb | D18: =B12 -> 12237914 | E18: gal | F18: ton | I18: = | J18: 0.012 | K18: lb | L18: =J12 -> 473204 | M18: gal | N18: 0.138 | O18: MMBTU | Q18: ton
B19: 1000 | C19: gal | D19: year | F19: 2000 | G19: lb | K19: MMBTU | M19: year | O19: gal | P19: 2000 | Q19: lb
A22: = | B22: =((B18/B19)*D18)/F19 -> 45.007988 | C22: ton | D22: = | E22: =B22*2000/8760 -> 10.275796 | F22: lb | I22: = | J22: =(J18*L18*N18)/P19 -> 0.39181291 | K22: ton | L22: = | M22: =J22*(2000/8760) -> 0.089455003 | N22: lb
C23: year | F23: hr | K23: year | N23: hr
A26: Cálculos Emisiones SOx | I26: Cálculos Emisiones SOx
A28: = | B28: =157*B13 -> 70.65 | C28: lb | D28: =B12 -> 12237914 | E28: gal | F28: ton | I28: = | J28: =1.01*J13 -> 0.0101 | K28: lb | L28: =J12 -> 473204 | M28: gal | N28: 0.138 | O28: MMBTU | Q28: ton
B29: 1000 | C29: gal | D29: year | F29: 2000 | G29: lb | K29: MMBTU | M29: year | O29: gal | P29: 2000 | Q29: lb
A32: = | B32: =((B28/B29)*D28)/F29 -> 432.30431 | C32: ton | D32: = | E32: =B32*(2000/8760) -> 98.699615 | F32: lb | I32: = | J32: =(J28*L28*N28)/P29 -> 0.32977587 | K32: ton | L32: = | M32: =J32*(2000/8760) -> 0.075291294 | N32: lb
C33: year | F33: hr | K33: year | N33: hr
A36: Cálculos Emisiones NOx | I36: Cálculos Emisiones NOx
A38: = | B38: 0.33 | C38: lb | D38: =B12 -> 12237914 | E38: gal | F38: 0.15 MMBtu | H38: ton | J38: 0.88 | K38: lb | L38: =J12 -> 473204 | M38: gal | N38: 0.138 | O38: MMBTU | Q38: ton
C39: MMBtu | D39: year | F39: gal | H39: 2000 | I39: lb | K39: MMBTU | M39: year | O39: gal | P39: 2000 | Q39: lb
A42: = | B42: =B38*D38*0.15/2000 -> 302.88837 | C42: ton | J42: =(J38*L38*N38)/P39 -> 28.732947 | K42: ton | L42: = | M42: =J42*(2000/8760) -> 6.5600335 | N42: lb
C43: year | K43: year | N43: hr
A46: Cálculos Emisiones VOC | I46: Cálculos Emisiones VOC
A48: = | B48: 0.76 | C48: lb | D48: =B12 -> 12237914 | E48: gal | F48: ton | I48: = | J48: 0.00041 | K48: lb | L48: =J12 -> 473204 | M48: gal | N48: 0.138 | O48: MMBTU | Q48: ton
B49: 1000 | C49: gal | D49: year | F49: 2000 | G49: lb | K49: MMBTU | M49: year | O49: gal | P49: 2000 | Q49: lb
A52: = | B52: =((B48/B49)*D48)/F49 -> 4.6504073 | C52: ton | D52: = | E52: =B52*(2000/8760) -> 1.0617368 | F52: lb | I52: = | J52: =(J48*L48*N48)/P49 -> 0.013386941 | K52: ton | L52: = | M52: =J52*(2000/8760) -> 0.0030563793 | N52: lb
C53: year | F53: hr | K53: year | N53: hr
A56: Cálculos Emisiones CO | I56: Cálculos Emisiones CO
A58: = | B58: 5 | C58: lb | D58: =B12 -> 12237914 | E58: gal | F58: ton | I58: = | J58: 0.0033 | K58: lb | L58: =J12 -> 473204 | M58: gal | N58: 0.138 | O58: MMBTU | Q58: ton
B59: 1000 | C59: gal | D59: year | F59: 2000 | G59: lb | K59: MMBTU | M59: year | O59: gal | P59: 2000 | Q59: lb
A62: = | B62: =((B58/B59)*D58)/F59 -> 30.594785 | C62: ton | D62: = | E62: =B62*(2000/8760) -> 6.9851107 | F62: lb | I62: = | J62: =(J58*L58*N58)/P59 -> 0.10774855 | K62: ton | L62: = | M62: =J62*(2000/8760) -> 0.024600126 | N62: lb
C63: year | F63: hr | K63: year | N63: hr
A66: Cálculos Emisiones Pb | I66: Cálculos Emisiones Pb
A68: = | B68: 0.00151 | C68: lb | D68: =B12 -> 12237914 | E68: gal | F68: ton | I68: = | J68: 1.4e-05 | K68: lb | L68: =J12 -> 473204 | M68: gal | N68: 0.138 | O68: MMBTU | Q68: ton
B69: 1000 | C69: gal | D69: year | F69: 2000 | G69: lb | K69: MMBTU | M69: year | O69: gal | P69: 2000 | Q69: lb
A72: = | B72: =((B68/B69)*D68)/F69 -> 0.0092396251 | C72: ton | D72: = | E72: =B72*(2000/8760) -> 0.0021095034 | F72: lb | I72: = | J72: =(J68*L68*N68)/P69 -> 0.00045711506 | K72: ton | L72: = | M72: =J72*(2000/8760) -> 0.00010436417 | N72: lb
C73: year | F73: hr | K73: year | N73: hr
A76: Cálculos Emisiones CO2e | J76: Cálculos Emisiones CO2e
A78: = | B78: =V13 -> 24.631667 | C78: lb | D78: =D68 -> 12237914 | E78: gal | F78: ton | J78: = | K78: =V14 -> 22.578421 | L78: lb | M78: =L68 -> 473204 | N78: gal | O78: ton
C79: gal | D79: year | F79: 2000 | G79: lb | L79: gal | M79: year | O79: 2000 | P79: lb
A82: = | B82: =B78*D78/F79 -> 150720.11 | C82: ton | J82: = | K82: =K78*M78/O79 -> 5342.0995 | L82: ton
C83: year | L83: year

Sheet MPs PS
A1: Cómputo de Emisiones Actuales para Distillate OIl y Gas Natural - Palo Seco JUNIO 2022 - MobilePacs
A3: Parametro | B3: Factor de Emisión Combustible Natural Gas | C3: Factor de Emisión Combustible No. 2 Oil | D3: Emisiones Actuales (ton/year) | E3: Emisiones Actuales (lb/hr)
A4: NOx | B4: 0.11 | C4: 0.1731 | D4: =B23 -> 0.0066606249 | E4: =F23 -> 0.0015206906
A5: CO | B5: 0.077 | C5: 0.0343 | D5: =B29 -> 0.0046624374 | E5: =F29 -> 0.0010644834
A6: VOC | B6: 0.0081 | C6: 0.0071 | D6: =B35 -> 0.0004904642 | E6: =F35 -> 0.00011197813 | F6: Ecuación para el Cómputo
A7: PM | B7: 0.01 | C7: 0.0177 | D7: =B41 -> 0.00060551135 | E7: =F41 -> 0.0001382446 | F7: ton/year = | G7: [Consumo de Combustible #2 en galones/year) * ( Valor Calorífico BC 0.138 MMBtu/gal)
A8: PM10 | B8: 0.01 | C8: 0.0177 | D8: =B47 -> 0.00060551135 | E8: =F47 -> 0.0001382446 | G8: + (Consumo Gas Natural SCF/year) * (Valor Calorífico GN 1,026 MMBtu/SCF*10^6)]
A9: PM2.5 | B9: 0.01 | C9: 0.0177 | D9: =B53 -> 0.00060551135 | E9: =F53 -> 0.0001382446 | G9: * FE en lbs/MMBtu * 1 ton/2,000 lbs
A10: SO2 | B10: =1*2/7000/100/1026*1000000 -> 0.0027847396 | C10: 0.0015 | D10: =B59 -> 0.00016861915 | E10: =F59 -> 3.8497522e-05
A11: H2SO4 | B11: =B10*0.1*98/64 -> 0.00042641326 | C11: =C10*0.1*98/64 -> 0.0002296875 | D11: =B65 -> 2.5819807e-05 | E11: =F65 -> 5.894933e-06 | F11: lbs/hr = | G11: (Toneladas Contaminante / year) * (1 year / 8,760 hr) * (2000 lb / ton)
A12: Pb | B12: 0 | C12: 1.4e-05 | D12: =B71 -> 0 | E12: =F71 -> 0
A13: CO2e | B13: =(53.06+0.001*25+0.0001*298)*2.2046 -> 117.09689 | C13: 163.61 | D13: =B77 -> 7.0903495 | E13: =F77 -> 1.6188013
A14: Fluoruro | B14: 0 | C14: 0 | D14: 0 | E14: 0
A16: Consumo #2 = | B16: ='Palo Seco'!E47 -> 0 | D16: gal/year
A17: Consumo NG = | B17: ='Palo Seco'!I47 -> 118033.4 | D17: SCF/year
A18: #6 Azufre = | B18: 0.01 | D18: %
A20: NOx = | B20: =B16 -> 0 | D20: galones | E20: 0.138 | F20: MMBtu | G20: * | H20: =C4 -> 0.1731 | I20: lbs | J20: 1 | K20: ton | L20: + | M20: =B17 -> 118033.4 | N20: SCF | O20: 1026 | P20: MMBtu | Q20: * | R20: =B4 -> 0.11 | S20: lbs | T20: 1 | U20: ton
D21: year | F21: gal | I21: MMBtu | J21: 2000 | K21: lbs | N21: year | O21: 1000000 | P21: SCF | S21: MMBtu | T21: 2000 | U21: lbs
B23: =(B20*E20*H20+M20*O20*R20/1000000)/2000 -> 0.0066606249 | D23: ton/year | E23: = | F23: =B23*(2000/8760) -> 0.0015206906 | G23: lb/hr
A26: CO = | B26: =B16 -> 0 | D26: galones | E26: 0.138 | F26: MMBtu | G26: * | H26: =C5 -> 0.0343 | I26: lbs | J26: 1 | K26: ton | L26: + | M26: =B17 -> 118033.4 | N26: SCF | O26: 1026 | P26: MMBtu | Q26: * | R26: =B5 -> 0.077 | S26: lbs | T26: 1 | U26: ton
D27: year | F27: gal | I27: MMBtu | J27: 2000 | K27: lbs | N27: year | O27: 1000000 | P27: SCF | S27: MMBtu | T27: 2000 | U27: lbs
B29: =(B26*E26*H26+M26*O26*R26/1000000)/2000 -> 0.0046624374 | D29: ton/year | E29: = | F29: =B29*(2000/8760) -> 0.0010644834 | G29: lb/hr
A32: VOC = | B32: =B16 -> 0 | D32: galones | E32: 0.138 | F32: MMBtu | G32: * | H32: =C6 -> 0.0071 | I32: lbs | J32: 1 | K32: ton | L32: + | M32: =B17 -> 118033.4 | N32: SCF | O32: 1026 | P32: MMBtu | Q32: * | R32: =B6 -> 0.0081 | S32: lbs | T32: 1 | U32: ton
D33: year | F33: gal | I33: MMBtu | J33: 2000 | K33: lbs | N33: year | O33: 1000000 | P33: SCF | S33: MMBtu | T33: 2000 | U33: lbs
B35: =(B32*E32*H32+M32*O32*R32/1000000)/2000 -> 0.0004904642 | D35: ton/year | E35: = | F35: =B35*(2000/8760) -> 0.00011197813 | G35: lb/hr
A38: PM = | B38: =B16 -> 0 | D38: galones | E38: 0.138 | F38: MMBtu | G38: * | H38: =C7 -> 0.0177 | I38: lbs | J38: 1 | K38: ton | L38: + | M38: =B17 -> 118033.4 | N38: SCF | O38: 1026 | P38: MMBtu | Q38: * | R38: =B7 -> 0.01 | S38: lbs | T38: 1 | U38: ton
D39: year | F39: gal | I39: MMBtu | J39: 2000 | K39: lbs | N39: year | O39: 1000000 | P39: SCF | S39: MMBtu | T39: 2000 | U39: lbs
B41: =(B38*E38*H38+M38*O38*R38/1000000)/2000 -> 0.00060551135 | D41: ton/year | E41: = | F41: =B41*(2000/8760) -> 0.0001382446 | G41: lb/hr | L41: lb/hr
A44: PM10 = | B44: =B16 -> 0 | D44: galones | E44: 0.138 | F44: MMBtu | G44: * | H44: =C8 -> 0.0177 | I44: lbs | J44: 1 | K44: ton | L44: + | M44: =B17 -> 118033.4 | N44: SCF | O44: 1026 | P44: MMBtu | Q44: * | R44: =B8 -> 0.01 | S44: lbs | T44: 1 | U44: ton
D45: year | F45: gal | I45: MMBtu | J45: 2000 | K45: lbs | N45: year | O45: 1000000 | P45: SCF | S45: MMBtu | T45: 2000 | U45: lbs
B47: =(B44*E44*H44+M44*O44*R44/1000000)/2000 -> 0.00060551135 | D47: ton/year | E47: = | F47: =B47*(2000/8760) -> 0.0001382446 | G47: lb/hr | L47: lb/hr
A50: PM2.5 = | B50: =B16 -> 0 | D50: galones | E50: 0.138 | F50: MMBtu | G50: * | H50: =C9 -> 0.0177 | I50: lbs | J50: 1 | K50: ton | L50: + | M50: =B17 -> 118033.4 | N50: SCF | O50: 1026 | P50: MMBtu | Q50: * | R50: =B9 -> 0.01 | S50: lbs | T50: 1 | U50: ton
D51: year | F51: gal | I51: MMBtu | J51: 2000 | K51: lbs | N51: year | O51: 1000000 | P51: SCF | S51: MMBtu | T51: 2000 | U51: lbs
B53: =(B50*E50*H50+M50*O50*R50/1000000)/2000 -> 0.00060551135 | D53: ton/year | E53: = | F53: =B53*(2000/8760) -> 0.0001382446 | G53: lb/hr | L53: lb/hr
A56: SO2 = | B56: =B16 -> 0 | D56: galones | E56: 0.138 | F56: MMBtu | G56: * | H56: =C10 -> 0.0015 | I56: lbs | J56: 1 | K56: ton | L56: + | M56: =B17 -> 118033.4 | N56: SCF | O56: 1026 | P56: MMBtu | Q56: * | R56: =B10 -> 0.0027847396 | S56: lbs | T56: 1 | U56: ton
D57: year | F57: gal | I57: MMBtu | J57: 2000 | K57: lbs | N57: year | O57: 1000000 | P57: SCF | S57: MMBtu | T57: 2000 | U57: lbs
B59: =(B56*E56*H56+M56*O56*R56/1000000)/2000 -> 0.00016861915 | D59: ton/year | E59: = | F59: =B59*(2000/8760) -> 3.8497522e-05 | G59: lb/hr | L59: lb/hr
A62: H2SO4 = | B62: =B16 -> 0 | D62: galones | E62: 0.138 | F62: MMBtu | G62: * | H62: =C11 -> 0.0002296875 | I62: lbs | J62: 1 | K62: ton | L62: + | M62: =B17 -> 118033.4 | N62: SCF | O62: 1026 | P62: MMBtu | Q62: * | R62: =B11 -> 0.00042641326 | S62: lbs | T62: 1 | U62: ton
D63: year | F63: gal | I63: MMBtu | J63: 2000 | K63: lbs | N63: year | O63: 1000000 | P63: SCF | S63: MMBtu | T63: 2000 | U63: lbs
B65: =(B62*E62*H62+M62*O62*R62/1000000)/2000 -> 2.5819807e-05 | D65: ton/year | E65: = | F65: =B65*(2000/8760) -> 5.894933e-06 | G65: lb/hr | L65: lb/hr
A68: Pb = | B68: =B16 -> 0 | D68: galones | E68: 0.138 | F68: MMBtu | G68: * | H68: =C12 -> 1.4e-05 | I68: lbs | J68: 1 | K68: ton | L68: + | M68: =B17 -> 118033.4 | N68: SCF | O68: 1026 | P68: MMBtu | Q68: * | R68: =B12 -> 0 | S68: lbs | T68: 1 | U68: ton
D69: year | F69: gal | I69: MMBtu | J69: 2000 | K69: lbs | N69: year | O69: 1000000 | P69: SCF | S69: MMBtu | T69: 2000 | U69: lbs
B71: =(B68*E68*H68+M68*O68*R68/1000000)/2000 -> 0 | D71: ton/year | E71: = | F71: =B71*(2000/8760) -> 0 | G71: lb/hr
A74: CO2e = | B74: =B16 -> 0 | D74: galones | E74: 0.138 | F74: MMBtu | G74: * | H74: =C13 -> 163.61 | I74: lbs | J74: 1 | K74: ton | L74: + | M74: =B17 -> 118033.4 | N74: SCF | O74: 1026 | P74: MMBtu | Q74: * | R74: =B13 -> 117.09689 | S74: lbs | T74: 1 | U74: ton
D75: year | F75: gal | I75: MMBtu | J75: 2000 | K75: lbs | N75: year | O75: 1000000 | P75: SCF | S75: MMBtu | T75: 2000 | U75: lbs
B77: =(B74*E74*H74+M74*O74*R74/1000000)/2000 -> 7.0903495 | D77: ton/year | E77: = | F77: =B77*(2000/8760) -> 1.6188013 | G77: lb/hr
B80: Nota:
B81: * La formula y los factores de emisión utilizados son los aprobados en la última revisión del permiso
B82: de construcción PFE-31-0810-0455-II-C, con fecha del 21 de marzo de 2012, para la quema dual
B83: de combustible 100% Bunker C y 100% Gas Natural, según corresponda.

Sheet Turbinas
A3: Vega Baja FO#2 2022 | E3: Daguao FO#2 2022 | I3: YabucoaFO#2 2022 | M3: Jobos FO#2 2022
A4: Gallons | E4: Gallons | I4: Gallons | M4: Gallons | T4: % Azufre
A5: year | B5: VBGT1-1 | C5: VBGT1-2 | E5: year | F5: DAGT1-1 | G5: DAGT1-2 | I5: Mon th | J5: YAGT1-1 | K5: YAGT1-2 | M5: year | N5: JOGT1-1 | O5: JOGT1-2 | U5: DAGGT1-1 | V5: DAGGT1-2 | W5: JOGT1-1 | X5: JOGT1-2 | Y5: MAG-5 | Z5: MAG-6 | AA5: MAG-7 | AB5: MAG-8 | AC5: VBGT1-1 | AD5: VBGT1-2 | AE5: YAGT1-1 | AF5: YAGT1-2
A6: 46023 | E6: 46023 | I6: 46023 | M6: 46023 | T6: 46023 | U6: 0.01 | V6: 0.01 | W6: 0.01 | X6: 0.01 | Y6: 0.01 | Z6: 0.01 | AA6: 0.01 | AB6: 0.01 | AC6: 0.01 | AD6: 0.01 | AE6: 0.01 | AF6: 0.01
A7: 46054 | E7: 46054 | I7: 46054 | M7: 46054 | T7: 46054 | U7: 0.01 | V7: 0.01 | W7: 0.01 | X7: 0.01 | Y7: 0.01 | Z7: 0.01 | AA7: 0.01 | AB7: 0.01 | AC7: 0.01 | AD7: 0.01 | AE7: 0.01 | AF7: 0.01
A8: 46082 | E8: 46082 | I8: 46082 | M8: 46082 | T8: 46082 | U8: 0.01 | V8: 0.01 | W8: 0.01 | X8: 0.01 | Y8: 0.01 | Z8: 0.01 | AA8: 0.01 | AB8: 0.01 | AC8: 0.01 | AD8: 0.01 | AE8: 0.01 | AF8: 0.01
A9: 46113 | E9: 46113 | I9: 46113 | M9: 46113 | T9: 46113 | U9: 0.01 | V9: 0.01 | W9: 0.01 | X9: 0.01 | Y9: 0.01 | Z9: 0.01 | AA9: 0.01 | AB9: 0.01 | AC9: 0.01 | AD9: 0.01 | AE9: 0.01 | AF9: 0.01
A10: 46143 | E10: 46143 | I10: 46143 | M10: 46143 | T10: 46143 | U10: 0.01 | V10: 0.01 | W10: 0.01 | X10: 0.01 | Y10: 0.01 | Z10: 0.01 | AA10: 0.01 | AB10: 0.01 | AC10: 0.01 | AD10: 0.01 | AE10: 0.01 | AF10: 0.01
A11: 46174 | B11: 0 | C11: 0 | E11: 46174 | F11: 281291 | G11: 210170 | I11: 46174 | J11: 0 | K11: 0 | M11: 46174 | N11: 0 | O11: 344374 | T11: 46174 | U11: 0.01 | V11: 0.01 | W11: 0.01 | X11: 0.01 | Y11: 0.01 | Z11: 0.01 | AA11: 0.01 | AB11: 0.01 | AC11: 0.01 | AD11: 0.01 | AE11: 0.01 | AF11: 0.01
A12: 46204 | E12: 46204 | I12: 46204 | M12: 46204 | T12: 46204 | U12: 0.01 | V12: 0.01 | W12: 0.01 | X12: 0.01 | Y12: 0.01 | Z12: 0.01 | AA12: 0.01 | AB12: 0.01 | AC12: 0.01 | AD12: 0.01 | AE12: 0.01 | AF12: 0.01
A13: 46235 | E13: 46235 | I13: 46235 | M13: 46235 | T13: 46235 | U13: 0.01 | V13: 0.01 | W13: 0.01 | X13: 0.01 | Y13: 0.01 | Z13: 0.01 | AA13: 0.01 | AB13: 0.01 | AC13: 0.01 | AD13: 0.01 | AE13: 0.01 | AF13: 0.01
A14: 46266 | E14: 46266 | I14: 46266 | M14: 46266 | T14: 46266 | U14: 0.01 | V14: 0.01 | W14: 0.01 | X14: 0.01 | Y14: 0.01 | Z14: 0.01 | AA14: 0.01 | AB14: 0.01 | AC14: 0.01 | AD14: 0.01 | AE14: 0.01 | AF14: 0.01
A15: 46296 | E15: 46296 | I15: 46296 | M15: 46296 | T15: 46296 | U15: 0.01 | V15: 0.01 | W15: 0.01 | X15: 0.01 | Y15: 0.01 | Z15: 0.01 | AA15: 0.01 | AB15: 0.01 | AC15: 0.01 | AD15: 0.01 | AE15: 0.01 | AF15: 0.01
A16: 46327 | E16: 46327 | I16: 46327 | M16: 46327 | T16: 46327 | U16: 0.01 | V16: 0.01 | W16: 0.01 | X16: 0.01 | Y16: 0.01 | Z16: 0.01 | AA16: 0.01 | AB16: 0.01 | AC16: 0.01 | AD16: 0.01 | AE16: 0.01 | AF16: 0.01
A17: 46357 | E17: 46357 | I17: 46357 | M17: 46357 | T17: 46357 | U17: 0.01 | V17: 0.01 | W17: 0.01 | X17: 0.01 | Y17: 0.01 | Z17: 0.01 | AA17: 0.01 | AB17: 0.01 | AC17: 0.01 | AD17: 0.01 | AE17: 0.01 | AF17: 0.01
A18: Total | B18: =SUM(B6:B17) -> 0 | C18: =SUM(C6:C17) -> 0 | E18: Total | F18: =SUM(F6:F17) -> 281291 | G18: =SUM(G6:G17) -> 210170 | I18: Total | J18: =SUM(J6:J17) -> 0 | K18: =SUM(K6:K17) -> 0 | M18: Total | N18: =SUM(N6:N17) -> 0 | O18: =SUM(O6:O17) -> 344374 | T18: PROMEDIO ANNUAL | U18: =AVERAGE(U6:U17) -> 0.01 | V18: =AVERAGE(V6:V17) -> 0.01 | W18: =AVERAGE(W6:W17) -> 0.01 | X18: =AVERAGE(X6:X17) -> 0.01 | Y18: =AVERAGE(Y6:Y17) -> 0.01 | Z18: =AVERAGE(Z6:Z17) -> 0.01 | AA18: =AVERAGE(AA6:AA17) -> 0.01 | AB18: =AVERAGE(AB6:AB17) -> 0.01 | ... AF18: =AVERAGE(AF6:AF17) -> 0.01
A19: Total gal/yr | B19: =B18 -> 0 | C19: =C18 -> 0 | E19: Total gal/yr | F19: =F18 -> 281291 | G19: =G18 -> 210170 | I19: Total gal/yr | J19: =J18 -> 0 | K19: =K18 -> 0 | M19: Total gal/yr | N19: =N18 -> 0 | O19: =O18 -> 344374
F20: =SUM(F12:F17)*42 -> 0 | G20: =SUM(G12:G17)*42 -> 0 | J20: =SUM(J12:J17)*42 -> 0 | K20: =SUM(K12:K17)*42 -> 0
A21: Mayaguez FO#2 2022 | G21: Cambalache FO#2 2022
A22: Gallons | G22: year | H22: Gallons | K22: Azufre
A23: year | B23: MAG-5 | C23: MAG-6 | D23: MAG-7 | E23: MAG-8 | H23: CAMB 1 | I23: CAMB 2 | J23: CAMB 3 | K23: CAMB 2 | L23: CAMB 3
A24: 46023 | G24: 46023 | K24: 0.01 | L24: 0.01
A25: 46054 | G25: 46054 | K25: 0.01 | L25: 0.01
A26: 46082 | G26: 46082 | K26: 0.01 | L26: 0.01
A27: 46113 | G27: 46113 | K27: 0.01 | L27: 0.01
A28: 46143 | G28: 46143 | K28: 0.01 | L28: 0.01
A29: 46174 | B29: 1707 | C29: 281873 | D29: 705278 | E29: 118998 | G29: 46174 | H29: 0 | I29: 263982 | J29: 1011286 | K29: 0.001 | L29: 0.001
A30: 46204 | G30: 46204 | K30: 0.01 | L30: 0.01
A31: 46235 | G31: 46235 | K31: 0.01 | L31: 0.01
A32: 46266 | G32: 46266 | K32: 0.01 | L32: 0.01
A33: 46296 | G33: 46296 | K33: 0.01 | L33: 0.01
A34: 46327 | G34: 46327 | K34: 0.01 | L34: 0.01
A35: 46357 | G35: 46357 | K35: 0.01 | L35: 0.01
A36: Total | B36: =SUM(B24:B35) -> 1707 | C36: =SUM(C24:C35) -> 281873 | D36: =SUM(D24:D35) -> 705278 | E36: =SUM(E24:E35) -> 118998 | G36: Total | H36: =SUM(H30:H35) -> 0 | I36: =SUM(I24:I35) -> 263982 | J36: =SUM(J24:J35) -> 1011286 | K36: =AVERAGE(K24:K35) -> 0.00925 | L36: =AVERAGE(L24:L35) -> 0.00925
A37: Total gal/yr | B37: =B36 -> 1707 | C37: =C36 -> 281873 | D37: =D36 -> 705278 | E37: =E36 -> 118998 | G37: Total gal/yr | H37: =H36 -> 0 | I37: =I36 -> 263982 | J37: =J36 -> 1011286

Sheet Cálculos Cambalache (60%)
A2: Cómputo de Emisiones 2025 - Central Cambalache Unidad 2 | L2: Cómputo de Emisiones 2025 - Central Cambalache Unidad 3 | AA2: Horas de Operacion @ 60 %
AB3: Cambalache 1 | AC3: Cambalache 2 | AD3: Cambalache 3
A4: Cálculos con los Factores de Emisión AP-42 | L4: Cálculos con los Factores de Emisión AP-42 | AA4: 45292 | AB4: 0
A5: PM10 = | B5: [(51 lb/hr @100% carga * horas @100% carga)+(51 lb/hr @60% carga1 * horas @ 60%carga)]/(2000 ton/lb) | L5: PM10 = | M5: [(51 lb/hr @100% carga * horas @100% carga)+(51 lb/hr @60% carga1 * horas @ 60%carga)]/(2000 ton/lb) | AA5: 45323 | AB5: 0
A6: SOx = | B6: [(137 lb/hr @100% carga * horas @100% carga)+(137 lb/hr @60% carga1 * horas @60% carga)]/(2000 ton/lb) | L6: SOx = | M6: [(137 lb/hr @100% carga * horas @100% carga)+(137 lb/hr @60% carga1 * horas @60% carga)]/(2000 ton/lb) | AA6: 45352 | AB6: 0
A7: NOx | B7: CEMS | L7: NOx | M7: CEMS | AA7: 45383 | AB7: 0
A8: VOC = | B8: [(13 lb/hr @100% carga * horas @100% carga)+(11 lb/hr @60% carga1 * horas @60% carga)]/(2000 ton/lb) | L8: VOC = | M8: [(13 lb/hr @100% carga * horas @100% carga)+(11 lb/hr @60% carga1 * horas @60% carga)]/(2000 ton/lb) | AA8: 45413 | AB8: 0 | AC8: 11 | AD8: 47
A9: CO | B9: CEMS | L9: CO | M9: CEMS | AA9: 45444 | AB9: 0
A10: Pb = | B10: [(0.023 lb/hr @100% carga*horas @100% carga)+(0.016 lb/hr @60% carga1*horas @60% carga)]/(2000 ton/lb) | L10: Pb = | M10: [(0.023 lb/hr @100% carga*horas @100% carga)+(0.016 lb/hr @60% carga1*horas @60% carga)]/(2000 ton/lb) | AA10: 45474 | AB10: 0
AA11: 45505 | AB11: 0
AA12: 45536 | AB12: 0
A13: Combustible | B13: =SUM(Turbinas!I29) -> 263982 | C13: gal/año | L13: Combustible | M13: =SUM(Turbinas!J29) -> 1011286 | N13: gal/año | AA13: 45566 | AB13: 0
A14: Azufre % | B14: =SUM(Turbinas!K36) -> 0.00925 | L14: Azufre % | M14: =SUM(Turbinas!L36) -> 0.00925 | AA14: 45597 | AB14: 0
A15: Hrs @100% Carga | B15: =SUM(AC34) -> 29 | C15: hrs | L15: Hrs @100% Carga | M15: =SUM(AD34) -> 114 | N15: hrs | AA15: 45627 | AB15: 0
A16: Hrs @60% Carga | B16: =SUM(AC16) -> 11 | C16: hrs | L16: Hrs @60% Carga | M16: =SUM(AD16) -> 47 | N16: hrs | AA16: TOTAL | AB16: =SUM(AB10:AB15) -> 0 | AC16: =SUM(AC4:AC15) -> 11 | AD16: =SUM(AD4:AD15) -> 47
A19: Cálculos Emisiones PM10 | L19: Cálculos Emisiones PM10
AA20: Horas de Operacion @ 100 %
A21: = | B21: 51 | C21: lb | D21: =B15 -> 29 | E21: horas | F21: 51 | G21: lb | H21: =B16 -> 11 | I21: horas | J21: 1 | K21: ton | L21: = | M21: 51 | N21: lb | O21: =M15 -> 114 | P21: horas | Q21: 51 | R21: lb | S21: =M16 -> 47 | T21: horas | U21: 1 | V21: ton | AB21: Cambalache 1 | AC21: Cambalache 2 | AD21: Cambalache 3
C22: hr | G22: hr | J22: 2000 | K22: lb | N22: hr | R22: hr | U22: 2000 | V22: lb | AA22: 45292 | AB22: 0
AA23: 45323 | AB23: 0
A24: = | B24: =((B21*D21)+(F21*H21))/J22 -> 1.02 | C24: ton | E24: = | F24: =B24*2000/8760 -> 0.23287671 | G24: lb | L24: = | M24: =((M21*O21)+(Q21*S21))/U22 -> 4.1055 | N24: ton | P24: = | Q24: =M24*2000/8760 -> 0.93732877 | R24: lb | AA24: 45352 | AB24: 0
C25: año | G25: hr | N25: año | R25: hr | AA25: 45383 | AB25: 0
AA26: 45413 | AB26: 0 | AC26: 29 | AD26: 114
A27: Cálculos Emisiones SOx | L27: Cálculos Emisiones SOx | AA27: 45444 | AB27: 0
AA28: 45474 | AB28: 0
A29: = | B29: 137 | C29: lb | D29: =B15 -> 29 | E29: horas | F29: 137 | G29: lb | H29: =B16 -> 11 | I29: horas | J29: 1 | K29: ton | L29: = | M29: 137 | N29: lb | O29: =M15 -> 114 | P29: horas | Q29: 137 | R29: lb | S29: =M16 -> 47 | T29: horas | U29: 1 | V29: ton | AA29: 45505 | AB29: 0
C30: hr | G30: hr | J30: 2000 | K30: lb | N30: hr | R30: hr | U30: 2000 | V30: lb | AA30: 45536 | AB30: 0
AA31: 45566 | AB31: 0
A32: = | B32: =((B29*D29)+(F29*H29))/J30 -> 2.74 | C32: ton | E32: = | F32: =B32*2000/8760 -> 0.62557078 | G32: lb | L32: = | M32: =((M29*O29)+(Q29*S29))/U30 -> 11.0285 | N32: ton | P32: = | Q32: =M32*2000/8760 -> 2.5179224 | R32: lb | AA32: 45597 | AB32: 0
C33: año | G33: hr | N33: año | R33: hr | AA33: 45627 | AB33: 0
AA34: TOTAL | AB34: =SUM(AB28:AB33) -> 0 | AC34: =SUM(AC22:AC33) -> 29 | AD34: =SUM(AD22:AD33) -> 114
A38: Cómputo de Emisiones 2025 - Central Cambalache Unidad 2 | L38: Cómputo de Emisiones 2025 - Central Cambalache Unidad 3
A40: Cálculos Emisiones VOC | L40: Cálculos Emisiones VOC
A42: = | B42: 13 | C42: lb | D42: =B15 -> 29 | E42: horas | F42: 11 | G42: lb | H42: =B16 -> 11 | I42: horas | J42: 1 | K42: ton | L42: = | M42: 13 | N42: lb | O42: =M15 -> 114 | P42: horas | Q42: 11 | R42: lb | S42: =M16 -> 47 | T42: horas | U42: 1 | V42: ton
C43: hr | G43: hr | J43: 2000 | K43: lb | N43: hr | R43: hr | U43: 2000 | V43: lb
A45: = | B45: =((B42*D42)+(F42*H42))/J43 -> 0.249 | C45: ton | E45: = | F45: =B45*2000/8760 -> 0.056849315 | G45: lb | L45: = | M45: =((M42*O42)+(Q42*S42))/U43 -> 0.9995 | N45: ton | P45: = | Q45: =M45*2000/8760 -> 0.22819635 | R45: lb
C46: año | G46: hr | N46: año | R46: hr
A48: Cálculos Emisiones Pb | L48: Cálculos Emisiones Pb
A50: = | B50: 0.023 | C50: lb | D50: =B15 -> 29 | E50: horas | F50: 0.016 | G50: lb | H50: =B16 -> 11 | I50: horas | J50: 1 | K50: ton | L50: = | M50: 0.023 | N50: lb | O50: =M15 -> 114 | P50: horas | Q50: 0.016 | R50: lb | S50: =M16 -> 47 | T50: horas | U50: 1 | V50: ton
C51: hr | G51: hr | J51: 2000 | K51: lb | N51: hr | R51: hr | U51: 2000 | V51: lb
A53: = | B53: =((B50*D50)+(F50*H50))/J51 -> 0.0004215 | C53: ton | E53: = | F53: =B53*2000/8760 -> 9.6232877e-05 | G53: lb | L53: = | M53: =((M50*O50)+(Q50*S50))/U51 -> 0.001687 | N53: ton | P53: = | Q53: =M53*2000/8760 -> 0.00038515982 | R53: lb
C54: año | G54: hr | N54: año | R54: hr
A57: CO2e | B57: 22.578 lb/gal | C57: 40 CFR 98
A59: Cálculos Emisiones CO2e
A61: = | B61: 22.578 | C61: lb | D61: =SUM(B13+M13) -> 1275268 | E61: gal | G61: ton
C62: gal | E62: year | F62: 2000 | G62: lb
A65: = | B65: =B61*D61/F62 -> 14396.5 | C65: ton | D65: = | E65: =B65*(2000/8760) -> 3286.8722 | F65: lb
C66: year | F66: hr

Sheet CEMS Cambalache
B2: Cambalache Emissions 2025 As reported in CEMS | J2: Cambalache Emissions 2025 As reported in CEMS
B5: year | C5: NOx (lb) | D5: CO (lb) | J5: year | K5: NOx (lb) UNIT 2 | L5: NOx (lb) UNIT 3 | M5: TOTAL U-2 & 3 | N5: CO (lb) UNIT 2 | O5: CO (lb) UNIT 3 | P5: TOTAL U-2 & 3
B6: January | C6: =M6 -> 0 | D6: =P6 -> 0 | J6: January | M6: =SUM(K6:L6) -> 0 | P6: =SUM(N6:O6) -> 0
B7: February | C7: =M7 -> 0 | D7: =P7 -> 0 | J7: February | M7: =SUM(K7:L7) -> 0 | P7: =SUM(N7:O7) -> 0
B8: March | C8: =M8 -> 0 | D8: =P8 -> 0 | J8: March | M8: =SUM(K8:L8) -> 0 | P8: =SUM(N8:O8) -> 0
B9: April | C9: =M9 -> 0 | D9: =P9 -> 0 | J9: April | M9: =SUM(K9:L9) -> 0 | P9: =SUM(N9:O9) -> 0
B10: May | C10: =M10 -> 0 | D10: =P10 -> 0 | J10: May | M10: =SUM(K10:L10) -> 0 | P10: =SUM(N10:O10) -> 0
B11: June | C11: =M11 -> 24850.7 | D11: =P11 -> 4971 | J11: June | K11: 5689.8 | L11: 19160.9 | M11: =SUM(K11:L11) -> 24850.7 | N11: 1092 | O11: 3879 | P11: =SUM(N11:O11) -> 4971
B12: July | C12: =M12 -> 0 | D12: =P12 -> 0 | J12: July | M12: =SUM(K12:L12) -> 0 | P12: =SUM(N12:O12) -> 0
B13: August | C13: =M13 -> 0 | D13: =P13 -> 0 | J13: August | M13: =SUM(K13+L13) -> 0 | P13: =SUM(N13:O13) -> 0
B14: September | C14: =M14 -> 0 | D14: =P14 -> 0 | J14: September | M14: =SUM(K14:L14) -> 0 | P14: =SUM(N14:O14) -> 0
B15: October | C15: =M15 -> 0 | D15: =P15 -> 0 | J15: October | M15: =SUM(K15:L15) -> 0 | P15: =SUM(N15:O15) -> 0
B16: November | C16: =M16 -> 0 | D16: =P16 -> 0 | J16: November | M16: =SUM(K16:L16) -> 0 | P16: =SUM(N16:O16) -> 0
B17: December | C17: =M17 -> 0 | D17: =P17 -> 0 | J17: December | M17: =SUM(K17:L17) -> 0 | P17: =SUM(N17:O17) -> 0
B18: Total (lb/yr) | C18: =SUM(C6:C17) -> 24850.7 | D18: =SUM(D6:D17) -> 4971 | J18: Total (lb/yr) | K18: =SUM(K6:K17) -> 5689.8 | L18: =SUM(L6:L17) -> 19160.9 | M18: =SUM(M6:M17) -> 24850.7 | N18: =SUM(N6:N17) -> 1092 | O18: =SUM(O6:O17) -> 3879 | P18: =SUM(P6:P17) -> 4971
B19: Total (ton/yr) | C19: =C18/2000 -> 12.42535 | D19: =D18/2000 -> 2.4855 | J19: Total (ton/yr) | K19: =K18/2000 -> 2.8449 | L19: =L18/2000 -> 9.58045 | M19: =M18/2000 -> 12.42535 | N19: =N18/2000 -> 0.546 | O19: =O18/2000 -> 1.9395 | P19: =P18/2000 -> 2.4855
J20: TOTAL COMBINED | K20: =SUM(K19:L19) -> 12.42535 | N20: =SUM(N19:O19) -> 2.4855

Sheet Cálculos Daguao
A2: Cómputo de Emisiones Actuales JUNIO 2022- Daguao Unidad 1 | K2: Cómputo de Emisiones Actuales JUNIO 2022- Daguao Unidad 2
A4: Factores de Emisión AP-42 Section 3.1 | K4: Factores de Emisión AP-42 Section 3.1
A5: PM | B5: 0.012 lb/MMBTU | K5: PM | L5: 0.012 lb/MMBTU
A6: SOx | B6: 1.01*%S lb/MMBTU | K6: SOx | L6: 1.01*%S lb/MMBTU
A7: NOx | B7: 0.88 lb/MMBTU | K7: NOx | L7: 0.88 lb/MMBTU
A8: VOC | B8: 0.00041 lb/MMBTU | K8: VOC | L8: 0.00041 lb/MMBTU
A9: C0 | B9: 0.0033 lb/MMBTU | K9: C0 | L9: 0.0033 lb/MMBTU
A10: Pb | B10: 0.000014 lb MMBTU | K10: Pb | L10: 0.000014 lb MMBTU
A11: CO2e | B11: 22.578 lb/gal | C11: 40 CFR 98 | K11: CO2e | L11: 22.578 lb/gal | M11: 40 CFR 98
A13: Combustible | B13: =Turbinas!F11 -> 281291 | C13: gal/yr | K13: Combustible | L13: =Turbinas!G11 -> 210170 | M13: gal/yr
A14: Azufre % | B14: =Turbinas!U11 -> 0.01 | K14: Azufre % | L14: =Turbinas!V11 -> 0.01 | V14: =(73.96+0.003*25+0.0006*298)*2.2046*0.138 -> 22.578421 | W14: lbs/gal
A17: Cálculos Emisiones PM | K17: Cálculos Emisiones PM
A19: = | B19: 0.012 | C19: lb | D19: =B13 -> 281291 | E19: galones | F19: 0.138 | G19: MMBTU | H19: 1 | I19: ton | K19: = | L19: 0.012 | M19: lb | N19: =L13 -> 210170 | O19: galones | P19: 0.138 | Q19: MMBTU | R19: 1 | S19: ton
C20: MMBTU | E20: year | G20: gal | H20: 2000 | I20: lb | M20: MMBTU | O20: year | Q20: gal | R20: 2000 | S20: lb
A22: = | B22: =(B19*D19*F19)/H20 -> 0.23290895 | C22: ton | K22: = | L22: =(L19*N19*P19)/R20 -> 0.17402076 | M22: ton
C23: year | M23: year
A26: Cálculos Emisiones SOx | K26: Cálculos Emisiones SOx
A28: = | B28: =1.01*B14 -> 0.0101 | C28: lb | D28: =B13 -> 281291 | E28: galones | F28: 0.138 | G28: MMBTU | H28: 1 | I28: ton | K28: = | L28: =1.01*L14 -> 0.0101 | M28: lb | N28: =L13 -> 210170 | O28: galones | P28: 0.138 | Q28: MMBTU | R28: 1 | S28: ton
C29: MMBTU | E29: year | G29: gal | H29: 2000 | I29: lb | M29: MMBTU | O29: year | Q29: gal | R29: 2000 | S29: lb
A31: = | B31: =(B28*D28*F28)/H29 -> 0.1960317 | C31: ton | K31: = | L31: =(L28*N28*P28)/R29 -> 0.14646747 | M31: ton
C32: year | M32: year
A35: Cálculos Emisiones NOx | K35: Cálculos Emisiones NOx
A37: = | B37: 0.88 | C37: lb | D37: =B13 -> 281291 | E37: galones | F37: 0.138 | G37: MMBTU | H37: 1 | I37: ton | K37: = | L37: 0.88 | M37: lb | N37: =L13 -> 210170 | O37: galones | P37: 0.138 | Q37: MMBTU | R37: 1 | S37: ton
C38: MMBTU | E38: year | G38: gal | H38: 2000 | I38: lb | M38: MMBTU | O38: year | Q38: gal | R38: 2000 | S38: lb
A40: = | B40: =(B37*D37*F37)/H38 -> 17.07999 | C40: ton | K40: = | L40: =(L37*N37*P37)/R38 -> 12.761522 | M40: ton
C41: year | M41: year
A44: Cálculos Emisiones VOC | K44: Cálculos Emisiones VOC
A46: = | B46: 0.00041 | C46: lb | D46: =B13 -> 281291 | E46: galones | F46: 0.138 | G46: MMBTU | H46: 1 | I46: ton | K46: = | L46: 0.00041 | M46: lb | N46: =L13 -> 210170 | O46: galones | P46: 0.138 | Q46: MMBTU | R46: 1 | S46: ton
C47: MMBTU | E47: year | G47: gal | H47: 2000 | I47: lb | M47: MMBTU | O47: year | Q47: gal | R47: 2000 | S47: lb
A49: = | B49: =(B46*D46*F46)/H47 -> 0.0079577224 | C49: ton | K49: = | L49: =(L46*N46*P46)/R47 -> 0.0059457093 | M49: ton
C50: year | M50: year
A57: Cálculos Emisiones CO | K57: Cálculos Emisiones CO
A59: = | B59: 0.0033 | C59: lb | D59: =B13 -> 281291 | E59: galones | F59: 0.138 | G59: MMBTU | H59: 1 | I59: ton | K59: = | L59: 0.0033 | M59: lb | N59: =L13 -> 210170 | O59: galones | P59: 0.138 | Q59: MMBTU | R59: 1 | S59: ton
C60: MMBTU | E60: year | G60: gal | H60: 2000 | I60: lb | M60: MMBTU | O60: year | Q60: gal | R60: 2000 | S60: lb
A62: = | B62: =(B59*D59*F59)/H60 -> 0.064049961 | C62: ton | K62: = | L62: =(L59*N59*P59)/R60 -> 0.047855709 | M62: ton
C63: year | M63: year
A66: Cálculos Emisiones Pb | K66: Cálculos Emisiones Pb
A68: = | B68: 1.4e-05 | C68: lb | D68: =B13 -> 281291 | E68: galones | F68: 0.138 | G68: MMBTU | H68: 1 | I68: ton | K68: = | L68: 1.4e-05 | M68: lb | N68: =L13 -> 210170 | O68: galones | P68: 0.138 | Q68: MMBTU | R68: 1 | S68: ton
C69: MMBTU | E69: year | G69: gal | H69: 2000 | I69: lb | M69: MMBTU | O69: year | Q69: gal | R69: 2000 | S69: lb
A71: = | B71: =(B68*D68*F68)/H69 -> 0.00027172711 | C71: ton | K71: = | L71: =(L68*N68*P68)/R69 -> 0.00020302422 | M71: ton
C72: year | M72: year
A75: Cálculos Emisiones CO2e | K75: Cálculos Emisiones CO2e
A77: = | B77: =V14 -> 22.578421 | C77: lb | D77: =D68 -> 281291 | E77: gal | G77: ton | K77: = | L77: =V14 -> 22.578421 | M77: lb | N77: =N68 -> 210170 | O77: gal | Q77: ton
C78: gal | E78: year | F78: 2000 | G78: lb | M78: gal | O78: year | P78: 2000 | Q78: lb
A81: = | B81: =B77*D77/F78 -> 3175.5533 | C81: ton | D81: = | E81: =B81*(2000/8760) -> 725.01216 | F81: lb | K81: = | L81: =L77*N77/P78 -> 2372.6533 | M81: ton | N81: = | O81: =L81*(2000/8760) -> 541.70167 | P81: lb
C82: year | F82: hr | M82: year | P82: hr

Sheet Cálculos Yabucoa
A1: Cómputo de Emisiones Actuales JUNIO 2022 - YAGT1-1 | K1: Cómputo de Emisiones Actuales JUNIO 2022 - YAGT1-2
A3: AP-42 Fifth Edition, Volume I, Chapter 3.1 | K3: AP-42 Fifth Edition, Volume I, Chapter 3.1
A4: Stationary Internal Combustion Sources | K4: Stationary Internal Combustion Sources
A5: PM10 | B5: 0.012 | C5: lb/MMBTU | K5: PM10 | L5: 0.012 | M5: lb/MMBTU
A6: SOx | B6: 1.01 | C6: *S lb/MMBTU | K6: SOx | L6: 1.01 | M6: *S lb/MMBTU
A7: NOx | B7: 0.88 | C7: lb/MMBTU | K7: NOx | L7: 0.88 | M7: lb/MMBTU
A8: VOC | B8: 0.00041 | C8: lb/MMBTU | K8: VOC | L8: 0.00041 | M8: lb/MMBTU
A9: CO | B9: 0.0033 | C9: lb/MMBTU | K9: CO | L9: 0.0033 | M9: lb/MMBTU
A10: Pb | B10: 1.4e-05 | C10: lb/MMBTU | K10: Pb | L10: 1.4e-05 | M10: lb/MMBTU
A11: CO2e | B11: 22.578 lb/gal | C11: 40 CFR 98 | K11: CO2e | L11: 22.578 lb/gal | M11: 40 CFR 98
A13: Combustible | B13: =Turbinas!J11 -> 0 | C13: gal/year | D13: (Unidades limitadas a 2,600 hrs de operación anual) | K13: Combustible | L13: =Turbinas!K11 -> 0 | M13: gal/year | N13: (Unidades limitadas a 2,600 hrs de operación anual)
A14: Azufre | B14: =Turbinas!AE11 -> 0.01 | K14: Azufre | L14: =Turbinas!AF11 -> 0.01 | V14: =(73.96+0.003*25+0.0006*298)*2.2046*0.138 -> 22.578421 | W14: lbs/gal
A16: Cálculos Emisiones PM10 | K16: Cálculos Emisiones PM10
A18: = | B18: 0.012 | C18: lb | D18: =B13 -> 0 | E18: gal | F18: 0.138 | G18: MMBTU | H18: ton | K18: = | L18: 0.012 | M18: lb | N18: =L13 -> 0 | O18: gal | P18: 0.138 | Q18: MMBTU | R18: ton
B19: MMBTU | D19: year | F19: gal | H19: 2000 | I19: lb | L19: MMBTU | N19: year | P19: gal | R19: 2000 | S19: lb
A21: = | B21: =(B18*D18*F18)/H19 -> 0 | C21: ton | D21: = | E21: =B21*2000/8760 -> 0 | F21: lb | K21: = | L21: =(L18*N18*P18)/R19 -> 0 | M21: ton | N21: = | O21: =L21*2000/8760 -> 0 | P21: lb
C22: year | F22: hr | M22: year | P22: hr
A24: Cálculos Emisiones SOx | K24: Cálculos Emisiones SOx
A26: = | B26: =(B6*B14) -> 0.0101 | C26: lb | D26: =B13 -> 0 | E26: gal | F26: 0.138 | G26: MMBTU | H26: ton | K26: = | L26: =L6*L14 -> 0.0101 | M26: lb | N26: =L13 -> 0 | O26: gal | P26: 0.138 | Q26: MMBTU | R26: ton
B27: MMBTU | D27: year | F27: gal | H27: 2000 | I27: lb | L27: MMBTU | N27: year | P27: gal | R27: 2000 | S27: lb
A29: = | B29: =(B26*D26*F26)/H27 -> 0 | C29: ton | D29: = | E29: =B29*2000/8760 -> 0 | F29: lb | K29: = | L29: =(L26*N26*P26)/R27 -> 0 | M29: ton | N29: = | O29: =L29*2000/8760 -> 0 | P29: lb
C30: year | F30: hr | M30: year | P30: hr
A33: Cálculos Emisiones NOx | K33: Cálculos Emisiones NOx
A35: = | B35: 0.88 | C35: lb | D35: =B13 -> 0 | E35: gal | F35: 0.138 | G35: MMBTU | H35: ton | K35: = | L35: 0.88 | M35: lb | N35: =L13 -> 0 | O35: gal | P35: 0.138 | Q35: MMBTU | R35: ton
B36: MMBTU | D36: year | F36: gal | H36: 2000 | I36: lb | L36: MMBTU | N36: year | P36: gal | R36: 2000 | S36: lb
A38: = | B38: =(B35*D35*F35)/H36 -> 0 | C38: ton | D38: = | E38: =B38*2000/8760 -> 0 | F38: lb | K38: = | L38: =(L35*N35*P35)/R36 -> 0 | M38: ton | N38: = | O38: =L38*2000/8760 -> 0 | P38: lb
C39: year | F39: hr | M39: year | P39: hr
A41: Cálculos Emisiones VOC | K41: Cálculos Emisiones VOC
A43: = | B43: 0.00041 | C43: lb | D43: =B13 -> 0 | E43: gal | F43: 0.138 | G43: MMBTU | H43: ton | K43: = | L43: 0.00041 | M43: lb | N43: =L13 -> 0 | O43: gal | P43: 0.138 | Q43: MMBTU | R43: ton
B44: MMBTU | D44: year | F44: gal | H44: 2000 | I44: lb | L44: MMBTU | N44: year | P44: gal | R44: 2000 | S44: lb
A46: = | B46: =(B43*D43*F43)/H44 -> 0 | C46: ton | D46: = | E46: =B46*(2000/8760) -> 0 | F46: lb | K46: = | L46: =(L43*N43*P43)/R44 -> 0 | M46: ton | N46: = | O46: =L46*2000/8760 -> 0 | P46: lb
C47: year | F47: hr | M47: year | P47: hr
A49: Cálculos Emisiones CO | K49: Cálculos Emisiones CO
A51: = | B51: 0.0033 | C51: lb | D51: =B13 -> 0 | E51: gal | F51: 0.138 | G51: MMBTU | H51: ton | K51: = | L51: 0.0033 | M51: lb | N51: =L13 -> 0 | O51: gal | P51: 0.138 | Q51: MMBTU | R51: ton
B52: MMBTU | D52: year | F52: gal | H52: 2000 | I52: lb | L52: MMBTU | N52: year | P52: gal | R52: 2000 | S52: lb
A54: = | B54: =(B51*D51*F51)/H52 -> 0 | C54: ton | D54: = | E54: =B54*2000/8760 -> 0 | F54: lb | K54: = | L54: =(L51*N51*P51)/R52 -> 0 | M54: ton | N54: = | O54: =L54*2000/8760 -> 0 | P54: lb
C55: year | F55: hr | M55: year | P55: hr
A57: Cálculos Emisiones Pb | K57: Cálculos Emisiones Pb
A59: = | B59: 1.4e-05 | C59: lb | D59: =B13 -> 0 | E59: gal | F59: 0.138 | G59: MMBTU | H59: ton | K59: = | L59: 1.4e-05 | M59: lb | N59: =L13 -> 0 | O59: gal | P59: 0.138 | Q59: MMBTU | R59: ton
B60: MMBTU | D60: year | F60: gal | H60: 2000 | I60: lb | L60: MMBTU | N60: year | P60: gal | R60: 2000 | S60: lb
A62: = | B62: =(B59*D59*F59)/H60 -> 0 | C62: ton | D62: = | E62: =B62*2000/8760 -> 0 | F62: lb | K62: = | L62: =(L59*N59*P59)/R60 -> 0 | M62: ton | N62: = | O62: =L62*2000/8760 -> 0 | P62: lb
C63: year | F63: hr | M63: year | P63: hr
A66: Cálculos Emisiones CO2e | K66: Cálculos Emisiones CO2e
A68: = | B68: =V14 -> 22.578421 | C68: lb | D68: =D59 -> 0 | E68: gal | G68: ton | K68: = | L68: =V14 -> 22.578421 | M68: lb | N68: =N59 -> 0 | O68: gal | Q68: ton
C69: gal | E69: year | F69: 2000 | G69: lb | M69: gal | O69: year | P69: 2000 | Q69: lb
A72: = | B72: =B68*D68/F69 -> 0 | C72: ton | D72: = | E72: =B72*(2000/8760) -> 0 | F72: lb | K72: = | L72: =L68*N68/P69 -> 0 | M72: ton | N72: = | O72: =L72*(2000/8760) -> 0 | P72: lb
C73: year | F73: hr | M73: year | P73: hr

Sheet Cálculos Vega Baja
A1: Cómputo de Emisiones Actuales JUNIO 2022 - Vega Baja VBGT1-1 | K1: Cómputo de Emisiones Actuales JUNIO 2022 - Vega Baja VBGT1-2
A3: AP-42, Fifth Edition, Volume I, Chapter 3.1: | K3: AP-42, Fifth Edition, Volume I, Chapter 3.1:
A4: Stationary Internal Combustion Sources | K4: Stationary Internal Combustion Sources
A5: PM10 | B5: 0.012 | C5: lb/MMBTU | K5: PM10 | L5: 0.012 | M5: lb/MMBTU
A6: SOx | B6: 1.01 | C6: *S lb/MMBTU | K6: SOx | L6: 1.01 | M6: *S lb/MMBTU
A7: NOx | B7: 0.88 | C7: lb/MMBTU | K7: NOx | L7: 0.88 | M7: lb/MMBTU
A8: VOC | B8: 0.00041 | C8: lb/MMBTU | K8: VOC | L8: 0.00041 | M8: lb/MMBTU
A9: CO | B9: 0.0033 | C9: lb/MMBTU | K9: CO | L9: 0.0033 | M9: lb/MMBTU
A10: Pb | B10: 1.4e-05 | C10: lb/MMBTU | K10: Pb | L10: 1.4e-05 | M10: lb/MMBTU
A11: CO2e | B11: 22.578 lb/gal | C11: 40 CFR 98 | K11: CO2e | L11: 22.578 lb/gal | M11: 40 CFR 98
A13: Combustible | B13: =Turbinas!B11 -> 0 | C13: gal/year | K13: Combustible | L13: =Turbinas!C11 -> 0 | M13: gal/year
A14: Azufre | B14: =Turbinas!AC11 -> 0.01 | K14: Azufre | L14: =Turbinas!AD11 -> 0.01 | V14: =(73.96+0.003*25+0.0006*298)*2.2046*0.138 -> 22.578421 | W14: lbs/gal
A17: Cálculos Emisiones PM10 | K17: Cálculos Emisiones PM10
A19: = | B19: 0.012 | C19: lb | D19: =B13 -> 0 | E19: gal | F19: 0.138 | G19: MMBTU | H19: ton | K19: = | L19: 0.012 | M19: lb | N19: =L13 -> 0 | O19: gal | P19: 0.138 | Q19: MMBTU | R19: ton
B20: MMBTU | D20: year | F20: gal | H20: 2000 | I20: lb | L20: MMBTU | N20: year | P20: gal | R20: 2000 | S20: lb
A23: = | B23: =(B19*D19*F19)/H20 -> 0 | C23: ton | E23: = | F23: =B23*2000/8760 -> 0 | G23: lbs | K23: = | L23: =(L19*N19*P19)/R20 -> 0 | M23: ton | O23: = | P23: =L23*2000/8760 -> 0 | Q23: lbs
C24: year | G24: hr | M24: year | Q24: hr
A27: Cálculos Emisiones SOx | K27: Cálculos Emisiones SOx
A29: = | B29: =B6*B14 -> 0.0101 | C29: lb | D29: =B13 -> 0 | E29: gal | F29: 0.138 | G29: MMBTU | H29: ton | K29: = | L29: =L6*L14 -> 0.0101 | M29: lb | N29: =L13 -> 0 | O29: gal | P29: 0.138 | Q29: MMBTU | R29: ton
B30: MMBTU | D30: year | F30: gal | H30: 2000 | I30: lb | L30: MMBTU | N30: year | P30: gal | R30: 2000 | S30: lb
A33: = | B33: =(B29*D29*F29)/H30 -> 0 | C33: ton | E33: = | F33: =B33*2000/8760 -> 0 | G33: lbs | K33: = | L33: =(L29*N29*P29)/R30 -> 0 | M33: ton | O33: = | P33: =L33*2000/8760 -> 0 | Q33: lbs
C34: year | G34: hr | M34: year | Q34: hr
A37: Cálculos Emisiones NOx | K37: Cálculos Emisiones NOx
A39: = | B39: 0.88 | C39: lb | D39: =B13 -> 0 | E39: gal | F39: 0.138 | G39: MMBTU | H39: ton | K39: = | L39: 0.88 | M39: lb | N39: =L13 -> 0 | O39: gal | P39: 0.138 | Q39: MMBTU | R39: ton
B40: MMBTU | D40: year | F40: gal | H40: 2000 | I40: lb | L40: MMBTU | N40: year | P40: gal | R40: 2000 | S40: lb
A43: = | B43: =(B39*D39*F39)/H40 -> 0 | C43: ton | E43: = | F43: =B43*2000/8760 -> 0 | G43: lbs | K43: = | L43: =(L39*N39*P39)/R40 -> 0 | M43: ton | O43: = | P43: =L43*2000/8760 -> 0 | Q43: lbs
C44: year | G44: hr | M44: year | Q44: hr
A47: Cálculos Emisiones VOC | K47: Cálculos Emisiones VOC
A49: = | B49: 0.00041 | C49: lb | D49: =B13 -> 0 | E49: gal | F49: 0.138 | G49: MMBTU | H49: ton | K49: = | L49: 0.00041 | M49: lb | N49: =L13 -> 0 | O49: gal | P49: 0.138 | Q49: MMBTU | R49: ton
B50: MMBTU | D50: year | F50: gal | H50: 2000 | I50: lb | L50: MMBTU | N50: year | P50: gal | R50: 2000 | S50: lb
A53: = | B53: =(B49*D49*F49)/H50 -> 0 | C53: ton | E53: = | F53: =B53*2000/8760 -> 0 | G53: lbs | K53: = | L53: =(L49*N49*P49)/R50 -> 0 | M53: ton | O53: = | P53: =L53*2000/8760 -> 0 | Q53: lbs
C54: year | G54: hr | M54: year | Q54: hr
A57: Cálculos Emisiones CO | K57: Cálculos Emisiones CO
A59: = | B59: 0.0033 | C59: lb | D59: =B13 -> 0 | E59: gal | F59: 0.138 | G59: MMBTU | H59: ton | K59: = | L59: 0.0033 | M59: lb | N59: =L13 -> 0 | O59: gal | P59: 0.138 | Q59: MMBTU | R59: ton
B60: MMBTU | D60: year | F60: gal | H60: 2000 | I60: lb | L60: MMBTU | N60: year | P60: gal | R60: 2000 | S60: lb
A63: = | B63: =(B59*D59*F59)/H60 -> 0 | C63: ton | E63: = | F63: =B63*2000/8760 -> 0 | G63: lbs | K63: = | L63: =(L59*N59*P59)/R60 -> 0 | M63: ton | O63: = | P63: =L63*2000/8760 -> 0 | Q63: lbs
C64: year | G64: hr | M64: year | Q64: hr
A67: Cálculos Emisiones Pb | K67: Cálculos Emisiones Pb
A69: = | B69: 1.4e-05 | C69: lb | D69: =B13 -> 0 | E69: gal | F69: 0.138 | G69: MMBTU | H69: ton | K69: = | L69: 1.4e-05 | M69: lb | N69: =L13 -> 0 | O69: gal | P69: 0.138 | Q69: MMBTU | R69: ton
B70: MMBTU | D70: year | F70: gal | H70: 2000 | I70: lb | L70: MMBTU | N70: year | P70: gal | R70: 2000 | S70: lb
A73: = | B73: =(B69*D69*F69)/H70 -> 0 | C73: ton | E73: = | F73: =B73*2000/8760 -> 0 | G73: lbs | K73: = | L73: =(L69*N69*P69)/R70 -> 0 | M73: ton | O73: = | P73: =L73*2000/8760 -> 0 | Q73: lbs
C74: year | G74: hr | M74: year | Q74: hr
A77: Cálculos Emisiones CO2e | K77: Cálculos Emisiones CO2e
A79: = | B79: =V14 -> 22.578421 | C79: lb | D79: =D69 -> 0 | E79: gal | G79: ton | K79: = | L79: =V14 -> 22.578421 | M79: lb | N79: =N69 -> 0 | O79: gal | Q79: ton
C80: gal | E80: year | F80: 2000 | G80: lb | M80: gal | O80: year | P80: 2000 | Q80: lb
A83: = | B83: =B79*D79/F80 -> 0 | C83: ton | D83: = | E83: =B83*(2000/8760) -> 0 | F83: lb | K83: = | L83: =L79*N79/P80 -> 0 | M83: ton | N83: = | O83: =L83*(2000/8760) -> 0 | P83: lb
C84: year | F84: hr | M84: year | P84: hr

Sheet Cálculos Jobos
A1: Cómputo de Emisiones Actuales JUNIO 2022 - JOGT1-1 | K1: Cómputo de Emisiones Actuales JUNIO 2022 - JOGT1-2
A3: AP-42 Fifth Edition, Volume I, Chapter 3.1 | K3: AP-42 Fifth Edition, Volume I, Chapter 3.1
A4: Stationary Internal Combustion Sources | K4: Stationary Internal Combustion Sources
A5: PM10 | B5: 0.012 | C5: lb/MMBTU | K5: PM10 | L5: 0.012 | M5: lb/MMBTU
A6: SOx | B6: 1.01 | C6: *S lb/MMBTU | K6: SOx | L6: 1.01 | M6: *S lb/MMBTU
A7: NOx | B7: 0.88 | C7: lb/MMBTU | K7: NOx | L7: 0.88 | M7: lb/MMBTU
A8: VOC | B8: 0.00041 | C8: lb/MMBTU | K8: VOC | L8: 0.00041 | M8: lb/MMBTU
A9: CO | B9: 0.0033 | C9: lb/MMBTU | K9: CO | L9: 0.0033 | M9: lb/MMBTU
A10: Pb | B10: 1.4e-05 | C10: lb/MMBTU | K10: Pb | L10: 1.4e-05 | M10: lb/MMBTU
A11: CO2e | B11: 22.578 lb/gal | C11: 40 CFR 98 | K11: CO2e | L11: 22.578 lb/gal | M11: 40 CFR 98
A13: Combustible | B13: =Turbinas!N11 -> 0 | C13: gal/year | D13: (Units limited to 2,600 hrs of operation per year) | K13: Combustible | L13: =Turbinas!O11 -> 344374 | M13: gal/year | N13: (Units limited to 2,600 hrs of operation per year)
A14: Azufre | B14: =Turbinas!W11 -> 0.01 | K14: Azufre | L14: =Turbinas!X11 -> 0.01 | V14: =(73.96+0.003*25+0.0006*298)*2.2046*0.138 -> 22.578421 | W14: lbs/gal
A17: Cálculos Emisiones PM10 | K17: Cálculos Emisiones PM10
A19: = | B19: 0.012 | C19: lb | D19: =B13 -> 0 | E19: gal | F19: 0.138 | G19: MMBTU | H19: ton | K19: = | L19: 0.012 | M19: lb | N19: =L13 -> 344374 | O19: gal | P19: 0.138 | Q19: MMBTU | R19: ton
B20: MMBTU | D20: year | F20: gal | H20: 2000 | I20: lb | L20: MMBTU | N20: year | P20: gal | R20: 2000 | S20: lb
A23: = | B23: =(B19*D19*F19)/H20 -> 0 | C23: ton | D23: = | E23: =B23*2000/8760 -> 0 | F23: lb | K23: = | L23: =(L19*N19*P19)/R20 -> 0.28514167 | M23: ton | N23: = | O23: =L23*2000/8760 -> 0.065100838 | P23: lb
C24: year | F24: hr | M24: year | P24: hr
A27: Cálculos Emisiones SOx | K27: Cálculos Emisiones SOx
A29: = | B29: =B6*B14 -> 0.0101 | C29: lb | D29: =B13 -> 0 | E29: gal | F29: 0.138 | G29: MMBTU | H29: ton | K29: = | L29: =L6*L14 -> 0.0101 | M29: lb | N29: =L13 -> 344374 | O29: gal | P29: 0.138 | Q29: MMBTU | R29: ton
B30: MMBTU | D30: year | F30: gal | H30: 2000 | I30: lb | L30: MMBTU | N30: year | P30: gal | R30: 2000 | S30: lb
A33: = | B33: =(B29*D29*F29)/H30 -> 0 | C33: ton | D33: = | E33: =B33*2000/8760 -> 0 | F33: lb | K33: = | L33: =(L29*N29*P29)/R30 -> 0.23999424 | M33: ton | N33: = | O33: =L33*2000/8760 -> 0.054793206 | P33: lb
C34: year | F34: hr | M34: year | P34: hr
A37: Cálculos Emisiones NOx | K37: Cálculos Emisiones NOx
A39: = | B39: 0.88 | C39: lb | D39: =B13 -> 0 | E39: gal | F39: 0.138 | G39: MMBTU | H39: ton | K39: = | L39: 0.88 | M39: lb | N39: =L13 -> 344374 | O39: gal | P39: 0.138 | Q39: MMBTU | R39: ton
B40: MMBTU | D40: year | F40: gal | H40: 2000 | I40: lb | L40: MMBTU | N40: year | P40: gal | R40: 2000 | S40: lb
A43: = | B43: =(B39*D39*F39)/H40 -> 0 | C43: ton | D43: = | E43: =B43*2000/8760 -> 0 | F43: lb | K43: = | L43: =(L39*N39*P39)/R40 -> 20.910389 | M43: ton | N43: = | O43: =L43*2000/8760 -> 4.7740615 | P43: lb
C44: year | F44: hr | M44: year | P44: hr
A47: Cálculos Emisiones VOC | K47: Cálculos Emisiones VOC
A49: = | B49: 0.00041 | C49: lb | D49: =B13 -> 0 | E49: gal | F49: 0.138 | G49: MMBTU | H49: ton | K49: = | L49: 0.00041 | M49: lb | N49: =L13 -> 344374 | O49: gal | P49: 0.138 | Q49: MMBTU | R49: ton
B50: MMBTU | D50: year | F50: gal | H50: 2000 | I50: lb | L50: MMBTU | N50: year | P50: gal | R50: 2000 | S50: lb
A53: = | B53: =(B49*D49*F49)/H50 -> 0 | C53: ton | D53: = | E53: =B53*2000/8760 -> 0 | F53: lb | K53: = | L53: =(L49*N49*P49)/R50 -> 0.0097423405 | M53: ton | N53: = | O53: =L53*2000/8760 -> 0.0022242786 | P53: lb
C54: year | F54: hr | M54: year | P54: hr
A57: Cálculos Emisiones CO | K57: Cálculos Emisiones CO
A59: = | B59: 0.0033 | C59: lb | D59: =B13 -> 0 | E59: gal | F59: 0.138 | G59: MMBTU | H59: ton | K59: = | L59: 0.0033 | M59: lb | N59: =L13 -> 344374 | O59: gal | P59: 0.138 | Q59: MMBTU | R59: ton
B60: MMBTU | D60: year | F60: gal | H60: 2000 | I60: lb | L60: MMBTU | N60: year | P60: gal | R60: 2000 | S60: lb
A63: = | B63: =(B59*D59*F59)/H60 -> 0 | C63: ton | D63: = | E63: =B63*2000/8760 -> 0 | F63: lb | K63: = | L63: =(L59*N59*P59)/R60 -> 0.07841396 | M63: ton | N63: = | O63: =L63*2000/8760 -> 0.017902731 | P63: lb
C64: year | F64: hr | M64: year | P64: hr
A67: Cálculos Emisiones Pb | K67: Cálculos Emisiones Pb
A69: = | B69: 1.4e-05 | C69: lb | D69: =B13 -> 0 | E69: gal | F69: 0.138 | G69: MMBTU | H69: ton | K69: = | L69: 1.4e-05 | M69: lb | N69: =L13 -> 344374 | O69: gal | P69: 0.138 | Q69: MMBTU | R69: ton
B70: MMBTU | D70: year | F70: gal | H70: 2000 | I70: lb | L70: MMBTU | N70: year | P70: gal | R70: 2000 | S70: lb
A73: = | B73: =(B69*D69*F69)/H70 -> 0 | C73: ton | D73: = | E73: =B73*2000/8760 -> 0 | F73: lb | K73: = | L73: =(L69*N69*P69)/R70 -> 0.00033266528 | M73: ton | N73: = | O73: =L73*2000/8760 -> 7.5950978e-05 | P73: lb
C74: year | F74: hr | M74: year | P74: hr
A77: Cálculos Emisiones CO2e | K77: Cálculos Emisiones CO2e
A79: = | B79: =V14 -> 22.578421 | C79: lb | D79: =D69 -> 0 | E79: gal | G79: ton | K79: = | L79: =V14 -> 22.578421 | M79: lb | N79: =N69 -> 344374 | O79: gal | Q79: ton
C80: gal | E80: year | F80: 2000 | G80: lb | M80: gal | O80: year | P80: 2000 | Q80: lb
A83: = | B83: =B79*D79/F80 -> 0 | C83: ton | D83: = | E83: =B83*(2000/8760) -> 0 | F83: lb | K83: = | L83: =L79*N79/P80 -> 3887.7105 | M83: ton | N83: = | O83: =L83*(2000/8760) -> 887.60514 | P83: lb
C84: year | F84: hr | M84: year | P84: hr

Sheet Cálculos Mayagüez
A1: Cómputo de Emisiones Actuales JUNIO 2022- Mayagüez MAYGT5 | K1: Cómputo de Emisiones Actuales JUNIO 2022- Mayagüez MAYGT6 | U1: Cómputo de Emisiones Actuales JUNIO 2022 - Mayagüez MAYGT7 | AE1: Cómputo de Emisiones Actuales JUNIO 2022 - Mayagüez MAYGT8
A3: Factores de Emisión AP-42 Sect. 3.1 | K3: Factores de Emisión AP-42 Sect. 3.1 | U3: Factores de Emisión AP-42 Sect. 3.1 | AE3: Factores de Emisión AP-42 Sect. 3.1
A4: PM | B4: 0.012lb/MMBTU | K4: PM | L4: 0.012lb/MMBTU | U4: PM | V4: 0.012lb/MMBTU | AE4: PM | AF4: 0.012lb/MMBTU
A5: SOx | B5: 1.01*%S lb/MMBTU | K5: SOx | L5: 1.01*%S lb/MMBTU | U5: SOx | V5: 1.01*%S lb/MMBTU | AE5: SOx | AF5: 1.01*%S lb/MMBTU
A6: NOx | B6: 0.288 lb/MMBTU | C6: Permit Limit (PFE-50-0307-0286-I-II-C) | K6: NOx | L6: 0.288 lb/MMBTU | N6: Permit Limit (PFE-50-0307-0286-I-II-C) | U6: NOx | V6: 0.288 lb/MMBTU | X6: Permit Limit (PFE-50-0307-0286-I-II-C) | AE6: NOx | AF6: 0.288 lb/MMBTU | AH6: Permit Limit (PFE-50-0307-0286-I-II-C)
A7: VOC | B7: 0.00041 lb/MMBTU | K7: VOC | L7: 0.00041 lb/MMBTU | U7: VOC | V7: 0.00041 lb/MMBTU | AE7: VOC | AF7: 0.00041 lb/MMBTU
A8: CO | B8: 0.0033 lb/MMBTU | K8: CO | L8: 0.0033 lb/MMBTU | U8: CO | V8: 0.0033 lb/MMBTU | AE8: CO | AF8: 0.0033 lb/MMBTU
A9: Pb | B9: 0.000014 lb MMBTU | K9: Pb | L9: 0.000014 lb MMBTU | U9: Pb | V9: 0.000014 lb MMBTU | AE9: Pb | AF9: 0.000014 lb MMBTU
A10: CO2e | B10: 22.578 lb/gal | C10: 40 CFR 98 | K10: CO2e | L10: 22.578 lb/gal | M10: 40 CFR 98 | U10: CO2e | V10: 22.578 lb/gal | W10: 40 CFR 98 | AE10: CO2e | AF10: 22.578 lb/gal | AG10: 40 CFR 98
A12: Combustible | B12: =Turbinas!B29 -> 1707 | C12: gals/year | K12: Combustible | L12: =Turbinas!C29 -> 281873 | M12: gals/year | U12: Combustible | V12: =Turbinas!D29 -> 705278 | W12: gals/year | AE12: Combustible | AF12: =Turbinas!E29 -> 118998 | AG12: gals/year
A13: Azufre % | B13: =Turbinas!Y11 -> 0.01 | K13: Azufre % | L13: =Turbinas!Z11 -> 0.01 | U13: Azufre % | V13: =Turbinas!AA11 -> 0.01 | AE13: Azufre % | AF13: =Turbinas!AB11 -> 0.01 | AO13: =(73.96+0.003*25+0.0006*298)*2.2046*0.138 -> 22.578421 | AP13: lbs/gal
A16: Cálculos Emisiones PM | K16: Cálculos Emisiones PM | U16: Cálculos Emisiones PM | AE16: Cálculos Emisiones PM
A18: = | B18: 0.012 | C18: lb | D18: =B12 -> 1707 | E18: galones | F18: 0.138 | G18: MMBTU | H18: 1 | I18: ton | K18: = | L18: 0.012 | M18: lb | N18: =L12 -> 281873 | O18: galones | P18: 0.138 | Q18: MMBTU | R18: 1 | S18: ton | U18: = | V18: 0.012 | W18: lb | X18: =V12 -> 705278 | Y18: galones | Z18: 0.138 | AA18: MMBTU | AB18: 1 | AC18: ton | AE18: = | AF18: 0.012 | AG18: lb | AH18: =AF12 -> 118998 | AI18: galones | AJ18: 0.138 | AK18: MMBTU | AL18: 1 | AM18: ton
C19: MMBTU | E19: year | G19: gal | H19: 2000 | I19: lb | M19: MMBTU | O19: year | Q19: gal | R19: 2000 | S19: lb | W19: MMBTU | Y19: year | AA19: gal | AB19: 2000 | AC19: lb | AG19: MMBTU | AI19: year | AK19: gal | AL19: 2000 | AM19: lb
A21: = | B21: =(B18*D18*F18)/H19 -> 0.001413396 | C21: ton | E21: = | F21: =B21*2000/8760 -> 0.00032269315 | G21: lb | K21: = | L21: =(L18*N18*P18)/R19 -> 0.23339084 | M21: ton | O21: = | P21: =L21*2000/8760 -> 0.053285581 | Q21: lb | U21: = | V21: =(V18*X18*Z18)/AB19 -> 0.58397018 | W21: ton | Y21: = | Z21: =V21*2000/8760 -> 0.13332653 | AA21: lb | AE21: = | AF21: =(AF18*AH18*AJ18)/AL19 -> 0.098530344 | AG21: ton | AI21: = | AJ21: =AF21*2000/8760 -> 0.022495512 | AK21: lb
C22: year | G22: hr | M22: year | Q22: hr | W22: year | AA22: hr | AG22: year | AK22: hr
A24: Cálculos Emisiones SOx | K24: Cálculos Emisiones SOx | U24: Cálculos Emisiones SOx | AE24: Cálculos Emisiones SOx
A26: = | B26: =1.01*B13 -> 0.0101 | C26: lb | D26: =B12 -> 1707 | E26: galones | F26: 0.138 | G26: MMBTU | H26: 1 | I26: ton | K26: = | L26: =1.01*L13 -> 0.0101 | M26: lb | N26: =L12 -> 281873 | O26: galones | P26: 0.138 | Q26: MMBTU | R26: 1 | S26: ton | U26: = | V26: =1.01*V13 -> 0.0101 | W26: lb | X26: =V12 -> 705278 | Y26: galones | Z26: 0.138 | AA26: MMBTU | AB26: 1 | AC26: ton | AE26: = | AF26: =1.01*AF13 -> 0.0101 | AG26: lb | AH26: =AF12 -> 118998 | AI26: galones | AJ26: 0.138 | AK26: MMBTU | AL26: 1 | AM26: ton
C27: MMBTU | E27: year | G27: gal | H27: 2000 | I27: lb | M27: MMBTU | O27: year | Q27: gal | R27: 2000 | S27: lb | W27: MMBTU | Y27: year | AA27: gal | AB27: 2000 | AC27: lb | AG27: MMBTU | AI27: year | AK27: gal | AL27: 2000 | AM27: lb
A29: = | B29: =(B26*D26*F26)/H27 -> 0.0011896083 | C29: ton | E29: = | F29: =B29*2000/8760 -> 0.00027160007 | G29: lb | K29: = | L29: =(L26*N26*P26)/R27 -> 0.19643729 | M29: ton | O29: = | P29: =L29*2000/8760 -> 0.044848697 | Q29: lb | U29: = | V29: =(V26*X26*Z26)/AB27 -> 0.49150824 | W29: ton | Y29: = | Z29: =V29*2000/8760 -> 0.11221649 | AA29: lb | AE29: = | AF29: =(AF26*AH26*AJ26)/AL27 -> 0.082929706 | AG29: ton | AI29: = | AJ29: =AF29*2000/8760 -> 0.018933723 | AK29: lb
C30: year | G30: hr | M30: year | Q30: hr | W30: year | AA30: hr | AG30: year | AK30: hr
A32: Cálculos Emisiones NOx | K32: Cálculos Emisiones NOx | U32: Cálculos Emisiones NOx | AE32: Cálculos Emisiones NOx
A34: = | B34: =74*20.9/5.9*9190*0.0000001194 -> 0.28763772 | C34: lb | D34: =B12 -> 1707 | E34: galones | F34: 0.138 | G34: MMBTU | H34: 1 | I34: ton | K34: = | L34: =74*20.9/5.9*9190*0.0000001194 -> 0.28763772 | M34: lb | N34: =L12 -> 281873 | O34: galones | P34: 0.138 | Q34: MMBTU | R34: 1 | S34: ton | U34: = | V34: =74*20.9/5.9*9190*0.0000001194 -> 0.28763772 | W34: lb | X34: =V12 -> 705278 | Y34: galones | Z34: 0.138 | AA34: MMBTU | AB34: 1 | AC34: ton | AE34: = | AF34: =74*20.9/5.9*9190*0.0000001194 -> 0.28763772 | AG34: lb | AH34: =AF12 -> 118998 | AI34: galones | AJ34: 0.138 | AK34: MMBTU | AL34: 1 | AM34: ton
C35: MMBTU | E35: year | G35: gal | H35: 2000 | I35: lb | M35: MMBTU | O35: year | Q35: gal | R35: 2000 | S35: lb | W35: MMBTU | Y35: year | AA35: gal | AB35: 2000 | AC35: lb | AG35: MMBTU | AI35: year | AK35: gal | AL35: 2000 | AM35: lb
A37: = | B37: =(B34*D34*F34)/H35 -> 0.033878833 | C37: ton | E37: = | F37: =B37*2000/8760 -> 0.0077348934 | G37: lb | K37: = | L37: =(L34*N34*P34)/R35 -> 5.5943341 | M37: ton | O37: = | P37: =L37*2000/8760 -> 1.2772452 | Q37: lb | U37: = | V37: =(V34*X34*Z34)/AB35 -> 13.997654 | W37: ton | Y37: = | Z37: =V37*2000/8760 -> 3.1958115 | AA37: lb | AE37: = | AF37: =(AF34*AH34*AJ34)/AL35 -> 2.3617536 | AG37: ton | AI37: = | AJ37: =AF37*2000/8760 -> 0.53921315 | AK37: lb
C38: year | G38: hr | M38: year | Q38: hr | W38: year | AA38: hr | AG38: year | AK38: hr
A40: Cálculos Emisiones VOC | K40: Cálculos Emisiones VOC | U40: Cálculos Emisiones VOC | AE40: Cálculos Emisiones VOC
A42: = | B42: 0.00041 | C42: lb | D42: =B12 -> 1707 | E42: galones | F42: 0.138 | G42: MMBTU | H42: 1 | I42: ton | K42: = | L42: 0.00041 | M42: lb | N42: =L12 -> 281873 | O42: galones | P42: 0.138 | Q42: MMBTU | R42: 1 | S42: ton | U42: = | V42: 0.00041 | W42: lb | X42: =V12 -> 705278 | Y42: galones | Z42: 0.138 | AA42: MMBTU | AB42: 1 | AC42: ton | AE42: = | AF42: 0.00041 | AG42: lb | AH42: =AF12 -> 118998 | AI42: galones | AJ42: 0.138 | AK42: MMBTU | AL42: 1 | AM42: ton
C43: MMBTU | E43: year | G43: gal | H43: 2000 | I43: lb | M43: MMBTU | O43: year | Q43: gal | R43: 2000 | S43: lb | W43: MMBTU | Y43: year | AA43: gal | AB43: 2000 | AC43: lb | AG43: MMBTU | AI43: year | AK43: gal | AL43: 2000 | AM43: lb
A45: = | B45: =(B42*D42*F42)/H43 -> 4.829103e-05 | C45: ton | E45: = | F45: =B45*2000/8760 -> 1.1025349e-05 | G45: lb | K45: = | L45: =(L42*N42*P42)/R43 -> 0.0079741872 | M45: ton | O45: = | P45: =L45*2000/8760 -> 0.0018205907 | Q45: lb | U45: = | V45: =(V42*X42*Z42)/AB43 -> 0.019952315 | W45: ton | Y45: = | Z45: =V45*2000/8760 -> 0.004555323 | AA45: lb | AE45: = | AF45: =(AF42*AH42*AJ42)/AL43 -> 0.0033664534 | AG45: ton | AI45: = | AJ45: =AF45*2000/8760 -> 0.00076859667 | AK45: lb
C46: year | G46: hr | M46: year | Q46: hr | W46: year | AA46: hr | AG46: year | AK46: hr
A51: Cómputo de Emisiones Actuales JUNIO 2022 - Mayagüez MAYGT5 | K51: Cómputo de Emisiones Actuales JUNIO 2022 - Mayagüez MAYGT6 | U51: Cómputo de Emisiones Actuales JUNIO 2022 - Mayagüez MAYGT7 | AE51: Cómputo de Emisiones Actuales JUNIO 2022 - Mayagüez MAYGT8
A53: Cálculos Emisiones CO | K53: Cálculos Emisiones CO | U53: Cálculos Emisiones CO | AE53: Cálculos Emisiones CO
A55: = | B55: 0.0033 | C55: lb | D55: =B12 -> 1707 | E55: galones | F55: 0.138 | G55: MMBTU | H55: 1 | I55: ton | K55: = | L55: 0.0033 | M55: lb | N55: =L12 -> 281873 | O55: galones | P55: 0.138 | Q55: MMBTU | R55: 1 | S55: ton | U55: = | V55: 0.0033 | W55: lb | X55: =V12 -> 705278 | Y55: galones | Z55: 0.138 | AA55: MMBTU | AB55: 1 | AC55: ton | AE55: = | AF55: 0.0033 | AG55: lb | AH55: =AF12 -> 118998 | AI55: galones | AJ55: 0.138 | AK55: MMBTU | AL55: 1 | AM55: ton
C56: MMBTU | E56: year | G56: gal | H56: 2000 | I56: lb | M56: MMBTU | O56: year | Q56: gal | R56: 2000 | S56: lb | W56: MMBTU | Y56: year | AA56: gal | AB56: 2000 | AC56: lb | AG56: MMBTU | AI56: year | AK56: gal | AL56: 2000 | AM56: lb
A58: = | B58: =(B55*D55*F55)/H56 -> 0.0003886839 | C58: ton | E58: = | F58: =B58*2000/8760 -> 8.8740616e-05 | G58: lb | K58: = | L58: =(L55*N55*P55)/R56 -> 0.064182482 | M58: ton | O58: = | P58: =L58*2000/8760 -> 0.014653535 | Q58: lb | U58: = | V58: =(V55*X55*Z55)/AB56 -> 0.1605918 | W58: ton | Y58: = | Z58: =V58*2000/8760 -> 0.036664795 | AA58: lb | AE58: = | AF58: =(AF55*AH55*AJ55)/AL56 -> 0.027095845 | AG58: ton | AI58: = | AJ58: =AF58*2000/8760 -> 0.0061862659 | AK58: lb
C59: year | G59: hr | M59: year | Q59: hr | W59: year | AA59: hr | AG59: year | AK59: hr
A61: Cálculos Emisiones Pb | K61: Cálculos Emisiones Pb | U61: Cálculos Emisiones Pb | AE61: Cálculos Emisiones Pb
A63: = | B63: 1.4e-05 | C63: lb | D63: =B12 -> 1707 | E63: galones | F63: 0.138 | G63: MMBTU | H63: 1 | I63: ton | K63: = | L63: 1.4e-05 | M63: lb | N63: =L12 -> 281873 | O63: galones | P63: 0.138 | Q63: MMBTU | R63: 1 | S63: ton | U63: = | V63: 1.4e-05 | W63: lb | X63: =V12 -> 705278 | Y63: galones | Z63: 0.138 | AA63: MMBTU | AB63: 1 | AC63: ton | AE63: = | AF63: 1.4e-05 | AG63: lb | AH63: =AF12 -> 118998 | AI63: galones | AJ63: 0.138 | AK63: MMBTU | AL63: 1 | AM63: ton
C64: MMBTU | E64: year | G64: gal | H64: 2000 | I64: lb | M64: MMBTU | O64: year | Q64: gal | R64: 2000 | S64: lb | W64: MMBTU | Y64: year | AA64: gal | AB64: 2000 | AC64: lb | AG64: MMBTU | AI64: year | AK64: gal | AL64: 2000 | AM64: lb
A66: = | B66: =(B63*D63*F63)/H64 -> 1.648962e-06 | C66: ton | E66: = | F66: =B66*2000/8760 -> 3.7647534e-07 | G66: lb | K66: = | L66: =(L63*N63*P63)/R64 -> 0.00027228932 | M66: ton | O66: = | P66: =L66*2000/8760 -> 6.2166511e-05 | Q66: lb | U66: = | V66: =(V63*X63*Z63)/AB64 -> 0.00068129855 | W66: ton | Y66: = | Z66: =V66*2000/8760 -> 0.00015554761 | AA66: lb | AE66: = | AF66: =(AF63*AH63*AJ63)/AL64 -> 0.00011495207 | AG66: ton | AI66: = | AJ66: =AF66*2000/8760 -> 2.6244764e-05 | AK66: lb
C67: year | G67: hr | M67: year | Q67: hr | W67: year | AA67: hr | AG67: year | AK67: hr
A70: Cálculos Emisiones CO2e | K70: Cálculos Emisiones CO2e | U70: Cálculos Emisiones CO2e | AE70: Cálculos Emisiones CO2e
A72: = | B72: =AO13 -> 22.578421 | C72: lb | D72: =D63 -> 1707 | E72: gal | G72: ton | K72: = | L72: =AO13 -> 22.578421 | M72: lb | N72: =N63 -> 281873 | O72: gal | Q72: ton | U72: = | V72: =AO13 -> 22.578421 | W72: lb | X72: =X63 -> 705278 | Y72: gal | AA72: ton | AE72: = | AF72: =AO13 -> 22.578421 | AG72: lb | AH72: =AH63 -> 118998 | AI72: gal | AK72: ton
C73: gal | E73: year | F73: 2000 | G73: lb | M73: gal | O73: year | P73: 2000 | Q73: lb | W73: gal | Y73: year | Z73: 2000 | AA73: lb | AG73: gal | AI73: year | AJ73: 2000 | AK73: lb
A76: = | B76: =B72*D72/F73 -> 19.270682 | C76: ton | D76: = | E76: =B76*(2000/8760) -> 4.3996991 | F76: lb | K76: = | L76: =L72*N72/P73 -> 3182.1236 | M76: ton | N76: = | O76: =L76*(2000/8760) -> 726.51223 | P76: lb | U76: = | V76: =V72*X72/Z73 -> 7962.0317 | W76: ton | X76: = | Y76: =V76*(2000/8760) -> 1817.8154 | Z76: lb | AE76: = | AF76: =AF72*AH72/AJ73 -> 1343.3934 | AG76: ton | AH76: = | AI76: =AF76*(2000/8760) -> 306.71083 | AJ76: lb
C77: year | F77: hr | M77: year | P77: hr | W77: year | Z77: hr | AG77: year | AJ77: hr

Sheet Datos de origen 2026
A2: DATOS DE ORIGEN — ENERO A JUNIO 2026
A3: Valores tomados de los reportes mensuales de consumo de combustible y cálculo de emisiones, organizados por hoja y celda de origen.
A4: Enero | B4: 001)Consumos Combustible y Cálculos de Emisiones 2026 ENERO.xlsx
A5: Febrero | B5: 002)Consumos Combustible y Cálculos de Emisiones 2026 FEBRERO.xlsx
A6: Marzo | B6: 003)Consumos Combustible y Calculos de Emisiones 2026 MARZO.xlsx
A7: Abril | B7: 004)Consumos Combustible y Cálculos de Emisiones 2026 ABRIL.xlsx
A8: Mayo | B8: 005)Consumos Combustible y Cálculos de Emisiones 2026 MAYO.xlsx
A9: Junio | B9: 006)Consumos Combustible y Cálculos de Emisiones 2026 JUNIO.xlsx
A11: Cada fila corresponde a una celda de la hoja de origen indicada. Las columnas de enero a junio contienen el valor de esa celda en el reporte de cada mes.
A12: Una celda vacía indica que el reporte de ese mes no contiene valor en esa posición.
A14: Hoja de origen | B14: Celda | C14: Tipo de valor | D14: Ene 2026 | E14: Feb 2026 | F14: Mar 2026 | G14: Abr 2026 | H14: May 2026 | I14: Jun 2026 | J14: Sección en la hoja de origen
A15: Costa Sur
A16: Costa Sur | B16: B5 | C16: Dato | D16: 0 | G16: 0 | H16: 0 | I16: ='Costa Sur'!B5 -> 0 | J16: 2024-01-01 00:00:00
A17: Costa Sur | B17: C5 | C17: Dato | D17: 0 | G17: 0 | H17: 0 | I17: ='Costa Sur'!C5 -> 0 | J17: 2024-01-01 00:00:00
A18: Costa Sur | B18: D5 | C18: Dato | D18: 0 | J18: 2025-01-01 00:00:00
A19: Costa Sur | B19: E5 | C19: Dato | D19: 897043.98 | J19: 2025-01-01 00:00:00
A20: Costa Sur | B20: F5 | C20: Dato | G20: 0 | I20: ='Costa Sur'!F5 -> 0 | J20: 2024-01-01 00:00:00
A21: Costa Sur | B21: G5 | C21: Dato | G21: 0 | I21: ='Costa Sur'!G5 -> 0 | J21: 2024-01-01 00:00:00
A22: Costa Sur | B22: H5 | C22: Dato | D22: 0.47 | J22: 2025-01-01 00:00:00
A23: Costa Sur | B23: I5 | C23: Dato | D23: 0.47 | J23: 2025-01-01 00:00:00
A24: Costa Sur | B24: B6 | C24: Dato | D24: 0 | E24: 0 | G24: 0 | H24: 0 | I24: ='Costa Sur'!B6 -> 0 | J24: 2024-02-01 00:00:00
A25: Costa Sur | B25: C6 | C25: Dato | D25: 0 | E25: 0 | G25: 0 | H25: 0 | I25: ='Costa Sur'!C6 -> 0 | J25: 2024-02-01 00:00:00
A26: Costa Sur | B26: D6 | C26: Cálculo | E26: =SUM($E$32*42) -> 1967839.9 | J26: 2026-02-01 00:00:00
A27: Costa Sur | B27: E6 | C27: Cálculo | E27: =SUM($E$33*42) -> 7883312.2 | J27: 2026-02-01 00:00:00
A28: Costa Sur | B28: F6 | C28: Dato | E28: 0 | G28: 0 | I28: ='Costa Sur'!F6 -> 0 | J28: 2024-02-01 00:00:00
A29: Costa Sur | B29: G6 | C29: Dato | E29: 0 | G29: 0 | I29: ='Costa Sur'!G6 -> 0 | J29: 2024-02-01 00:00:00
A30: Costa Sur | B30: H6 | C30: Dato | E30: 0.47 | J30: 2026-02-01 00:00:00
A31: Costa Sur | B31: I6 | C31: Dato | E31: 0.47 | J31: 2026-02-01 00:00:00
A32: Costa Sur | B32: L6 | C32: Dato | E32: 46853.33 | J32: 2026-02-01 00:00:00
A33: Costa Sur | B33: M6 | C33: Dato | E33: 187697.91 | J33: 2026-02-01 00:00:00
A34: Costa Sur | B34: B7 | C34: Dato | D34: 0 | F34: 0 | G34: 0 | H34: 0 | I34: ='Costa Sur'!B7 -> 0 | J34: 2024-03-01 00:00:00
A35: Costa Sur | B35: C7 | C35: Dato | D35: 0 | F35: 0 | G35: 0 | H35: 0 | I35: ='Costa Sur'!C7 -> 0 | J35: 2024-03-01 00:00:00
A36: Costa Sur | B36: D7 | C36: Cálculo | F36: =SUM($F$42*42) -> 2316600.3 | J36: 2024-03-01 00:00:00
A37: Costa Sur | B37: E7 | C37: Cálculo | F37: =SUM($F$43*42) -> 2939540.1 | J37: 2024-03-01 00:00:00
A38: Costa Sur | B38: F7 | C38: Dato | F38: 0 | G38: 0 | I38: ='Costa Sur'!F7 -> 0 | J38: 2024-03-01 00:00:00
A39: Costa Sur | B39: G7 | C39: Dato | F39: 0 | G39: 0 | I39: ='Costa Sur'!G7 -> 0 | J39: 2024-03-01 00:00:00
A40: Costa Sur | B40: H7 | C40: Dato | F40: 0.48 | J40: 2024-03-01 00:00:00
A41: Costa Sur | B41: I7 | C41: Dato | F41: 0.48 | J41: 2024-03-01 00:00:00
A42: Costa Sur | B42: L7 | C42: Dato | F42: 55157.15 | J42: 2024-03-01 00:00:00
A43: Costa Sur | B43: M7 | C43: Dato | F43: 69989.05 | J43: 2024-03-01 00:00:00
A44: Costa Sur | B44: B8 | C44: Dato | D44: 0 | G44: 0 | H44: 0 | I44: ='Costa Sur'!B8 -> 0 | J44: 2024-04-01 00:00:00
A45: Costa Sur | B45: C8 | C45: Dato | D45: 0 | G45: 0 | H45: 0 | I45: ='Costa Sur'!C8 -> 0 | J45: 2024-04-01 00:00:00
A46: Costa Sur | B46: D8 | C46: Dato | G46: 71616.72 | J46: 2024-04-01 00:00:00
A47: Costa Sur | B47: E8 | C47: Dato | G47: 195657.84 | J47: 2024-04-01 00:00:00
A48: Costa Sur | B48: F8 | C48: Dato | G48: 0 | I48: ='Costa Sur'!F8 -> 0 | J48: 2024-04-01 00:00:00
A49: Costa Sur | B49: G8 | C49: Dato | G49: 0 | I49: ='Costa Sur'!G8 -> 0 | J49: 2024-04-01 00:00:00
A50: Costa Sur | B50: H8 | C50: Dato | G50: 0.48 | J50: 2024-04-01 00:00:00
A51: Costa Sur | B51: I8 | C51: Dato | G51: 0.48 | J51: 2024-04-01 00:00:00
A52: Costa Sur | B52: B9 | C52: Dato | D52: 0 | G52: 0 | H52: 0 | I52: ='Costa Sur'!B9 -> 0 | J52: 2024-05-01 00:00:00
A53: Costa Sur | B53: C9 | C53: Dato | D53: 0 | G53: 0 | H53: 0 | I53: ='Costa Sur'!C9 -> 0 | J53: 2024-05-01 00:00:00
A54: Costa Sur | B54: D9 | C54: Dato | H54: 692202.42 | J54: 2022-05-01 00:00:00
A55: Costa Sur | B55: E9 | C55: Dato | H55: 4968238.8 | J55: 2022-05-01 00:00:00
A56: Costa Sur | B56: F9 | C56: Dato | G56: 0 | H56: 0 | I56: ='Costa Sur'!F9 -> 0 | J56: 2024-05-01 00:00:00
A57: Costa Sur | B57: G9 | C57: Dato | G57: 0 | H57: 0 | I57: ='Costa Sur'!G9 -> 0 | J57: 2024-05-01 00:00:00
A58: Costa Sur | B58: H9 | C58: Dato | H58: 0.49 | J58: 2022-05-01 00:00:00
A59: Costa Sur | B59: I9 | C59: Dato | H59: 0.49 | J59: 2022-05-01 00:00:00
A60: Costa Sur | B60: B10 | C60: Dato | D60: 0 | G60: 0 | H60: 0 | I60: ='Costa Sur'!B10 -> 0 | J60: 2024-06-01 00:00:00
A61: Costa Sur | B61: C10 | C61: Dato | D61: 0 | G61: 0 | H61: 0 | I61: ='Costa Sur'!C10 -> 0 | J61: 2024-06-01 00:00:00
A62: Costa Sur | B62: D10 | C62: Dato | I62: ='Costa Sur'!D10 -> 490512.54 | J62: 2024-06-01 00:00:00
A63: Costa Sur | B63: E10 | C63: Dato | I63: ='Costa Sur'!E10 -> 1798110.3 | J63: 2024-06-01 00:00:00
A64: Costa Sur | B64: F10 | C64: Dato | G64: 0 | I64: ='Costa Sur'!F10 -> 0 | J64: 2024-06-01 00:00:00
A65: Costa Sur | B65: G10 | C65: Dato | G65: 0 | I65: ='Costa Sur'!G10 -> 0 | J65: 2024-06-01 00:00:00
A66: Costa Sur | B66: H10 | C66: Dato | I66: ='Costa Sur'!H10 -> 0.47 | J66: 2024-06-01 00:00:00
A67: Costa Sur | B67: I10 | C67: Dato | I67: ='Costa Sur'!I10 -> 0.47 | J67: 2024-06-01 00:00:00
A68: Costa Sur | B68: B11 | C68: Dato | D68: 0 | G68: 0 | H68: 0 | I68: ='Costa Sur'!B11 -> 0 | J68: 2024-07-01 00:00:00
A69: Costa Sur | B69: C11 | C69: Dato | D69: 0 | G69: 0 | H69: 0 | I69: ='Costa Sur'!C11 -> 0 | J69: 2024-07-01 00:00:00
A70: Costa Sur | B70: F11 | C70: Dato | G70: 0 | I70: ='Costa Sur'!F11 -> 0 | J70: 2024-07-01 00:00:00
A71: Costa Sur | B71: G11 | C71: Dato | G71: 0 | I71: ='Costa Sur'!G11 -> 0 | J71: 2024-07-01 00:00:00
A72: Costa Sur | B72: B12 | C72: Dato | D72: 0 | G72: 0 | H72: 0 | I72: ='Costa Sur'!B12 -> 0 | J72: 2024-08-01 00:00:00
A73: Costa Sur | B73: C12 | C73: Dato | D73: 0 | G73: 0 | H73: 0 | I73: ='Costa Sur'!C12 -> 0 | J73: 2024-08-01 00:00:00
A74: Costa Sur | B74: F12 | C74: Dato | G74: 0 | I74: ='Costa Sur'!F12 -> 0 | J74: 2024-08-01 00:00:00
A75: Costa Sur | B75: G12 | C75: Dato | G75: 0 | I75: ='Costa Sur'!G12 -> 0 | J75: 2024-08-01 00:00:00
A76: Costa Sur | B76: B13 | C76: Dato | D76: 0 | G76: 0 | H76: 0 | I76: ='Costa Sur'!B13 -> 0 | J76: 2024-09-01 00:00:00
A77: Costa Sur | B77: C13 | C77: Dato | D77: 0 | G77: 0 | H77: 0 | I77: ='Costa Sur'!C13 -> 0 | J77: 2024-09-01 00:00:00
A78: Costa Sur | B78: F13 | C78: Dato | G78: 0 | I78: ='Costa Sur'!F13 -> 0 | J78: 2024-09-01 00:00:00
A79: Costa Sur | B79: G13 | C79: Dato | G79: 0 | I79: ='Costa Sur'!G13 -> 0 | J79: 2024-09-01 00:00:00
A80: Costa Sur | B80: B14 | C80: Dato | D80: 0 | G80: 0 | H80: 0 | I80: ='Costa Sur'!B14 -> 0 | J80: 2024-10-01 00:00:00
A81: Costa Sur | B81: C14 | C81: Dato | D81: 0 | G81: 0 | H81: 0 | I81: ='Costa Sur'!C14 -> 0 | J81: 2024-10-01 00:00:00
A82: Costa Sur | B82: F14 | C82: Dato | G82: 0 | I82: ='Costa Sur'!F14 -> 0 | J82: 2024-10-01 00:00:00
A83: Costa Sur | B83: G14 | C83: Dato | G83: 0 | I83: ='Costa Sur'!G14 -> 0 | J83: 2024-10-01 00:00:00
A84: Costa Sur | B84: B15 | C84: Dato | D84: 0 | G84: 0 | H84: 0 | I84: ='Costa Sur'!B15 -> 0 | J84: 2024-11-01 00:00:00
A85: Costa Sur | B85: C15 | C85: Dato | D85: 0 | G85: 0 | H85: 0 | I85: ='Costa Sur'!C15 -> 0 | J85: 2024-11-01 00:00:00
A86: Costa Sur | B86: F15 | C86: Dato | G86: 0 | I86: ='Costa Sur'!F15 -> 0 | J86: 2024-11-01 00:00:00
A87: Costa Sur | B87: G15 | C87: Dato | G87: 0 | I87: ='Costa Sur'!G15 -> 0 | J87: 2024-11-01 00:00:00
A88: Costa Sur | B88: B16 | C88: Dato | D88: 0 | G88: 0 | H88: 0 | I88: ='Costa Sur'!B16 -> 0 | J88: 2024-12-01 00:00:00
A89: Costa Sur | B89: C16 | C89: Dato | D89: 0 | G89: 0 | H89: 0 | I89: ='Costa Sur'!C16 -> 0 | J89: 2024-12-01 00:00:00
A90: Costa Sur | B90: F16 | C90: Dato | G90: 0 | I90: ='Costa Sur'!F16 -> 0 | J90: 2024-12-01 00:00:00
A91: Costa Sur | B91: G16 | C91: Dato | G91: 0 | I91: ='Costa Sur'!G16 -> 0 | J91: 2024-12-01 00:00:00
A92: Costa Sur | B92: B17 | C92: Cálculo | D92: =SUM($D$16,$D$24,$D$34,$D$44,$D$52,$D$60,$D$68,$D$72,$D$76,$D$80,$D$84,$D$88) -> 0 | E92: =SUM($E$16,$E$24,$E$34,$E$44,$E$52,$E$60,$E$68,$E$72,$E$76,$E$80,$E$84,$E$88) -> 0 | F92: =SUM($F$16,$F$24,$F$34,$F$44,$F$52,$F$60,$F$68,$F$72,$F$76,$F$80,$F$84,$F$88) -> 0 | G92: =SUM($G$16,$G$24,$G$34,$G$44,$G$52,$G$60,$G$68,$G$72,$G$76,$G$80,$G$84,$G$88) -> 0 | H92: =SUM($H$16,$H$24,$H$34,$H$44,$H$52,$H$60,$H$68,$H$72,$H$76,$H$80,$H$84,$H$88) -> 0 | I92: =SUM($I$16,$I$24,$I$34,$I$44,$I$52,$I$60,$I$68,$I$72,$I$76,$I$80,$I$84,$I$88) -> 0 | J92: Total
A93: Costa Sur | B93: C17 | C93: Cálculo | D93: =SUM($D$17,$D$25,$D$35,$D$45,$D$53,$D$61,$D$69,$D$73,$D$77,$D$81,$D$85,$D$89) -> 0 | E93: =SUM($E$17,$E$25,$E$35,$E$45,$E$53,$E$61,$E$69,$E$73,$E$77,$E$81,$E$85,$E$89) -> 0 | F93: =SUM($F$17,$F$25,$F$35,$F$45,$F$53,$F$61,$F$69,$F$73,$F$77,$F$81,$F$85,$F$89) -> 0 | G93: =SUM($G$17,$G$25,$G$35,$G$45,$G$53,$G$61,$G$69,$G$73,$G$77,$G$81,$G$85,$G$89) -> 0 | H93: =SUM($H$17,$H$25,$H$35,$H$45,$H$53,$H$61,$H$69,$H$73,$H$77,$H$81,$H$85,$H$89) -> 0 | I93: =SUM($I$17,$I$25,$I$35,$I$45,$I$53,$I$61,$I$69,$I$73,$I$77,$I$81,$I$85,$I$89) -> 0 | J93: Total
A94: Costa Sur | B94: F17 | C94: Cálculo | E94: =AVERAGE($E$20,$E$28,$E$38,$E$48,$E$56,$E$64,$E$70,$E$74,$E$78,$E$82,$E$86,$E$90) -> 0 | F94: =AVERAGE($F$20,$F$28,$F$38,$F$48,$F$56,$F$64,$F$70,$F$74,$F$78,$F$82,$F$86,$F$90) -> 0 | G94: =AVERAGE($G$20,$G$28,$G$38,$G$48,$G$56,$G$64,$G$70,$G$74,$G$78,$G$82,$G$86,$G$90) -> 0 | H94: =AVERAGE($H$20,$H$28,$H$38,$H$48,$H$56,$H$64,$H$70,$H$74,$H$78,$H$82,$H$86,$H$90) -> 0 | I94: =AVERAGE($I$20,$I$28,$I$38,$I$48,$I$56,$I$64,$I$70,$I$74,$I$78,$I$82,$I$86,$I$90) -> 0 | J94: Total
A95: Costa Sur | B95: G17 | C95: Cálculo | E95: =AVERAGE($E$21,$E$29,$E$39,$E$49,$E$57,$E$65,$E$71,$E$75,$E$79,$E$83,$E$87,$E$91) -> 0 | F95: =AVERAGE($F$21,$F$29,$F$39,$F$49,$F$57,$F$65,$F$71,$F$75,$F$79,$F$83,$F$87,$F$91) -> 0 | G95: =AVERAGE($G$21,$G$29,$G$39,$G$49,$G$57,$G$65,$G$71,$G$75,$G$79,$G$83,$G$87,$G$91) -> 0 | H95: =AVERAGE($H$21,$H$29,$H$39,$H$49,$H$57,$H$65,$H$71,$H$75,$H$79,$H$83,$H$87,$H$91) -> 0 | I95: =AVERAGE($I$21,$I$29,$I$39,$I$49,$I$57,$I$65,$I$71,$I$75,$I$79,$I$83,$I$87,$I$91) -> 0 | J95: Total
A96: Costa Sur | B96: B24 | C96: Dato | D96: 0
A97: Costa Sur | B97: C24 | C97: Dato | D97: 0
A98: Costa Sur | B98: D24 | C98: Dato | D98: 0.001
A99: Costa Sur | B99: E24 | C99: Dato | D99: 0.001
A100: Costa Sur | B100: B25 | C100: Dato | E100: 0 | J100: 2026-02-01 00:00:00
A101: Costa Sur | B101: C25 | C101: Dato | E101: 0 | J101: 2026-02-01 00:00:00
A102: Costa Sur | B102: D25 | C102: Dato | E102: 0.008 | J102: 2026-02-01 00:00:00
A103: Costa Sur | B103: E25 | C103: Dato | E103: 0.008 | J103: 2026-02-01 00:00:00
...

Sheet Mensual 2026
A1: Emisiones mensuales 2026
A2: Concepto | B2: Unidad | C2: Ene | D2: Feb | E2: Mar | F2: Abr | G2: May | H2: Jun | I2: Total
A3: PM | B3: ton | C3: =C15+C27+C39+C72+C81+C90+C99+C108 -> 60.363892 | D3: =D15+D27+D39+D72+D81+D90+D99+D108 -> 66.385293 | E3: =E15+E27+E39+E72+E81+E90+E99+E108 -> 68.922914 | F3: =F15+F27+F39+F72+F81+F90+F99+F108 -> 58.977627 | G3: =G15+G27+G39+G72+G81+G90+G99+G108 -> 78.48713 | H3: =H15+H27+H39+H72+H81+H90+H99+H108 -> 73.05139 | I3: =IF(COUNT(C3:H3)=6,SUM(C3:H3),"n.d.") -> 406.18825
A4: PM10 | B4: ton | C4: =C16+C28+C52+C63 -> 52.226502 | D4: =D16+D28+D52+D63 -> 60.435084 | E4: =E16+E28+E52+E63 -> 45.189946 | F4: =F16+F28+F52+F63 -> 62.083127 | G4: =G16+G28+G52+G63 -> 74.136207 | H4: =H16+H28+H52+H63 -> 86.139044 | I4: =IF(COUNT(C4:H4)=6,SUM(C4:H4),"n.d.") -> 380.20991
A5: PM2.5 | B5: ton | C5: =C17+C29+C53 -> 15.65307 | D5: =D17+D29+D53 -> 31.515282 | E5: =E17+E29+E53 -> 33.378454 | F5: =F17+F29+F53 -> 22.136519 | G5: =G17+G29+G53 -> 32.804448 | H5: =H17+H29+H53 -> 29.461304 | I5: =IF(COUNT(C5:H5)=6,SUM(C5:H5),"n.d.") -> 164.94908
A6: SOx / SO2 | B6: ton | C6: =C18+C30+C40+C54+C64+C73+C82+C91+C100+C109 -> 791.26774 | D6: =D18+D30+D40+D54+D64+D73+D82+D91+D100+D109 -> 917.20947 | E6: =E18+E30+E40+E54+E64+E73+E82+E91+E100+E109 -> 620.1644 | F6: =F18+F30+F40+F54+F64+F73+F82+F91+F100+F109 -> 696.07747 | G6: =G18+G30+G40+G54+G64+G73+G82+G91+G100+G109 -> 987.3113 | H6: =H18+H30+H40+H54+H64+H73+H82+H91+H100+H109 -> 1004.2533 | I6: =IF(COUNT(C6:H6)=6,SUM(C6:H6),"n.d.") -> 5016.2837
A7: NOx | B7: ton | C7: =C19+C31+C41+C55+C65+C74+C83+C92+C101+C110 -> 1309.3355 | D7: =D19+D31+D41+D55+D65+D74+D83+D92+D101+D110 -> 1033.402 | E7: =E19+E31+E41+E55+E65+E74+E83+E92+E101+E110 -> 1329.3051 | F7: =F19+F31+F41+F55+F65+F74+F83+F92+F101+F110 -> 1428.4907 | G7: =G19+G31+G41+G55+G65+G74+G83+G92+G101+G110 -> 1576.7483 | H7: =H19+H31+H41+H55+H65+H74+H83+H92+H101+H110 -> 1916.019 | I7: =IF(COUNT(C7:H7)=6,SUM(C7:H7),"n.d.") -> 8593.3006
A8: VOC | B8: ton | C8: =C20+C32+C42+C56+C66+C75+C84+C93+C102+C111 -> 10.706793 | D8: =D20+D32+D42+D56+D66+D75+D84+D93+D102+D111 -> 8.5989563 | E8: =E20+E32+E42+E56+E66+E75+E84+E93+E102+E111 -> 8.8560972 | F8: =F20+F32+F42+F56+F66+F75+F84+F93+F102+F111 -> 12.735834 | G8: =G20+G32+G42+G56+G66+G75+G84+G93+G102+G111 -> 12.759608 | H8: =H20+H32+H42+H56+H66+H75+H84+H93+H102+H111 -> 15.025063 | I8: =IF(COUNT(C8:H8)=6,SUM(C8:H8),"n.d.") -> 68.682352
A9: CO | B9: ton | C9: =C21+C33+C43+C57+C67+C76+C85+C94+C103+C112 -> 77.949661 | D9: =D21+D33+D43+D57+D67+D76+D85+D94+D103+D112 -> 56.757547 | E9: =E21+E33+E43+E57+E67+E76+E85+E94+E103+E112 -> 59.507355 | F9: =F21+F33+F43+F57+F67+F76+F85+F94+F103+F112 -> 80.409855 | G9: =G21+G33+G43+G57+G67+G76+G85+G94+G103+G112 -> 82.882667 | H9: =H21+H33+H43+H57+H67+H76+H85+H94+H103+H112 -> 107.53592 | I9: =IF(COUNT(C9:H9)=6,SUM(C9:H9),"n.d.") -> 465.04301
A10: H2SO4 | B10: ton | C10: =C22+C34+C58 -> 6.2419266 | D10: =D22+D34+D58 -> 24.231797 | E10: =E22+E34+E58 -> 16.129904 | F10: =F22+F34+F58 -> 12.592153 | G10: =G22+G34+G58 -> 20.005883 | H10: =H22+H34+H58 -> 9.155992 | I10: =IF(COUNT(C10:H10)=6,SUM(C10:H10),"n.d.") -> 88.357656
A11: Pb | B11: ton | C11: =C23+C35+C44+C59+C68+C77+C86+C95+C104+C113 -> 0.021927394 | D11: =D23+D35+D44+D59+D68+D77+D86+D95+D104+D113 -> 0.019528201 | E11: =E23+E35+E44+E59+E68+E77+E86+E95+E104+E113 -> 0.016831573 | F11: =F23+F35+F44+F59+F68+F77+F86+F95+F104+F113 -> 0.025690042 | G11: =G23+G35+G44+G59+G68+G77+G86+G95+G104+G113 -> 0.025944978 | H11: =H23+H35+H44+H59+H68+H77+H86+H95+H104+H113 -> 0.02867219 | I11: =IF(COUNT(C11:H11)=6,SUM(C11:H11),"n.d.") -> 0.13859438
A12: CO2e | B12: ton | C12: =C24+C36+C45+C60+C69+C78+C87+C96+C105+C114 -> 538679.36 | D12: =D24+D36+D45+D60+D69+D78+D87+D96+D105+D114 -> 465431.57 | E12: =E24+E36+E45+E60+E69+E78+E87+E96+E105+E114 -> 543547.57 | F12: =F24+F36+F45+F60+F69+F78+F87+F96+F105+F114 -> 594795.02 | G12: =G24+G36+G45+G60+G69+G78+G87+G96+G105+G114 -> 661029.6 | H12: =H24+H36+H45+H60+H69+H78+H87+H96+H105+H114 -> 800501.53 | I12: =IF(COUNT(C12:H12)=6,SUM(C12:H12),"n.d.") -> 3603984.7
A13: Detalle por instalación: entradas mensuales y emisiones calculadas
A14: Costa Sur
A15: PM | B15: ton | C15: ='Datos de origen 2026'!$D$389 -> 7.8217208 | D15: ='Datos de origen 2026'!$E$389 -> 22.224864 | E15: ='Datos de origen 2026'!$F$389 -> 19.984056 | F15: ='Datos de origen 2026'!$G$389 -> 8.3705581 | G15: ='Datos de origen 2026'!$H$389 -> 19.53911 | H15: ='Datos de origen 2026'!$I$389 -> 15.641512 | I15: =IF(COUNT(C15:H15)=6,SUM(C15:H15),"n.d.") -> 93.581821
A16: PM10 | B16: ton | C16: ='Datos de origen 2026'!$D$390 -> 12.365071 | D16: ='Datos de origen 2026'!$E$390 -> 32.642574 | E16: ='Datos de origen 2026'!$F$390 -> 30.580513 | F16: ='Datos de origen 2026'!$G$390 -> 13.469097 | G16: ='Datos de origen 2026'!$H$390 -> 29.721732 | H16: ='Datos de origen 2026'!$I$390 -> 24.558258 | I16: =IF(COUNT(C16:H16)=6,SUM(C16:H16),"n.d.") -> 143.33724
A17: PM2.5 | B17: ton | C17: ='Datos de origen 2026'!$D$391 -> 11.177535 | D17: ='Datos de origen 2026'!$E$391 -> 27.241896 | E17: ='Datos de origen 2026'!$F$391 -> 26.723847 | F17: ='Datos de origen 2026'!$G$391 -> 12.390461 | G17: ='Datos de origen 2026'!$H$391 -> 25.806267 | H17: ='Datos de origen 2026'!$I$391 -> 22.046183 | I17: =IF(COUNT(C17:H17)=6,SUM(C17:H17),"n.d.") -> 125.38619
A18: SOx / SO2 | B18: ton | C18: ='Datos de origen 2026'!$D$392 -> 37.873692 | D18: ='Datos de origen 2026'!$E$392 -> 364.98375 | E18: ='Datos de origen 2026'!$F$392 -> 205.36598 | F18: ='Datos de origen 2026'!$G$392 -> 16.326349 | G18: ='Datos de origen 2026'!$H$392 -> 224.02043 | H18: ='Datos de origen 2026'!$I$392 -> 93.175722 | I18: =IF(COUNT(C18:H18)=6,SUM(C18:H18),"n.d.") -> 941.74592
A19: NOx | B19: ton | C19: ='Datos de origen 2026'!$D$393 -> 441.55713 | D19: ='Datos de origen 2026'!$E$393 -> 392.07313 | E19: ='Datos de origen 2026'!$F$393 -> 778.00234 | F19: ='Datos de origen 2026'!$G$393 -> 554.36726 | G19: ='Datos de origen 2026'!$H$393 -> 699.09806 | H19: ='Datos de origen 2026'!$I$393 -> 824.5623 | I19: =IF(COUNT(C19:H19)=6,SUM(C19:H19),"n.d.") -> 3689.6602
A20: VOC | B20: ton | C20: ='Datos de origen 2026'!$D$394 -> 1.0429126 | D20: ='Datos de origen 2026'!$E$394 -> 1.2655854 | E20: ='Datos de origen 2026'!$F$394 -> 1.9753963 | F20: ='Datos de origen 2026'!$G$394 -> 1.277148 | G20: ='Datos de origen 2026'!$H$394 -> 1.810205 | H20: ='Datos de origen 2026'!$I$394 -> 1.9705372 | I20: =IF(COUNT(C20:H20)=6,SUM(C20:H20),"n.d.") -> 9.3417844
A21: CO | B21: ton | C21: ='Datos de origen 2026'!$D$395 -> 11.004479 | D21: ='Datos de origen 2026'!$E$395 -> 6.2399313 | E21: ='Datos de origen 2026'!$F$395 -> 17.95588 | F21: ='Datos de origen 2026'!$G$395 -> 14.150921 | G21: ='Datos de origen 2026'!$H$395 -> 15.769235 | H21: ='Datos de origen 2026'!$I$395 -> 20.310468 | I21: =IF(COUNT(C21:H21)=6,SUM(C21:H21),"n.d.") -> 85.430914
A22: H2SO4 | B22: ton | C22: ='Datos de origen 2026'!$D$396 -> 2.0333716 | D22: ='Datos de origen 2026'!$E$396 -> 16.854305 | E22: ='Datos de origen 2026'!$F$396 -> 9.6915368 | F22: ='Datos de origen 2026'!$G$396 -> 1.1252901 | G22: ='Datos de origen 2026'!$H$396 -> 10.266545 | H22: ='Datos de origen 2026'!$I$396 -> 4.8167248 | I22: =IF(COUNT(C22:H22)=6,SUM(C22:H22),"n.d.") -> 44.787773
A23: Pb | B23: ton | C23: ='Datos de origen 2026'!$D$397 -> 0.00031149852 | D23: ='Datos de origen 2026'!$E$397 -> 0.0034208126 | E23: ='Datos de origen 2026'!$F$397 -> 0.0018251948 | F23: ='Datos de origen 2026'!$G$397 -> 9.2811091e-05 | G23: ='Datos de origen 2026'!$H$397 -> 0.0019655882 | H23: ='Datos de origen 2026'!$I$397 -> 0.00079472428 | I23: =IF(COUNT(C23:H23)=6,SUM(C23:H23),"n.d.") -> 0.0084106294
A24: CO2e | B24: ton | C24: ='Datos de origen 2026'!$D$398 -> 149862.55 | D24: ='Datos de origen 2026'!$E$398 -> 166376.97 | E24: ='Datos de origen 2026'!$F$398 -> 279191.77 | F24: ='Datos de origen 2026'!$G$398 -> 184611.47 | G24: ='Datos de origen 2026'!$H$398 -> 254737.81 | H24: ='Datos de origen 2026'!$I$398 -> 282380.01 | I24: =IF(COUNT(C24:H24)=6,SUM(C24:H24),"n.d.") -> 1317160.6
A26: San Juan
A27: PM | B27: ton | C27: ='Datos de origen 2026'!$D$746 -> 6.6521011 | D27: ='Datos de origen 2026'!$E$746 -> 9.0407409 | E27: ='Datos de origen 2026'!$F$746 -> 9.6363335 | F27: ='Datos de origen 2026'!$G$746 -> 13.457679 | G27: ='Datos de origen 2026'!$H$746 -> 12.544566 | H27: ='Datos de origen 2026'!$I$746 -> 9.9134503 | I27: =IF(COUNT(C27:H27)=6,SUM(C27:H27),"n.d.") -> 61.244871
A28: PM10 | B28: ton | C28: ='Datos de origen 2026'!$D$747 -> 7.7257351 | D28: ='Datos de origen 2026'!$E$747 -> 10.954619 | E28: ='Datos de origen 2026'!$F$747 -> 11.808579 | F28: ='Datos de origen 2026'!$G$747 -> 16.772662 | G28: ='Datos de origen 2026'!$H$747 -> 15.51046 | H28: ='Datos de origen 2026'!$I$747 -> 11.054879 | I28: =IF(COUNT(C28:H28)=6,SUM(C28:H28),"n.d.") -> 73.826934
A29: PM2.5 | B29: ton | C29: ='Datos de origen 2026'!$D$570+'Datos de origen 2026'!$D$664 -> 3.9165421 | D29: ='Datos de origen 2026'!$E$570+'Datos de origen 2026'!$E$664 -> 4.0736943 | E29: ='Datos de origen 2026'!$F$570+'Datos de origen 2026'!$F$664 -> 6.4796504 | F29: ='Datos de origen 2026'!$G$570+'Datos de origen 2026'!$G$664 -> 6.4350811 | G29: ='Datos de origen 2026'!$H$570+'Datos de origen 2026'!$H$664 -> 6.936444 | H29: ='Datos de origen 2026'!$I$570+'Datos de origen 2026'!$I$664 -> 7.414515 | I29: =IF(COUNT(C29:H29)=6,SUM(C29:H29),"n.d.") -> 35.255927
A30: SOx / SO2 | B30: ton | C30: ='Datos de origen 2026'!$D$748 -> 50.125231 | D30: ='Datos de origen 2026'!$E$748 -> 89.042531 | E30: ='Datos de origen 2026'!$F$748 -> 61.767045 | F30: ='Datos de origen 2026'!$G$748 -> 130.26289 | G30: ='Datos de origen 2026'!$H$748 -> 112.911 | H30: ='Datos de origen 2026'!$I$748 -> 50.070977 | I30: =IF(COUNT(C30:H30)=6,SUM(C30:H30),"n.d.") -> 494.17967
A31: NOx | B31: ton | C31: ='Datos de origen 2026'!$D$749 -> 68.484658 | D31: ='Datos de origen 2026'!$E$749 -> 83.195874 | E31: ='Datos de origen 2026'!$F$749 -> 73.950232 | F31: ='Datos de origen 2026'!$G$749 -> 105.88885 | G31: ='Datos de origen 2026'!$H$749 -> 98.573427 | H31: ='Datos de origen 2026'!$I$749 -> 110.65009 | I31: =IF(COUNT(C31:H31)=6,SUM(C31:H31),"n.d.") -> 540.74313
A32: VOC | B32: ton | C32: ='Datos de origen 2026'!$D$751 -> 1.6778241 | D32: ='Datos de origen 2026'!$E$751 -> 2.0866109 | E32: ='Datos de origen 2026'!$F$751 -> 2.3846941 | F32: ='Datos de origen 2026'!$G$751 -> 3.0507974 | G32: ='Datos de origen 2026'!$H$751 -> 2.9484668 | H32: ='Datos de origen 2026'!$I$751 -> 2.7233337 | I32: =IF(COUNT(C32:H32)=6,SUM(C32:H32),"n.d.") -> 14.871727
A33: CO | B33: ton | C33: ='Datos de origen 2026'!$D$750 -> 14.624824 | D33: ='Datos de origen 2026'!$E$750 -> 16.610419 | E33: ='Datos de origen 2026'!$F$750 -> 13.587212 | F33: ='Datos de origen 2026'!$G$750 -> 19.286703 | G33: ='Datos de origen 2026'!$H$750 -> 18.113922 | H33: ='Datos de origen 2026'!$I$750 -> 24.685851 | I33: =IF(COUNT(C33:H33)=6,SUM(C33:H33),"n.d.") -> 106.90893
A34: H2SO4 | B34: ton | C34: ='Datos de origen 2026'!$D$522+'Datos de origen 2026'!$D$574+'Datos de origen 2026'!$D$668 -> 4.2013012 | D34: ='Datos de origen 2026'!$E$522+'Datos de origen 2026'!$E$574+'Datos de origen 2026'!$E$668 -> 7.3749013 | E34: ='Datos de origen 2026'!$F$522+'Datos de origen 2026'!$F$574+'Datos de origen 2026'!$F$668 -> 6.4360969 | F34: ='Datos de origen 2026'!$G$522+'Datos de origen 2026'!$G$574+'Datos de origen 2026'!$G$668 -> 11.423897 | G34: ='Datos de origen 2026'!$H$522+'Datos de origen 2026'!$H$574+'Datos de origen 2026'!$H$668 -> 9.7385364 | H34: ='Datos de origen 2026'!$I$522+'Datos de origen 2026'!$I$574+'Datos de origen 2026'!$I$668 -> 4.3392413 | I34: =IF(COUNT(C34:H34)=6,SUM(C34:H34),"n.d.") -> 43.513974
A35: Pb | B35: ton | C35: ='Datos de origen 2026'!$D$752 -> 0.001108239 | D35: ='Datos de origen 2026'!$E$752 -> 0.0019704416 | E35: ='Datos de origen 2026'!$F$752 -> 0.0023767461 | F35: ='Datos de origen 2026'!$G$752 -> 0.0035023488 | G35: ='Datos de origen 2026'!$H$752 -> 0.0031717003 | H35: ='Datos de origen 2026'!$I$752 -> 0.0012013694 | I35: =IF(COUNT(C35:H35)=6,SUM(C35:H35),"n.d.") -> 0.013330845
A36: CO2e | B36: ton | C36: ='Datos de origen 2026'!$D$753 -> 78002.133 | D36: ='Datos de origen 2026'!$E$753 -> 88849.305 | E36: ='Datos de origen 2026'!$F$753 -> 83383.298 | F36: ='Datos de origen 2026'!$G$753 -> 110489.84 | G36: ='Datos de origen 2026'!$H$753 -> 106169.21 | H36: ='Datos de origen 2026'!$I$753 -> 132747.52 | I36: =IF(COUNT(C36:H36)=6,SUM(C36:H36),"n.d.") -> 599641.3
A38: Aguirre
A39: PM | B39: ton | C39: ='Datos de origen 2026'!$D$987 -> 45.205194 | D39: ='Datos de origen 2026'!$E$987 -> 34.622343 | E39: ='Datos de origen 2026'!$F$987 -> 38.516546 | F39: ='Datos de origen 2026'!$G$987 -> 36.26323 | G39: ='Datos de origen 2026'!$H$987 -> 45.401952 | H39: ='Datos de origen 2026'!$I$987 -> 45.887051 | I39: =IF(COUNT(C39:H39)=6,SUM(C39:H39),"n.d.") -> 245.89631
A40: SOx / SO2 | B40: ton | C40: ='Datos de origen 2026'!$D$988 -> 396.24468 | D40: ='Datos de origen 2026'!$E$988 -> 308.07359 | E40: ='Datos de origen 2026'!$F$988 -> 344.809 | F40: ='Datos de origen 2026'!$G$988 -> 320.32937 | G40: ='Datos de origen 2026'!$H$988 -> 405.38764 | H40: ='Datos de origen 2026'!$I$988 -> 413.24933 | I40: =IF(COUNT(C40:H40)=6,SUM(C40:H40),"n.d.") -> 2188.0936
A41: NOx | B41: ton | C41: ='Datos de origen 2026'!$D$989 -> 539.00605 | D41: ='Datos de origen 2026'!$E$989 -> 422.07665 | E41: ='Datos de origen 2026'!$F$989 -> 435.10324 | F41: ='Datos de origen 2026'!$G$989 -> 476.93718 | G41: ='Datos de origen 2026'!$H$989 -> 543.38345 | H41: ='Datos de origen 2026'!$I$989 -> 564.01373 | I41: =IF(COUNT(C41:H41)=6,SUM(C41:H41),"n.d.") -> 2980.5203
A42: VOC | B42: ton | C42: ='Datos de origen 2026'!$D$990 -> 4.5451311 | D42: ='Datos de origen 2026'!$E$990 -> 3.3377798 | E42: ='Datos de origen 2026'!$F$990 -> 3.7970409 | F42: ='Datos de origen 2026'!$G$990 -> 3.4604885 | G42: ='Datos de origen 2026'!$H$990 -> 4.3872793 | H42: ='Datos de origen 2026'!$I$990 -> 4.3634203 | I42: =IF(COUNT(C42:H42)=6,SUM(C42:H42),"n.d.") -> 23.89114
A43: CO | B43: ton | C43: ='Datos de origen 2026'!$D$991 -> 30.073776 | D43: ='Datos de origen 2026'!$E$991 -> 22.103632 | E43: ='Datos de origen 2026'!$F$991 -> 25.113161 | F43: ='Datos de origen 2026'!$G$991 -> 22.944026 | G43: ='Datos de origen 2026'!$H$991 -> 29.04563 | H43: ='Datos de origen 2026'!$I$991 -> 28.904331 | I43: =IF(COUNT(C43:H43)=6,SUM(C43:H43),"n.d.") -> 158.18456
A44: Pb | B44: ton | C44: ='Datos de origen 2026'!$D$992 -> 0.012784975 | D44: ='Datos de origen 2026'!$E$992 -> 0.0097944478 | E44: ='Datos de origen 2026'!$F$992 -> 0.010446002 | F44: ='Datos de origen 2026'!$G$992 -> 0.010762474 | G44: ='Datos de origen 2026'!$H$992 -> 0.012697856 | H44: ='Datos de origen 2026'!$I$992 -> 0.01299325 | I44: =IF(COUNT(C44:H44)=6,SUM(C44:H44),"n.d.") -> 0.069479006
A45: CO2e | B45: ton | C45: ='Datos de origen 2026'!$D$993 -> 192468.11 | D45: ='Datos de origen 2026'!$E$993 -> 145959.34 | E45: ='Datos de origen 2026'!$F$993 -> 158117.9 | F45: ='Datos de origen 2026'!$G$993 -> 158248.29 | G45: ='Datos de origen 2026'!$H$993 -> 189846.77 | H45: ='Datos de origen 2026'!$I$993 -> 192965.46 | I45: =IF(COUNT(C45:H45)=6,SUM(C45:H45),"n.d.") -> 1037605.9
A47: Palo Seco y MobilePacs
A48: MPs combustible #2 | B48: gal | C48: ='Datos de origen 2026'!$D$1240 -> 457703 | D48: ='Datos de origen 2026'!$E$1240 -> 163508 | E48: ='Datos de origen 2026'!$F$1240 -> 143254 | F48: ='Datos de origen 2026'!$G$1240 -> 2711027 | G48: ='Datos de origen 2026'!$H$1240 -> 50551 | H48: ='Datos de origen 2026'!$I$1240 -> 0 | I48: =IF(COUNT(C48:H48)=6,SUM(C48:H48),"n.d.") -> 3526043
A49: MobilePacs · gas natural (SCF) | B49: SCF | C49: ='Datos de origen 2026'!$D$1241 -> 0 | D49: ='Datos de origen 2026'!$E$1241 -> 0 | E49: ='Datos de origen 2026'!$F$1241 -> 0 | F49: ='Datos de origen 2026'!$G$1241 -> 0 | G49: ='Datos de origen 2026'!$H$1241 -> 0 | H49: ='Datos de origen 2026'!$I$1241 -> 118033.4 | I49: =IF(COUNT(C49:H49)=6,SUM(C49:H49),"n.d.") -> 118033.4
A50: MPs SO2 con entrada de gas | B50: ton | C50: =('Datos de origen 2026'!$D$1277*'Datos de origen 2026'!$D$1278*'Datos de origen 2026'!$D$1279+'Datos de origen 2026'!$D$1241*'Datos de origen 2026'!$D$1281*'Datos de origen 2026'!$D$1282/1000000)/2000 -> 0.047372261 | D50: =('Datos de origen 2026'!$E$1277*'Datos de origen 2026'!$E$1278*'Datos de origen 2026'!$E$1279+'Datos de origen 2026'!$E$1241*'Datos de origen 2026'!$E$1281*'Datos de origen 2026'!$E$1282/1000000)/2000 -> 0.016923078 | E50: =('Datos de origen 2026'!$F$1277*'Datos de origen 2026'!$F$1278*'Datos de origen 2026'!$F$1279+'Datos de origen 2026'!$F$1241*'Datos de origen 2026'!$F$1281*'Datos de origen 2026'!$F$1282/1000000)/2000 -> 0.014826789 | F50: =('Datos de origen 2026'!$G$1277*'Datos de origen 2026'!$G$1278*'Datos de origen 2026'!$G$1279+'Datos de origen 2026'!$G$1241*'Datos de origen 2026'!$G$1281*'Datos de origen 2026'!$G$1282/1000000)/2000 -> 0.28059129 | G50: =('Datos de origen 2026'!$H$1277*'Datos de origen 2026'!$H$1278*'Datos de origen 2026'!$H$1279+'Datos de origen 2026'!$H$1241*'Datos de origen 2026'!$H$1281*'Datos de origen 2026'!$H$1282/1000000)/2000 -> 0.0052320285 | H50: =('Datos de origen 2026'!$I$1277*'Datos de origen 2026'!$I$1278*'Datos de origen 2026'!$I$1279+'Datos de origen 2026'!$I$1241*'Datos de origen 2026'!$I$1281*'Datos de origen 2026'!$I$1282/1000000)/2000 -> 0.00016861915 | I50: =IF(COUNT(C50:H50)=6,SUM(C50:H50),"n.d.") -> 0.36511407
A51: MPs CO2e con entrada de gas | B51: ton | C51: =('Datos de origen 2026'!$D$1298*'Datos de origen 2026'!$D$1299*'Datos de origen 2026'!$D$1300+'Datos de origen 2026'!$D$1241*'Datos de origen 2026'!$D$1302*'Datos de origen 2026'!$D$1303/1000000)/2000 -> 5167.0504 | D51: =('Datos de origen 2026'!$E$1298*'Datos de origen 2026'!$E$1299*'Datos de origen 2026'!$E$1300+'Datos de origen 2026'!$E$1241*'Datos de origen 2026'!$E$1302*'Datos de origen 2026'!$E$1303/1000000)/2000 -> 1845.8565 | E51: =('Datos de origen 2026'!$F$1298*'Datos de origen 2026'!$F$1299*'Datos de origen 2026'!$F$1300+'Datos de origen 2026'!$F$1241*'Datos de origen 2026'!$F$1302*'Datos de origen 2026'!$F$1303/1000000)/2000 -> 1617.2073 | F51: =('Datos de origen 2026'!$G$1298*'Datos de origen 2026'!$G$1299*'Datos de origen 2026'!$G$1300+'Datos de origen 2026'!$G$1241*'Datos de origen 2026'!$G$1302*'Datos de origen 2026'!$G$1303/1000000)/2000 -> 30605.028 | G51: =('Datos de origen 2026'!$H$1298*'Datos de origen 2026'!$H$1299*'Datos de origen 2026'!$H$1300+'Datos de origen 2026'!$H$1241*'Datos de origen 2026'!$H$1302*'Datos de origen 2026'!$H$1303/1000000)/2000 -> 570.67479 | H51: =('Datos de origen 2026'!$I$1298*'Datos de origen 2026'!$I$1299*'Datos de origen 2026'!$I$1300+'Datos de origen 2026'!$I$1241*'Datos de origen 2026'!$I$1302*'Datos de origen 2026'!$I$1303/1000000)/2000 -> 7.0903495 | I51: =IF(COUNT(C51:H51)=6,SUM(C51:H51),"n.d.") -> 39812.907
A52: PM10 | B52: ton | C52: ='Datos de origen 2026'!$D$1306 -> 31.676696 | D52: ='Datos de origen 2026'!$E$1306 -> 15.970892 | E52: ='Datos de origen 2026'!$F$1306 -> 0.37835504 | F52: ='Datos de origen 2026'!$G$1306 -> 25.517369 | G52: ='Datos de origen 2026'!$H$1306 -> 24.008014 | H52: ='Datos de origen 2026'!$I$1306 -> 45.400407 | I52: =IF(COUNT(C52:H52)=6,SUM(C52:H52),"n.d.") -> 142.95173
A53: PM2.5 | B53: ton | C53: ='Datos de origen 2026'!$D$1227 -> 0.55899267 | D53: ='Datos de origen 2026'!$E$1227 -> 0.19969232 | E53: ='Datos de origen 2026'!$F$1227 -> 0.17495611 | F53: ='Datos de origen 2026'!$G$1227 -> 3.3109773 | G53: ='Datos de origen 2026'!$H$1227 -> 0.061737936 | H53: ='Datos de origen 2026'!$I$1227 -> 0.00060551135 | I53: =IF(COUNT(C53:H53)=6,SUM(C53:H53),"n.d.") -> 4.3069618
A54: SOx / SO2 | B54: ton | C54: ='Datos de origen 2026'!$D$1307-'Datos de origen 2026'!$D$1283+C50 -> 305.7335 | D54: ='Datos de origen 2026'!$E$1307-'Datos de origen 2026'!$E$1283+D50 -> 152.362 | E54: ='Datos de origen 2026'!$F$1307-'Datos de origen 2026'!$F$1283+E50 -> 1.0533372 | F54: ='Datos de origen 2026'!$G$1307-'Datos de origen 2026'!$G$1283+F50 -> 211.42502 | G54: ='Datos de origen 2026'!$H$1307-'Datos de origen 2026'!$H$1283+G50 -> 230.9973 | H54: ='Datos de origen 2026'!$I$1307-'Datos de origen 2026'!$I$1283+H50 -> 432.63426 | I54: =IF(COUNT(C54:H54)=6,SUM(C54:H54),"n.d.") -> 1334.2054
A55: NOx | B55: ton | C55: ='Datos de origen 2026'!$D$1308 -> 236.55013 | D55: ='Datos de origen 2026'!$E$1308 -> 120.73762 | E55: ='Datos de origen 2026'!$F$1308 -> 9.8015465 | F55: ='Datos de origen 2026'!$G$1308 -> 242.68821 | G55: ='Datos de origen 2026'!$H$1308 -> 174.69902 | H55: ='Datos de origen 2026'!$I$1308 -> 331.62798 | I55: =IF(COUNT(C55:H55)=6,SUM(C55:H55),"n.d.") -> 1116.1045
A56: VOC | B56: ton | C56: ='Datos de origen 2026'!$D$1309 -> 3.3125256 | D56: ='Datos de origen 2026'!$E$1309 -> 1.6849876 | E56: ='Datos de origen 2026'!$F$1309 -> 0.083611644 | F56: ='Datos de origen 2026'!$G$1309 -> 3.4481234 | G56: ='Datos de origen 2026'!$H$1309 -> 2.4374387 | H56: ='Datos de origen 2026'!$I$1309 -> 4.6642847 | I56: =IF(COUNT(C56:H56)=6,SUM(C56:H56),"n.d.") -> 15.630972
A57: CO | B57: ton | C57: ='Datos de origen 2026'!$D$1310 -> 21.409241 | D57: ='Datos de origen 2026'!$E$1310 -> 10.948795 | E57: ='Datos de origen 2026'!$F$1310 -> 0.43245868 | F57: ='Datos de origen 2026'!$G$1310 -> 20.41451 | G57: ='Datos de origen 2026'!$H$1310 -> 16.004466 | H57: ='Datos de origen 2026'!$I$1310 -> 30.707196 | I57: =IF(COUNT(C57:H57)=6,SUM(C57:H57),"n.d.") -> 99.916667
A58: H2SO4 | B58: ton | C58: ='Datos de origen 2026'!$D$1233 -> 0.0072538774 | D58: ='Datos de origen 2026'!$E$1233 -> 0.0025913463 | E58: ='Datos de origen 2026'!$F$1233 -> 0.0022703521 | F58: ='Datos de origen 2026'!$G$1233 -> 0.042965542 | G58: ='Datos de origen 2026'!$H$1233 -> 0.00080115436 | H58: ='Datos de origen 2026'!$I$1233 -> 2.5819807e-05 | I58: =IF(COUNT(C58:H58)=6,SUM(C58:H58),"n.d.") -> 0.055908092
A59: Pb | B59: ton | C59: ='Datos de origen 2026'!$D$1311 -> 0.0067586595 | D59: ='Datos de origen 2026'!$E$1311 -> 0.0034202622 | E59: ='Datos de origen 2026'!$F$1311 -> 0.0002756549 | F59: ='Datos de origen 2026'!$G$1311 -> 0.0079470541 | G59: ='Datos de origen 2026'!$H$1311 -> 0.0051044124 | H59: ='Datos de origen 2026'!$I$1311 -> 0.0096967401 | I59: =IF(COUNT(C59:H59)=6,SUM(C59:H59),"n.d.") -> 0.033202783
A60: CO2e | B60: ton | C60: ='Datos de origen 2026'!$D$1312-'Datos de origen 2026'!$D$1304+C51 -> 107317.55 | D60: ='Datos de origen 2026'!$E$1312-'Datos de origen 2026'!$E$1304+D51 -> 54700.107 | E60: ='Datos de origen 2026'!$F$1312-'Datos de origen 2026'!$F$1304+E51 -> 3313.2803 | F60: ='Datos de origen 2026'!$G$1312-'Datos de origen 2026'!$G$1304+F51 -> 112038.69 | G60: ='Datos de origen 2026'!$H$1312-'Datos de origen 2026'!$H$1304+G51 -> 81752.398 | H60: ='Datos de origen 2026'!$I$1312-'Datos de origen 2026'!$I$1304+H51 -> 156069.3 | I60: =IF(COUNT(C60:H60)=6,SUM(C60:H60),"n.d.") -> 515191.33
A62: Cambalache
A63: PM10 | B63: ton | C63: ='Datos de origen 2026'!$D$1788 -> 0.459 | D63: ='Datos de origen 2026'!$E$1788 -> 0.867 | E63: ='Datos de origen 2026'!$F$1788 -> 2.4225 | F63: ='Datos de origen 2026'!$G$2284 -> 6.324 | G63: ='Datos de origen 2026'!$H$2284 -> 4.896 | H63: ='Datos de origen 2026'!$I$1788 -> 5.1255 | I63: =IF(COUNT(C63:H63)=6,SUM(C63:H63),"n.d.") -> 20.094
A64: SOx / SO2 | B64: ton | C64: ='Datos de origen 2026'!$D$1789 -> 1.233 | D64: ='Datos de origen 2026'!$E$1789 -> 2.329 | E64: ='Datos de origen 2026'!$F$1789 -> 6.5075 | F64: ='Datos de origen 2026'!$G$2285 -> 16.988 | G64: ='Datos de origen 2026'!$H$2285 -> 13.152 | H64: ='Datos de origen 2026'!$I$1789 -> 13.7685 | I64: =IF(COUNT(C64:H64)=6,SUM(C64:H64),"n.d.") -> 53.978
A65: NOx | B65: ton | C65: ='Datos de origen 2026'!$D$1790 -> 2.43405 | D65: ='Datos de origen 2026'!$E$1790 -> 3.39745 | E65: ='Datos de origen 2026'!$F$1790 -> 9.5058 | F65: ='Datos de origen 2026'!$G$2286 -> 14.7476 | G65: ='Datos de origen 2026'!$H$2286 -> 14.13155 | H65: ='Datos de origen 2026'!$I$1790 -> 12.42535 | I65: =IF(COUNT(C65:H65)=6,SUM(C65:H65),"n.d.") -> 56.6418
A66: VOC | B66: ton | C66: ='Datos de origen 2026'!$D$1791 -> 0.105 | D66: ='Datos de origen 2026'!$E$1791 -> 0.207 | E66: ='Datos de origen 2026'!$F$1791 -> 0.5885 | F66: ='Datos de origen 2026'!$G$2287 -> 1.469 | G66: ='Datos de origen 2026'!$H$2287 -> 1.142 | H66: ='Datos de origen 2026'!$I$1791 -> 1.2485 | I66: =IF(COUNT(C66:H66)=6,SUM(C66:H66),"n.d.") -> 4.76
A67: CO | B67: ton | C67: ='Datos de origen 2026'!$D$1792 -> 0.649 | D67: ='Datos de origen 2026'!$E$1792 -> 0.718 | E67: ='Datos de origen 2026'!$F$1792 -> 2.2025 | F67: ='Datos de origen 2026'!$G$2288 -> 3.37 | G67: ='Datos de origen 2026'!$H$2288 -> 3.674 | H67: ='Datos de origen 2026'!$I$1792 -> 2.4855 | I67: =IF(COUNT(C67:H67)=6,SUM(C67:H67),"n.d.") -> 13.099
A68: Pb | B68: ton | C68: ='Datos de origen 2026'!$D$1793 -> 0.000165 | D68: ='Datos de origen 2026'!$E$1793 -> 0.000342 | E68: ='Datos de origen 2026'!$F$1793 -> 0.000991 | F68: ='Datos de origen 2026'!$G$2289 -> 0.0023515 | G68: ='Datos de origen 2026'!$H$2289 -> 0.001837 | H68: ='Datos de origen 2026'!$I$1793 -> 0.0021085 | I68: =IF(COUNT(C68:H68)=6,SUM(C68:H68),"n.d.") -> 0.007795
A69: CO2e | B69: ton | C69: ='Datos de origen 2026'!$D$1794 -> 1691.2027 | D69: ='Datos de origen 2026'!$E$1794 -> 2764.8793 | E69: ='Datos de origen 2026'!$F$1794 -> 8825.0516 | F69: ='Datos de origen 2026'!$G$2290 -> 17324.551 | G69: ='Datos de origen 2026'!$H$2290 -> 14868.606 | H69: ='Datos de origen 2026'!$I$1794 -> 14396.5 | I69: =IF(COUNT(C69:H69)=6,SUM(C69:H69),"n.d.") -> 59870.791
A71: Daguao
A72: PM | B72: ton | C72: ='Datos de origen 2026'!$D$1870 -> 0 | D72: ='Datos de origen 2026'!$E$1870 -> 0 | E72: ='Datos de origen 2026'!$F$1870 -> 0.026745228 | F72: ='Datos de origen 2026'!$G$1870 -> 0.13251064 | G72: ='Datos de origen 2026'!$H$1870 -> 0.31959392 | H72: ='Datos de origen 2026'!$I$1870 -> 0.40692971 | I72: =IF(COUNT(C72:H72)=6,SUM(C72:H72),"n.d.") -> 0.8857795
A73: SOx / SO2 | B73: ton | C73: ='Datos de origen 2026'!$D$1871 -> 0 | D73: ='Datos de origen 2026'!$E$1871 -> 0 | E73: ='Datos de origen 2026'!$F$1871 -> 0.022510567 | F73: ='Datos de origen 2026'!$G$1871 -> 0.11152979 | G73: ='Datos de origen 2026'!$H$1871 -> 0.26899155 | H73: ='Datos de origen 2026'!$I$1871 -> 0.34249917 | I73: =IF(COUNT(C73:H73)=6,SUM(C73:H73),"n.d.") -> 0.74553108
A74: NOx | B74: ton | C74: ='Datos de origen 2026'!$D$1872 -> 0 | D74: ='Datos de origen 2026'!$E$1872 -> 0 | E74: ='Datos de origen 2026'!$F$1872 -> 1.9613167 | F74: ='Datos de origen 2026'!$G$1872 -> 9.7174466 | G74: ='Datos de origen 2026'!$H$1872 -> 23.436888 | H74: ='Datos de origen 2026'!$I$1872 -> 29.841512 | I74: =IF(COUNT(C74:H74)=6,SUM(C74:H74),"n.d.") -> 64.957163
A75: VOC | B75: ton | C75: ='Datos de origen 2026'!$D$1873 -> 0 | D75: ='Datos de origen 2026'!$E$1873 -> 0 | E75: ='Datos de origen 2026'!$F$1873 -> 0.00091379529 | F75: ='Datos de origen 2026'!$G$1873 -> 0.0045274467 | G75: ='Datos de origen 2026'!$H$1873 -> 0.010919459 | H75: ='Datos de origen 2026'!$I$1873 -> 0.013903432 | I75: =IF(COUNT(C75:H75)=6,SUM(C75:H75),"n.d.") -> 0.030264133
A76: CO | B76: ton | C76: ='Datos de origen 2026'!$D$1874 -> 0 | D76: ='Datos de origen 2026'!$E$1874 -> 0 | E76: ='Datos de origen 2026'!$F$1874 -> 0.0073549377 | F76: ='Datos de origen 2026'!$G$1874 -> 0.036440425 | G76: ='Datos de origen 2026'!$H$1874 -> 0.087888329 | H76: ='Datos de origen 2026'!$I$1874 -> 0.11190567 | I76: =IF(COUNT(C76:H76)=6,SUM(C76:H76),"n.d.") -> 0.24358936
A77: Pb | B77: ton | C77: ='Datos de origen 2026'!$D$1875 -> 0 | D77: ='Datos de origen 2026'!$E$1875 -> 0 | E77: ='Datos de origen 2026'!$F$1875 -> 3.1202766e-05 | F77: ='Datos de origen 2026'!$G$1875 -> 0.00015459574 | G77: ='Datos de origen 2026'!$H$1875 -> 0.00037285958 | H77: ='Datos de origen 2026'!$I$1875 -> 0.00047475133 | I77: =IF(COUNT(C77:H77)=6,SUM(C77:H77),"n.d.") -> 0.0010334094
A78: CO2e | B78: ton | C78: ='Datos de origen 2026'!$D$1876 -> 0 | D78: ='Datos de origen 2026'!$E$1876 -> 0 | E78: ='Datos de origen 2026'!$F$1876 -> 364.65278 | F78: ='Datos de origen 2026'!$G$1876 -> 1806.6913 | G78: ='Datos de origen 2026'!$H$1876 -> 4357.4433 | H78: ='Datos de origen 2026'!$I$1876 -> 5548.2066 | I78: =IF(COUNT(C78:H78)=6,SUM(C78:H78),"n.d.") -> 12076.994
A80: Yabucoa
A81: PM | B81: ton | C81: ='Datos de origen 2026'!$D$1954 -> 0.099003132 | D81: ='Datos de origen 2026'!$E$1954 -> 0 | E81: ='Datos de origen 2026'!$F$1954 -> 0 | F81: ='Datos de origen 2026'!$G$1954 -> 0 | G81: ='Datos de origen 2026'!$H$1954 -> 0 | H81: ='Datos de origen 2026'!$I$1954 -> 0 | I81: =IF(COUNT(C81:H81)=6,SUM(C81:H81),"n.d.") -> 0.099003132
A82: SOx / SO2 | B82: ton | C82: ='Datos de origen 2026'!$D$1955 -> 0.0083327636 | D82: ='Datos de origen 2026'!$E$1955 -> 0 | E82: ='Datos de origen 2026'!$F$1955 -> 0 | F82: ='Datos de origen 2026'!$G$1955 -> 0 | G82: ='Datos de origen 2026'!$H$1955 -> 0 | H82: ='Datos de origen 2026'!$I$1955 -> 0 | I82: =IF(COUNT(C82:H82)=6,SUM(C82:H82),"n.d.") -> 0.0083327636
A83: NOx | B83: ton | C83: ='Datos de origen 2026'!$D$1956 -> 7.2602297 | D83: ='Datos de origen 2026'!$E$1956 -> 0 | E83: ='Datos de origen 2026'!$F$1956 -> 0 | F83: ='Datos de origen 2026'!$G$1956 -> 0 | G83: ='Datos de origen 2026'!$H$1956 -> 0 | H83: ='Datos de origen 2026'!$I$1956 -> 0 | I83: =IF(COUNT(C83:H83)=6,SUM(C83:H83),"n.d.") -> 7.2602297
A84: VOC | B84: ton | C84: ='Datos de origen 2026'!$D$1957 -> 0.003382607 | D84: ='Datos de origen 2026'!$E$1957 -> 0 | E84: ='Datos de origen 2026'!$F$1957 -> 0 | F84: ='Datos de origen 2026'!$G$1957 -> 0 | G84: ='Datos de origen 2026'!$H$1957 -> 0 | H84: ='Datos de origen 2026'!$I$1957 -> 0 | I84: =IF(COUNT(C84:H84)=6,SUM(C84:H84),"n.d.") -> 0.003382607
A85: CO | B85: ton | C85: ='Datos de origen 2026'!$D$1958 -> 0.027225861 | D85: ='Datos de origen 2026'!$E$1958 -> 0 | E85: ='Datos de origen 2026'!$F$1958 -> 0 | F85: ='Datos de origen 2026'!$G$1958 -> 0 | G85: ='Datos de origen 2026'!$H$1958 -> 0 | H85: ='Datos de origen 2026'!$I$1958 -> 0 | I85: =IF(COUNT(C85:H85)=6,SUM(C85:H85),"n.d.") -> 0.027225861
A86: Pb | B86: ton | C86: ='Datos de origen 2026'!$D$1959 -> 0.00011550365 | D86: ='Datos de origen 2026'!$E$1959 -> 0 | E86: ='Datos de origen 2026'!$F$1959 -> 0 | F86: ='Datos de origen 2026'!$G$1959 -> 0 | G86: ='Datos de origen 2026'!$H$1959 -> 0 | H86: ='Datos de origen 2026'!$I$1959 -> 0 | I86: =IF(COUNT(C86:H86)=6,SUM(C86:H86),"n.d.") -> 0.00011550365
A87: CO2e | B87: ton | C87: ='Datos de origen 2026'!$D$1960 -> 1349.8396 | D87: ='Datos de origen 2026'!$E$1960 -> 0 | E87: ='Datos de origen 2026'!$F$1960 -> 0 | F87: ='Datos de origen 2026'!$G$1960 -> 0 | G87: ='Datos de origen 2026'!$H$1960 -> 0 | H87: ='Datos de origen 2026'!$I$1960 -> 0 | I87: =IF(COUNT(C87:H87)=6,SUM(C87:H87),"n.d.") -> 1349.8396
A89: Vega Baja
A90: PM | B90: ton | C90: ='Datos de origen 2026'!$D$2038 -> 0 | D90: ='Datos de origen 2026'!$E$2038 -> 0 | E90: ='Datos de origen 2026'!$F$2038 -> 0 | F90: ='Datos de origen 2026'!$G$2038 -> 0 | G90: ='Datos de origen 2026'!$H$2038 -> 0 | H90: ='Datos de origen 2026'!$I$2038 -> 0 | I90: =IF(COUNT(C90:H90)=6,SUM(C90:H90),"n.d.") -> 0
A91: SOx / SO2 | B91: ton | C91: ='Datos de origen 2026'!$D$2039 -> 0 | D91: ='Datos de origen 2026'!$E$2039 -> 0 | E91: ='Datos de origen 2026'!$F$2039 -> 0 | F91: ='Datos de origen 2026'!$G$2039 -> 0 | G91: ='Datos de origen 2026'!$H$2039 -> 0 | H91: ='Datos de origen 2026'!$I$2039 -> 0 | I91: =IF(COUNT(C91:H91)=6,SUM(C91:H91),"n.d.") -> 0
A92: NOx | B92: ton | C92: ='Datos de origen 2026'!$D$2040 -> 0 | D92: ='Datos de origen 2026'!$E$2040 -> 0 | E92: ='Datos de origen 2026'!$F$2040 -> 0 | F92: ='Datos de origen 2026'!$G$2040 -> 0 | G92: ='Datos de origen 2026'!$H$2040 -> 0 | H92: ='Datos de origen 2026'!$I$2040 -> 0 | I92: =IF(COUNT(C92:H92)=6,SUM(C92:H92),"n.d.") -> 0
A93: VOC | B93: ton | C93: ='Datos de origen 2026'!$D$2041 -> 0 | D93: ='Datos de origen 2026'!$E$2041 -> 0 | E93: ='Datos de origen 2026'!$F$2041 -> 0 | F93: ='Datos de origen 2026'!$G$2041 -> 0 | G93: ='Datos de origen 2026'!$H$2041 -> 0 | H93: ='Datos de origen 2026'!$I$2041 -> 0 | I93: =IF(COUNT(C93:H93)=6,SUM(C93:H93),"n.d.") -> 0
A94: CO | B94: ton | C94: ='Datos de origen 2026'!$D$2042 -> 0 | D94: ='Datos de origen 2026'!$E$2042 -> 0 | E94: ='Datos de origen 2026'!$F$2042 -> 0 | F94: ='Datos de origen 2026'!$G$2042 -> 0 | G94: ='Datos de origen 2026'!$H$2042 -> 0 | H94: ='Datos de origen 2026'!$I$2042 -> 0 | I94: =IF(COUNT(C94:H94)=6,SUM(C94:H94),"n.d.") -> 0
A95: Pb | B95: ton | C95: ='Datos de origen 2026'!$D$2043 -> 0 | D95: ='Datos de origen 2026'!$E$2043 -> 0 | E95: ='Datos de origen 2026'!$F$2043 -> 0 | F95: ='Datos de origen 2026'!$G$2043 -> 0 | G95: ='Datos de origen 2026'!$H$2043 -> 0 | H95: ='Datos de origen 2026'!$I$2043 -> 0 | I95: =IF(COUNT(C95:H95)=6,SUM(C95:H95),"n.d.") -> 0
A96: CO2e | B96: ton | C96: ='Datos de origen 2026'!$D$2044 -> 0 | D96: ='Datos de origen 2026'!$E$2044 -> 0 | E96: ='Datos de origen 2026'!$F$2044 -> 0 | F96: ='Datos de origen 2026'!$G$2044 -> 0 | G96: ='Datos de origen 2026'!$H$2044 -> 0 | H96: ='Datos de origen 2026'!$I$2044 -> 0 | I96: =IF(COUNT(C96:H96)=6,SUM(C96:H96),"n.d.") -> 0
A98: Jobos
A99: PM | B99: ton | C99: ='Datos de origen 2026'!$D$2122 -> 0 | D99: ='Datos de origen 2026'!$E$2122 -> 0 | E99: ='Datos de origen 2026'!$F$2122 -> 0.056356992 | F99: ='Datos de origen 2026'!$G$2122 -> 0.12315341 | G99: ='Datos de origen 2026'!$H$2122 -> 0.14343941 | H99: ='Datos de origen 2026'!$I$2122 -> 0.28514167 | I99: =IF(COUNT(C99:H99)=6,SUM(C99:H99),"n.d.") -> 0.60809148
A100: SOx / SO2 | B100: ton | C100: ='Datos de origen 2026'!$D$2123 -> 0 | D100: ='Datos de origen 2026'!$E$2123 -> 0 | E100: ='Datos de origen 2026'!$F$2123 -> 0.047433802 | F100: ='Datos de origen 2026'!$G$2123 -> 0.10365412 | G100: ='Datos de origen 2026'!$H$2123 -> 0.12072817 | H100: ='Datos de origen 2026'!$I$2123 -> 0.23999424 | I100: =IF(COUNT(C100:H100)=6,SUM(C100:H100),"n.d.") -> 0.51181033
A101: NOx | B101: ton | C101: ='Datos de origen 2026'!$D$2124 -> 0 | D101: ='Datos de origen 2026'!$E$2124 -> 0 | E101: ='Datos de origen 2026'!$F$2124 -> 4.1328461 | F101: ='Datos de origen 2026'!$G$2124 -> 9.0312499 | G101: ='Datos de origen 2026'!$H$2124 -> 10.51889 | H101: ='Datos de origen 2026'!$I$2124 -> 20.910389 | I101: =IF(COUNT(C101:H101)=6,SUM(C101:H101),"n.d.") -> 44.593375
A102: VOC | B102: ton | C102: ='Datos de origen 2026'!$D$2125 -> 0 | D102: ='Datos de origen 2026'!$E$2125 -> 0 | E102: ='Datos de origen 2026'!$F$2125 -> 0.0019255306 | F102: ='Datos de origen 2026'!$G$2125 -> 0.0042077414 | G102: ='Datos de origen 2026'!$H$2125 -> 0.0049008464 | H102: ='Datos de origen 2026'!$I$2125 -> 0.0097423405 | I102: =IF(COUNT(C102:H102)=6,SUM(C102:H102),"n.d.") -> 0.020776459
A103: CO | B103: ton | C103: ='Datos de origen 2026'!$D$2126 -> 0 | D103: ='Datos de origen 2026'!$E$2126 -> 0 | E103: ='Datos de origen 2026'!$F$2126 -> 0.015498173 | F103: ='Datos de origen 2026'!$G$2126 -> 0.033867187 | G103: ='Datos de origen 2026'!$H$2126 -> 0.039445837 | H103: ='Datos de origen 2026'!$I$2126 -> 0.07841396 | I103: =IF(COUNT(C103:H103)=6,SUM(C103:H103),"n.d.") -> 0.16722516
A104: Pb | B104: ton | C104: ='Datos de origen 2026'!$D$2127 -> 0 | D104: ='Datos de origen 2026'!$E$2127 -> 0 | E104: ='Datos de origen 2026'!$F$2127 -> 6.5749824e-05 | F104: ='Datos de origen 2026'!$G$2127 -> 0.00014367898 | G104: ='Datos de origen 2026'!$H$2127 -> 0.00016734598 | H104: ='Datos de origen 2026'!$I$2127 -> 0.00033266528 | I104: =IF(COUNT(C104:H104)=6,SUM(C104:H104),"n.d.") -> 0.00070944006
A105: CO2e | B105: ton | C105: ='Datos de origen 2026'!$D$2128 -> 0 | D105: ='Datos de origen 2026'!$E$2128 -> 0 | E105: ='Datos de origen 2026'!$F$2128 -> 768.38881 | F105: ='Datos de origen 2026'!$G$2128 -> 1679.112 | G105: ='Datos de origen 2026'!$H$2128 -> 1955.6976 | H105: ='Datos de origen 2026'!$I$2128 -> 3887.7105 | I105: =IF(COUNT(C105:H105)=6,SUM(C105:H105),"n.d.") -> 8290.9089
A107: Mayagüez
A108: PM | B108: ton | C108: ='Datos de origen 2026'!$D$2276 -> 0.58587293 | D108: ='Datos de origen 2026'!$E$2276 -> 0.49734565 | E108: ='Datos de origen 2026'!$F$2276 -> 0.70287595 | F108: ='Datos de origen 2026'!$G$2276 -> 0.63049633 | G108: ='Datos de origen 2026'!$H$2276 -> 0.53846993 | H108: ='Datos de origen 2026'!$I$2276 -> 0.91730477 | I108: =IF(COUNT(C108:H108)=6,SUM(C108:H108),"n.d.") -> 3.8723656
A109: SOx / SO2 | B109: ton | C109: ='Datos de origen 2026'!$D$2277 -> 0.049310971 | D109: ='Datos de origen 2026'!$E$2277 -> 0.41859926 | E109: ='Datos de origen 2026'!$F$2277 -> 0.59158726 | F109: ='Datos de origen 2026'!$G$2277 -> 0.53066775 | G109: ='Datos de origen 2026'!$H$2277 -> 0.45321219 | H109: ='Datos de origen 2026'!$I$2277 -> 0.77206485 | I109: =IF(COUNT(C109:H109)=6,SUM(C109:H109),"n.d.") -> 2.8154423
...

Sheet Tasas 2026
A1: Tasas de emisión 2026
A2: Concepto | B2: Unidad | C2: Ene | D2: Feb | E2: Mar | F2: Abr | G2: May | H2: Jun
A3: PM | B3: lb/MMBtu | C3: =IF(AND(ISNUMBER(C36),ISNUMBER(C16)),IF(C16=0,"n.a.",C36*$C$60/C16),"n.d.") -> 0.019517576 | D3: =IF(AND(ISNUMBER(D36),ISNUMBER(D16)),IF(D16=0,"n.a.",D36*$C$60/D16),"n.d.") -> 0.024467726 | E3: =IF(AND(ISNUMBER(E36),ISNUMBER(E16)),IF(E16=0,"n.a.",E36*$C$60/E16),"n.d.") -> 0.017912828 | F3: =IF(AND(ISNUMBER(F36),ISNUMBER(F16)),IF(F16=0,"n.a.",F36*$C$60/F16),"n.d.") -> 0.017326614 | G3: =IF(AND(ISNUMBER(G36),ISNUMBER(G16)),IF(G16=0,"n.a.",G36*$C$60/G16),"n.d.") -> 0.019656664 | H3: =IF(AND(ISNUMBER(H36),ISNUMBER(H16)),IF(H16=0,"n.a.",H36*$C$60/H16),"n.d.") -> 0.015453111
A4: PM10 | B4: lb/MMBtu | C4: =IF(AND(ISNUMBER(C37),ISNUMBER(C17)),IF(C17=0,"n.a.",C37*$C$60/C17),"n.d.") -> 0.020553617 | D4: =IF(AND(ISNUMBER(D37),ISNUMBER(D17)),IF(D17=0,"n.a.",D37*$C$60/D17),"n.d.") -> 0.028206841 | E4: =IF(AND(ISNUMBER(E37),ISNUMBER(E17)),IF(E17=0,"n.a.",E37*$C$60/E17),"n.d.") -> 0.01555763 | F4: =IF(AND(ISNUMBER(F37),ISNUMBER(F17)),IF(F17=0,"n.a.",F37*$C$60/F17),"n.d.") -> 0.019611446 | G4: =IF(AND(ISNUMBER(G37),ISNUMBER(G17)),IF(G17=0,"n.a.",G37*$C$60/G17),"n.d.") -> 0.022096888 | H4: =IF(AND(ISNUMBER(H37),ISNUMBER(H17)),IF(H17=0,"n.a.",H37*$C$60/H17),"n.d.") -> 0.019271658
A5: PM2.5 | B5: lb/MMBtu | C5: =IF(AND(ISNUMBER(C38),ISNUMBER(C18)),IF(C18=0,"n.a.",C38*$C$60/C18),"n.d.") -> 0.0086323484 | D5: =IF(AND(ISNUMBER(D38),ISNUMBER(D18)),IF(D18=0,"n.a.",D38*$C$60/D18),"n.d.") -> 0.019313701 | E5: =IF(AND(ISNUMBER(E38),ISNUMBER(E18)),IF(E18=0,"n.a.",E38*$C$60/E18),"n.d.") -> 0.012329702 | F5: =IF(AND(ISNUMBER(F38),ISNUMBER(F18)),IF(F18=0,"n.a.",F38*$C$60/F18),"n.d.") -> 0.009604881 | G5: =IF(AND(ISNUMBER(G38),ISNUMBER(G18)),IF(G18=0,"n.a.",G38*$C$60/G18),"n.d.") -> 0.012838431 | H5: =IF(AND(ISNUMBER(H38),ISNUMBER(H18)),IF(H18=0,"n.a.",H38*$C$60/H18),"n.d.") -> 0.0088217016
A6: SOx / SO2 | B6: lb/MMBtu | C6: =IF(AND(ISNUMBER(C39),ISNUMBER(C15)),IF(C15=0,"n.a.",C39*$C$60/C15),"n.d.") -> 0.21062096 | D6: =IF(AND(ISNUMBER(D39),ISNUMBER(D15)),IF(D15=0,"n.a.",D39*$C$60/D15),"n.d.") -> 0.2994239 | E6: =IF(AND(ISNUMBER(E39),ISNUMBER(E15)),IF(E15=0,"n.a.",E39*$C$60/E15),"n.d.") -> 0.15812983 | F6: =IF(AND(ISNUMBER(F39),ISNUMBER(F15)),IF(F15=0,"n.a.",F39*$C$60/F15),"n.d.") -> 0.16599206 | G6: =IF(AND(ISNUMBER(G39),ISNUMBER(G15)),IF(G15=0,"n.a.",G39*$C$60/G15),"n.d.") -> 0.21548003 | H6: =IF(AND(ISNUMBER(H39),ISNUMBER(H15)),IF(H15=0,"n.a.",H39*$C$60/H15),"n.d.") -> 0.17415507
A7: NOx | B7: lb/MMBtu | C7: =IF(AND(ISNUMBER(C40),ISNUMBER(C15)),IF(C15=0,"n.a.",C40*$C$60/C15),"n.d.") -> 0.3485211 | D7: =IF(AND(ISNUMBER(D40),ISNUMBER(D15)),IF(D15=0,"n.a.",D40*$C$60/D15),"n.d.") -> 0.33735507 | E7: =IF(AND(ISNUMBER(E40),ISNUMBER(E15)),IF(E15=0,"n.a.",E40*$C$60/E15),"n.d.") -> 0.33894689 | F7: =IF(AND(ISNUMBER(F40),ISNUMBER(F15)),IF(F15=0,"n.a.",F40*$C$60/F15),"n.d.") -> 0.34064901 | G7: =IF(AND(ISNUMBER(G40),ISNUMBER(G15)),IF(G15=0,"n.a.",G40*$C$60/G15),"n.d.") -> 0.34412426 | H7: =IF(AND(ISNUMBER(H40),ISNUMBER(H15)),IF(H15=0,"n.a.",H40*$C$60/H15),"n.d.") -> 0.33227115
A8: VOC | B8: lb/MMBtu | C8: =IF(AND(ISNUMBER(C41),ISNUMBER(C15)),IF(C15=0,"n.a.",C41*$C$60/C15),"n.d.") -> 0.002849952 | D8: =IF(AND(ISNUMBER(D41),ISNUMBER(D15)),IF(D15=0,"n.a.",D41*$C$60/D15),"n.d.") -> 0.0028071374 | E8: =IF(AND(ISNUMBER(E41),ISNUMBER(E15)),IF(E15=0,"n.a.",E41*$C$60/E15),"n.d.") -> 0.0022581321 | F8: =IF(AND(ISNUMBER(F41),ISNUMBER(F15)),IF(F15=0,"n.a.",F41*$C$60/F15),"n.d.") -> 0.0030370863 | G8: =IF(AND(ISNUMBER(G41),ISNUMBER(G15)),IF(G15=0,"n.a.",G41*$C$60/G15),"n.d.") -> 0.0027847758 | H8: =IF(AND(ISNUMBER(H41),ISNUMBER(H15)),IF(H15=0,"n.a.",H41*$C$60/H15),"n.d.") -> 0.0026056083
A9: CO | B9: lb/MMBtu | C9: =IF(AND(ISNUMBER(C42),ISNUMBER(C15)),IF(C15=0,"n.a.",C42*$C$60/C15),"n.d.") -> 0.02074877 | D9: =IF(AND(ISNUMBER(D42),ISNUMBER(D15)),IF(D15=0,"n.a.",D42*$C$60/D15),"n.d.") -> 0.018528555 | E9: =IF(AND(ISNUMBER(E42),ISNUMBER(E15)),IF(E15=0,"n.a.",E42*$C$60/E15),"n.d.") -> 0.015173215 | F9: =IF(AND(ISNUMBER(F42),ISNUMBER(F15)),IF(F15=0,"n.a.",F42*$C$60/F15),"n.d.") -> 0.01917516 | G9: =IF(AND(ISNUMBER(G42),ISNUMBER(G15)),IF(G15=0,"n.a.",G42*$C$60/G15),"n.d.") -> 0.018089086 | H9: =IF(AND(ISNUMBER(H42),ISNUMBER(H15)),IF(H15=0,"n.a.",H42*$C$60/H15),"n.d.") -> 0.018648607
A10: H2SO4 | B10: lb/MMBtu | C10: =IF(AND(ISNUMBER(C43),ISNUMBER(C19)),IF(C19=0,"n.a.",C43*$C$60/C19),"n.d.") -> 0.0032705353 | D10: =IF(AND(ISNUMBER(D43),ISNUMBER(D19)),IF(D19=0,"n.a.",D43*$C$60/D19),"n.d.") -> 0.013433892 | E10: =IF(AND(ISNUMBER(E43),ISNUMBER(E19)),IF(E19=0,"n.a.",E43*$C$60/E19),"n.d.") -> 0.0056787809 | F10: =IF(AND(ISNUMBER(F43),ISNUMBER(F19)),IF(F19=0,"n.a.",F43*$C$60/F19),"n.d.") -> 0.0049127548 | G10: =IF(AND(ISNUMBER(G43),ISNUMBER(G19)),IF(G19=0,"n.a.",G43*$C$60/G19),"n.d.") -> 0.0072235759 | H10: =IF(AND(ISNUMBER(H43),ISNUMBER(H19)),IF(H19=0,"n.a.",H43*$C$60/H19),"n.d.") -> 0.0026688807
A11: Pb | B11: lb/MMBtu | C11: =IF(AND(ISNUMBER(C44),ISNUMBER(C15)),IF(C15=0,"n.a.",C44*$C$60/C15),"n.d.") -> 5.8366702e-06 | D11: =IF(AND(ISNUMBER(D44),ISNUMBER(D15)),IF(D15=0,"n.a.",D44*$C$60/D15),"n.d.") -> 6.3749997e-06 | E11: =IF(AND(ISNUMBER(E44),ISNUMBER(E15)),IF(E15=0,"n.a.",E44*$C$60/E15),"n.d.") -> 4.2917228e-06 | F11: =IF(AND(ISNUMBER(F44),ISNUMBER(F15)),IF(F15=0,"n.a.",F44*$C$60/F15),"n.d.") -> 6.1262475e-06 | G11: =IF(AND(ISNUMBER(G44),ISNUMBER(G15)),IF(G15=0,"n.a.",G44*$C$60/G15),"n.d.") -> 5.662474e-06 | H11: =IF(AND(ISNUMBER(H44),ISNUMBER(H15)),IF(H15=0,"n.a.",H44*$C$60/H15),"n.d.") -> 4.9722584e-06
A12: CO2e (complementario) | B12: lb/MMBtu | C12: =IF(AND(ISNUMBER(C45),ISNUMBER(C15)),IF(C15=0,"n.a.",C45*$C$60/C15),"n.d.") -> 143.38657 | D12: =IF(AND(ISNUMBER(D45),ISNUMBER(D15)),IF(D15=0,"n.a.",D45*$C$60/D15),"n.d.") -> 151.94058 | E12: =IF(AND(ISNUMBER(E45),ISNUMBER(E15)),IF(E15=0,"n.a.",E45*$C$60/E15),"n.d.") -> 138.59403 | F12: =IF(AND(ISNUMBER(F45),ISNUMBER(F15)),IF(F15=0,"n.a.",F45*$C$60/F15),"n.d.") -> 141.83945 | G12: =IF(AND(ISNUMBER(G45),ISNUMBER(G15)),IF(G15=0,"n.a.",G45*$C$60/G15),"n.d.") -> 144.26927 | H12: =IF(AND(ISNUMBER(H45),ISNUMBER(H15)),IF(H15=0,"n.a.",H45*$C$60/H15),"n.d.") -> 138.82094
A13: Combustible incluido en cada tasa (MMBtu)
A14: Concepto | B14: Unidad | C14: Ene | D14: Feb | E14: Mar | F14: Abr | G14: May | H14: Jun
