Workbook

Sheet KPI_FY 25-26
A3: JULY 2025 | U3: AUGUST 2025 | AO3: SEPTEMBER 2025 | BI3: OCTOBER 2025 | CC3: NOVEMBER 2025 | CW3: DECEMBER 2025 | DQ3: JANUARY 2026 | EK3: FEBRUARY 2026 | FE3: MARCH 2026 | FY3: APRIL 2026 | GS3: MAY 2026 | HM3: JUNE 2026
A4: MONTH HOURS: | B4: 744 | U4: MONTH HOURS: | V4: 744 | AO4: MONTH HOURS: | AP4: 720 | BI4: MONTH HOURS: | BJ4: 744 | CC4: MONTH HOURS: | CD4: 720 | CW4: MONTH HOURS: | CX4: 744 | DQ4: MONTH HOURS: | DR4: 744 | EK4: MONTH HOURS: | EL4: 672 | FE4: MONTH HOURS: | FF4: 744 | FY4: MONTH HOURS: | FZ4: 720 | GS4: MONTH HOURS: | GT4: 744 | HM4: MONTH HOURS: | HN4: 720
A5: PLANT | B5: UNIT | C5: AH | D5: SH | E5: RSH | F5: FOH | G5: FOF | H5: POH | I5: POF | J5: MOH | K5: MOF | L5: EUDH | M5: EAF | N5: EFOR | O5: EOF | P5: Nameplate Capacity | Q5: APT Capacity | R5: Available Capacity | S5: KPI Acum | U5: PLANT | V5: UNIT | W5: AH | X5: SH | Y5: RSH | Z5: FOH | AA5: FOF | AB5: POH | AC5: POF | AD5: MOH | AE5: MOF | AF5: EUDH | AG5: EAF | AH5: EFOR | AI5: EOF | AJ5: Nameplate Capacity | AK5: APT Capacity | AL5: Available Capacity | AM5: KPI Acum | AO5: PLANT | AP5: UNIT | AQ5: AH | AR5: SH | AS5: RSH | AT5: FOH | AU5: FOF | AV5: POH | AW5: POF | AX5: MOH | AY5: MOF | AZ5: EUDH | BA5: EAF | BB5: EFOR | BC5: EOF | BD5: Nameplate Capacity | BE5: APT Capacity | BF5: Available Capacity | BG5: KPI Acum | BI5: PLANT | BJ5: UNIT | BK5: AH | BL5: SH | BM5: RSH | BN5: FOH | BO5: FOF | BP5: POH | BQ5: POF | BR5: MOH | BS5: MOF | BT5: EUDH | BU5: EAF | BV5: EFOR | BW5: EOF | BX5: Nameplate Capacity | BY5: APT Capacity | BZ5: Available Capacity | CA5: KPI Acum | CC5: PLANT | CD5: UNIT | CE5: AH | CF5: SH | CG5: RSH | CH5: FOH | CI5: FOF | CJ5: POH | CK5: POF | CL5: MOH | CM5: MOF | CN5: EUDH | CO5: EAF | CP5: EFOR | CQ5: EOF | CR5: Nameplate Capacity | CS5: APT Capacity | CT5: Available Capacity | CU5: KPI Acum | CW5: PLANT | CX5: UNIT | CY5: AH | CZ5: SH | DA5: RSH | DB5: FOH | DC5: FOF | DD5: POH | DE5: POF | DF5: MOH | DG5: MOF | DH5: EUDH | DI5: EAF | DJ5: EFOR | DK5: EOF | DL5: Nameplate Capacity | DM5: APT Capacity | DN5: Available Capacity | DO5: KPI Acum | DQ5: PLANT | DR5: UNIT | DS5: AH | DT5: SH | DU5: RSH | DV5: FOH | DW5: FOF | DX5: POH | DY5: POF | DZ5: MOH | EA5: MOF | EB5: EUDH | EC5: EAF | ED5: EFOR | EE5: EOF | EF5: Nameplate Capacity | EG5: APT Capacity | EH5: Available Capacity | EI5: KPI Acum | EK5: PLANT | EL5: UNIT | EM5: AH | EN5: SH | EO5: RSH | EP5: FOH | EQ5: FOF | ER5: POH | ES5: POF | ET5: MOH | EU5: MOF | EV5: EUDH | EW5: EAF | EX5: EFOR | EY5: EOF | EZ5: Nameplate Capacity | FA5: APT Capacity | FB5: Available Capacity | FC5: KPI Acum | FE5: PLANT | FF5: UNIT | FG5: AH | FH5: SH | FI5: RSH | FJ5: FOH | FK5: FOF | FL5: POH | FM5: POF | FN5: MOH | FO5: MOF | FP5: EUDH | FQ5: EAF | FR5: EFOR | FS5: EOF | FT5: Nameplate Capacity | FU5: APT Capacity | FV5: Available Capacity | FW5: KPI Acum | FY5: PLANT | FZ5: UNIT | GA5: AH | GB5: SH | GC5: RSH | GD5: FOH | GE5: FOF | GF5: POH | GG5: POF | GH5: MOH | GI5: MOF | GJ5: EUDH | GK5: EAF | GL5: EFOR | GM5: EOF | GN5: Nameplate Capacity | GO5: APT Capacity | GP5: Available Capacity | GQ5: KPI Acum | GS5: PLANT | GT5: UNIT | GU5: AH | GV5: SH | GW5: RSH | GX5: FOH | GY5: FOF | GZ5: POH | HA5: POF | HB5: MOH | HC5: MOF | HD5: EUDH | HE5: EAF | HF5: EFOR | HG5: EOF | HH5: Nameplate Capacity | HI5: APT Capacity | HJ5: Available Capacity | HK5: KPI Acum | HM5: PLANT | HN5: UNIT | HO5: AH | HP5: SH | HQ5: RSH | HR5: FOH | HS5: FOF | HT5: POH | HU5: POF | HV5: MOH | HW5: MOF | HX5: EMDH | HY5: EUDH | HZ5: EAF | IA5: EFOR | IB5: EOF | IC5: Nameplate Capacity | ID5: APT Capacity | IE5: Available Capacity | IF5: KPI Acum
A6: SAN | B6: CT 5 | C6: 726.4 | D6: 726.4 | E6: 0 | F6: 0 | G6: =F6/$B$4 -> 0 | H6: 0 | I6: =H6/$B$4 -> 0 | J6: 17.6 | K6: =J6/$B$4 -> 0.023655914 | L6: ='[1]UNIT DATA'!$P$2 -> 57.773 | M6: =(C6-L6)/$B$4 -> 0.8986922 | N6: =IF((AND(D6=0,F6=0)),0,(F6+L6)/(D6+F6)) -> 0.079533315 | O6: =L6/$B$4 -> 0.077651882 | P6: 160 | Q6: 153 | R6: 156 | S6: =SUM(G6,I6,K6,M6,O6) -> 1 | U6: SAN | V6: CT 5 | W6: 667.4 | X6: 667.4 | Y6: 0 | Z6: 0 | AA6: =Z6/$V$4 -> 0 | AB6: 0 | AC6: =AB6/$V$4 -> 0 | AD6: 76.6 | AE6: =AD6/$V$4 -> 0.10295699 | AF6: 0 | AG6: =(W6-AF6)/$V$4 -> 0.89704301 | AH6: =IF((AND(X6=0,Z6=0)),0,(Z6+AF6)/(X6+Z6)) -> 0 | AI6: =AF6/$V$4 -> 0 | AJ6: 160 | AK6: 153 | AL6: 151 | AM6: =SUM(AA6,AC6,AE6,AG6,AI6) -> 1 | AO6: SAN | AP6: CT 5 | AQ6: 653.83 | AR6: 653.83 | AS6: 0 | AT6: 18.7 | AU6: =AT6/$AP$4 -> 0.025972222 | AV6: 0 | AW6: =AV6/$AP$4 -> 0 | AX6: 47.47 | AY6: =AX6/$AP$4 -> 0.065930556 | AZ6: 0 | BA6: =(AQ6-AZ6)/$AP$4 -> 0.90809722 | BB6: =IF((AND(AR6=0,AT6=0)),0,(AT6+AZ6)/(AR6+AT6)) -> 0.027805451 | BC6: =AZ6/$AP$4 -> 0 | BD6: 160 | BE6: 153 | BF6: 150 | BG6: =SUM(AU6,AW6,AY6,BA6,BC6) -> 1 | BI6: SAN | BJ6: CT 5 | BK6: 656.1 | BL6: 656.1 | BM6: 0 | BN6: 87.9 | BO6: =BN6/$BJ$4 -> 0.11814516 | BP6: 0 | BQ6: =BP6/$BJ$4 -> 0 | BR6: 0 | BS6: =BR6/$BJ$4 -> 0 | BT6: 35.99 | BU6: =(BK6-BT6)/$BJ$4 -> 0.83348118 | BV6: =IF((AND(BL6=0,BN6=0)),0,(BN6+BT6)/(BL6+BN6)) -> 0.16651882 | BW6: =BT6/$BJ$4 -> 0.048373656 | BX6: 160 | BY6: 153 | BZ6: 150 | CA6: =SUM(BO6,BQ6,BS6,BU6,BW6) -> 1 | CC6: SAN | CD6: CT 5 | CE6: 432.8 | CF6: 432.8 | CG6: 0 | CH6: 264.1 | CI6: =CH6/$CD$4 -> 0.36680556 | CJ6: 0 | CK6: =CJ6/$CD$4 -> 0 | CL6: 23.1 | CM6: =CL6/$CD$4 -> 0.032083333 | CN6: 7.96 | CO6: =(CE6-CN6)/$CD$4 -> 0.59005556 | CP6: =IF((AND(CF6=0,CH6=0)),0,(CH6+CN6)/(CF6+CH6)) -> 0.390386 | CQ6: =CN6/$CD$4 -> 0.011055556 | CR6: 160 | CS6: 153 | CT6: 153 | CU6: =SUM(CI6,CK6,CM6,CO6,CQ6) -> 1 | CW6: SAN | CX6: CT 5 | CY6: 198.6 | CZ6: 175.72 | DA6: 22.88 | DB6: 545.4 | DC6: =DB6/$CX$4 -> 0.73306452 | DD6: 0 | DE6: =DD6/$CX$4 -> 0 | DF6: 0 | DG6: =DF6/$CX$4 -> 0 | DH6: 14.91 | DI6: =(CY6-DH6)/$CX$4 -> 0.24689516 | DJ6: =IF((AND(CZ6=0,DB6=0)),0,(DB6+DH6)/(CZ6+DB6)) -> 0.77699967 | DK6: =DH6/$CX$4 -> 0.020040323 | DL6: 160 | DM6: 153 | DN6: 125 | DO6: =SUM(DC6,DE6,DG6,DI6,DK6) -> 1 | DQ6: SAN | DR6: CT 5 | DS6: 739.75 | DT6: 739.75 | DU6: 0 | DV6: 4.25 | DW6: =DV6/$DR$4 -> 0.0057123656 | DX6: 0 | DY6: =DX6/$DR$4 -> 0 | DZ6: 0 | EA6: =DZ6/$DR$4 -> 0 | EB6: 113.2 | EC6: =(DS6-EB6)/$DR$4 -> 0.8421371 | ED6: =IF((AND(DT6=0,DV6=0)),0,(DV6+EB6)/(DT6+DV6)) -> 0.1578629 | EE6: =EB6/$DR$4 -> 0.15215054 | EF6: 160 | EG6: 153 | EH6: 125 | EI6: =SUM(DW6,DY6,EA6,EC6,EE6) -> 1 | EK6: SAN | EL6: CT 5 | EM6: 668.7 | EN6: 668.7 | EO6: 0 | EP6: 3.3 | EQ6: =EP6/$EL$4 -> 0.0049107143 | ER6: 0 | ES6: =ER6/$EL$4 -> 0 | ET6: 0 | EU6: =ET6/$EL$4 -> 0 | EV6: 28.56 | EW6: =(EM6-EV6)/$EL$4 -> 0.95258929 | EX6: =IF((AND(EN6=0,EP6=0)),0,(EP6+EV6)/(EN6+EP6)) -> 0.047410714 | EY6: =EV6/$EL$4 -> 0.0425 | EZ6: 160 | FA6: 153 | FB6: 160 | FC6: =SUM(EQ6,ES6,EU6,EW6,EY6) -> 1 | FE6: SAN | FF6: CT 5 | FG6: 666.84 | FH6: 666.84 | FI6: 0 | FJ6: 12.09 | FK6: =FJ6/$FF$4 -> 0.01625 | FL6: 0 | FM6: =FL6/$FF$4 -> 0 | FN6: 65.07 | FO6: =FN6/$FF$4 -> 0.087459677 | FP6: 41.13 | FQ6: =(FG6-FP6)/$FF$4 -> 0.84100806 | FR6: =IF((AND(FH6=0,FJ6=0)),0,(FJ6+FP6)/(FH6+FJ6)) -> 0.078388052 | FS6: =FP6/$FF$4 -> 0.055282258 | FT6: 160 | FU6: 153 | FV6: 160 | FW6: =SUM(FK6,FM6,FO6,FQ6,FS6) -> 1 | FY6: SAN | FZ6: CT 5 | GA6: 713.85 | GB6: 713.85 | GC6: 0 | GD6: 6.15 | GE6: =GD6/$FZ$4 -> 0.0085416667 | GF6: 0 | GG6: =GF6/$FZ$4 -> 0 | GH6: 0 | GI6: =GH6/$FZ$4 -> 0 | GJ6: 0 | GK6: =(GA6-GJ6)/$FZ$4 -> 0.99145833 | GL6: =IF((AND(GB6=0,GD6=0)),0,(GD6+GJ6)/(GB6+GD6)) -> 0.0085416667 | GM6: =GJ6/$FZ$4 -> 0 | GN6: 160 | GO6: 153 | GP6: 160 | GQ6: =SUM(GE6,GG6,GI6,GK6,GM6) -> 1 | GS6: SAN | GT6: CT 5 | GU6: 724.18 | GV6: 724.18 | GW6: 0 | GX6: 0 | GY6: =GX6/$GT$4 -> 0 | GZ6: 0 | HA6: =GZ6/$GT$4 -> 0 | HB6: 19.82 | HC6: =HB6/$GT$4 -> 0.026639785 | HD6: 0 | HE6: =(GU6-HD6)/$GT$4 -> 0.97336022 | HF6: =IF((AND(GV6=0,GX6=0)),0,(GX6+HD6)/(GV6+GX6)) -> 0 | HG6: =HD6/$GT$4 -> 0 | HH6: 160 | HI6: 153 | HJ6: 160 | HK6: =SUM(GY6,HA6,HC6,HE6,HG6) -> 1 | HM6: SAN | HN6: CT 5 | HO6: 667.64 | HP6: 667.64 | HQ6: 0 | HR6: 33.28 | HS6: =HR6/$HN$4 -> 0.046222222 | HT6: 0 | HU6: =HT6/$HN$4 -> 0 | HV6: 19.08 | HW6: =HV6/$HN$4 -> 0.0265 | HX6: 0 | HY6: 0 | HZ6: =(HO6-HX6-HY6)/$HN$4 -> 0.92727778 | IA6: =IF((AND(HP6=0,HR6=0)),0,(HR6+HX6+HY6)/(HP6+HR6)) -> 0.047480454 | IB6: =(HY6+HX6)/$HN$4 -> 0 | IC6: 160 | ID6: 153 | IE6: 160 | IF6: =SUM(HS6,HU6,HW6,HZ6,IB6) -> 1
A7: JUAN | B7: ST 5 | C7: 724.9 | D7: 724.9 | E7: 0 | F7: 0 | G7: =F7/$B$4 -> 0 | H7: 0 | I7: =H7/$B$4 -> 0 | J7: 19.1 | K7: =J7/$B$4 -> 0.025672043 | L7: ='[1]UNIT DATA'!$P$3 -> 48.165 | M7: =(C7-L7)/$B$4 -> 0.90959005 | N7: =IF((AND(D7=0,F7=0)),0,(F7+L7)/(D7+F7)) -> 0.066443647 | O7: =L7/$B$4 -> 0.064737903 | P7: 60 | Q7: 52 | R7: 53 | S7: =SUM(G7,I7,K7,M7,O7) -> 1 | U7: JUAN | V7: ST 5 | W7: 656.5 | X7: 656.5 | Y7: 0 | Z7: 6.1 | AA7: =Z7/$V$4 -> 0.0081989247 | AB7: 0 | AC7: =AB7/$V$4 -> 0 | AD7: 81.4 | AE7: =AD7/$V$4 -> 0.1094086 | AF7: 0 | AG7: =(W7-AF7)/$V$4 -> 0.88239247 | AH7: =IF((AND(X7=0,Z7=0)),0,(Z7+AF7)/(X7+Z7)) -> 0.0092061576 | AI7: =AF7/$V$4 -> 0 | AJ7: 60 | AK7: 52 | AL7: 53 | AM7: =SUM(AA7,AC7,AE7,AG7,AI7) -> 1 | AO7: JUAN | AP7: ST 5 | AQ7: 636.9 | AR7: 636.9 | AS7: 0 | AT7: 21.2 | AU7: =AT7/$AP$4 -> 0.029444444 | AV7: 0 | AW7: =AV7/$AP$4 -> 0 | AX7: 61.9 | AY7: =AX7/$AP$4 -> 0.085972222 | AZ7: 0 | BA7: =(AQ7-AZ7)/$AP$4 -> 0.88458333 | BB7: =IF((AND(AR7=0,AT7=0)),0,(AT7+AZ7)/(AR7+AT7)) -> 0.032213949 | BC7: =AZ7/$AP$4 -> 0 | BD7: 60 | BE7: 52 | BF7: 50 | BG7: =SUM(AU7,AW7,AY7,BA7,BC7) -> 1 | BI7: JUAN | BJ7: ST 5 | BK7: 647.9 | BL7: 647.9 | BM7: 0 | BN7: 96.1 | BO7: =BN7/$BJ$4 -> 0.12916667 | BP7: 0 | BQ7: =BP7/$BJ$4 -> 0 | BR7: 0 | BS7: =BR7/$BJ$4 -> 0 | BT7: 32.96 | BU7: =(BK7-BT7)/$BJ$4 -> 0.82653226 | BV7: =IF((AND(BL7=0,BN7=0)),0,(BN7+BT7)/(BL7+BN7)) -> 0.17346774 | BW7: =BT7/$BJ$4 -> 0.044301075 | BX7: 60 | BY7: 52 | BZ7: 50 | CA7: =SUM(BO7,BQ7,BS7,BU7,BW7) -> 1 | CC7: JUAN | CD7: ST 5 | CE7: 424.8 | CF7: 424.8 | CG7: 0 | CH7: 264.4 | CI7: =CH7/$CD$4 -> 0.36722222 | CJ7: 0 | CK7: =CJ7/$CD$4 -> 0 | CL7: 30.8 | CM7: =CL7/$CD$4 -> 0.042777778 | CN7: 0 | CO7: =(CE7-CN7)/$CD$4 -> 0.59 | CP7: =IF((AND(CF7=0,CH7=0)),0,(CH7+CN7)/(CF7+CH7)) -> 0.3836332 | CQ7: =CN7/$CD$4 -> 0 | CR7: 60 | CS7: 52 | CT7: 52 | CU7: =SUM(CI7,CK7,CM7,CO7,CQ7) -> 1 | CW7: JUAN | CX7: ST 5 | CY7: 182.32 | CZ7: 151.64 | DA7: 30.68 | DB7: 561.68 | DC7: =DB7/$CX$4 -> 0.75494624 | DD7: 0 | DE7: =DD7/$CX$4 -> 0 | DF7: 0 | DG7: =DF7/$CX$4 -> 0 | DH7: 59.09 | DI7: =(CY7-DH7)/$CX$4 -> 0.16563172 | DJ7: =IF((AND(CZ7=0,DB7=0)),0,(DB7+DH7)/(CZ7+DB7)) -> 0.87025458 | DK7: =DH7/$CX$4 -> 0.079422043 | DL7: 60 | DM7: 52 | DN7: 44 | DO7: =SUM(DC7,DE7,DG7,DI7,DK7) -> 1 | DQ7: JUAN | DR7: ST 5 | DS7: 617.5 | DT7: 617.5 | DU7: 0 | DV7: 126.5 | DW7: =DV7/$DR$4 -> 0.17002688 | DX7: 0 | DY7: =DX7/$DR$4 -> 0 | DZ7: 0 | EA7: =DZ7/$DR$4 -> 0 | EB7: 448.44 | EC7: =(DS7-EB7)/$DR$4 -> 0.22723118 | ED7: =IF((AND(DT7=0,DV7=0)),0,(DV7+EB7)/(DT7+DV7)) -> 0.77276882 | EE7: =EB7/$DR$4 -> 0.60274194 | EF7: 60 | EG7: 52 | EH7: 44 | EI7: =SUM(DW7,DY7,EA7,EC7,EE7) -> 1 | EK7: JUAN | EL7: ST 5 | EM7: 499.73 | EN7: 454.95 | EO7: 44.78 | EP7: 172.27 | EQ7: =EP7/$EL$4 -> 0.25635417 | ER7: 0 | ES7: =ER7/$EL$4 -> 0 | ET7: 0 | EU7: =ET7/$EL$4 -> 0 | EV7: 41.61 | EW7: =(EM7-EV7)/$EL$4 -> 0.68172619 | EX7: =IF((AND(EN7=0,EP7=0)),0,(EP7+EV7)/(EN7+EP7)) -> 0.34099678 | EY7: =EV7/$EL$4 -> 0.061919643 | EZ7: 60 | FA7: 52 | FB7: 52 | FC7: =SUM(EQ7,ES7,EU7,EW7,EY7) -> 1 | FE7: JUAN | FF7: ST 5 | FG7: 627.01 | FH7: 554.26 | FI7: 72.75 | FJ7: 30.32 | FK7: =FJ7/$FF$4 -> 0.040752688 | FL7: 0 | FM7: =FL7/$FF$4 -> 0 | FN7: 86.67 | FO7: =FN7/$FF$4 -> 0.11649194 | FP7: 65.71 | FQ7: =(FG7-FP7)/$FF$4 -> 0.75443548 | FR7: =IF((AND(FH7=0,FJ7=0)),0,(FJ7+FP7)/(FH7+FJ7)) -> 0.16427178 | FS7: =FP7/$FF$4 -> 0.088319892 | FT7: 60 | FU7: 52 | FV7: 50 | FW7: =SUM(FK7,FM7,FO7,FQ7,FS7) -> 1 | FY7: JUAN | FZ7: ST 5 | GA7: 705.83 | GB7: 705.83 | GC7: 0 | GD7: 14.17 | GE7: =GD7/$FZ$4 -> 0.019680556 | GF7: 0 | GG7: =GF7/$FZ$4 -> 0 | GH7: 0 | GI7: =GH7/$FZ$4 -> 0 | GJ7: 0 | GK7: =(GA7-GJ7)/$FZ$4 -> 0.98031944 | GL7: =IF((AND(GB7=0,GD7=0)),0,(GD7+GJ7)/(GB7+GD7)) -> 0.019680556 | GM7: =GJ7/$FZ$4 -> 0 | GN7: 60 | GO7: 52 | GP7: 50 | GQ7: =SUM(GE7,GG7,GI7,GK7,GM7) -> 1 | GS7: JUAN | GT7: ST 5 | GU7: 685.58 | GV7: 685.58 | GW7: 0 | GX7: 0 | GY7: =GX7/$GT$4 -> 0 | GZ7: 0 | HA7: =GZ7/$GT$4 -> 0 | HB7: 58.42 | HC7: =HB7/$GT$4 -> 0.078521505 | HD7: 0 | HE7: =(GU7-HD7)/$GT$4 -> 0.92147849 | HF7: =IF((AND(GV7=0,GX7=0)),0,(GX7+HD7)/(GV7+GX7)) -> 0 | HG7: =HD7/$GT$4 -> 0 | HH7: 60 | HI7: 52 | HJ7: 50 | HK7: =SUM(GY7,HA7,HC7,HE7,HG7) -> 1 | HM7: JUAN | HN7: ST 5 | HO7: 645.57 | HP7: 645.57 | HQ7: 0 | HR7: 50.33 | HS7: =HR7/$HN$4 -> 0.069902778 | HT7: 0 | HU7: =HT7/$HN$4 -> 0 | HV7: 24.1 | HW7: =HV7/$HN$4 -> 0.033472222 | HX7: 0 | HY7: 0 | HZ7: =(HO7-HX7-HY7)/$HN$4 -> 0.896625 | IA7: =IF((AND(HP7=0,HR7=0)),0,(HR7+HX7+HY7)/(HP7+HR7)) -> 0.07232361 | IB7: =(HY7+HX7)/$HN$4 -> 0 | IC7: 60 | ID7: 52 | IE7: 50 | IF7: =SUM(HS7,HU7,HW7,HZ7,IB7) -> 1
B8: CT 6 | C8: 610.1 | D8: 550 | E8: 60.1 | F8: 133.9 | G8: =F8/$B$4 -> 0.17997312 | H8: 0 | I8: =H8/$B$4 -> 0 | J8: 0 | K8: =J8/$B$4 -> 0 | L8: ='[1]UNIT DATA'!$P$4 -> 3.568 | M8: =(C8-L8)/$B$4 -> 0.81523118 | N8: =IF((AND(D8=0,F8=0)),0,(F8+L8)/(D8+F8)) -> 0.201006 | O8: =L8/$B$4 -> 0.0047956989 | P8: 160 | Q8: 140 | R8: 160 | S8: =SUM(G8,I8,K8,M8,O8) -> 1 | V8: CT 6 | W8: 360.7 | X8: 300.6 | Y8: 60.1 | Z8: 383.3 | AA8: =Z8/$V$4 -> 0.51518817 | AB8: 0 | AC8: =AB8/$V$4 -> 0 | AD8: 0 | AE8: =AD8/$V$4 -> 0 | AF8: 0 | AG8: =(W8-AF8)/$V$4 -> 0.48481183 | AH8: =IF((AND(X8=0,Z8=0)),0,(Z8+AF8)/(X8+Z8)) -> 0.56046206 | AI8: =AF8/$V$4 -> 0 | AJ8: 160 | AK8: 140 | AL8: 160 | AM8: =SUM(AA8,AC8,AE8,AG8,AI8) -> 1 | AP8: CT 6 | AQ8: 583.7 | AR8: 581.3 | AS8: 2.4 | AT8: 0 | AU8: =AT8/$AP$4 -> 0 | AV8: 0 | AW8: =AV8/$AP$4 -> 0 | AX8: 136.3 | AY8: =AX8/$AP$4 -> 0.18930556 | AZ8: 0 | BA8: =(AQ8-AZ8)/$AP$4 -> 0.81069444 | BB8: =IF((AND(AR8=0,AT8=0)),0,(AT8+AZ8)/(AR8+AT8)) -> 0 | BC8: =AZ8/$AP$4 -> 0 | BD8: 160 | BE8: 140 | BF8: 160 | BG8: =SUM(AU8,AW8,AY8,BA8,BC8) -> 1 | BJ8: CT 6 | BK8: 722.7 | BL8: 722.7 | BM8: 0 | BN8: 21.3 | BO8: =BN8/$BJ$4 -> 0.028629032 | BP8: 0 | BQ8: =BP8/$BJ$4 -> 0 | BR8: 0 | BS8: =BR8/$BJ$4 -> 0 | BT8: 31.74 | BU8: =(BK8-BT8)/$BJ$4 -> 0.92870968 | BV8: =IF((AND(BL8=0,BN8=0)),0,(BN8+BT8)/(BL8+BN8)) -> 0.071290323 | BW8: =BT8/$BJ$4 -> 0.04266129 | BX8: 160 | BY8: 140 | BZ8: 160 | CA8: =SUM(BO8,BQ8,BS8,BU8,BW8) -> 1 | CD8: CT 6 | CE8: 718.5 | CF8: 718.5 | CG8: 0 | CH8: 1.5 | CI8: =CH8/$CD$4 -> 0.0020833333 | CJ8: 0 | CK8: =CJ8/$CD$4 -> 0 | CL8: 0 | CM8: =CL8/$CD$4 -> 0 | CN8: 0 | CO8: =(CE8-CN8)/$CD$4 -> 0.99791667 | CP8: =IF((AND(CF8=0,CH8=0)),0,(CH8+CN8)/(CF8+CH8)) -> 0.0020833333 | CQ8: =CN8/$CD$4 -> 0 | CR8: 160 | CS8: 140 | CT8: 160 | CU8: =SUM(CI8,CK8,CM8,CO8,CQ8) -> 1 | CX8: CT 6 | CY8: 368.62 | CZ8: 359.82 | DA8: 8.8 | DB8: 175 | DC8: =DB8/$CX$4 -> 0.23521505 | DD8: 200.38 | DE8: =DD8/$CX$4 -> 0.26932796 | DF8: 0 | DG8: =DF8/$CX$4 -> 0 | DH8: 0 | DI8: =(CY8-DH8)/$CX$4 -> 0.49545699 | DJ8: =IF((AND(CZ8=0,DB8=0)),0,(DB8+DH8)/(CZ8+DB8)) -> 0.32721289 | DK8: =DH8/$CX$4 -> 0 | DL8: 160 | DM8: 140 | DN8: 160 | DO8: =SUM(DC8,DE8,DG8,DI8,DK8) -> 1 | DR8: CT 6 | DS8: 0 | DT8: 0 | DU8: 0 | DV8: 0 | DW8: =DV8/$DR$4 -> 0 | DX8: 744 | DY8: =DX8/$DR$4 -> 1 | DZ8: 0 | EA8: =DZ8/$DR$4 -> 0 | EB8: 0 | EC8: =(DS8-EB8)/$DR$4 -> 0 | ED8: =IF((AND(DT8=0,DV8=0)),0,(DV8+EB8)/(DT8+DV8)) -> 0 | EE8: =EB8/$DR$4 -> 0 | EF8: 160 | EG8: 140 | EH8: 0 | EI8: =SUM(DW8,DY8,EA8,EC8,EE8) -> 1 | EL8: CT 6 | EM8: 0 | EN8: 0 | EO8: 0 | EP8: 0 | EQ8: =EP8/$EL$4 -> 0 | ER8: 672 | ES8: =ER8/$EL$4 -> 1 | ET8: 0 | EU8: =ET8/$EL$4 -> 0 | EV8: 0 | EW8: =(EM8-EV8)/$EL$4 -> 0 | EX8: =IF((AND(EN8=0,EP8=0)),0,(EP8+EV8)/(EN8+EP8)) -> 0 | EY8: =EV8/$EL$4 -> 0 | EZ8: 160 | FA8: 140 | FB8: 160 | FC8: =SUM(EQ8,ES8,EU8,EW8,EY8) -> 1 | FF8: CT 6 | FG8: 0 | FH8: 0 | FI8: 0 | FJ8: 0 | FK8: =FJ8/$FF$4 -> 0 | FL8: 744 | FM8: =FL8/$FF$4 -> 1 | FN8: 0 | FO8: =FN8/$FF$4 -> 0 | FP8: 0 | FQ8: =(FG8-FP8)/$FF$4 -> 0 | FR8: =IF((AND(FH8=0,FJ8=0)),0,(FJ8+FP8)/(FH8+FJ8)) -> 0 | FS8: =FP8/$FF$4 -> 0 | FT8: 160 | FU8: 140 | FV8: 0 | FW8: =SUM(FK8,FM8,FO8,FQ8,FS8) -> 1 | FZ8: CT 6 | GA8: 0 | GB8: 0 | GC8: 0 | GD8: 0 | GE8: =GD8/$FZ$4 -> 0 | GF8: 720 | GG8: =GF8/$FZ$4 -> 1 | GH8: 0 | GI8: =GH8/$FZ$4 -> 0 | GJ8: 0 | GK8: =(GA8-GJ8)/$FZ$4 -> 0 | GL8: =IF((AND(GB8=0,GD8=0)),0,(GD8+GJ8)/(GB8+GD8)) -> 0 | GM8: =GJ8/$FZ$4 -> 0 | GN8: 160 | GO8: 140 | GP8: 0 | GQ8: =SUM(GE8,GG8,GI8,GK8,GM8) -> 1 | GT8: CT 6 | GU8: 0 | GV8: 0 | GW8: 0 | GX8: 0 | GY8: =GX8/$GT$4 -> 0 | GZ8: 744 | HA8: =GZ8/$GT$4 -> 1 | HB8: 0 | HC8: =HB8/$GT$4 -> 0 | HD8: 0 | HE8: =(GU8-HD8)/$GT$4 -> 0 | HF8: =IF((AND(GV8=0,GX8=0)),0,(GX8+HD8)/(GV8+GX8)) -> 0 | HG8: =HD8/$GT$4 -> 0 | HH8: 160 | HI8: 140 | HJ8: 0 | HK8: =SUM(GY8,HA8,HC8,HE8,HG8) -> 1 | HN8: CT 6 | HO8: 0 | HP8: 0 | HQ8: 0 | HR8: 0 | HS8: =HR8/$HN$4 -> 0 | HT8: 720 | HU8: =HT8/$HN$4 -> 1 | HV8: 0 | HW8: =HV8/$HN$4 -> 0 | HX8: 0 | HY8: 0 | HZ8: =(HO8-HX8-HY8)/$HN$4 -> 0 | IA8: =IF((AND(HP8=0,HR8=0)),0,(HR8+HX8+HY8)/(HP8+HR8)) -> 0 | IB8: =(HY8+HX8)/$HN$4 -> 0 | IC8: 160 | ID8: 140 | IE8: 0 | IF8: =SUM(HS8,HU8,HW8,HZ8,IB8) -> 1
B9: ST 6 | C9: 0 | D9: 0 | E9: 0 | F9: 0 | G9: =F9/$B$4 -> 0 | H9: 744 | I9: =H9/$B$4 -> 1 | J9: 0 | K9: =J9/$B$4 -> 0 | L9: ='[1]UNIT DATA'!$P$5 -> 0 | M9: =(C9-L9)/$B$4 -> 0 | N9: =IF((AND(D9=0,F9=0)),0,(F9+L9)/(D9+F9)) -> 0 | O9: =L9/$B$4 -> 0 | P9: 60 | Q9: 52 | R9: 0 | S9: =SUM(G9,I9,K9,M9,O9) -> 1 | V9: ST 6 | W9: 0 | X9: 0 | Y9: 0 | Z9: 0 | AA9: =Z9/$V$4 -> 0 | AB9: 744 | AC9: =AB9/$V$4 -> 1 | AD9: 0 | AE9: =AD9/$V$4 -> 0 | AF9: 0 | AG9: =(W9-AF9)/$V$4 -> 0 | AH9: =IF((AND(X9=0,Z9=0)),0,(Z9+AF9)/(X9+Z9)) -> 0 | AI9: =AF9/$V$4 -> 0 | AJ9: 60 | AK9: 52 | AL9: 0 | AM9: =SUM(AA9,AC9,AE9,AG9,AI9) -> 1 | AP9: ST 6 | AQ9: 0 | AR9: 0 | AS9: 0 | AT9: 0 | AU9: =AT9/$AP$4 -> 0 | AV9: 720 | AW9: =AV9/$AP$4 -> 1 | AX9: 0 | AY9: =AX9/$AP$4 -> 0 | AZ9: 0 | BA9: =(AQ9-AZ9)/$AP$4 -> 0 | BB9: =IF((AND(AR9=0,AT9=0)),0,(AT9+AZ9)/(AR9+AT9)) -> 0 | BC9: =AZ9/$AP$4 -> 0 | BD9: 60 | BE9: 52 | BF9: 0 | BG9: =SUM(AU9,AW9,AY9,BA9,BC9) -> 1 | BJ9: ST 6 | BK9: 0 | BL9: 0 | BM9: 0 | BN9: 0 | BO9: =BN9/$BJ$4 -> 0 | BP9: 744 | BQ9: =BP9/$BJ$4 -> 1 | BR9: 0 | BS9: =BR9/$BJ$4 -> 0 | BT9: 0 | BU9: =(BK9-BT9)/$BJ$4 -> 0 | BV9: =IF((AND(BL9=0,BN9=0)),0,(BN9+BT9)/(BL9+BN9)) -> 0 | BW9: =BT9/$BJ$4 -> 0 | BX9: 60 | BY9: 52 | BZ9: 0 | CA9: =SUM(BO9,BQ9,BS9,BU9,BW9) -> 1 | CD9: ST 6 | CE9: 0 | CF9: 0 | CG9: 0 | CH9: 0 | CI9: =CH9/$CD$4 -> 0 | CJ9: 720 | CK9: =CJ9/$CD$4 -> 1 | CL9: 0 | CM9: =CL9/$CD$4 -> 0 | CN9: 0 | CO9: =(CE9-CN9)/$CD$4 -> 0 | CP9: =IF((AND(CF9=0,CH9=0)),0,(CH9+CN9)/(CF9+CH9)) -> 0 | CQ9: =CN9/$CD$4 -> 0 | CR9: 60 | CS9: 52 | CT9: 0 | CU9: =SUM(CI9,CK9,CM9,CO9,CQ9) -> 1 | CX9: ST 6 | CY9: 0 | CZ9: 0 | DA9: 0 | DB9: 0 | DC9: =DB9/$CX$4 -> 0 | DD9: 744 | DE9: =DD9/$CX$4 -> 1 | DF9: 0 | DG9: =DF9/$CX$4 -> 0 | DH9: 0 | DI9: =(CY9-DH9)/$CX$4 -> 0 | DJ9: =IF((AND(CZ9=0,DB9=0)),0,(DB9+DH9)/(CZ9+DB9)) -> 0 | DK9: =DH9/$CX$4 -> 0 | DL9: 60 | DM9: 52 | DN9: 0 | DO9: =SUM(DC9,DE9,DG9,DI9,DK9) -> 1 | DR9: ST 6 | DS9: 0 | DT9: 0 | DU9: 0 | DV9: 0 | DW9: =DV9/$DR$4 -> 0 | DX9: 744 | DY9: =DX9/$DR$4 -> 1 | DZ9: 0 | EA9: =DZ9/$DR$4 -> 0 | EB9: 0 | EC9: =(DS9-EB9)/$DR$4 -> 0 | ED9: =IF((AND(DT9=0,DV9=0)),0,(DV9+EB9)/(DT9+DV9)) -> 0 | EE9: =EB9/$DR$4 -> 0 | EF9: 60 | EG9: 52 | EH9: 0 | EI9: =SUM(DW9,DY9,EA9,EC9,EE9) -> 1 | EL9: ST 6 | EM9: 0 | EN9: 0 | EO9: 0 | EP9: 0 | EQ9: =EP9/$EL$4 -> 0 | ER9: 672 | ES9: =ER9/$EL$4 -> 1 | ET9: 0 | EU9: =ET9/$EL$4 -> 0 | EV9: 0 | EW9: =(EM9-EV9)/$EL$4 -> 0 | EX9: =IF((AND(EN9=0,EP9=0)),0,(EP9+EV9)/(EN9+EP9)) -> 0 | EY9: =EV9/$EL$4 -> 0 | EZ9: 60 | FA9: 52 | FB9: 52 | FC9: =SUM(EQ9,ES9,EU9,EW9,EY9) -> 1 | FF9: ST 6 | FG9: 0 | FH9: 0 | FI9: 0 | FJ9: 0 | FK9: =FJ9/$FF$4 -> 0 | FL9: 744 | FM9: =FL9/$FF$4 -> 1 | FN9: 0 | FO9: =FN9/$FF$4 -> 0 | FP9: 0 | FQ9: =(FG9-FP9)/$FF$4 -> 0 | FR9: =IF((AND(FH9=0,FJ9=0)),0,(FJ9+FP9)/(FH9+FJ9)) -> 0 | FS9: =FP9/$FF$4 -> 0 | FT9: 60 | FU9: 52 | FV9: 0 | FW9: =SUM(FK9,FM9,FO9,FQ9,FS9) -> 1 | FZ9: ST 6 | GA9: 0 | GB9: 0 | GC9: 0 | GD9: 0 | GE9: =GD9/$FZ$4 -> 0 | GF9: 720 | GG9: =GF9/$FZ$4 -> 1 | GH9: 0 | GI9: =GH9/$FZ$4 -> 0 | GJ9: 0 | GK9: =(GA9-GJ9)/$FZ$4 -> 0 | GL9: =IF((AND(GB9=0,GD9=0)),0,(GD9+GJ9)/(GB9+GD9)) -> 0 | GM9: =GJ9/$FZ$4 -> 0 | GN9: 60 | GO9: 52 | GP9: 0 | GQ9: =SUM(GE9,GG9,GI9,GK9,GM9) -> 1 | GT9: ST 6 | GU9: 0 | GV9: 0 | GW9: 0 | GX9: 0 | GY9: =GX9/$GT$4 -> 0 | GZ9: 744 | HA9: =GZ9/$GT$4 -> 1 | HB9: 0 | HC9: =HB9/$GT$4 -> 0 | HD9: 0 | HE9: =(GU9-HD9)/$GT$4 -> 0 | HF9: =IF((AND(GV9=0,GX9=0)),0,(GX9+HD9)/(GV9+GX9)) -> 0 | HG9: =HD9/$GT$4 -> 0 | HH9: 60 | HI9: 52 | HJ9: 0 | HK9: =SUM(GY9,HA9,HC9,HE9,HG9) -> 1 | HN9: ST 6 | HO9: 0 | HP9: 0 | HQ9: 0 | HR9: 0 | HS9: =HR9/$HN$4 -> 0 | HT9: 720 | HU9: =HT9/$HN$4 -> 1 | HV9: 0 | HW9: =HV9/$HN$4 -> 0 | HX9: 0 | HY9: 0 | HZ9: =(HO9-HX9-HY9)/$HN$4 -> 0 | IA9: =IF((AND(HP9=0,HR9=0)),0,(HR9+HX9+HY9)/(HP9+HR9)) -> 0 | IB9: =(HY9+HX9)/$HN$4 -> 0 | IC9: 60 | ID9: 52 | IE9: 0 | IF9: =SUM(HS9,HU9,HW9,HZ9,IB9) -> 1
B10: 7 | C10: 0 | D10: 0 | E10: 0 | F10: 0 | G10: =F10/$B$4 -> 0 | H10: 744 | I10: =H10/$B$4 -> 1 | J10: 0 | K10: =J10/$B$4 -> 0 | L10: ='[1]UNIT DATA'!$P$6 -> 0 | M10: =(C10-L10)/$B$4 -> 0 | N10: =IF((AND(D10=0,F10=0)),0,(F10+L10)/(D10+F10)) -> 0 | O10: =L10/$B$4 -> 0 | P10: 100 | Q10: 100 | R10: 0 | S10: =SUM(G10,I10,K10,M10,O10) -> 1 | V10: 7 | W10: 0 | X10: 0 | Y10: 0 | Z10: 0 | AA10: =Z10/$V$4 -> 0 | AB10: 744 | AC10: =AB10/$V$4 -> 1 | AD10: 0 | AE10: =AD10/$V$4 -> 0 | AF10: 0 | AG10: =(W10-AF10)/$V$4 -> 0 | AH10: =IF((AND(X10=0,Z10=0)),0,(Z10+AF10)/(X10+Z10)) -> 0 | AI10: =AF10/$V$4 -> 0 | AJ10: 100 | AK10: 100 | AL10: 0 | AM10: =SUM(AA10,AC10,AE10,AG10,AI10) -> 1 | AP10: 7 | AQ10: 0 | AR10: 0 | AS10: 0 | AT10: 0 | AU10: =AT10/$AP$4 -> 0 | AV10: 720 | AW10: =AV10/$AP$4 -> 1 | AX10: 0 | AY10: =AX10/$AP$4 -> 0 | AZ10: 0 | BA10: =(AQ10-AZ10)/$AP$4 -> 0 | BB10: =IF((AND(AR10=0,AT10=0)),0,(AT10+AZ10)/(AR10+AT10)) -> 0 | BC10: =AZ10/$AP$4 -> 0 | BD10: 100 | BE10: 100 | BF10: 0 | BG10: =SUM(AU10,AW10,AY10,BA10,BC10) -> 1 | BJ10: 7 | BK10: 0 | BL10: 0 | BM10: 0 | BN10: 0 | BO10: =BN10/$BJ$4 -> 0 | BP10: 744 | BQ10: =BP10/$BJ$4 -> 1 | BR10: 0 | BS10: =BR10/$BJ$4 -> 0 | BT10: 0 | BU10: =(BK10-BT10)/$BJ$4 -> 0 | BV10: =IF((AND(BL10=0,BN10=0)),0,(BN10+BT10)/(BL10+BN10)) -> 0 | BW10: =BT10/$BJ$4 -> 0 | BX10: 100 | BY10: 100 | BZ10: 0 | CA10: =SUM(BO10,BQ10,BS10,BU10,BW10) -> 1 | CD10: 7 | CE10: 0 | CF10: 0 | CG10: 0 | CH10: 0 | CI10: =CH10/$CD$4 -> 0 | CJ10: 720 | CK10: =CJ10/$CD$4 -> 1 | CL10: 0 | CM10: =CL10/$CD$4 -> 0 | CN10: 0 | CO10: =(CE10-CN10)/$CD$4 -> 0 | CP10: =IF((AND(CF10=0,CH10=0)),0,(CH10+CN10)/(CF10+CH10)) -> 0 | CQ10: =CN10/$CD$4 -> 0 | CR10: 100 | CS10: 100 | CT10: 0 | CU10: =SUM(CI10,CK10,CM10,CO10,CQ10) -> 1 | CX10: 7 | CY10: 0 | CZ10: 0 | DA10: 0 | DB10: 0 | DC10: =DB10/$CX$4 -> 0 | DD10: 744 | DE10: =DD10/$CX$4 -> 1 | DF10: 0 | DG10: =DF10/$CX$4 -> 0 | DH10: 0 | DI10: =(CY10-DH10)/$CX$4 -> 0 | DJ10: =IF((AND(CZ10=0,DB10=0)),0,(DB10+DH10)/(CZ10+DB10)) -> 0 | DK10: =DH10/$CX$4 -> 0 | DL10: 100 | DM10: 100 | DN10: 0 | DO10: =SUM(DC10,DE10,DG10,DI10,DK10) -> 1 | DR10: 7 | DS10: 0 | DT10: 0 | DU10: 0 | DV10: 0 | DW10: =DV10/$DR$4 -> 0 | DX10: 744 | DY10: =DX10/$DR$4 -> 1 | DZ10: 0 | EA10: =DZ10/$DR$4 -> 0 | EB10: 0 | EC10: =(DS10-EB10)/$DR$4 -> 0 | ED10: =IF((AND(DT10=0,DV10=0)),0,(DV10+EB10)/(DT10+DV10)) -> 0 | EE10: =EB10/$DR$4 -> 0 | EF10: 100 | EG10: 100 | EH10: 0 | EI10: =SUM(DW10,DY10,EA10,EC10,EE10) -> 1 | EL10: 7 | EM10: 0 | EN10: 0 | EO10: 0 | EP10: 0 | EQ10: =EP10/$EL$4 -> 0 | ER10: 672 | ES10: =ER10/$EL$4 -> 1 | ET10: 0 | EU10: =ET10/$EL$4 -> 0 | EV10: 0 | EW10: =(EM10-EV10)/$EL$4 -> 0 | EX10: =IF((AND(EN10=0,EP10=0)),0,(EP10+EV10)/(EN10+EP10)) -> 0 | EY10: =EV10/$EL$4 -> 0 | EZ10: 100 | FA10: 100 | FB10: 0 | FC10: =SUM(EQ10,ES10,EU10,EW10,EY10) -> 1 | FF10: 7 | FG10: 0 | FH10: 0 | FI10: 0 | FJ10: 0 | FK10: =FJ10/$FF$4 -> 0 | FL10: 744 | FM10: =FL10/$FF$4 -> 1 | FN10: 0 | FO10: =FN10/$FF$4 -> 0 | FP10: 0 | FQ10: =(FG10-FP10)/$FF$4 -> 0 | FR10: =IF((AND(FH10=0,FJ10=0)),0,(FJ10+FP10)/(FH10+FJ10)) -> 0 | FS10: =FP10/$FF$4 -> 0 | FT10: 100 | FU10: 100 | FV10: 0 | FW10: =SUM(FK10,FM10,FO10,FQ10,FS10) -> 1 | FZ10: 7 | GA10: 0 | GB10: 0 | GC10: 0 | GD10: 0 | GE10: =GD10/$FZ$4 -> 0 | GF10: 720 | GG10: =GF10/$FZ$4 -> 1 | GH10: 0 | GI10: =GH10/$FZ$4 -> 0 | GJ10: 0 | GK10: =(GA10-GJ10)/$FZ$4 -> 0 | GL10: =IF((AND(GB10=0,GD10=0)),0,(GD10+GJ10)/(GB10+GD10)) -> 0 | GM10: =GJ10/$FZ$4 -> 0 | GN10: 100 | GO10: 100 | GP10: 0 | GQ10: =SUM(GE10,GG10,GI10,GK10,GM10) -> 1 | GT10: 7 | GU10: 0 | GV10: 0 | GW10: 0 | GX10: 0 | GY10: =GX10/$GT$4 -> 0 | GZ10: 744 | HA10: =GZ10/$GT$4 -> 1 | HB10: 0 | HC10: =HB10/$GT$4 -> 0 | HD10: 0 | HE10: =(GU10-HD10)/$GT$4 -> 0 | HF10: =IF((AND(GV10=0,GX10=0)),0,(GX10+HD10)/(GV10+GX10)) -> 0 | HG10: =HD10/$GT$4 -> 0 | HH10: 100 | HI10: 100 | HJ10: 0 | HK10: =SUM(GY10,HA10,HC10,HE10,HG10) -> 1 | HN10: 7 | HO10: 14.423333 | HP10: 14.42 | HQ10: 0 | HR10: 62.25 | HS10: =HR10/$HN$4 -> 0.086458333 | HT10: 643.33 | HU10: =HT10/$HN$4 -> 0.89351389 | HV10: 0 | HW10: =HV10/$HN$4 -> 0 | HX10: 0 | HY10: 12.09 | HZ10: =(HO10-HX10-HY10)/$HN$4 -> 0.0032407407 | IA10: =IF((AND(HP10=0,HR10=0)),0,(HR10+HX10+HY10)/(HP10+HR10)) -> 0.96961002 | IB10: =(HY10+HX10)/$HN$4 -> 0.016791667 | IC10: 100 | ID10: 100 | IE10: 0 | IF10: =SUM(HS10,HU10,HW10,HZ10,IB10) -> 1.0000046
B11: 9 | C11: 645.7 | D11: 645.7 | E11: 0 | F11: 30.7 | G11: =F11/$B$4 -> 0.041263441 | H11: 0 | I11: =H11/$B$4 -> 0 | J11: 67.6 | K11: =J11/$B$4 -> 0.090860215 | L11: ='[1]UNIT DATA'!$P$7 -> 21.804 | M11: =(C11-L11)/$B$4 -> 0.83856989 | N11: =IF((AND(D11=0,F11=0)),0,(F11+L11)/(D11+F11)) -> 0.077622708 | O11: =L11/$B$4 -> 0.029306452 | P11: 100 | Q11: 100 | R11: 57 | S11: =SUM(G11,I11,K11,M11,O11) -> 1 | V11: 9 | W11: 730.5 | X11: 730.5 | Y11: 0 | Z11: 13.5 | AA11: =Z11/$V$4 -> 0.018145161 | AB11: 0 | AC11: =AB11/$V$4 -> 0 | AD11: 0 | AE11: =AD11/$V$4 -> 0 | AF11: 0 | AG11: =(W11-AF11)/$V$4 -> 0.98185484 | AH11: =IF((AND(X11=0,Z11=0)),0,(Z11+AF11)/(X11+Z11)) -> 0.018145161 | AI11: =AF11/$V$4 -> 0 | AJ11: 100 | AK11: 100 | AL11: 93 | AM11: =SUM(AA11,AC11,AE11,AG11,AI11) -> 1 | AP11: 9 | AQ11: 623.05 | AR11: 623.05 | AS11: 0 | AT11: 96.95 | AU11: =AT11/$AP$4 -> 0.13465278 | AV11: 0 | AW11: =AV11/$AP$4 -> 0 | AX11: 0 | AY11: =AX11/$AP$4 -> 0 | AZ11: 42.48 | BA11: =(AQ11-AZ11)/$AP$4 -> 0.80634722 | BB11: =IF((AND(AR11=0,AT11=0)),0,(AT11+AZ11)/(AR11+AT11)) -> 0.19365278 | BC11: =AZ11/$AP$4 -> 0.059 | BD11: 100 | BE11: 100 | BF11: 81 | BG11: =SUM(AU11,AW11,AY11,BA11,BC11) -> 1 | BJ11: 9 | BK11: 744 | BL11: 744 | BM11: 0 | BN11: 0 | BO11: =BN11/$BJ$4 -> 0 | BP11: 0 | BQ11: =BP11/$BJ$4 -> 0 | BR11: 0 | BS11: =BR11/$BJ$4 -> 0 | BT11: 137.29 | BU11: =(BK11-BT11)/$BJ$4 -> 0.81547043 | BV11: =IF((AND(BL11=0,BN11=0)),0,(BN11+BT11)/(BL11+BN11)) -> 0.18452957 | BW11: =BT11/$BJ$4 -> 0.18452957 | BX11: 100 | BY11: 100 | BZ11: 82 | CA11: =SUM(BO11,BQ11,BS11,BU11,BW11) -> 1 | CD11: 9 | CE11: 720 | CF11: 720 | CG11: 0 | CH11: 0 | CI11: =CH11/$CD$4 -> 0 | CJ11: 0 | CK11: =CJ11/$CD$4 -> 0 | CL11: 0 | CM11: =CL11/$CD$4 -> 0 | CN11: 129.6 | CO11: =(CE11-CN11)/$CD$4 -> 0.82 | CP11: =IF((AND(CF11=0,CH11=0)),0,(CH11+CN11)/(CF11+CH11)) -> 0.18 | CQ11: =CN11/$CD$4 -> 0.18 | CR11: 100 | CS11: 100 | CT11: 82 | CU11: =SUM(CI11,CK11,CM11,CO11,CQ11) -> 1 | CX11: 9 | CY11: 655.37 | CZ11: 655.37 | DA11: 0 | DB11: 0 | DC11: =DB11/$CX$4 -> 0 | DD11: 0 | DE11: =DD11/$CX$4 -> 0 | DF11: 88.63 | DG11: =DF11/$CX$4 -> 0.11912634 | DH11: 131.07 | DI11: =(CY11-DH11)/$CX$4 -> 0.7047043 | DJ11: =IF((AND(CZ11=0,DB11=0)),0,(DB11+DH11)/(CZ11+DB11)) -> 0.1999939 | DK11: =DH11/$CX$4 -> 0.17616935 | DL11: 100 | DM11: 100 | DN11: 82 | DO11: =SUM(DC11,DE11,DG11,DI11,DK11) -> 1 | DR11: 9 | DS11: 317.46 | DT11: 298.49 | DU11: 18.97 | DV11: 8.33 | DW11: =DV11/$DR$4 -> 0.011196237 | DX11: 82.83 | DY11: =DX11/$DR$4 -> 0.11133065 | DZ11: 335.38 | EA11: =DZ11/$DR$4 -> 0.45077957 | EB11: 95.47 | EC11: =(DS11-EB11)/$DR$4 -> 0.29837366 | ED11: =IF((AND(DT11=0,DV11=0)),0,(DV11+EB11)/(DT11+DV11)) -> 0.33830911 | EE11: =EB11/$DR$4 -> 0.12831989 | EF11: 100 | EG11: 100 | EH11: 82 | EI11: =SUM(DW11,DY11,EA11,EC11,EE11) -> 1 | EL11: 9 | EM11: 446.65 | EN11: 446.65 | EO11: 0 | EP11: 1.67 | EQ11: =EP11/$EL$4 -> 0.002485119 | ER11: 0 | ES11: =ER11/$EL$4 -> 0 | ET11: 223.68 | EU11: =ET11/$EL$4 -> 0.33285714 | EV11: 114.2 | EW11: =(EM11-EV11)/$EL$4 -> 0.49471726 | EX11: =IF((AND(EN11=0,EP11=0)),0,(EP11+EV11)/(EN11+EP11)) -> 0.25845378 | EY11: =EV11/$EL$4 -> 0.16994048 | EZ11: 100 | FA11: 100 | FB11: 90 | FC11: =SUM(EQ11,ES11,EU11,EW11,EY11) -> 1 | FF11: 9 | FG11: 593.77 | FH11: 356.54 | FI11: 237.23 | FJ11: 150.23 | FK11: =FJ11/$FF$4 -> 0.20192204 | FL11: 0 | FM11: =FL11/$FF$4 -> 0 | FN11: 0 | FO11: =FN11/$FF$4 -> 0 | FP11: 106.96 | FQ11: =(FG11-FP11)/$FF$4 -> 0.65431452 | FR11: =IF((AND(FH11=0,FJ11=0)),0,(FJ11+FP11)/(FH11+FJ11)) -> 0.50750834 | FS11: =FP11/$FF$4 -> 0.14376344 | FT11: 100 | FU11: 100 | FV11: 70 | FW11: =SUM(FK11,FM11,FO11,FQ11,FS11) -> 1 | FZ11: 9 | GA11: 720 | GB11: 720 | GC11: 0 | GD11: 0 | GE11: =GD11/$FZ$4 -> 0 | GF11: 0 | GG11: =GF11/$FZ$4 -> 0 | GH11: 0 | GI11: =GH11/$FZ$4 -> 0 | GJ11: 216 | GK11: =(GA11-GJ11)/$FZ$4 -> 0.7 | GL11: =IF((AND(GB11=0,GD11=0)),0,(GD11+GJ11)/(GB11+GD11)) -> 0.3 | GM11: =GJ11/$FZ$4 -> 0.3 | GN11: 100 | GO11: 100 | GP11: 70 | GQ11: =SUM(GE11,GG11,GI11,GK11,GM11) -> 1 | GT11: 9 | GU11: 694.92 | GV11: 694.92 | GW11: 0 | GX11: 49.08 | GY11: =GX11/$GT$4 -> 0.065967742 | GZ11: 0 | HA11: =GZ11/$GT$4 -> 0 | HB11: 0 | HC11: =HB11/$GT$4 -> 0 | HD11: 300.35 | HE11: =(GU11-HD11)/$GT$4 -> 0.53033602 | HF11: =IF((AND(GV11=0,GX11=0)),0,(GX11+HD11)/(GV11+GX11)) -> 0.46966398 | HG11: =HD11/$GT$4 -> 0.40369624 | HH11: 100 | HI11: 100 | HJ11: 45 | HK11: =SUM(GY11,HA11,HC11,HE11,HG11) -> 1 | HN11: 9 | HO11: 388.67 | HP11: 388.67 | HQ11: 0 | HR11: 331.33 | HS11: =HR11/$HN$4 -> 0.46018056 | HT11: 0 | HU11: =HT11/$HN$4 -> 0 | HV11: 0 | HW11: =HV11/$HN$4 -> 0 | HX11: 0 | HY11: 232.8 | HZ11: =(HO11-HX11-HY11)/$HN$4 -> 0.21648611 | IA11: =IF((AND(HP11=0,HR11=0)),0,(HR11+HX11+HY11)/(HP11+HR11)) -> 0.78351389 | IB11: =(HY11+HX11)/$HN$4 -> 0.32333333 | IC11: 100 | ID11: 100 | IE11: 100 | IF11: =SUM(HS11,HU11,HW11,HZ11,IB11) -> 1
B12: Total | C12: =SUM(C6:C11) -> 2707.1 | D12: =SUM(D6:D11) -> 2647 | E12: =SUM(E6:E11) -> 60.1 | F12: =SUM(F6:F11) -> 164.6 | G12: =(G6*Q6+G7*Q7+G8*Q8+G9*Q9+G10*Q10+G11*Q11)/Q12 -> 0.04911655 | H12: =SUM(H6:H11) -> 1488 | I12: =(I6*Q6+I7*Q7+I8*Q8+I9*Q9+I10*Q10+I11*Q11)/Q12 -> 0.25460637 | J12: =SUM(J6:J11) -> 104.3 | K12: =(K6*Q6+K7*Q7+K8*Q8+K9*Q9+K10*Q10+K11*Q11)/Q12 -> 0.023518128 | L12: =SUM(L6:L11) -> 131.31 | M12: =(M6*Q6+M7*Q7+M8*Q8+M9*Q9+M10*Q10+M11*Q11)/Q12 -> 0.64118584 | N12: =(N6*Q6+N7*Q7+N8*Q8+N9*Q9+N10*Q10+N11*Q11)/Q12 -> 0.086309509 | O12: =(O6*Q6+O7*Q7+O8*Q8+O9*Q9+O10*Q10+O11*Q11)/Q12 -> 0.031573119 | P12: =SUM(P6:P11) -> 640 | Q12: =SUM(Q6:Q11) -> 597 | R12: =SUM(R6:R11) -> 426 | S12: =SUM(G12,I12,K12,M12,O12) -> 1 | V12: Total | W12: =SUM(W6:W11) -> 2415.1 | X12: =SUM(X6:X11) -> 2355 | Y12: =SUM(Y6:Y11) -> 60.1 | Z12: =SUM(Z6:Z11) -> 402.9 | AA12: =(AA6*$AK$6+AA7*$AK$7+AA8*$AK$8+AA9*$AK$9+AA10*$AK$10+AA11*$AK$11)/$AK$12 -> 0.12456818 | AB12: =SUM(AB6:AB11) -> 1488 | AC12: =(AC6*$AK$6+AC7*$AK$7+AC8*$AK$8+AC9*$AK$9+AC10*$AK$10+AC11*$AK$11)/$AK$12 -> 0.25460637 | AD12: =SUM(AD6:AD11) -> 158 | AE12: =(AE6*$AK$6+AE7*$AK$7+AE8*$AK$8+AE9*$AK$9+AE10*$AK$10+AE11*$AK$11)/$AK$12 -> 0.03591569 | AF12: =SUM(AF6:AF11) -> 0 | AG12: =(AG6*$AK$6+AG7*$AK$7+AG8*$AK$8+AG9*$AK$9+AG10*$AK$10+AG11*$AK$11)/$AK$12 -> 0.58490976 | AH12: =(AH6*$AK$6+AH7*$AK$7+AH8*$AK$8+AH9*$AK$9+AH10*$AK$10+AH11*$AK$11)/$AK$12 -> 0.1352729 | AI12: =(AI6*$AK$6+AI7*$AK$7+AI8*$AK$8+AI9*$AK$9+AI10*$AK$10+AI11*$AK$11)/$AK$12 -> 0 | AJ12: =SUM(AJ6:AJ11) -> 640 | AK12: =SUM(AK6:AK11) -> 597 | AL12: =SUM(AL6:AL11) -> 457 | AM12: =SUM(AA12,AC12,AE12,AG12,AI12) -> 1 | AP12: Total | AQ12: =SUM(AQ6:AQ11) -> 2497.48 | AR12: =SUM(AR6:AR11) -> 2495.08 | AS12: =SUM(AS6:AS11) -> 2.4 | AT12: =SUM(AT6:AT11) -> 136.85 | AU12: =(AU6*$BE6+AU7*$BE7+AU8*$BE8+AU9*$BE9+AU10*$BE10+AU11*$BE11)/$BE12 -> 0.031775777 | AV12: =SUM(AV6:AV11) -> 1440 | AW12: =(AW6*$BE6+AW7*$BE7+AW8*$BE8+AW9*$BE9+AW10*$BE10+AW11*$BE11)/$BE12 -> 0.25460637 | AX12: =SUM(AX6:AX11) -> 245.67 | AY12: =(AY6*$BE6+AY7*$BE7+AY8*$BE8+AY9*$BE9+AY10*$BE10+AY11*$BE11)/$BE12 -> 0.068778406 | AZ12: =SUM(AZ6:AZ11) -> 42.48 | BA12: =(BA6*$BE6+BA7*$BE7+BA8*$BE8+BA9*$BE9+BA10*$BE10+BA11*$BE11)/$BE12 -> 0.6349567 | BB12: =(BB6*$BE6+BB7*$BE7+BB8*$BE8+BB9*$BE9+BB10*$BE10+BB11*$BE11)/$BE12 -> 0.042369576 | BC12: =(BC6*$BE6+BC7*$BE7+BC8*$BE8+BC9*$BE9+BC10*$BE10+BC11*$BE11)/$BE12 -> 0.0098827471 | BD12: =SUM(BD6:BD11) -> 640 | BE12: =SUM(BE6:BE11) -> 597 | BF12: =SUM(BF6:BF11) -> 441 | BG12: =SUM(AU12,AW12,AY12,BA12,BC12) -> 1 | BJ12: Total | BK12: =SUM(BK6:BK11) -> 2770.7 | BL12: =SUM(BL6:BL11) -> 2770.7 | BM12: =SUM(BM6:BM11) -> 0 | BN12: =SUM(BN6:BN11) -> 205.3 | BO12: =(BO6*$BY6+BO7*$BY7+BO8*$BY8+BO9*$BY9+BO10*$BY10+BO11*$BY11)/$BY12 -> 0.048242782 | BP12: =SUM(BP6:BP11) -> 1488 | BQ12: =(BQ6*$BY6+BQ7*$BY7+BQ8*$BY8+BQ9*$BY9+BQ10*$BY10+BQ11*$BY11)/$BY12 -> 0.25460637 | BR12: =SUM(BR6:BR11) -> 0 | BS12: =(BS6*$BY6+BS7*$BY7+BS8*$BY8+BS9*$BY9+BS10*$BY10+BS11*$BY11)/$BY12 -> 0 | BT12: =SUM(BT6:BT11) -> 237.98 | BU12: =(BU6*$BY6+BU7*$BY7+BU8*$BY8+BU9*$BY9+BU10*$BY10+BU11*$BY11)/$BY12 -> 0.63998107 | BV12: =(BV6*$BY6+BV7*$BY7+BV8*$BY8+BV9*$BY9+BV10*$BY10+BV11*$BY11)/$BY12 -> 0.10541257 | BW12: =(BW6*$BY6+BW7*$BY7+BW8*$BY8+BW9*$BY9+BW10*$BY10+BW11*$BY11)/$BY12 -> 0.057169787 | BX12: =SUM(BX6:BX11) -> 640 | BY12: 597 | BZ12: =SUM(BZ6:BZ11) -> 442 | CA12: =SUM(BO12,BQ12,BS12,BU12,BW12) -> 1 | CD12: Total | CE12: =SUM(CE6:CE11) -> 2296.1 | CF12: =SUM(CF6:CF11) -> 2296.1 | CG12: =SUM(CG6:CG11) -> 0 | CH12: =SUM(CH6:CH11) -> 530 | CI12: =(CI6*$CS6+CI7*$CS7+CI8*$CS8+CI9*$CS9+CI10*$CS10+CI11*$CS11)/$CS12 -> 0.12647985 | CJ12: =SUM(CJ6:CJ11) -> 1440 | CK12: =(CK6*$CS6+CK7*$CS7+CK8*$CS8+CK9*$CS9+CK10*$CS10+CK11*$CS11)/$CS12 -> 0.25460637 | CL12: =SUM(CL6:CL11) -> 53.9 | CM12: =(CM6*$CS6+CM7*$CS7+CM8*$CS8+CM9*$CS9+CM10*$CS10+CM11*$CS11)/$CS12 -> 0.011948399 | CN12: =SUM(CN6:CN11) -> 137.56 | CO12: =(CO6*$CS6+CO7*$CS7+CO8*$CS8+CO9*$CS9+CO10*$CS10+CO11*$CS11)/$CS12 -> 0.5739813 | CP12: =(CP6*$CS6+CP7*$CS7+CP8*$CS8+CP9*$CS9+CP10*$CS10+CP11*$CS11)/$CS12 -> 0.16410327 | CQ12: =(CQ6*$CS6+CQ7*$CS7+CQ8*$CS8+CQ9*$CS9+CQ10*$CS10+CQ11*$CS11)/$CS12 -> 0.032984087 | CR12: =SUM(CR6:CR11) -> 640 | CS12: 597 | CT12: =SUM(CT6:CT11) -> 447 | CU12: =SUM(CI12,CK12,CM12,CO12,CQ12) -> 1 | CX12: Total | CY12: =SUM(CY6:CY11) -> 1404.91 | CZ12: =SUM(CZ6:CZ11) -> 1342.55 | DA12: =SUM(DA6:DA11) -> 62.36 | DB12: =SUM(DB6:DB11) -> 1282.08 | DC12: =(DC6*$DM6+DC7*$DM7+DC8*$DM8+DC9*$DM9+DC10*$DM10+DC11*$DM11)/$DM12 -> 0.30878758 | DD12: =SUM(DD6:DD11) -> 1688.38 | DE12: =(DE6*$DM6+DE7*$DM7+DE8*$DM8+DE9*$DM9+DE10*$DM10+DE11*$DM11)/$DM12 -> 0.31776535 | DF12: =SUM(DF6:DF11) -> 88.63 | DG12: =(DG6*$DM6+DG7*$DM7+DG8*$DM8+DG9*$DM9+DG10*$DM10+DG11*$DM11)/$DM12 -> 0.019954161 | DH12: =SUM(DH6:DH11) -> 205.07 | DI12: =(DI6*$DM6+DI7*$DM7+DI8*$DM8+DI9*$DM9+DI10*$DM10+DI11*$DM11)/$DM12 -> 0.31193001 | DJ12: =(DJ6*$DM6+DJ7*$DM7+DJ8*$DM8+DJ9*$DM9+DJ10*$DM10+DJ11*$DM11)/$DM12 -> 0.38516479 | DK12: =(DK6*$DM6+DK7*$DM7+DK8*$DM8+DK9*$DM9+DK10*$DM10+DK11*$DM11)/$DM12 -> 0.0415629 | DL12: =SUM(DL6:DL11) -> 640 | DM12: =SUM(DM6:DM11) -> 597 | DN12: =SUM(DN6:DN11) -> 411 | DO12: =SUM(DC12,DE12,DG12,DI12,DK12) -> 1 | DR12: Total | DS12: =SUM(DS6:DS11) -> 1674.71 | DT12: =SUM(DT6:DT11) -> 1655.74 | DU12: =SUM(DU6:DU11) -> 18.97 | DV12: =SUM(DV6:DV11) -> 139.08 | DW12: =(DW6*$EG6+DW7*$EG7+DW8*$EG8+DW9*$EG9+DW10*$EG10+DW11*$EG11)/$EG12 -> 0.018149101 | DX12: =SUM(DX6:DX11) -> 2314.83 | DY12: =(DY6*$EG6+DY7*$EG7+DY8*$EG8+DY9*$EG9+DY10*$EG10+DY11*$EG11)/$EG12 -> 0.50776058 | DZ12: =SUM(DZ6:DZ11) -> 335.38 | EA12: =(EA6*$EG6+EA7*$EG7+EA8*$EG8+EA9*$EG9+EA10*$EG10+EA11*$EG11)/$EG12 -> 0.075507466 | EB12: =SUM(EB6:EB11) -> 657.11 | EC12: =(EC6*$EG6+EC7*$EG7+EC8*$EG8+EC9*$EG9+EC10*$EG10+EC11*$EG11)/$EG12 -> 0.28559525 | ED12: =(ED6*$EG6+ED7*$EG7+ED8*$EG8+ED9*$EG9+ED10*$EG10+ED11*$EG11)/$EG12 -> 0.16443537 | EE12: =(EE6*$EG6+EE7*$EG7+EE8*$EG8+EE9*$EG9+EE10*$EG10+EE11*$EG11)/$EG12 -> 0.11298761 | EF12: =SUM(EF6:EF11) -> 640 | EG12: 597 | EH12: =SUM(EH6:EH11) -> 251 | EI12: =SUM(DW12,DY12,EA12,EC12,EE12) -> 1 | EL12: Total | EM12: =SUM(EM6:EM11) -> 1615.08 | EN12: =SUM(EN6:EN11) -> 1570.3 | EO12: =SUM(EO6:EO11) -> 44.78 | EP12: =SUM(EP6:EP11) -> 177.24 | EQ12: =(EQ6*$FA6+EQ7*$FA7+EQ8*$FA8+EQ9*$FA9+EQ10*$FA10+EQ11*$FA11)/$FA12 -> 0.024003799 | ER12: =SUM(ER6:ER11) -> 2016 | ES12: =(ES6*$FA6+ES7*$FA7+ES8*$FA8+ES9*$FA9+ES10*$FA10+ES11*$FA11)/$FA12 -> 0.48911223 | ET12: =SUM(ET6:ET11) -> 223.68 | EU12: =(EU6*$FA6+EU7*$FA7+EU8*$FA8+EU9*$FA9+EU10*$FA10+EU11*$FA11)/$FA12 -> 0.055754965 | EV12: =SUM(EV6:EV11) -> 184.37 | EW12: =(EW6*$FA6+EW7*$FA7+EW8*$FA8+EW9*$FA9+EW10*$FA10+EW11*$FA11)/$FA12 -> 0.38637797 | EX12: =(EX6*$FA6+EX7*$FA7+EX8*$FA8+EX9*$FA9+EX10*$FA10+EX11*$FA11)/$FA12 -> 0.085144138 | EY12: =(EY6*$FA6+EY7*$FA7+EY8*$FA8+EY9*$FA9+EY10*$FA10+EY11*$FA11)/$FA12 -> 0.044751037 | EZ12: =SUM(EZ6:EZ11) -> 640 | FA12: =SUM(FA6:FA11) -> 597 | FB12: =SUM(FB6:FB11) -> 514 | FC12: =SUM(EQ12,ES12,EU12,EW12,EY12) -> 1 | FF12: Total | FG12: =SUM(FG6:FG11) -> 1887.62 | FH12: =SUM(FH6:FH11) -> 1577.64 | FI12: =SUM(FI6:FI11) -> 309.98 | FJ12: =SUM(FJ6:FJ11) -> 192.64 | FK12: =(FK6*$FU6+FK7*$FU7+FK8*$FU8+FK9*$FU9+FK10*$FU10+FK11*$FU11)/$FU12 -> 0.041537009 | FL12: =SUM(FL6:FL11) -> 2232 | FM12: =(FM6*$FU6+FM7*$FU7+FM8*$FU8+FM9*$FU9+FM10*$FU10+FM11*$FU11)/$FU12 -> 0.48911223 | FN12: =SUM(FN6:FN11) -> 151.74 | FO12: =(FO6*$FU6+FO7*$FU7+FO8*$FU8+FO9*$FU9+FO10*$FU10+FO11*$FU11)/$FU12 -> 0.03256099 | FP12: =SUM(FP6:FP11) -> 213.8 | FQ12: =(FQ6*$FU6+FQ7*$FU7+FQ8*$FU8+FQ9*$FU9+FQ10*$FU10+FQ11*$FU11)/$FU12 -> 0.39084813 | FR12: =(FR6*$FU6+FR7*$FU7+FR8*$FU8+FR9*$FU9+FR10*$FU10+FR11*$FU11)/$FU12 -> 0.1194076 | FS12: =(FS6*$FU6+FS7*$FU7+FS8*$FU8+FS9*$FU9+FS10*$FU10+FS11*$FU11)/$FU12 -> 0.045941648 | FT12: =SUM(FT6:FT11) -> 640 | FU12: 597 | FV12: 597 | FW12: =SUM(FK12,FM12,FO12,FQ12,FS12) -> 1 | FZ12: Total | GA12: =SUM(GA6:GA11) -> 2139.68 | GB12: =SUM(GB6:GB11) -> 2139.68 | GC12: =SUM(GC6:GC11) -> 0 | GD12: =SUM(GD6:GD11) -> 20.32 | GE12: =(GE6*$GO6+GE7*$GO7+GE8*$GO8+GE9*$GO9+GE10*$GO10+GE11*$GO11)/$GO12 -> 0.0039032896 | GF12: =SUM(GF6:GF11) -> 2160 | GG12: =(GG6*$GO6+GG7*$GO7+GG8*$GO8+GG9*$GO9+GG10*$GO10+GG11*$GO11)/$GO12 -> 0.48911223 | GH12: =SUM(GH6:GH11) -> 0 | GI12: =(GI6*$GO6+GI7*$GO7+GI8*$GO8+GI9*$GO9+GI10*$GO10+GI11*$GO11)/$GO12 -> 0 | GJ12: =SUM(GJ6:GJ11) -> 216 | GK12: =(GK6*$GO6+GK7*$GO7+GK8*$GO8+GK9*$GO9+GK10*$GO10+GK11*$GO11)/$GO12 -> 0.45673323 | GL12: =(GL6*$GO6+GL7*$GO7+GL8*$GO8+GL9*$GO9+GL10*$GO10+GL11*$GO11)/$GO12 -> 0.054154546 | GM12: =(GM6*$GO6+GM7*$GO7+GM8*$GO8+GM9*$GO9+GM10*$GO10+GM11*$GO11)/$GO12 -> 0.050251256 | GN12: =SUM(GN6:GN11) -> 640 | GO12: =SUM(GO6:GO11) -> 597 | GP12: =SUM(GP6:GP11) -> 280 | GQ12: =SUM(GE12,GG12,GI12,GK12,GM12) -> 1 | GT12: Total | GU12: =SUM(GU6:GU11) -> 2104.68 | GV12: =SUM(GV6:GV11) -> 2104.68 | GW12: =SUM(GW6:GW11) -> 0 | GX12: =SUM(GX6:GX11) -> 49.08 | GY12: =(GY6*$HI6+GY7*$HI7+GY8*$HI8+GY9*$HI9+GY10*$HI10+GY11*$HI11)/$HI12 -> 0.011049873 | GZ12: =SUM(GZ6:GZ11) -> 2232 | HA12: =(HA6*$HI6+HA7*$HI7+HA8*$HI8+HA9*$HI9+HA10*$HI10+HA11*$HI11)/$HI12 -> 0.48911223 | HB12: =SUM(HB6:HB11) -> 78.24 | HC12: =(HC6*$HI6+HC7*$HI7+HC8*$HI8+HC9*$HI9+HC10*$HI10+HC11*$HI11)/$HI12 -> 0.013666676 | HD12: =SUM(HD6:HD11) -> 300.35 | HE12: =(HE6*$HI6+HE7*$HI7+HE8*$HI8+HE9*$HI9+HE10*$HI10+HE11*$HI11)/$HI12 -> 0.41855041 | HF12: =(HF6*$HI6+HF7*$HI7+HF8*$HI8+HF9*$HI9+HF10*$HI10+HF11*$HI11)/$HI12 -> 0.078670683 | HG12: =(HG6*$HI6+HG7*$HI7+HG8*$HI8+HG9*$HI9+HG10*$HI10+HG11*$HI11)/$HI12 -> 0.06762081 | HH12: =SUM(HH6:HH11) -> 640 | HI12: =SUM(HI6:HI11) -> 597 | HJ12: =SUM(HJ6:HJ11) -> 255 | HK12: =SUM(GY12,HA12,HC12,HE12,HG12) -> 1 | HN12: Total | HO12: =SUM(HO6:HO11) -> 1716.3033 | HP12: =SUM(HP6:HP11) -> 1716.3 | HQ12: =SUM(HQ6:HQ11) -> 0 | HR12: =SUM(HR6:HR11) -> 477.19 | HS12: =(HS6*$ID6+HS7*$ID7+HS8*$ID8+HS9*$ID9+HS10*$ID10+HS11*$ID11)/$ID12 -> 0.10949888 | HT12: =SUM(HT6:HT11) -> 2083.33 | HU12: =(HU6*$ID6+HU7*$ID7+HU8*$ID8+HU9*$ID9+HU10*$ID10+HU11*$ID11)/$ID12 -> 0.47127536 | HV12: =SUM(HV6:HV11) -> 43.18 | HW12: =(HW6*$ID6+HW7*$ID7+HW8*$ID8+HW9*$ID9+HW10*$ID10+HW11*$ID11)/$ID12 -> 0.0097069607 | HX12: =SUM(HX6:HX11) -> 0 | HY12: =SUM(HY6:HY11) -> 244.89 | HZ12: =(HZ6*$ID6+HZ7*$ID7+HZ8*$ID8+HZ9*$ID9+HZ10*$ID10+HZ11*$ID11)/$ID12 -> 0.35254721 | IA12: =(IA6*$ID6+IA7*$ID7+IA8*$ID8+IA9*$ID9+IA10*$ID10+IA11*$ID11)/$ID12 -> 0.3121235 | IB12: =(IB6*$ID6+IB7*$ID7+IB8*$ID8+IB9*$ID9+IB10*$ID10+IB11*$ID11)/$ID12 -> 0.056972362 | IC12: =SUM(IC6:IC11) -> 640 | ID12: =SUM(ID6:ID11) -> 597 | IE12: =SUM(IE6:IE11) -> 310 | IF12: =SUM(HS12,HU12,HW12,HZ12,IB12) -> 1.0000008
A13: PALO | B13: 3 | C13: 739.33 | D13: 739.33 | E13: 0 | F13: 4.67 | G13: =F13/$B$4 -> 0.0062768817 | H13: 0 | I13: =H13/$B$4 -> 0 | J13: 0 | K13: =J13/$B$4 -> 0 | L13: 271.25 | M13: =(C13-L13)/$B$4 -> 0.62913978 | N13: =IF((AND(D13=0,F13=0)),0,(F13+L13)/(D13+F13)) -> 0.37086022 | O13: =L13/$B$4 -> 0.36458333 | P13: 216 | Q13: 178 | R13: 130 | S13: =SUM(G13,I13,K13,M13,O13) -> 1 | U13: PALO | V13: 3 | W13: 744 | X13: 744 | Y13: 0 | Z13: 0 | AA13: =Z13/$V$4 -> 0 | AB13: 0 | AC13: =AB13/$V$4 -> 0 | AD13: 0 | AE13: =AD13/$V$4 -> 0 | AF13: 296.22 | AG13: =(W13-AF13)/$V$4 -> 0.60185484 | AH13: =IF((AND(X13=0,Z13=0)),0,(Z13+AF13)/(X13+Z13)) -> 0.39814516 | AI13: =AF13/$V$4 -> 0.39814516 | AJ13: 216 | AK13: 178 | AL13: 130 | AM13: =SUM(AA13,AC13,AE13,AG13,AI13) -> 1 | AO13: PALO | AP13: 3 | AQ13: 704.52 | AR13: 704.52 | AS13: 0 | AT13: 15.48 | AU13: =AT13/$AP$4 -> 0.0215 | AV13: 0 | AW13: =AV13/$AP$4 -> 0 | AX13: 0 | AY13: =AX13/$AP$4 -> 0 | AZ13: 314.11 | BA13: =(AQ13-AZ13)/$AP$4 -> 0.54223611 | BB13: =IF((AND(AR13=0,AT13=0)),0,(AT13+AZ13)/(AR13+AT13)) -> 0.45776389 | BC13: =AZ13/$AP$4 -> 0.43626389 | BD13: 216 | BE13: 178 | BF13: 100 | BG13: =SUM(AU13,AW13,AY13,BA13,BC13) -> 1 | BI13: PALO | BJ13: 3 | BK13: 640.45 | BL13: 640.45 | BM13: 0 | BN13: 103.55 | BO13: =BN13/$BJ$4 -> 0.13918011 | BP13: 0 | BQ13: =BP13/$BJ$4 -> 0 | BR13: 0 | BS13: =BR13/$BJ$4 -> 0 | BT13: 264.55 | BU13: =(BK13-BT13)/$BJ$4 -> 0.50524194 | BV13: =IF((AND(BL13=0,BN13=0)),0,(BN13+BT13)/(BL13+BN13)) -> 0.49475806 | BW13: =BT13/$BJ$4 -> 0.35557796 | BX13: 216 | BY13: 178 | BZ13: 145 | CA13: =SUM(BO13,BQ13,BS13,BU13,BW13) -> 1 | CC13: PALO | CD13: 3 | CE13: 628.18 | CF13: 628.18 | CG13: 0 | CH13: 91.82 | CI13: =CH13/$CD$4 -> 0.12752778 | CJ13: 0 | CK13: =CJ13/$CD$4 -> 0 | CL13: 0 | CM13: =CL13/$CD$4 -> 0 | CN13: 206.5 | CO13: =(CE13-CN13)/$CD$4 -> 0.58566667 | CP13: =IF((AND(CF13=0,CH13=0)),0,(CH13+CN13)/(CF13+CH13)) -> 0.41433333 | CQ13: =CN13/$CD$4 -> 0.28680556 | CR13: 216 | CS13: 178 | CT13: 145 | CU13: =SUM(CI13,CK13,CM13,CO13,CQ13) -> 1 | CW13: PALO | CX13: 3 | CY13: 744 | CZ13: 660 | DA13: 84 | DB13: 0 | DC13: =DB13/$CX$4 -> 0 | DD13: 0 | DE13: =DD13/$CX$4 -> 0 | DF13: 0 | DG13: =DF13/$CX$4 -> 0 | DH13: 212.99 | DI13: =(CY13-DH13)/$CX$4 -> 0.71372312 | DJ13: =IF((AND(CZ13=0,DB13=0)),0,(DB13+DH13)/(CZ13+DB13)) -> 0.32271212 | DK13: =DH13/$CX$4 -> 0.28627688 | DL13: 216 | DM13: 178 | DN13: 145 | DO13: =SUM(DC13,DE13,DG13,DI13,DK13) -> 1 | DQ13: PALO | DR13: 3 | DS13: 346.45 | DT13: 234.53 | DU13: 111.92 | DV13: 0 | DW13: =DV13/$DR$4 -> 0 | DX13: 397.55 | DY13: =DX13/$DR$4 -> 0.5343414 | DZ13: 0 | EA13: =DZ13/$DR$4 -> 0 | EB13: 82.02 | EC13: =(DS13-EB13)/$DR$4 -> 0.35541667 | ED13: =IF((AND(DT13=0,DV13=0)),0,(DV13+EB13)/(DT13+DV13)) -> 0.34972072 | EE13: =EB13/$DR$4 -> 0.11024194 | EF13: 216 | EG13: 178 | EH13: 145 | EI13: =SUM(DW13,DY13,EA13,EC13,EE13) -> 1 | EK13: PALO | EL13: 3 | EM13: 0 | EN13: 0 | EO13: 0 | EP13: 0 | EQ13: =EP13/$EL$4 -> 0 | ER13: ='[17]UNIT DATA'!$N2 -> 672 | ES13: =ER13/$EL$4 -> 1 | ET13: ='[17]UNIT DATA'!$O2 -> 0 | EU13: =ET13/$EL$4 -> 0 | EV13: 0 | EW13: =(EM13-EV13)/$EL$4 -> 0 | EX13: =IF((AND(EN13=0,EP13=0)),0,(EP13+EV13)/(EN13+EP13)) -> 0 | EY13: =EV13/$EL$4 -> 0 | EZ13: 216 | FA13: 178 | FB13: 0 | FC13: =SUM(EQ13,ES13,EU13,EW13,EY13) -> 1 | FE13: PALO | FF13: 3 | FG13: 0 | FH13: 0 | FI13: 0 | FJ13: 0 | FK13: =FJ13/$FF$4 -> 0 | FL13: 744 | FM13: =FL13/$FF$4 -> 1 | FN13: 0 | FO13: =FN13/$FF$4 -> 0 | FP13: 0 | FQ13: =(FG13-FP13)/$FF$4 -> 0 | FR13: =IF((AND(FH13=0,FJ13=0)),0,(FJ13+FP13)/(FH13+FJ13)) -> 0 | FS13: =FP13/$FF$4 -> 0 | FT13: 216 | FU13: 178 | FV13: 0 | FW13: =SUM(FK13,FM13,FO13,FQ13,FS13) -> 1 | FY13: PALO | FZ13: 3 | GA13: 0 | GB13: 0 | GC13: 0 | GD13: 0 | GE13: =GD13/$FZ$4 -> 0 | GF13: 720 | GG13: =GF13/$FZ$4 -> 1 | GH13: 0 | GI13: =GH13/$FZ$4 -> 0 | GJ13: 0 | GK13: =(GA13-GJ13)/$FZ$4 -> 0 | GL13: =IF((AND(GB13=0,GD13=0)),0,(GD13+GJ13)/(GB13+GD13)) -> 0 | GM13: =GJ13/$FZ$4 -> 0 | GN13: 216 | GO13: 178 | GP13: 0 | GQ13: =SUM(GE13,GG13,GI13,GK13,GM13) -> 1 | GS13: PALO | GT13: 3 | GU13: 0.92 | GV13: 0.92 | GW13: 0 | GX13: 250.85 | GY13: =GX13/$GT$4 -> 0.33716398 | GZ13: 492.23 | HA13: =GZ13/$GT$4 -> 0.66159946 | HB13: 0 | HC13: =HB13/$GT$4 -> 0 | HD13: 0 | HE13: =(GU13-HD13)/$GT$4 -> 0.0012365591 | HF13: =IF((AND(GV13=0,GX13=0)),0,(GX13+HD13)/(GV13+GX13)) -> 0.99634587 | HG13: =HD13/$GT$4 -> 0 | HH13: 216 | HI13: 178 | HJ13: 0 | HK13: =SUM(GY13,HA13,HC13,HE13,HG13) -> 1 | HM13: PALO | HN13: 3 | HO13: 654.62 | HP13: 654.62 | HQ13: 0 | HR13: 65.38 | HS13: =HR13/$HN$4 -> 0.090805556 | HT13: 0 | HU13: =HT13/$HN$4 -> 0 | HV13: 0 | HW13: =HV13/$HN$4 -> 0 | HX13: 0 | HY13: 130.6 | HZ13: =(HO13-HX13-HY13)/$HN$4 -> 0.72780556 | IA13: =IF((AND(HP13=0,HR13=0)),0,(HR13+HX13+HY13)/(HP13+HR13)) -> 0.27219444 | IB13: =(HY13+HX13)/$HN$4 -> 0.18138889 | IC13: 216 | ID13: 178 | IE13: 210 | IF13: =SUM(HS13,HU13,HW13,HZ13,IB13) -> 1
A14: SECO | B14: 4 | C14: 0 | D14: 0 | E14: 0 | F14: 744 | G14: =F14/$B$4 -> 1 | H14: 0 | I14: =H14/$B$4 -> 0 | J14: 0 | K14: =J14/$B$4 -> 0 | L14: 0 | M14: =(C14-L14)/$B$4 -> 0 | N14: =IF((AND(D14=0,F14=0)),0,(F14+L14)/(D14+F14)) -> 1 | O14: =L14/$B$4 -> 0 | P14: 216 | Q14: 216 | R14: 0 | S14: =SUM(G14,I14,K14,M14,O14) -> 1 | U14: SECO | V14: 4 | W14: 0 | X14: 0 | Y14: 0 | Z14: 744 | AA14: =Z14/$V$4 -> 1 | AB14: 0 | AC14: =AB14/$V$4 -> 0 | AD14: 0 | AE14: =AD14/$V$4 -> 0 | AF14: 0 | AG14: =(W14-AF14)/$V$4 -> 0 | AH14: =IF((AND(X14=0,Z14=0)),0,(Z14+AF14)/(X14+Z14)) -> 1 | AI14: =AF14/$V$4 -> 0 | AJ14: 216 | AK14: 216 | AL14: 0 | AM14: =SUM(AA14,AC14,AE14,AG14,AI14) -> 1 | AO14: SECO | AP14: 4 | AQ14: 113.88 | AR14: 113.88 | AS14: 0 | AT14: 606.12 | AU14: =AT14/$AP$4 -> 0.84183333 | AV14: 0 | AW14: =AV14/$AP$4 -> 0 | AX14: 0 | AY14: =AX14/$AP$4 -> 0 | AZ14: 66.84 | BA14: =(AQ14-AZ14)/$AP$4 -> 0.065333333 | BB14: =IF((AND(AR14=0,AT14=0)),0,(AT14+AZ14)/(AR14+AT14)) -> 0.93466667 | BC14: =AZ14/$AP$4 -> 0.092833333 | BD14: 216 | BE14: 216 | BF14: 80 | BG14: =SUM(AU14,AW14,AY14,BA14,BC14) -> 1 | BI14: SECO | BJ14: 4 | BK14: 649.99 | BL14: 649.99 | BM14: 0 | BN14: 94.01 | BO14: =BN14/$BJ$4 -> 0.12635753 | BP14: 0 | BQ14: =BP14/$BJ$4 -> 0 | BR14: 0 | BS14: =BR14/$BJ$4 -> 0 | BT14: 193.48 | BU14: =(BK14-BT14)/$BJ$4 -> 0.61358871 | BV14: =IF((AND(BL14=0,BN14=0)),0,(BN14+BT14)/(BL14+BN14)) -> 0.38641129 | BW14: =BT14/$BJ$4 -> 0.26005376 | BX14: 216 | BY14: 216 | BZ14: 170 | CA14: =SUM(BO14,BQ14,BS14,BU14,BW14) -> 1 | CC14: SECO | CD14: 4 | CE14: 480.92 | CF14: 394.44 | CG14: 86.48 | CH14: 169.45 | CI14: =CH14/$CD$4 -> 0.23534722 | CJ14: 0 | CK14: =CJ14/$CD$4 -> 0 | CL14: 69.63 | CM14: =CL14/$CD$4 -> 0.096708333 | CN14: 150.4 | CO14: =(CE14-CN14)/$CD$4 -> 0.45905556 | CP14: =IF((AND(CF14=0,CH14=0)),0,(CH14+CN14)/(CF14+CH14)) -> 0.56722056 | CQ14: =CN14/$CD$4 -> 0.20888889 | CR14: 216 | CS14: 216 | CT14: 85 | CU14: =SUM(CI14,CK14,CM14,CO14,CQ14) -> 1 | CW14: SECO | CX14: 4 | CY14: 719.37 | CZ14: 692.87 | DA14: 26.5 | DB14: 24.63 | DC14: =DB14/$CX$4 -> 0.033104839 | DD14: 0 | DE14: =DD14/$CX$4 -> 0 | DF14: 0 | DG14: =DF14/$CX$4 -> 0 | DH14: 181.51 | DI14: =(CY14-DH14)/$CX$4 -> 0.72293011 | DJ14: =IF((AND(CZ14=0,DB14=0)),0,(DB14+DH14)/(CZ14+DB14)) -> 0.28730314 | DK14: =DH14/$CX$4 -> 0.24396505 | DL14: 216 | DM14: 216 | DN14: 200 | DO14: =SUM(DC14,DE14,DG14,DI14,DK14) -> 1 | DQ14: SECO | DR14: 4 | DS14: 744 | DT14: 744 | DU14: 0 | DV14: 0 | DW14: =DV14/$DR$4 -> 0 | DX14: 0 | DY14: =DX14/$DR$4 -> 0 | DZ14: 0 | EA14: =DZ14/$DR$4 -> 0 | EB14: 55.11 | EC14: =(DS14-EB14)/$DR$4 -> 0.92592742 | ED14: =IF((AND(DT14=0,DV14=0)),0,(DV14+EB14)/(DT14+DV14)) -> 0.074072581 | EE14: =EB14/$DR$4 -> 0.074072581 | EF14: 216 | EG14: 216 | EH14: 200 | EI14: =SUM(DW14,DY14,EA14,EC14,EE14) -> 1 | EK14: SECO | EL14: 4 | EM14: 549.54 | EN14: 473.67 | EO14: 75.87 | EP14: 13.63 | EQ14: =EP14/$EL$4 -> 0.020282738 | ER14: ='[17]UNIT DATA'!$N3 -> 0 | ES14: =ER14/$EL$4 -> 0 | ET14: ='[17]UNIT DATA'!$O3 -> 108.83 | EU14: =ET14/$EL$4 -> 0.1619494 | EV14: 35.09 | EW14: =(EM14-EV14)/$EL$4 -> 0.7655506 | EX14: =IF((AND(EN14=0,EP14=0)),0,(EP14+EV14)/(EN14+EP14)) -> 0.099979479 | EY14: =EV14/$EL$4 -> 0.052217262 | EZ14: 216 | FA14: 216 | FB14: 200 | FC14: =SUM(EQ14,ES14,EU14,EW14,EY14) -> 1 | FE14: SECO | FF14: 4 | FG14: 224.7 | FH14: 126.98 | FI14: 97.72 | FJ14: 2.5 | FK14: =FJ14/$FF$4 -> 0.0033602151 | FL14: 0 | FM14: =FL14/$FF$4 -> 0 | FN14: 516.8 | FO14: =FN14/$FF$4 -> 0.69462366 | FP14: 9.4 | FQ14: =(FG14-FP14)/$FF$4 -> 0.28938172 | FR14: =IF((AND(FH14=0,FJ14=0)),0,(FJ14+FP14)/(FH14+FJ14)) -> 0.091906086 | FS14: =FP14/$FF$4 -> 0.012634409 | FT14: 216 | FU14: 216 | FV14: 200 | FW14: =SUM(FK14,FM14,FO14,FQ14,FS14) -> 1 | FY14: SECO | FZ14: 4 | GA14: 514.57 | GB14: 514.57 | GC14: 0 | GD14: 205.43 | GE14: =GD14/$FZ$4 -> 0.28531944 | GF14: 0 | GG14: =GF14/$FZ$4 -> 0 | GH14: 0 | GI14: =GH14/$FZ$4 -> 0 | GJ14: 38.11 | GK14: =(GA14-GJ14)/$FZ$4 -> 0.66175 | GL14: =IF((AND(GB14=0,GD14=0)),0,(GD14+GJ14)/(GB14+GD14)) -> 0.33825 | GM14: =GJ14/$FZ$4 -> 0.052930556 | GN14: 216 | GO14: 216 | GP14: 200 | GQ14: =SUM(GE14,GG14,GI14,GK14,GM14) -> 1 | GS14: SECO | GT14: 4 | GU14: 678.58 | GV14: 678.58 | GW14: 0 | GX14: 65.42 | GY14: =GX14/$GT$4 -> 0.087930108 | GZ14: 0 | HA14: =GZ14/$GT$4 -> 0 | HB14: 0 | HC14: =HB14/$GT$4 -> 0 | HD14: 50.26 | HE14: =(GU14-HD14)/$GT$4 -> 0.84451613 | HF14: =IF((AND(GV14=0,GX14=0)),0,(GX14+HD14)/(GV14+GX14)) -> 0.15548387 | HG14: =HD14/$GT$4 -> 0.067553763 | HH14: 216 | HI14: 216 | HJ14: 200 | HK14: =SUM(GY14,HA14,HC14,HE14,HG14) -> 1 | HM14: SECO | HN14: 4 | HO14: 720 | HP14: 720 | HQ14: 0 | HR14: 0 | HS14: =HR14/$HN$4 -> 0 | HT14: 0 | HU14: =HT14/$HN$4 -> 0 | HV14: 0 | HW14: =HV14/$HN$4 -> 0 | HX14: 0 | HY14: 164.44 | HZ14: =(HO14-HX14-HY14)/$HN$4 -> 0.77161111 | IA14: =IF((AND(HP14=0,HR14=0)),0,(HR14+HX14+HY14)/(HP14+HR14)) -> 0.22838889 | IB14: =(HY14+HX14)/$HN$4 -> 0.22838889 | IC14: 216 | ID14: 216 | IE14: 150 | IF14: =SUM(HS14,HU14,HW14,HZ14,IB14) -> 1
B15: Total | C15: =SUM(C13:C14) -> 739.33 | D15: =SUM(D13:D14) -> 739.33 | E15: =SUM(E13:E14) -> 0 | F15: =SUM(F13:F14) -> 748.67 | G15: =(G13*Q13+G14*Q14)/Q15 -> 0.5510591 | H15: =SUM(H13:H14) -> 0 | I15: =(I13*Q13+I14*Q14)/Q15 -> 0 | J15: =SUM(J13:J14) -> 0 | K15: =(K13*Q13+K14*Q14)/Q15 -> 0 | L15: =SUM(L13:L14) -> 271.25 | M15: =(M13*Q13+M14*Q14)/Q15 -> 0.28423066 | N15: =(N13*Q13+N14*Q14)/Q15 -> 0.71576934 | O15: =(O13*Q13+O14*Q14)/Q15 -> 0.16471024 | P15: =SUM(P13:P14) -> 432 | Q15: =SUM(Q13:Q14) -> 394 | R15: =SUM(R13:R14) -> 130 | S15: =SUM(G15,I15,K15,M15,O15) -> 1 | V15: Total | W15: =SUM(W13:W14) -> 744 | X15: =SUM(X13:X14) -> 744 | Y15: =SUM(Y13:Y14) -> 0 | Z15: =SUM(Z13:Z14) -> 744 | AA15: =(AA13*$AK$13+AA14*$AK$14)/$AK$15 -> 0.54822335 | AB15: =SUM(AB13:AB14) -> 0 | AC15: =(AC13*$AK$13+AC14*$AK$14)/$AK$15 -> 0 | AD15: =SUM(AD13:AD14) -> 0 | AE15: =(AE13*$AK$13+AE14*$AK$14)/$AK$15 -> 0 | AF15: =SUM(AF13:AF14) -> 296.22 | AG15: =(AG13*$AK$13+AG14*$AK$14)/$AK$15 -> 0.27190396 | AH15: =(AH13*$AK$13+AH14*$AK$14)/$AK$15 -> 0.72809604 | AI15: =(AI13*$AK$13+AI14*$AK$14)/$AK$15 -> 0.17987269 | AJ15: =SUM(AJ13:AJ14) -> 432 | AK15: =SUM(AK13:AK14) -> 394 | AL15: =SUM(AL13:AL14) -> 130 | AM15: =SUM(AA15,AC15,AE15,AG15,AI15) -> 1 | AP15: Total | AQ15: =SUM(AQ13:AQ14) -> 818.4 | AR15: =SUM(AR13:AR14) -> 818.4 | AS15: =SUM(AS13:AS14) -> 0 | AT15: =SUM(AT13:AT14) -> 621.6 | AU15: =(AU13*$BE13+AU14*$BE14)/$BE15 -> 0.47122589 | AV15: =SUM(AV13:AV14) -> 0 | AW15: =(AW13*$BE13+AW14*$BE14)/$BE15 -> 0 | AX15: =SUM(AX13:AX14) -> 0 | AY15: =(AY13*$BE13+AY14*$BE14)/$BE15 -> 0 | AZ15: =SUM(AZ13:AZ14) -> 380.95 | BA15: =(BA13*$BE13+BA14*$BE14)/$BE15 -> 0.28078687 | BB15: =(BB13*$BE13+BB14*$BE14)/$BE15 -> 0.71921313 | BC15: =(BC13*$BE13+BC14*$BE14)/$BE15 -> 0.24798724 | BD15: =SUM(BD13:BD14) -> 432 | BE15: =SUM(BE13:BE14) -> 394 | BF15: =SUM(BF13:BF14) -> 180 | BG15: =SUM(AU15,AW15,AY15,BA15,BC15) -> 1 | BJ15: Total | BK15: =SUM(BK13:BK14) -> 1290.44 | BL15: =SUM(BL13:BL14) -> 1290.44 | BM15: =SUM(BM13:BM14) -> 0 | BN15: =SUM(BN13:BN14) -> 197.56 | BO15: =(BO13*$BY13+BO14*$BY14)/$BY15 -> 0.13215047 | BP15: =SUM(BP13:BP14) -> 0 | BQ15: =(BQ13*$BY13+BQ14*$BY14)/$BY15 -> 0 | BR15: =SUM(BR13:BR14) -> 0 | BS15: =(BS13*$BY13+BS14*$BY14)/$BY15 -> 0 | BT15: =SUM(BT13:BT14) -> 458.03 | BU15: =(BU13*$BY13+BU14*$BY14)/$BY15 -> 0.56464017 | BV15: =(BV13*$BY13+BV14*$BY14)/$BY15 -> 0.43535983 | BW15: =(BW13*$BY13+BW14*$BY14)/$BY15 -> 0.30320936 | BX15: =SUM(BX13:BX14) -> 432 | BY15: 394 | BZ15: =SUM(BZ13:BZ14) -> 315 | CA15: =SUM(BO15,BQ15,BS15,BU15,BW15) -> 1 | CD15: Total | CE15: =SUM(CE13:CE14) -> 1109.1 | CF15: =SUM(CF13:CF14) -> 1022.62 | CG15: =SUM(CG13:CG14) -> 86.48 | CH15: =SUM(CH13:CH14) -> 261.27 | CI15: =(CI13*$CS13+CI14*$CS14)/$CS15 -> 0.18663691 | CJ15: =SUM(CJ13:CJ14) -> 0 | CK15: =(CK13*$CS13+CK14*$CS14)/$CS15 -> 0 | CL15: =SUM(CL13:CL14) -> 69.63 | CM15: =(CM13*$CS13+CM14*$CS14)/$CS15 -> 0.053017766 | CN15: =SUM(CN13:CN14) -> 356.9 | CO15: =(CO13*$CS13+CO14*$CS14)/$CS15 -> 0.5162555 | CP15: =(CP13*$CS13+CP14*$CS14)/$CS15 -> 0.49814968 | CQ15: =(CQ13*$CS13+CQ14*$CS14)/$CS15 -> 0.24408982 | CR15: =SUM(CR13:CR14) -> 432 | CS15: 394 | CT15: =SUM(CT13:CT14) -> 230 | CU15: =SUM(CI15,CK15,CM15,CO15,CQ15) -> 1 | CX15: Total | CY15: =SUM(CY13:CY14) -> 1463.37 | CZ15: =SUM(CZ13:CZ14) -> 1352.87 | DA15: =SUM(DA13:DA14) -> 110.5 | DB15: =SUM(DB13:DB14) -> 24.63 | DC15: =(DC13*$DM13+DC14*$DM14)/$DM15 -> 0.018148846 | DD15: =SUM(DD13:DD14) -> 0 | DE15: =(DE13*$DM13+DE14*$DM14)/$DM15 -> 0 | DF15: =SUM(DF13:DF14) -> 0 | DG15: =(DG13*$DM13+DG14*$DM14)/$DM15 -> 0 | DH15: =SUM(DH13:DH14) -> 394.5 | DI15: =(DI13*$DM13+DI14*$DM14)/$DM15 -> 0.7187706 | DJ15: =(DJ13*$DM13+DJ14*$DM14)/$DM15 -> 0.30330009 | DK15: =(DK13*$DM13+DK14*$DM14)/$DM15 -> 0.26308055 | DL15: =SUM(DL13:DL14) -> 432 | DM15: =SUM(DM13:DM14) -> 394 | DN15: =SUM(DN13:DN14) -> 345 | DO15: =SUM(DC15,DE15,DG15,DI15,DK15) -> 1 | DR15: Total | DS15: =SUM(DS13:DS14) -> 1090.45 | DT15: =SUM(DT13:DT14) -> 978.53 | DU15: =SUM(DU13:DU14) -> 111.92 | DV15: =SUM(DV13:DV14) -> 0 | DW15: =(DW13*$EG13+DW14*$EG14)/$EG15 -> 0 | DX15: =SUM(DX13:DX14) -> 397.55 | DY15: =(DY13*$EG13+DY14*$EG14)/$EG15 -> 0.24140297 | DZ15: =SUM(DZ13:DZ14) -> 0 | EA15: =(EA13*$EG13+EA14*$EG14)/$EG15 -> 0 | EB15: =SUM(EB13:EB14) -> 137.13 | EC15: =(EC13*$EG13+EC14*$EG14)/$EG15 -> 0.66818398 | ED15: =(ED13*$EG13+ED14*$EG14)/$EG15 -> 0.19860397 | EE15: =(EE13*$EG13+EE14*$EG14)/$EG15 -> 0.090413051 | EF15: =SUM(EF13:EF14) -> 432 | EG15: 394 | EH15: =SUM(EH13:EH14) -> 345 | EI15: =SUM(DW15,DY15,EA15,EC15,EE15) -> 1 | EL15: Total | EM15: =SUM(EM13:EM14) -> 549.54 | EN15: =SUM(EN13:EN14) -> 473.67 | EO15: =SUM(EO13:EO14) -> 75.87 | EP15: =SUM(EP13:EP14) -> 13.63 | EQ15: =(EQ13*$FA13+EQ14*$FA14)/$FA15 -> 0.011119471 | ER15: =SUM(ER13:ER14) -> 672 | ES15: =(ES13*$FA13+ES14*$FA14)/$FA15 -> 0.45177665 | ET15: =SUM(ET13:ET14) -> 108.83 | EU15: =(EU13*$FA13+EU14*$FA14)/$FA15 -> 0.088784445 | EV15: =SUM(EV13:EV14) -> 35.09 | EW15: =(EW13*$FA13+EW14*$FA14)/$FA15 -> 0.41969271 | EX15: =(EX13*$FA13+EX14*$FA14)/$FA15 -> 0.054811085 | EY15: =(EY13*$FA13+EY14*$FA14)/$FA15 -> 0.028626722 | EZ15: =SUM(EZ13:EZ14) -> 432 | FA15: =SUM(FA13:FA14) -> 394 | FB15: =SUM(FB13:FB14) -> 200 | FC15: =SUM(EQ15,ES15,EU15,EW15,EY15) -> 1 | FF15: Total | FG15: =SUM(FG13:FG14) -> 224.7 | FH15: =SUM(FH13:FH14) -> 126.98 | FI15: =SUM(FI13:FI14) -> 97.72 | FJ15: =SUM(FJ13:FJ14) -> 2.5 | FK15: =(FK13*$FU13+FK14*$FU14)/$FU15 -> 0.0018421484 | FL15: =SUM(FL13:FL14) -> 744 | FM15: =(FM13*$FU13+FM14*$FU14)/$FU15 -> 0.45177665 | FN15: =SUM(FN13:FN14) -> 516.8 | FO15: =(FO13*$FU13+FO14*$FU14)/$FU15 -> 0.38080891 | FP15: =SUM(FP13:FP14) -> 9.4 | FQ15: =(FQ13*$FU13+FQ14*$FU14)/$FU15 -> 0.15864582 | FR15: =(FR13*$FU13+FR14*$FU14)/$FU15 -> 0.050385062 | FS15: =(FS13*$FU13+FS14*$FU14)/$FU15 -> 0.0069264778 | FT15: =SUM(FT13:FT14) -> 432 | FU15: =SUM(FU13:FU14) -> 394 | FV15: =SUM(FV13:FV14) -> 200 | FW15: =SUM(FK15,FM15,FO15,FQ15,FS15) -> 1 | FZ15: Total | GA15: =SUM(GA13:GA14) -> 514.57 | GB15: =SUM(GB13:GB14) -> 514.57 | GC15: =SUM(GC13:GC14) -> 0 | GD15: =SUM(GD13:GD14) -> 205.43 | GE15: =(GE13*$GO13+GE14*$GO14)/$GO15 -> 0.15641878 | GF15: =SUM(GF13:GF14) -> 720 | GG15: =(GG13*$GO13+GG14*$GO14)/$GO15 -> 0.45177665 | GH15: =SUM(GH13:GH14) -> 0 | GI15: =(GI13*$GO13+GI14*$GO14)/$GO15 -> 0 | GJ15: =SUM(GJ13:GJ14) -> 38.11 | GK15: =(GK13*$GO13+GK14*$GO14)/$GO15 -> 0.3627868 | GL15: =(GL13*$GO13+GL14*$GO14)/$GO15 -> 0.18543655 | GM15: =(GM13*$GO13+GM14*$GO14)/$GO15 -> 0.029017766 | GN15: =SUM(GN13:GN14) -> 432 | GO15: =SUM(GO13:GO14) -> 394 | GP15: =SUM(GP13:GP14) -> 200 | GQ15: =SUM(GE15,GG15,GI15,GK15,GM15) -> 1 | GT15: Total | GU15: =SUM(GU13:GU14) -> 679.5 | GV15: =SUM(GV13:GV14) -> 679.5 | GW15: =SUM(GW13:GW14) -> 0 | GX15: =SUM(GX13:GX14) -> 316.27 | GY15: =(GY13*$HI13+GY14*$HI14)/$HI15 -> 0.20052815 | GZ15: =SUM(GZ13:GZ14) -> 492.23 | HA15: =(HA13*$HI13+HA14*$HI14)/$HI15 -> 0.29889519 | HB15: =SUM(HB13:HB14) -> 0 | HC15: =(HC13*$HI13+HC14*$HI14)/$HI15 -> 0 | HD15: =SUM(HD13:HD14) -> 50.26 | HE15: =(HE13*$GO13+HE14*$GO14)/$GO15 -> 0.46354211 | HF15: =(HF13*$GO13+HF14*$GO14)/$GO15 -> 0.53536569 | HG15: =(HG13*$GO13+HG14*$GO14)/$GO15 -> 0.037034551 | HH15: =SUM(HH13:HH14) -> 432 | HI15: =SUM(HI13:HI14) -> 394 | HJ15: =SUM(HJ13:HJ14) -> 200 | HK15: =SUM(GY15,HA15,HC15,HE15,HG15) -> 1 | HN15: Total | HO15: =SUM(HO13:HO14) -> 1374.62 | HP15: =SUM(HP13:HP14) -> 1374.62 | HQ15: =SUM(HQ13:HQ14) -> 0 | HR15: =SUM(HR13:HR14) -> 65.38 | HS15: =(HS13*$ID13+HS14*$ID14)/$ID15 -> 0.04102383 | HT15: =SUM(HT13:HT14) -> 0 | HU15: =(HU13*$ID13+HU14*$ID14)/$ID15 -> 0 | HV15: =SUM(HV13:HV14) -> 0 | HW15: =(HW13*$ID13+HW14*$ID14)/$ID15 -> 0 | HX15: =SUM(HX13:HX14) -> 0 | HY15: =SUM(HY13:HY14) -> 295.04 | HZ15: =(HZ13*$ID13+HZ14*$ID14)/$ID15 -> 0.75182078 | IA15: =(IA13*$ID13+IA14*$ID14)/$ID15 -> 0.24817922 | IB15: =(IB13*$ID13+IB14*$ID14)/$ID15 -> 0.20715539 | IC15: =SUM(IC13:IC14) -> 432 | ID15: =SUM(ID13:ID14) -> 394 | IE15: =SUM(IE13:IE14) -> 360 | IF15: =SUM(HS15,HU15,HW15,HZ15,IB15) -> 1
A16: COSTA | B16: 5 | C16: 628.75 | D16: 628.75 | E16: 0 | F16: 115.25 | G16: =F16/$B$4 -> 0.15490591 | H16: 0 | I16: =H16/$B$4 -> 0 | J16: 0 | K16: =J16/$B$4 -> 0 | L16: 71.64 | M16: =(C16-L16)/$B$4 -> 0.74880376 | N16: =IF((AND(D16=0,F16=0)),0,(F16+L16)/(D16+F16)) -> 0.25119624 | O16: =L16/$B$4 -> 0.096290323 | P16: 410 | Q16: 350 | R16: 0 | S16: =SUM(G16,I16,K16,M16,O16) -> 1 | U16: COSTA | V16: 5 | W16: 744 | X16: 744 | Y16: 0 | Z16: 0 | AA16: =Z16/$V$4 -> 0 | AB16: 0 | AC16: =AB16/$V$4 -> 0 | AD16: 0 | AE16: =AD16/$V$4 -> 0 | AF16: 0 | AG16: =(W16-AF16)/$V$4 -> 1 | AH16: =IF((AND(X16=0,Z16=0)),0,(Z16+AF16)/(X16+Z16)) -> 0 | AI16: =AF16/$V$4 -> 0 | AJ16: 410 | AK16: 350 | AL16: 410 | AM16: =SUM(AA16,AC16,AE16,AG16,AI16) -> 1 | AO16: COSTA | AP16: 5 | AQ16: 720 | AR16: 720 | AS16: 0 | AT16: 0 | AU16: =AT16/$AP$4 -> 0 | AV16: 0 | AW16: =AV16/$AP$4 -> 0 | AX16: 0 | AY16: =AX16/$AP$4 -> 0 | AZ16: 28.92 | BA16: =(AQ16-AZ16)/$AP$4 -> 0.95983333 | BB16: =IF((AND(AR16=0,AT16=0)),0,(AT16+AZ16)/(AR16+AT16)) -> 0.040166667 | BC16: =AZ16/$AP$4 -> 0.040166667 | BD16: 410 | BE16: 350 | BF16: 290 | BG16: =SUM(AU16,AW16,AY16,BA16,BC16) -> 1 | BI16: COSTA | BJ16: 5 | BK16: 670.7 | BL16: 670.7 | BM16: 0 | BN16: 73.3 | BO16: =BN16/$BJ$4 -> 0.098521505 | BP16: 0 | BQ16: =BP16/$BJ$4 -> 0 | BR16: 0 | BS16: =BR16/$BJ$4 -> 0 | BT16: 6.8 | BU16: =(BK16-BT16)/$BJ$4 -> 0.89233871 | BV16: =IF((AND(BL16=0,BN16=0)),0,(BN16+BT16)/(BL16+BN16)) -> 0.10766129 | BW16: =BT16/$BJ$4 -> 0.0091397849 | BX16: 410 | BY16: 350 | BZ16: 410 | CA16: =SUM(BO16,BQ16,BS16,BU16,BW16) -> 1 | CC16: COSTA | CD16: 5 | CE16: 720 | CF16: 720 | CG16: 0 | CH16: 0 | CI16: =CH16/$CD$4 -> 0 | CJ16: 0 | CK16: =CJ16/$CD$4 -> 0 | CL16: 0 | CM16: =CL16/$CD$4 -> 0 | CN16: 0 | CO16: =(CE16-CN16)/$CD$4 -> 1 | CP16: =IF((AND(CF16=0,CH16=0)),0,(CH16+CN16)/(CF16+CH16)) -> 0 | CQ16: =CN16/$CD$4 -> 0 | CR16: 410 | CS16: 350 | CT16: 410 | CU16: =SUM(CI16,CK16,CM16,CO16,CQ16) -> 1 | CW16: COSTA | CX16: 5 | CY16: 736.45 | CZ16: 621.45 | DA16: 115 | DB16: 0 | DC16: =DB16/$CX$4 -> 0 | DD16: 0 | DE16: =DD16/$CX$4 -> 0 | DF16: 7.55 | DG16: =DF16/$CX$4 -> 0.010147849 | DH16: 0 | DI16: =(CY16-DH16)/$CX$4 -> 0.98985215 | DJ16: =IF((AND(CZ16=0,DB16=0)),0,(DB16+DH16)/(CZ16+DB16)) -> 0 | DK16: =DH16/$CX$4 -> 0 | DL16: 410 | DM16: 350 | DN16: 410 | DO16: =SUM(DC16,DE16,DG16,DI16,DK16) -> 1 | DQ16: COSTA | DR16: 5 | DS16: 303.79 | DT16: 49.29 | DU16: 254.5 | DV16: 440.21 | DW16: =DV16/$DR$4 -> 0.59168011 | DX16: 0 | DY16: =DX16/$DR$4 -> 0 | DZ16: 0 | EA16: =DZ16/$DR$4 -> 0 | EB16: 20.26 | EC16: =(DS16-EB16)/$DR$4 -> 0.38108871 | ED16: =IF((AND(DT16=0,DV16=0)),0,(DV16+EB16)/(DT16+DV16)) -> 0.94069459 | EE16: =EB16/$DR$4 -> 0.027231183 | EF16: 410 | EG16: 350 | EH16: 410 | EI16: =SUM(DW16,DY16,EA16,EC16,EE16) -> 1 | EK16: COSTA | EL16: 5 | EM16: 624.53 | EN16: 624.53 | EO16: 0 | EP16: 47.47 | EQ16: =EP16/$EL$4 -> 0.070639881 | ER16: 0 | ES16: =ER16/$EL$4 -> 0 | ET16: 0 | EU16: =ET16/$EL$4 -> 0 | EV16: 19.5 | EW16: =(EM16-EV16)/$EL$4 -> 0.90034226 | EX16: =IF((AND(EN16=0,EP16=0)),0,(EP16+EV16)/(EN16+EP16)) -> 0.099657738 | EY16: =EV16/$EL$4 -> 0.029017857 | EZ16: 410 | FA16: 350 | FB16: 410 | FC16: =SUM(EQ16,ES16,EU16,EW16,EY16) -> 1 | FE16: COSTA | FF16: 5 | FG16: 744 | FH16: 744 | FI16: 0 | FJ16: 0 | FK16: =FJ16/$FF$4 -> 0 | FL16: 0 | FM16: =FL16/$FF$4 -> 0 | FN16: 0 | FO16: =FN16/$FF$4 -> 0 | FP16: 0.76 | FQ16: =(FG16-FP16)/$FF$4 -> 0.99897849 | FR16: =IF((AND(FH16=0,FJ16=0)),0,(FJ16+FP16)/(FH16+FJ16)) -> 0.0010215054 | FS16: =FP16/$FF$4 -> 0.0010215054 | FT16: 410 | FU16: 350 | FV16: 410 | FW16: =SUM(FK16,FM16,FO16,FQ16,FS16) -> 1 | FY16: COSTA | FZ16: 5 | GA16: 611.81 | GB16: 611.81 | GC16: 0 | GD16: 108.19 | GE16: =GD16/$FZ$4 -> 0.15026389 | GF16: 0 | GG16: =GF16/$FZ$4 -> 0 | GH16: 0 | GI16: =GH16/$FZ$4 -> 0 | GJ16: 76.29 | GK16: =(GA16-GJ16)/$FZ$4 -> 0.74377778 | GL16: =IF((AND(GB16=0,GD16=0)),0,(GD16+GJ16)/(GB16+GD16)) -> 0.25622222 | GM16: =GJ16/$FZ$4 -> 0.10595833 | GN16: 410 | GO16: 350 | GP16: 410 | GQ16: =SUM(GE16,GG16,GI16,GK16,GM16) -> 1 | GS16: COSTA | GT16: 5 | GU16: 677.24 | GV16: 677.24 | GW16: 0 | GX16: 63.13 | GY16: =GX16/$GT$4 -> 0.084852151 | GZ16: 0 | HA16: =GZ16/$GT$4 -> 0 | HB16: 3.63 | HC16: =HB16/$GT$4 -> 0.0048790323 | HD16: 12.78 | HE16: =(GU16-HD16)/$GT$4 -> 0.8930914 | HF16: =IF((AND(GV16=0,GX16=0)),0,(GX16+HD16)/(GV16+GX16)) -> 0.10252982 | HG16: =HD16/$GT$4 -> 0.017177419 | HH16: 410 | HI16: 350 | HJ16: 410 | HK16: =SUM(GY16,HA16,HC16,HE16,HG16) -> 1 | HM16: COSTA | HN16: 5 | HO16: 720 | HP16: 720 | HQ16: 0 | HR16: 0 | HS16: =HR16/$HN$4 -> 0 | HT16: 0 | HU16: =HT16/$HN$4 -> 0 | HV16: 0 | HW16: =HV16/$HN$4 -> 0 | HX16: 0 | HY16: 0 | HZ16: =(HO16-HX16-HY16)/$HN$4 -> 1 | IA16: =IF((AND(HP16=0,HR16=0)),0,(HR16+HX16+HY16)/(HP16+HR16)) -> 0 | IB16: =(HY16+HX16)/$HN$4 -> 0 | IC16: 410 | ID16: 350 | IE16: 410 | IF16: =SUM(HS16,HU16,HW16,HZ16,IB16) -> 1
A17: SUR | B17: 6 | C17: 744 | D17: 744 | E17: 0 | F17: 0 | G17: =F17/$B$4 -> 0 | H17: 0 | I17: =H17/$B$4 -> 0 | J17: 0 | K17: =J17/$B$4 -> 0 | L17: 348.17 | M17: =(C17-L17)/$B$4 -> 0.53202957 | N17: =IF((AND(D17=0,F17=0)),0,(F17+L17)/(D17+F17)) -> 0.46797043 | O17: =L17/$B$4 -> 0.46797043 | P17: 410 | Q17: 350 | R17: 350 | S17: =SUM(G17,I17,K17,M17,O17) -> 1 | U17: SUR | V17: 6 | W17: 646.55 | X17: 646.55 | Y17: 0 | Z17: 97.45 | AA17: =Z17/$V$4 -> 0.13098118 | AB17: 0 | AC17: =AB17/$V$4 -> 0 | AD17: 0 | AE17: =AD17/$V$4 -> 0 | AF17: 49.49 | AG17: =(W17-AF17)/$V$4 -> 0.8025 | AH17: =IF((AND(X17=0,Z17=0)),0,(Z17+AF17)/(X17+Z17)) -> 0.1975 | AI17: =AF17/$V$4 -> 0.066518817 | AJ17: 410 | AK17: 350 | AL17: 360 | AM17: =SUM(AA17,AC17,AE17,AG17,AI17) -> 1 | AO17: SUR | AP17: 6 | AQ17: 655.21 | AR17: 655.21 | AS17: 0 | AT17: 64.79 | AU17: =AT17/$AP$4 -> 0.089986111 | AV17: 0 | AW17: =AV17/$AP$4 -> 0 | AX17: 0 | AY17: =AX17/$AP$4 -> 0 | AZ17: 28.75 | BA17: =(AQ17-AZ17)/$AP$4 -> 0.87008333 | BB17: =IF((AND(AR17=0,AT17=0)),0,(AT17+AZ17)/(AR17+AT17)) -> 0.12991667 | BC17: =AZ17/$AP$4 -> 0.039930556 | BD17: 410 | BE17: 350 | BF17: 252 | BG17: =SUM(AU17,AW17,AY17,BA17,BC17) -> 1 | BI17: SUR | BJ17: 6 | BK17: 744 | BL17: 744 | BM17: 0 | BN17: 0 | BO17: =BN17/$BJ$4 -> 0 | BP17: 0 | BQ17: =BP17/$BJ$4 -> 0 | BR17: 0 | BS17: =BR17/$BJ$4 -> 0 | BT17: 152.87 | BU17: =(BK17-BT17)/$BJ$4 -> 0.79452957 | BV17: =IF((AND(BL17=0,BN17=0)),0,(BN17+BT17)/(BL17+BN17)) -> 0.20547043 | BW17: =BT17/$BJ$4 -> 0.20547043 | BX17: 410 | BY17: 350 | BZ17: 292 | CA17: =SUM(BO17,BQ17,BS17,BU17,BW17) -> 1 | CC17: SUR | CD17: 6 | CE17: 651.05 | CF17: 651.05 | CG17: 0 | CH17: 68.95 | CI17: =CH17/$CD$4 -> 0.095763889 | CJ17: 0 | CK17: =CJ17/$CD$4 -> 0 | CL17: 0 | CM17: =CL17/$CD$4 -> 0 | CN17: 58.85 | CO17: =(CE17-CN17)/$CD$4 -> 0.8225 | CP17: =IF((AND(CF17=0,CH17=0)),0,(CH17+CN17)/(CF17+CH17)) -> 0.1775 | CQ17: =CN17/$CD$4 -> 0.081736111 | CR17: 410 | CS17: 350 | CT17: 360 | CU17: =SUM(CI17,CK17,CM17,CO17,CQ17) -> 1 | CW17: SUR | CX17: 6 | CY17: 645.05 | CZ17: 645.05 | DA17: 0 | DB17: 98.95 | DC17: =DB17/$CX$4 -> 0.13299731 | DD17: 0 | DE17: =DD17/$CX$4 -> 0 | DF17: 0 | DG17: =DF17/$CX$4 -> 0 | DH17: 10.32 | DI17: =(CY17-DH17)/$CX$4 -> 0.85313172 | DJ17: =IF((AND(CZ17=0,DB17=0)),0,(DB17+DH17)/(CZ17+DB17)) -> 0.14686828 | DK17: =DH17/$CX$4 -> 0.013870968 | DL17: 410 | DM17: 350 | DN17: 360 | DO17: =SUM(DC17,DE17,DG17,DI17,DK17) -> 1 | DQ17: SUR | DR17: 6 | DS17: 744 | DT17: 744 | DU17: 0 | DV17: 0 | DW17: =DV17/$DR$4 -> 0 | DX17: 0 | DY17: =DX17/$DR$4 -> 0 | DZ17: 0 | EA17: =DZ17/$DR$4 -> 0 | EB17: 0 | EC17: =(DS17-EB17)/$DR$4 -> 1 | ED17: =IF((AND(DT17=0,DV17=0)),0,(DV17+EB17)/(DT17+DV17)) -> 0 | EE17: =EB17/$DR$4 -> 0 | EF17: 410 | EG17: 350 | EH17: 360 | EI17: =SUM(DW17,DY17,EA17,EC17,EE17) -> 1 | EK17: SUR | EL17: 6 | EM17: 672 | EN17: 672 | EO17: 0 | EP17: 0 | EQ17: =EP17/$EL$4 -> 0 | ER17: 0 | ES17: =ER17/$EL$4 -> 0 | ET17: 0 | EU17: =ET17/$EL$4 -> 0 | EV17: 0 | EW17: =(EM17-EV17)/$EL$4 -> 1 | EX17: =IF((AND(EN17=0,EP17=0)),0,(EP17+EV17)/(EN17+EP17)) -> 0 | EY17: =EV17/$EL$4 -> 0 | EZ17: 410 | FA17: 350 | FB17: 360 | FC17: =SUM(EQ17,ES17,EU17,EW17,EY17) -> 1 | FE17: SUR | FF17: 6 | FG17: 744 | FH17: 744 | FI17: 0 | FJ17: 0 | FK17: =FJ17/$FF$4 -> 0 | FL17: 0 | FM17: =FL17/$FF$4 -> 0 | FN17: 0 | FO17: =FN17/$FF$4 -> 0 | FP17: 6.04 | FQ17: =(FG17-FP17)/$FF$4 -> 0.99188172 | FR17: =IF((AND(FH17=0,FJ17=0)),0,(FJ17+FP17)/(FH17+FJ17)) -> 0.0081182796 | FS17: =FP17/$FF$4 -> 0.0081182796 | FT17: 410 | FU17: 350 | FV17: 360 | FW17: =SUM(FK17,FM17,FO17,FQ17,FS17) -> 1 | FY17: SUR | FZ17: 6 | GA17: 472.7 | GB17: 407.68 | GC17: 65.02 | GD17: 247.3 | GE17: =GD17/$FZ$4 -> 0.34347222 | GF17: 0 | GG17: =GF17/$FZ$4 -> 0 | GH17: 0 | GI17: =GH17/$FZ$4 -> 0 | GJ17: 0 | GK17: =(GA17-GJ17)/$FZ$4 -> 0.65652778 | GL17: =IF((AND(GB17=0,GD17=0)),0,(GD17+GJ17)/(GB17+GD17)) -> 0.37756878 | GM17: =GJ17/$FZ$4 -> 0 | GN17: 410 | GO17: 350 | GP17: 365 | GQ17: =SUM(GE17,GG17,GI17,GK17,GM17) -> 1 | GS17: SUR | GT17: 6 | GU17: 720 | GV17: 720 | GW17: 0 | GX17: 24 | GY17: =GX17/$GT$4 -> 0.032258065 | GZ17: 0 | HA17: =GZ17/$GT$4 -> 0 | HB17: 0 | HC17: =HB17/$GT$4 -> 0 | HD17: 14.48 | HE17: =(GU17-HD17)/$GT$4 -> 0.94827957 | HF17: =IF((AND(GV17=0,GX17=0)),0,(GX17+HD17)/(GV17+GX17)) -> 0.05172043 | HG17: =HD17/$GT$4 -> 0.019462366 | HH17: 410 | HI17: 350 | HJ17: 365 | HK17: =SUM(GY17,HA17,HC17,HE17,HG17) -> 1 | HM17: SUR | HN17: 6 | HO17: 720 | HP17: 720 | HQ17: 0 | HR17: 0 | HS17: =HR17/$HN$4 -> 0 | HT17: 0 | HU17: =HT17/$HN$4 -> 0 | HV17: 0 | HW17: =HV17/$HN$4 -> 0 | HX17: 3.51 | HY17: 5.85 | HZ17: =(HO17-HX17-HY17)/$HN$4 -> 0.987 | IA17: =IF((AND(HP17=0,HR17=0)),0,(HR17+HX17+HY17)/(HP17+HR17)) -> 0.013 | IB17: =(HY17+HX17)/$HN$4 -> 0.013 | IC17: 410 | ID17: 350 | IE17: 365 | IF17: =SUM(HS17,HU17,HW17,HZ17,IB17) -> 1
B18: Total | C18: =SUM(C16:C17) -> 1372.75 | D18: =SUM(D16:D17) -> 1372.75 | E18: =SUM(E16:E17) -> 0 | F18: =SUM(F16:F17) -> 115.25 | G18: =(G16*Q16+G17*Q17)/Q18 -> 0.077452957 | H18: =SUM(H16:H17) -> 0 | I18: =(I16*Q16+I17*Q17)/Q18 -> 0 | J18: =SUM(J16:J17) -> 0 | K18: =(K16*Q16+K17*Q17)/Q18 -> 0 | L18: =SUM(L16:L17) -> 419.81 | M18: =(M16*Q16+M17*Q17)/Q18 -> 0.64041667 | N18: =(N16*Q16+N17*Q17)/Q18 -> 0.35958333 | O18: =(O16*Q16+O17*Q17)/Q18 -> 0.28213038 | P18: =SUM(P16:P17) -> 820 | Q18: =SUM(Q16:Q17) -> 700 | R18: =SUM(R16:R17) -> 350 | S18: =SUM(G18,I18,K18,M18,O18) -> 1 | V18: Total | W18: =SUM(W16:W17) -> 1390.55 | X18: =SUM(X16:X17) -> 1390.55 | Y18: =SUM(Y16:Y17) -> 0 | Z18: =SUM(Z16:Z17) -> 97.45 | AA18: =(AA16*$AK$16+AA17*$AK$17)/$AK$18 -> 0.065490591 | AB18: =SUM(AB16:AB17) -> 0 | AC18: =(AC16*$AK$16+AC17*$AK$17)/$AK$18 -> 0 | AD18: =SUM(AD16:AD17) -> 0 | AE18: =(AE16*$AK$16+AE17*$AK$17)/$AK$18 -> 0 | AF18: =SUM(AF16:AF17) -> 49.49 | AG18: =(AG16*$AK$16+AG17*$AK$17)/$AK$18 -> 0.90125 | AH18: =(AH16*$AK$16+AH17*$AK$17)/$AK$18 -> 0.09875 | AI18: =(AI16*$AK$16+AI17*$AK$17)/$AK$18 -> 0.033259409 | AJ18: =SUM(AJ16:AJ17) -> 820 | AK18: =SUM(AK16:AK17) -> 700 | AL18: =SUM(AL16:AL17) -> 770 | AM18: =SUM(AA18,AC18,AE18,AG18,AI18) -> 1 | AP18: Total | AQ18: =SUM(AQ16:AQ17) -> 1375.21 | AR18: =SUM(AR16:AR17) -> 1375.21 | AS18: =SUM(AS16:AS17) -> 0 | AT18: =SUM(AT16:AT17) -> 64.79 | AU18: =(AU16*$BE16+AU17*$BE17)/$BE18 -> 0.044993056 | AV18: =SUM(AV16:AV17) -> 0 | AW18: =(AW16*$BE16+AW17*$BE17)/$BE18 -> 0 | AX18: =SUM(AX16:AX17) -> 0 | AY18: =(AY16*$BE16+AY17*$BE17)/$BE18 -> 0 | AZ18: =SUM(AZ16:AZ17) -> 57.67 | BA18: =(BA16*$BE16+BA17*$BE17)/$BE18 -> 0.91495833 | BB18: =(BB16*$BE16+BB17*$BE17)/$BE18 -> 0.085041667 | BC18: =(BC16*$BE16+BC17*$BE17)/$BE18 -> 0.040048611 | BD18: =SUM(BD16:BD17) -> 820 | BE18: =SUM(BE16:BE17) -> 700 | BF18: =SUM(BF16:BF17) -> 542 | BG18: =SUM(AU18,AW18,AY18,BA18,BC18) -> 1 | BJ18: Total | BK18: =SUM(BK16:BK17) -> 1414.7 | BL18: =SUM(BL16:BL17) -> 1414.7 | BM18: =SUM(BM16:BM17) -> 0 | BN18: =SUM(BN16:BN17) -> 73.3 | BO18: =(BO16*$BY16+BO17*$BY17)/$BY18 -> 0.049260753 | BP18: =SUM(BP16:BP17) -> 0 | BQ18: =(BQ16*$BY16+BQ17*$BY17)/$BY18 -> 0 | BR18: =SUM(BR16:BR17) -> 0 | BS18: =(BS16*$BY16+BS17*$BY17)/$BY18 -> 0 | BT18: =SUM(BT16:BT17) -> 159.67 | BU18: =(BU16*$BY16+BU17*$BY17)/$BY18 -> 0.84343414 | BV18: =(BV16*$BY16+BV17*$BY17)/$BY18 -> 0.15656586 | BW18: =(BW16*$BY16+BW17*$BY17)/$BY18 -> 0.10730511 | BX18: =SUM(BX16:BX17) -> 820 | BY18: 700 | BZ18: =SUM(BZ16:BZ17) -> 702 | CA18: =SUM(BO18,BQ18,BS18,BU18,BW18) -> 1 | CD18: Total | CE18: =SUM(CE16:CE17) -> 1371.05 | CF18: =SUM(CF16:CF17) -> 1371.05 | CG18: =SUM(CG16:CG17) -> 0 | CH18: =SUM(CH16:CH17) -> 68.95 | CI18: =(CI16*$CS16+CI17*$CS17)/$CS18 -> 0.047881944 | CJ18: =SUM(CJ16:CJ17) -> 0 | CK18: =(CK16*$CS16+CK17*$CS17)/$CS18 -> 0 | CL18: =SUM(CL16:CL17) -> 0 | CM18: =(CM16*$CS16+CM17*$CS17)/$CS18 -> 0 | CN18: =SUM(CN16:CN17) -> 58.85 | CO18: =(CO16*$CS16+CO17*$CS17)/$CS18 -> 0.91125 | CP18: =(CP16*$CS16+CP17*$CS17)/$CS18 -> 0.08875 | CQ18: =(CQ16*$CS16+CQ17*$CS17)/$CS18 -> 0.040868056 | CR18: =SUM(CR16:CR17) -> 820 | CS18: 700 | CT18: =SUM(CT16:CT17) -> 770 | CU18: =SUM(CI18,CK18,CM18,CO18,CQ18) -> 1 | CX18: Total | CY18: =SUM(CY16:CY17) -> 1381.5 | CZ18: =SUM(CZ16:CZ17) -> 1266.5 | DA18: =SUM(DA16:DA17) -> 115 | DB18: =SUM(DB16:DB17) -> 98.95 | DC18: =(DC16*$DM16+DC17*$DM17)/$DM18 -> 0.066498656 | DD18: =SUM(DD16:DD17) -> 0 | DE18: =(DE16*$DM16+DE17*$DM17)/$DM18 -> 0 | DF18: =SUM(DF16:DF17) -> 7.55 | DG18: =(DG16*$DM16+DG17*$DM17)/$DM18 -> 0.0050739247 | DH18: =SUM(DH16:DH17) -> 10.32 | DI18: =(DI16*$DM16+DI17*$DM17)/$DM18 -> 0.92149194 | DJ18: =(DJ16*$DM16+DJ17*$DM17)/$DM18 -> 0.07343414 | DK18: =(DK16*$DM16+DK17*$DM17)/$DM18 -> 0.0069354839 | DL18: =SUM(DL16:DL17) -> 820 | DM18: =SUM(DM16:DM17) -> 700 | DN18: =SUM(DN16:DN17) -> 770 | DO18: =SUM(DC18,DE18,DG18,DI18,DK18) -> 1 | DR18: Total | DS18: =SUM(DS16:DS17) -> 1047.79 | DT18: =SUM(DT16:DT17) -> 793.29 | DU18: =SUM(DU16:DU17) -> 254.5 | DV18: =SUM(DV16:DV17) -> 440.21 | DW18: =(DW16*$EG16+DW17*$EG17)/$EG18 -> 0.29584005 | DX18: =SUM(DX16:DX17) -> 0 | DY18: =(DY16*$EG16+DY17*$EG17)/$EG18 -> 0 | DZ18: =SUM(DZ16:DZ17) -> 0 | EA18: =(EA16*$EG16+EA17*$EG17)/$EG18 -> 0 | EB18: =SUM(EB16:EB17) -> 20.26 | EC18: =(EC16*$EG16+EC17*$EG17)/$EG18 -> 0.69054435 | ED18: =(ED16*$EG16+ED17*$EG17)/$EG18 -> 0.47034729 | EE18: =(EE16*$EG16+EE17*$EG17)/$EG18 -> 0.013615591 | EF18: =SUM(EF16:EF17) -> 820 | EG18: 700 | EH18: =SUM(EH16:EH17) -> 770 | EI18: =SUM(DW18,DY18,EA18,EC18,EE18) -> 1 | EL18: Total | EM18: =SUM(EM16:EM17) -> 1296.53 | EN18: =SUM(EN16:EN17) -> 1296.53 | EO18: =SUM(EO16:EO17) -> 0 | EP18: =SUM(EP16:EP17) -> 47.47 | EQ18: =(EQ16*$FA16+EQ17*$FA17)/$FA18 -> 0.03531994 | ER18: =SUM(ER16:ER17) -> 0 | ES18: =(ES16*$FA16+ES17*$FA17)/$FA18 -> 0 | ET18: =SUM(ET16:ET17) -> 0 | EU18: =(EU16*$FA16+EU17*$FA17)/$FA18 -> 0 | EV18: =SUM(EV16:EV17) -> 19.5 | EW18: =(EW16*$FA16+EW17*$FA17)/$FA18 -> 0.95017113 | EX18: =(EX16*$FA16+EX17*$FA17)/$FA18 -> 0.049828869 | EY18: =(EY16*$FA16+EY17*$FA17)/$FA18 -> 0.014508929 | EZ18: =SUM(EZ16:EZ17) -> 820 | FA18: =SUM(FA16:FA17) -> 700 | FB18: =SUM(FB16:FB17) -> 770 | FC18: =SUM(EQ18,ES18,EU18,EW18,EY18) -> 1 | FF18: Total | FG18: =SUM(FG16:FG17) -> 1488 | FH18: =SUM(FH16:FH17) -> 1488 | FI18: =SUM(FI16:FI17) -> 0 | FJ18: =SUM(FJ16:FJ17) -> 0 | FK18: =(FK16*$FU16+FK17*$FU17)/$FU18 -> 0 | FL18: =SUM(FL16:FL17) -> 0 | FM18: =(FM16*$FU16+FM17*$FU17)/$FU18 -> 0 | FN18: =SUM(FN16:FN17) -> 0 | FO18: =(FO16*$FU16+FO17*$FU17)/$FU18 -> 0 | FP18: =SUM(FP16:FP17) -> 6.8 | FQ18: =(FQ16*$FU16+FQ17*$FU17)/$FU18 -> 0.99543011 | FR18: =(FR16*$FU16+FR17*$FU17)/$FU18 -> 0.0045698925 | FS18: =(FS16*$FU16+FS17*$FU17)/$FU18 -> 0.0045698925 | FT18: =SUM(FT16:FT17) -> 820 | FU18: =SUM(FU16:FU17) -> 700 | FV18: =SUM(FV16:FV17) -> 770 | FW18: =SUM(FK18,FM18,FO18,FQ18,FS18) -> 1 | FZ18: Total | GA18: =SUM(GA16:GA17) -> 1084.51 | GB18: =SUM(GB16:GB17) -> 1019.49 | GC18: =SUM(GC16:GC17) -> 65.02 | GD18: =SUM(GD16:GD17) -> 355.49 | GE18: =(GE16*$GO16+GE17*$GO17)/$GO18 -> 0.24686806 | GF18: =SUM(GF16:GF17) -> 0 | GG18: =(GG16*$GO16+GG17*$GO17)/$GO18 -> 0 | GH18: =SUM(GH16:GH17) -> 0 | GI18: =(GI16*$GO16+GI17*$GO17)/$GO18 -> 0 | GJ18: =SUM(GJ16:GJ17) -> 76.29 | GK18: =(GK16*$GO16+GK17*$GO17)/$GO18 -> 0.70015278 | GL18: =(GL16*$GO16+GL17*$GO17)/$GO18 -> 0.3168955 | GM18: =(GM16*$GO16+GM17*$GO17)/$GO18 -> 0.052979167 | GN18: =SUM(GN16:GN17) -> 820 | GO18: =SUM(GO16:GO17) -> 700 | GP18: =SUM(GP16:GP17) -> 775 | GQ18: =SUM(GE18,GG18,GI18,GK18,GM18) -> 1 | GT18: Total | GU18: =SUM(GU16:GU17) -> 1397.24 | GV18: =SUM(GV16:GV17) -> 1397.24 | GW18: =SUM(GW16:GW17) -> 0 | GX18: =SUM(GX16:GX17) -> 87.13 | GY18: =(GY16*$HI16+GY17*$HI17)/$HI18 -> 0.058555108 | GZ18: =SUM(GZ16:GZ17) -> 0 | HA18: =(HA16*$HI16+HA17*$HI17)/$HI18 -> 0 | HB18: =SUM(HB16:HB17) -> 3.63 | HC18: =(HC16*$HI16+HC17*$HI17)/$HI18 -> 0.0024395161 | HD18: =SUM(HD16:HD17) -> 27.26 | HE18: =(HE16*$GO16+HE17*$GO17)/$GO18 -> 0.92068548 | HF18: =(HF16*$GO16+HF17*$GO17)/$GO18 -> 0.077125123 | HG18: =(HG16*$GO16+HG17*$GO17)/$GO18 -> 0.018319892 | HH18: =SUM(HH16:HH17) -> 820 | HI18: =SUM(HI16:HI17) -> 700 | HJ18: =SUM(HJ16:HJ17) -> 775 | HK18: =SUM(GY18,HA18,HC18,HE18,HG18) -> 1 | HN18: Total | HO18: =SUM(HO16:HO17) -> 1440 | HP18: =SUM(HP16:HP17) -> 1440 | HQ18: =SUM(HQ16:HQ17) -> 0 | HR18: =SUM(HR16:HR17) -> 0 | HS18: =(HS16*$ID16+HS17*$ID17)/$ID18 -> 0 | HT18: =SUM(HT16:HT17) -> 0 | HU18: =(HU16*$ID16+HU17*$ID17)/$ID18 -> 0 | HV18: =SUM(HV16:HV17) -> 0 | HW18: =(HW16*$ID16+HW17*$ID17)/$ID18 -> 0 | HX18: =SUM(HX16:HX17) -> 3.51 | HY18: =SUM(HY16:HY17) -> 5.85 | HZ18: =(HZ16*$ID16+HZ17*$ID17)/$ID18 -> 0.9935 | IA18: =(IA16*$ID16+IA17*$ID17)/$ID18 -> 0.0065 | IB18: =(IB16*$ID16+IB17*$ID17)/$ID18 -> 0.0065 | IC18: =SUM(IC16:IC17) -> 820 | ID18: =SUM(ID16:ID17) -> 700 | IE18: =SUM(IE16:IE17) -> 775 | IF18: =SUM(HS18,HU18,HW18,HZ18,IB18) -> 1
A19: AGUIRRE | B19: 1 | C19: 0 | D19: 0 | E19: 0 | F19: 744 | G19: =F19/$B$4 -> 1 | H19: 0 | I19: =H19/$B$4 -> 0 | J19: 0 | K19: =J19/$B$4 -> 0 | L19: ='[32]UNIT DATA'!$P2 -> 0 | M19: =(C19-L19)/$B$4 -> 0 | N19: =IF((AND(D19=0,F19=0)),0,(F19+L19)/(D19+F19)) -> 1 | O19: =L19/$B$4 -> 0 | P19: 450 | Q19: 450 | R19: 0 | S19: =SUM(G19,I19,K19,M19,O19) -> 1 | U19: AGUIRRE | V19: 1 | W19: 0 | X19: 0 | Y19: 0 | Z19: 744 | AA19: =Z19/$V$4 -> 1 | AB19: 0 | AC19: =AB19/$V$4 -> 0 | AD19: 0 | AE19: =AD19/$V$4 -> 0 | AF19: ='[33]UNIT DATA'!$P$2 -> 0 | AG19: =(W19-AF19)/$V$4 -> 0 | AH19: =IF((AND(X19=0,Z19=0)),0,(Z19+AF19)/(X19+Z19)) -> 1 | AI19: =AF19/$V$4 -> 0 | AJ19: 450 | AK19: 450 | AL19: 0 | AM19: =SUM(AA19,AC19,AE19,AG19,AI19) -> 1 | AO19: AGUIRRE | AP19: 1 | AQ19: 0 | AR19: 0 | AS19: 0 | AT19: 720 | AU19: =AT19/$AP$4 -> 1 | AV19: 0 | AW19: =AV19/$AP$4 -> 0 | AX19: 0 | AY19: =AX19/$AP$4 -> 0 | AZ19: 0 | BA19: =(AQ19-AZ19)/$AP$4 -> 0 | BB19: =IF((AND(AR19=0,AT19=0)),0,(AT19+AZ19)/(AR19+AT19)) -> 1 | BC19: =AZ19/$AP$4 -> 0 | BD19: 450 | BE19: 450 | BF19: 0 | BG19: =SUM(AU19,AW19,AY19,BA19,BC19) -> 1 | BI19: AGUIRRE | BJ19: 1 | BK19: 0 | BL19: 0 | BM19: 0 | BN19: 744 | BO19: =BN19/$BJ$4 -> 1 | BP19: 0 | BQ19: =BP19/$BJ$4 -> 0 | BR19: 0 | BS19: =BR19/$BJ$4 -> 0 | BT19: 0 | BU19: =(BK19-BT19)/$BJ$4 -> 0 | BV19: =IF((AND(BL19=0,BN19=0)),0,(BN19+BT19)/(BL19+BN19)) -> 1 | BW19: =BT19/$BJ$4 -> 0 | BX19: 450 | BY19: 450 | BZ19: 0 | CA19: =SUM(BO19,BQ19,BS19,BU19,BW19) -> 1 | CC19: AGUIRRE | CD19: 1 | CE19: 0 | CF19: 0 | CG19: 0 | CH19: 720 | CI19: =CH19/$CD$4 -> 1 | CJ19: 0 | CK19: =CJ19/$CD$4 -> 0 | CL19: 0 | CM19: =CL19/$CD$4 -> 0 | CN19: 0 | CO19: =(CE19-CN19)/$CD$4 -> 0 | CP19: =IF((AND(CF19=0,CH19=0)),0,(CH19+CN19)/(CF19+CH19)) -> 1 | CQ19: =CN19/$CD$4 -> 0 | CR19: 450 | CS19: 450 | CT19: 0 | CU19: =SUM(CI19,CK19,CM19,CO19,CQ19) -> 1 | CW19: AGUIRRE | CX19: 1 | CY19: 0 | CZ19: 0 | DA19: 0 | DB19: 744 | DC19: =DB19/$CX$4 -> 1 | DD19: 0 | DE19: =DD19/$CX$4 -> 0 | DF19: 0 | DG19: =DF19/$CX$4 -> 0 | DH19: 0 | DI19: =(CY19-DH19)/$CX$4 -> 0 | DJ19: =IF((AND(CZ19=0,DB19=0)),0,(DB19+DH19)/(CZ19+DB19)) -> 1 | DK19: =DH19/$CX$4 -> 0 | DL19: 450 | DM19: 450 | DN19: 0 | DO19: =SUM(DC19,DE19,DG19,DI19,DK19) -> 1 | DQ19: AGUIRRE | DR19: 1 | DS19: 0 | DT19: 0 | DU19: 0 | DV19: 744 | DW19: =DV19/$DR$4 -> 1 | DX19: 0 | DY19: =DX19/$DR$4 -> 0 | DZ19: 0 | EA19: =DZ19/$DR$4 -> 0 | EB19: 0 | EC19: =(DS19-EB19)/$DR$4 -> 0 | ED19: =IF((AND(DT19=0,DV19=0)),0,(DV19+EB19)/(DT19+DV19)) -> 1 | EE19: =EB19/$DR$4 -> 0 | EF19: 450 | EG19: 450 | EH19: 0 | EI19: =SUM(DW19,DY19,EA19,EC19,EE19) -> 1 | EK19: AGUIRRE | EL19: 1 | EM19: 0 | EN19: 0 | EO19: 0 | EP19: 672 | EQ19: =EP19/$EL$4 -> 1 | ER19: 0 | ES19: =ER19/$EL$4 -> 0 | ET19: 0 | EU19: =ET19/$EL$4 -> 0 | EV19: 0 | EW19: =(EM19-EV19)/$EL$4 -> 0 | EX19: =IF((AND(EN19=0,EP19=0)),0,(EP19+EV19)/(EN19+EP19)) -> 1 | EY19: =EV19/$EL$4 -> 0 | EZ19: 450 | FA19: 450 | FB19: 0 | FC19: =SUM(EQ19,ES19,EU19,EW19,EY19) -> 1 | FE19: AGUIRRE | FF19: 1 | FG19: 0 | FH19: 0 | FI19: 0 | FJ19: 744 | FK19: =FJ19/$FF$4 -> 1 | FL19: 0 | FM19: =FL19/$FF$4 -> 0 | FN19: 0 | FO19: =FN19/$FF$4 -> 0 | FP19: 0 | FQ19: =(FG19-FP19)/$FF$4 -> 0 | FR19: =IF((AND(FH19=0,FJ19=0)),0,(FJ19+FP19)/(FH19+FJ19)) -> 1 | FS19: =FP19/$FF$4 -> 0 | FT19: 450 | FU19: 450 | FV19: 0 | FW19: =SUM(FK19,FM19,FO19,FQ19,FS19) -> 1 | FY19: AGUIRRE | FZ19: 1 | GA19: 0 | GB19: 0 | GC19: 0 | GD19: 720 | GE19: =GD19/$FZ$4 -> 1 | GF19: 0 | GG19: =GF19/$FZ$4 -> 0 | GH19: 0 | GI19: =GH19/$FZ$4 -> 0 | GJ19: 0 | GK19: =(GA19-GJ19)/$FZ$4 -> 0 | GL19: =IF((AND(GB19=0,GD19=0)),0,(GD19+GJ19)/(GB19+GD19)) -> 1 | GM19: =GJ19/$FZ$4 -> 0 | GN19: 450 | GO19: 450 | GP19: 0 | GQ19: =SUM(GE19,GG19,GI19,GK19,GM19) -> 1 | GS19: AGUIRRE | GT19: 1 | GU19: 0 | GV19: 0 | GW19: 0 | GX19: 744 | GY19: =GX19/$GT$4 -> 1 | GZ19: 0 | HA19: =GZ19/$GT$4 -> 0 | HB19: 0 | HC19: =HB19/$GT$4 -> 0 | HD19: 0 | HE19: =(GU19-HD19)/$GT$4 -> 0 | HF19: =IF((AND(GV19=0,GX19=0)),0,(GX19+HD19)/(GV19+GX19)) -> 1 | HG19: =HD19/$GT$4 -> 0 | HH19: 450 | HI19: 450 | HJ19: 0 | HK19: =SUM(GY19,HA19,HC19,HE19,HG19) -> 1 | HM19: AGUIRRE | HN19: 1 | HO19: 0 | HP19: 0 | HQ19: 0 | HR19: 720 | HS19: =HR19/$HN$4 -> 1 | HT19: 0 | HU19: =HT19/$HN$4 -> 0 | HV19: 0 | HW19: =HV19/$HN$4 -> 0 | HX19: 0 | HY19: 0 | HZ19: =(HO19-HX19-HY19)/$HN$4 -> 0 | IA19: =IF((AND(HP19=0,HR19=0)),0,(HR19+HX19+HY19)/(HP19+HR19)) -> 1 | IB19: =(HY19+HX19)/$HN$4 -> 0 | IC19: 450 | ID19: 450 | IE19: 0 | IF19: =SUM(HS19,HU19,HW19,HZ19,IB19) -> 1
B20: 2 | C20: 591.52 | D20: 591.52 | E20: 0 | F20: 152.48 | G20: =F20/$B$4 -> 0.20494624 | H20: 0 | I20: =H20/$B$4 -> 0 | J20: 0 | K20: =J20/$B$4 -> 0 | L20: ='[32]UNIT DATA'!$P3 -> 0 | M20: =(C20-L20)/$B$4 -> 0.79505376 | N20: =IF((AND(D20=0,F20=0)),0,(F20+L20)/(D20+F20)) -> 0.20494624 | O20: =L20/$B$4 -> 0 | P20: 450 | Q20: 350 | R20: 256 | S20: =SUM(G20,I20,K20,M20,O20) -> 1 | V20: 2 | W20: 629.51 | X20: 629.51 | Y20: 0 | Z20: 114.49 | AA20: =Z20/$V$4 -> 0.15388441 | AB20: 0 | AC20: =AB20/$V$4 -> 0 | AD20: 0 | AE20: =AD20/$V$4 -> 0 | AF20: 139.62 | AG20: =(W20-AF20)/$V$4 -> 0.6584543 | AH20: =IF((AND(X20=0,Z20=0)),0,(Z20+AF20)/(X20+Z20)) -> 0.3415457 | AI20: =AF20/$V$4 -> 0.18766129 | AJ20: 450 | AK20: 350 | AL20: 350 | AM20: =SUM(AA20,AC20,AE20,AG20,AI20) -> 1 | AP20: 2 | AQ20: 717.63 | AR20: 717.63 | AS20: 0 | AT20: 2.37 | AU20: =AT20/$AP$4 -> 0.0032916667 | AV20: 0 | AW20: =AV20/$AP$4 -> 0 | AX20: 0 | AY20: =AX20/$AP$4 -> 0 | AZ20: 0 | BA20: =(AQ20-AZ20)/$AP$4 -> 0.99670833 | BB20: =IF((AND(AR20=0,AT20=0)),0,(AT20+AZ20)/(AR20+AT20)) -> 0.0032916667 | BC20: =AZ20/$AP$4 -> 0 | BD20: 450 | BE20: 350 | BF20: 350 | BG20: =SUM(AU20,AW20,AY20,BA20,BC20) -> 1 | BJ20: 2 | BK20: 608.95 | BL20: 608.95 | BM20: 0 | BN20: 135.05 | BO20: =BN20/$BJ$4 -> 0.18151882 | BP20: 0 | BQ20: =BP20/$BJ$4 -> 0 | BR20: 0 | BS20: =BR20/$BJ$4 -> 0 | BT20: 0 | BU20: =(BK20-BT20)/$BJ$4 -> 0.81848118 | BV20: =IF((AND(BL20=0,BN20=0)),0,(BN20+BT20)/(BL20+BN20)) -> 0.18151882 | BW20: =BT20/$BJ$4 -> 0 | BX20: 450 | BY20: 350 | BZ20: 350 | CA20: =SUM(BO20,BQ20,BS20,BU20,BW20) -> 1 | CD20: 2 | CE20: 636.07 | CF20: 636.07 | CG20: 0 | CH20: 83.93 | CI20: =CH20/$CD$4 -> 0.11656944 | CJ20: 0 | CK20: =CJ20/$CD$4 -> 0 | CL20: 0 | CM20: =CL20/$CD$4 -> 0 | CN20: 0 | CO20: =(CE20-CN20)/$CD$4 -> 0.88343056 | CP20: =IF((AND(CF20=0,CH20=0)),0,(CH20+CN20)/(CF20+CH20)) -> 0.11656944 | CQ20: =CN20/$CD$4 -> 0 | CR20: 450 | CS20: 350 | CT20: 350 | CU20: =SUM(CI20,CK20,CM20,CO20,CQ20) -> 1 | CX20: 2 | CY20: 472.67 | CZ20: 393.05 | DA20: 79.62 | DB20: 171.85 | DC20: =DB20/$CX$4 -> 0.23098118 | DD20: 0 | DE20: =DD20/$CX$4 -> 0 | DF20: 99.48 | DG20: =DF20/$CX$4 -> 0.13370968 | DH20: 15.96 | DI20: =(CY20-DH20)/$CX$4 -> 0.61385753 | DJ20: =IF((AND(CZ20=0,DB20=0)),0,(DB20+DH20)/(CZ20+DB20)) -> 0.33246592 | DK20: =DH20/$CX$4 -> 0.021451613 | DL20: 450 | DM20: 350 | DN20: 350 | DO20: =SUM(DC20,DE20,DG20,DI20,DK20) -> 1 | DR20: 2 | DS20: 733.52 | DT20: 714.27 | DU20: 19.25 | DV20: 10.48 | DW20: =DV20/$DR$4 -> 0.014086022 | DX20: 0 | DY20: =DX20/$DR$4 -> 0 | DZ20: 0 | EA20: =DZ20/$DR$4 -> 0 | EB20: 121.537 | EC20: =(DS20-EB20)/$DR$4 -> 0.8225578 | ED20: =IF((AND(DT20=0,DV20=0)),0,(DV20+EB20)/(DT20+DV20)) -> 0.18215523 | EE20: =EB20/$DR$4 -> 0.16335618 | EF20: 450 | EG20: 350 | EH20: 350 | EI20: =SUM(DW20,DY20,EA20,EC20,EE20) -> 1 | EL20: 2 | EM20: 475.43 | EN20: 475.43 | EO20: 0 | EP20: 196.57 | EQ20: =EP20/$EL$4 -> 0.29251488 | ER20: 0 | ES20: =ER20/$EL$4 -> 0 | ET20: 0 | EU20: =ET20/$EL$4 -> 0 | EV20: 34.171 | EW20: =(EM20-EV20)/$EL$4 -> 0.65663542 | EX20: =IF((AND(EN20=0,EP20=0)),0,(EP20+EV20)/(EN20+EP20)) -> 0.34336458 | EY20: =EV20/$EL$4 -> 0.050849702 | EZ20: 450 | FA20: 350 | FB20: 350 | FC20: =SUM(EQ20,ES20,EU20,EW20,EY20) -> 1 | FF20: 2 | FG20: 710.3 | FH20: 531.43 | FI20: 178.87 | FJ20: 33.7 | FK20: =FJ20/$FF$4 -> 0.045295699 | FL20: 0 | FM20: =FL20/$FF$4 -> 0 | FN20: 0 | FO20: =FN20/$FF$4 -> 0 | FP20: 0 | FQ20: =(FG20-FP20)/$FF$4 -> 0.9547043 | FR20: =IF((AND(FH20=0,FJ20=0)),0,(FJ20+FP20)/(FH20+FJ20)) -> 0.059632297 | FS20: =FP20/$FF$4 -> 0 | FT20: 450 | FU20: 350 | FV20: 350 | FW20: =SUM(FK20,FM20,FO20,FQ20,FS20) -> 1 | FZ20: 2 | GA20: 589.83 | GB20: 510.83 | GC20: 79 | GD20: 5.15 | GE20: =GD20/$FZ$4 -> 0.0071527778 | GF20: 0 | GG20: =GF20/$FZ$4 -> 0 | GH20: 125.02 | GI20: =GH20/$FZ$4 -> 0.17363889 | GJ20: 16.357 | GK20: =(GA20-GJ20)/$FZ$4 -> 0.79649028 | GL20: =IF((AND(GB20=0,GD20=0)),0,(GD20+GJ20)/(GB20+GD20)) -> 0.041681848 | GM20: =GJ20/$FZ$4 -> 0.022718056 | GN20: 450 | GO20: 350 | GP20: 350 | GQ20: =SUM(GE20,GG20,GI20,GK20,GM20) -> 1 | GT20: 2 | GU20: 679.12 | GV20: 679.12 | GW20: 0 | GX20: 0 | GY20: =GX20/$GT$4 -> 0 | GZ20: 0 | HA20: =GZ20/$GT$4 -> 0 | HB20: 64.88 | HC20: =HB20/$GT$4 -> 0.087204301 | HD20: 93.95 | HE20: =(GU20-HD20)/$GT$4 -> 0.78651882 | HF20: =IF((AND(GV20=0,GX20=0)),0,(GX20+HD20)/(GV20+GX20)) -> 0.13834079 | HG20: =HD20/$GT$4 -> 0.12627688 | HH20: 450 | HI20: 350 | HJ20: 200 | HK20: =SUM(GY20,HA20,HC20,HE20,HG20) -> 1 | HN20: 2 | HO20: 630.55 | HP20: 630.55 | HQ20: 0 | HR20: 0 | HS20: =HR20/$HN$4 -> 0 | HT20: 0 | HU20: =HT20/$HN$4 -> 0 | HV20: 89.45 | HW20: =HV20/$HN$4 -> 0.12423611 | HX20: 37.22 | HY20: 49.14 | HZ20: =(HO20-HX20-HY20)/$HN$4 -> 0.75581944 | IA20: =IF((AND(HP20=0,HR20=0)),0,(HR20+HX20+HY20)/(HP20+HR20)) -> 0.1369598 | IB20: =(HY20+HX20)/$HN$4 -> 0.11994444 | IC20: 450 | ID20: 350 | IE20: 350 | IF20: =SUM(HS20,HU20,HW20,HZ20,IB20) -> 1
B21: Total | C21: =SUM(C19:C20) -> 591.52 | D21: =SUM(D19:D20) -> 591.52 | E21: =SUM(E19:E20) -> 0 | F21: =SUM(F19:F20) -> 896.48 | G21: =(G19*Q19+G20*Q20)/Q21 -> 0.65216398 | H21: =SUM(H19:H20) -> 0 | I21: =(I19*Q19+I20*Q20)/Q21 -> 0 | J21: =SUM(J19:J20) -> 0 | K21: =(K19*Q19+K20*Q20)/Q21 -> 0 | L21: =SUM(L19:L20) -> 0 | M21: =(M19*Q19+M20*Q20)/Q21 -> 0.34783602 | N21: =(N19*Q19+N20*Q20)/Q21 -> 0.65216398 | O21: =(O19*Q19+O20*Q20)/Q21 -> 0 | P21: =SUM(P19:P20) -> 900 | Q21: =SUM(Q19:Q20) -> 800 | R21: =SUM(R19:R20) -> 256 | S21: =SUM(G21,I21,K21,M21,O21) -> 1 | V21: Total | W21: =SUM(W19:W20) -> 629.51 | X21: =SUM(X19:X20) -> 629.51 | Y21: =SUM(Y19:Y20) -> 0 | Z21: =SUM(Z19:Z20) -> 858.49 | AA21: =(AA19*$AK$19+AA20*$AK$20)/$AK$21 -> 0.62982443 | AB21: =SUM(AB19:AB20) -> 0 | AC21: =(AC19*$AK$19+AC20*$AK$20)/$AK$21 -> 0 | AD21: =SUM(AD19:AD20) -> 0 | AE21: =(AE19*$AK$19+AE20*$AK$20)/$AK$21 -> 0 | AF21: =SUM(AF19:AF20) -> 139.62 | AG21: =(AG19*$AK$19+AG20*$AK$20)/$AK$21 -> 0.28807376 | AH21: =(AH19*$AK$19+AH20*$AK$20)/$AK$21 -> 0.71192624 | AI21: =(AI19*$AK$19+AI20*$AK$20)/$AK$21 -> 0.082101815 | AJ21: =SUM(AJ19:AJ20) -> 900 | AK21: =SUM(AK19:AK20) -> 800 | AL21: =SUM(AL19:AL20) -> 350 | AM21: =SUM(AA21,AC21,AE21,AG21,AI21) -> 1 | AP21: Total | AQ21: =SUM(AQ19:AQ20) -> 717.63 | AR21: =SUM(AR19:AR20) -> 717.63 | AS21: =SUM(AS19:AS20) -> 0 | AT21: =SUM(AT19:AT20) -> 722.37 | AU21: =(AU19*$BE19+AU20*$BE20)/$BE21 -> 0.5639401 | AV21: =SUM(AV19:AV20) -> 0 | AW21: =(AW19*$BE$19+AW20*$BE$20)/$BE$21 -> 0 | AX21: =SUM(AX19:AX20) -> 0 | AY21: =(AY19*$BE$19+AY20*$BE$20)/$BE$21 -> 0 | AZ21: =SUM(AZ19:AZ20) -> 0 | BA21: =(BA19*$BE19+BA20*$BE20)/$BE21 -> 0.4360599 | BB21: =(BB19*$BE$19+BB20*$BE$20)/$BE$21 -> 0.5639401 | BC21: =(BC19*$BE$19+BC20*$BE$20)/$BE$21 -> 0 | BD21: =SUM(BD19:BD20) -> 900 | BE21: =SUM(BE19:BE20) -> 800 | BF21: =SUM(BF19:BF20) -> 350 | BG21: =SUM(AU21,AW21,AY21,BA21,BC21) -> 1 | BJ21: Total | BK21: =SUM(BK19:BK20) -> 608.95 | BL21: =SUM(BL19:BL20) -> 608.95 | BM21: =SUM(BM19:BM20) -> 0 | BN21: =SUM(BN19:BN20) -> 879.05 | BO21: =(BO19*$BY19+BO20*$BY20)/$BY21 -> 0.64191448 | BP21: =SUM(BP19:BP20) -> 0 | BQ21: =(BQ19*$BY19+BQ20*$BY20)/$BY21 -> 0 | BR21: =SUM(BR19:BR20) -> 0 | BS21: =(BS19*$BY19+BS20*$BY20)/$BY21 -> 0 | BT21: =SUM(BT19:BT20) -> 0 | BU21: =(BU19*$BY19+BU20*$BY20)/$BY21 -> 0.35808552 | BV21: =(BV19*$BY19+BV20*$BY20)/$BY21 -> 0.64191448 | BW21: =(BW19*$BY19+BW20*$BY20)/$BY21 -> 0 | BX21: =SUM(BX19:BX20) -> 900 | BY21: 800 | BZ21: =SUM(BZ19:BZ20) -> 350 | CA21: =SUM(BO21,BQ21,BS21,BU21,BW21) -> 1 | CD21: Total | CE21: =SUM(CE19:CE20) -> 636.07 | CF21: =SUM(CF19:CF20) -> 636.07 | CG21: =SUM(CG19:CG20) -> 0 | CH21: =SUM(CH19:CH20) -> 803.93 | CI21: =(CI19*$CS19+CI20*$CS20)/$CS21 -> 0.61349913 | CJ21: =SUM(CJ19:CJ20) -> 0 | CK21: =(CK19*$CS19+CK20*$CS20)/$CS21 -> 0 | CL21: =SUM(CL19:CL20) -> 0 | CM21: =(CM19*$CS19+CM20*$CS20)/$CS21 -> 0 | CN21: =SUM(CN19:CN20) -> 0 | CO21: =(CO19*$CS19+CO20*$CS20)/$CS21 -> 0.38650087 | CP21: =(CP19*$CS19+CP20*$CS20)/$CS21 -> 0.61349913 | CQ21: =(CQ19*$CS19+CQ20*$CS20)/$CS21 -> 0 | CR21: =SUM(CR19:CR20) -> 900 | CS21: 800 | CT21: =SUM(CT19:CT20) -> 350 | CU21: =SUM(CI21,CK21,CM21,CO21,CQ21) -> 1 | CX21: Total | CY21: =SUM(CY19:CY20) -> 472.67 | CZ21: =SUM(CZ19:CZ20) -> 393.05 | DA21: =SUM(DA19:DA20) -> 79.62 | DB21: =SUM(DB19:DB20) -> 915.85 | DC21: =(DC19*$DM19+DC20*$DM20)/$DM21 -> 0.66355427 | DD21: =SUM(DD19:DD20) -> 0 | DE21: =(DE19*$DM19+DE20*$DM20)/$DM21 -> 0 | DF21: =SUM(DF19:DF20) -> 99.48 | DG21: =(DG19*$DM19+DG20*$DM20)/$DM21 -> 0.058497984 | DH21: =SUM(DH19:DH20) -> 15.96 | DI21: =(DI19*$DM19+DI20*$DM20)/$DM21 -> 0.26856267 | DJ21: =(DJ19*$DM19+DJ20*$DM20)/$DM21 -> 0.70795384 | DK21: =(DK19*$DM19+DK20*$DM20)/$DM21 -> 0.0093850806 | DL21: =SUM(DL19:DL20) -> 900 | DM21: =SUM(DM19:DM20) -> 800 | DN21: =SUM(DN19:DN20) -> 350 | DO21: =SUM(DC21,DE21,DG21,DI21,DK21) -> 1 | DR21: Total | DS21: =SUM(DS19:DS20) -> 733.52 | DT21: =SUM(DT19:DT20) -> 714.27 | DU21: =SUM(DU19:DU20) -> 19.25 | DV21: =SUM(DV19:DV20) -> 754.48 | DW21: =(DW19*$EG19+DW20*$EG20)/$EG21 -> 0.56866263 | DX21: =SUM(DX19:DX20) -> 0 | DY21: =(DY19*$EG19+DY20*$EG20)/$EG21 -> 0 | DZ21: =SUM(DZ19:DZ20) -> 0 | EA21: =(EA19*$EG19+EA20*$EG20)/$EG21 -> 0 | EB21: =SUM(EB19:EB20) -> 121.537 | EC21: =(EC19*$EG19+EC20*$EG20)/$EG21 -> 0.35986904 | ED21: =(ED19*$EG19+ED20*$EG20)/$EG21 -> 0.64219291 | EE21: =(EE19*$EG19+EE20*$EG20)/$EG21 -> 0.07146833 | EF21: =SUM(EF19:EF20) -> 900 | EG21: 800 | EH21: =SUM(EH19:EH20) -> 350 | EI21: =SUM(DW21,DY21,EA21,EC21,EE21) -> 1 | EL21: Total | EM21: =SUM(EM19:EM20) -> 475.43 | EN21: =SUM(EN19:EN20) -> 475.43 | EO21: =SUM(EO19:EO20) -> 0 | EP21: =SUM(EP19:EP20) -> 868.57 | EQ21: =(EQ19*$FA19+EQ20*$FA20)/$FA21 -> 0.69047526 | ER21: =SUM(ER19:ER20) -> 0 | ES21: =(ES19*$FA19+ES20*$FA20)/$FA21 -> 0 | ET21: =SUM(ET19:ET20) -> 0 | EU21: =(EU19*$FA19+EU20*$FA20)/$FA21 -> 0 | EV21: =SUM(EV19:EV20) -> 34.171 | EW21: =(EW19*$FA19+EW20*$FA20)/$FA21 -> 0.28727799 | EX21: =(EX19*$FA19+EX20*$FA20)/$FA21 -> 0.71272201 | EY21: =(EY19*$FA19+EY20*$FA20)/$FA21 -> 0.022246745 | EZ21: =SUM(EZ19:EZ20) -> 900 | FA21: =SUM(FA19:FA20) -> 800 | FB21: =SUM(FB19:FB20) -> 350 | FC21: =SUM(EQ21,ES21,EU21,EW21,EY21) -> 1 | FF21: Total | FG21: =SUM(FG19:FG20) -> 710.3 | FH21: =SUM(FH19:FH20) -> 531.43 | FI21: =SUM(FI19:FI20) -> 178.87 | FJ21: =SUM(FJ19:FJ20) -> 777.7 | FK21: =(FK19*$FU19+FK20*$FU20)/$FU21 -> 0.58231687 | FL21: =SUM(FL19:FL20) -> 0 | FM21: =(FM19*$FU19+FM20*$FU20)/$FU21 -> 0 | FN21: =SUM(FN19:FN20) -> 0 | FO21: =(FO19*$FU19+FO20*$FU20)/$FU21 -> 0 | FP21: =SUM(FP19:FP20) -> 0 | FQ21: =(FQ19*$FU19+FQ20*$FU20)/$FU21 -> 0.41768313 | FR21: =(FR19*$FU19+FR20*$FU20)/$FU21 -> 0.58858913 | FS21: =(FS19*$FU19+FS20*$FU20)/$FU21 -> 0 | FT21: =SUM(FT19:FT20) -> 900 | FU21: =SUM(FU19:FU20) -> 800 | FV21: =SUM(FV19:FV20) -> 350 | FW21: =SUM(FK21,FM21,FO21,FQ21,FS21) -> 1 | FZ21: Total | GA21: =SUM(GA19:GA20) -> 589.83 | GB21: =SUM(GB19:GB20) -> 510.83 | GC21: =SUM(GC19:GC20) -> 79 | GD21: =SUM(GD19:GD20) -> 725.15 | GE21: =(GE19*$GO19+GE20*$GO20)/$GO21 -> 0.56562934 | GF21: =SUM(GF19:GF20) -> 0 | GG21: =(GG19*$GO19+GG20*$GO20)/$GO21 -> 0 | GH21: =SUM(GH19:GH20) -> 125.02 | GI21: =(GI19*$GO19+GI20*$GO20)/$GO21 -> 0.075967014 | GJ21: =SUM(GJ19:GJ20) -> 16.357 | GK21: =(GK19*$GO19+GK20*$GO20)/$GO21 -> 0.3484645 | GL21: =(GL19*$GO19+GL20*$GO20)/$GO21 -> 0.58073581 | GM21: =(GM19*$GO19+GM20*$GO20)/$GO21 -> 0.0099391493 | GN21: =SUM(GN19:GN20) -> 900 | GO21: =SUM(GO19:GO20) -> 800 | GP21: =SUM(GP19:GP20) -> 350 | GQ21: =SUM(GE21,GG21,GI21,GK21,GM21) -> 1 | GT21: Total | GU21: =SUM(GU19:GU20) -> 679.12 | GV21: =SUM(GV19:GV20) -> 679.12 | GW21: =SUM(GW19:GW20) -> 0 | GX21: =SUM(GX19:GX20) -> 744 | GY21: =(GY19*$HI19+GY20*$HI20)/$HI21 -> 0.5625 | GZ21: =SUM(GZ19:GZ20) -> 0 | HA21: =(HA19*$HI19+HA20*$HI20)/$HI21 -> 0 | HB21: =SUM(HB19:HB20) -> 64.88 | HC21: =(HC19*$HI19+HC20*$HI20)/$HI21 -> 0.038151882 | HD21: =SUM(HD19:HD20) -> 93.95 | HE21: =(HE19*$GO19+HE20*$GO20)/$GO21 -> 0.34410198 | HF21: =(HF19*$GO19+HF20*$GO20)/$GO21 -> 0.6230241 | HG21: =(HG19*$GO19+HG20*$GO20)/$GO21 -> 0.055246136 | HH21: =SUM(HH19:HH20) -> 900 | HI21: =SUM(HI19:HI20) -> 800 | HJ21: =SUM(HJ19:HJ20) -> 200 | HK21: =SUM(GY21,HA21,HC21,HE21,HG21) -> 1 | HN21: Total | HO21: =SUM(HO19:HO20) -> 630.55 | HP21: =SUM(HP19:HP20) -> 630.55 | HQ21: =SUM(HQ19:HQ20) -> 0 | HR21: =SUM(HR19:HR20) -> 720 | HS21: =(HS19*$ID19+HS20*$ID20)/$ID21 -> 0.5625 | HT21: =SUM(HT19:HT20) -> 0 | HU21: =(HU19*$ID19+HU20*$ID20)/$ID21 -> 0 | HV21: =SUM(HV19:HV20) -> 89.45 | HW21: =(HW19*$ID19+HW20*$ID20)/$ID21 -> 0.054353299 | HX21: =SUM(HX19:HX20) -> 37.22 | HY21: =SUM(HY19:HY20) -> 49.14 | HZ21: =(HZ19*$ID19+HZ20*$ID20)/$ID21 -> 0.33067101 | IA21: =(IA19*$ID19+IA20*$ID20)/$ID21 -> 0.62241991 | IB21: =(IB19*$ID19+IB20*$ID20)/$ID21 -> 0.052475694 | IC21: =SUM(IC19:IC20) -> 900 | ID21: =SUM(ID19:ID20) -> 800 | IE21: =SUM(IE19:IE20) -> 350 | IF21: =SUM(HS21,HU21,HW21,HZ21,IB21) -> 1
B22: Total Baseloads | C22: =SUM(C21,C18,C15,C12) -> 5410.7 | D22: =SUM(D21,D18,D15,D12) -> 5350.6 | E22: =SUM(E21,E18,E15,E12) -> 60.1 | F22: =SUM(F21,F18,F15,F12) -> 1925 | G22: =(G12*$Q$12+G15*$Q$15+G18*$Q$18+G21*$Q$21)/$Q$22 -> 0.33014376 | H22: =SUM(H21,H18,H15,H12) -> 1488 | I22: =(I12*$Q$12+I15*$Q$15+I18*$Q$18+I21*$Q$21)/$Q$22 -> 0.061019671 | J22: =SUM(J21,J18,J15,J12) -> 104.3 | K22: =(K12*$Q$12+K15*$Q$15+K18*$Q$18+K21*$Q$21)/$Q$22 -> 0.0056364201 | L22: =SUM(L21,L18,L15,L12) -> 822.37 | M22: =(M12*$Q$12+M15*$Q$15+M18*$Q$18+M21*$Q$21)/$Q$22 -> 0.4902992 | N22: =(N12*$Q$12+N15*$Q$15+N18*$Q$18+N21*$Q$21)/$Q$22 -> 0.44439157 | O22: =(O12*$Q$12+O15*$Q$15+O18*$Q$18+O21*$Q$21)/$Q$22 -> 0.11290094 | P22: =SUM(P21,P18,P15,P12) -> 2792 | Q22: =SUM(Q21,Q18,Q15,Q12) -> 2491 | R22: =SUM(R21,R18,R15,R12) -> 1162 | S22: =SUM(G22,I22,K22,M22,O22) -> 1 | V22: Total Baseloads | W22: =SUM(W21,W18,W15,W12) -> 5179.16 | X22: =SUM(X21,X18,X15,X12) -> 5119.06 | Y22: =SUM(Y21,Y18,Y15,Y12) -> 60.1 | Z22: =SUM(Z21,Z18,Z15,Z12) -> 2102.84 | AA22: =(AA12*$AK$12+AA15*$AK$15+AA18*$AK$18+AA21*$AK$21)/$AK$22 -> 0.33724214 | AB22: =SUM(AB21,AB18,AB15,AB12) -> 1488 | AC22: =(AC12*$AK$12+AC15*$AK$15+AC18*$AK$18+AC21*$AK$21)/$AK$22 -> 0.061019671 | AD22: =SUM(AD21,AD18,AD15,AD12) -> 158 | AE22: =(AE12*$AK$12+AE15*$AK$15+AE18*$AK$18+AE21*$AK$21)/$AK$22 -> 0.0086076542 | AF22: =SUM(AF21,AF18,AF15,AF12) -> 485.33 | AG22: =(AG12*$AK$12+AG15*$AK$15+AG18*$AK$18+AG21*$AK$21)/$AK$22 -> 0.5289664 | AH22: =(AH12*$AK$12+AH15*$AK$15+AH18*$AK$18+AH21*$AK$21)/$AK$22 -> 0.4039718 | AI22: =(AI12*$AK$12+AI15*$AK$15+AI18*$AK$18+AI21*$AK$21)/$AK$22 -> 0.064164141 | AJ22: =SUM(AJ21,AJ18,AJ15,AJ12) -> 2792 | AK22: =SUM(AK21,AK18,AK15,AK12) -> 2491 | AL22: =SUM(AL21,AL18,AL15,AL12) -> 1707 | AM22: =SUM(AA22,AC22,AE22,AG22,AI22) -> 1 | AP22: Total Baseloads | AQ22: =SUM(AQ21,AQ18,AQ15,AQ12) -> 5408.72 | AR22: =SUM(AR21,AR18,AR15,AR12) -> 5406.32 | AS22: =SUM(AS21,AS18,AS15,AS12) -> 2.4 | AT22: =SUM(AT21,AT18,AT15,AT12) -> 1545.61 | AU22: =(AU12*$BE12+AU15*$BE15+AU18*$BE18+AU21*$BE21)/$BE22 -> 0.2759054 | AV22: =SUM(AV21,AV18,AV15,AV12) -> 1440 | AW22: =(AW12*$BE12+AW15*$BE15+AW18*$BE18+AW21*$BE21)/$BE22 -> 0.061019671 | AX22: =SUM(AX21,AX18,AX15,AX12) -> 245.67 | AY22: =(AY12*$BE12+AY15*$BE15+AY18*$BE18+AY21*$BE21)/$BE22 -> 0.016483624 | AZ22: =SUM(AZ21,AZ18,AZ15,AZ12) -> 481.1 | BA22: =(BA12*$BE12+BA15*$BE15+BA18*$BE18+BA21*$BE21)/$BE22 -> 0.59374465 | BB22: =(BB12*$BE12+BB15*$BE15+BB18*$BE18+BB21*$BE21)/$BE22 -> 0.32892246 | BC22: =(BC12*$BE12+BC15*$BE15+BC18*$BE18+BC21*$BE21)/$BE22 -> 0.052846648 | BD22: =SUM(BD21,BD18,BD15,BD12) -> 2792 | BE22: =SUM(BE21,BE18,BE15,BE12) -> 2491 | BF22: =SUM(BF21,BF18,BF15,BF12) -> 1513 | BG22: =SUM(AU22,AW22,AY22,BA22,BC22) -> 1 | BJ22: Total Baseloads | BK22: =SUM(BK21,BK18,BK15,BK12) -> 6084.79 | BL22: =SUM(BL21,BL18,BL15,BL12) -> 6084.79 | BM22: =SUM(BM21,BM18,BM15,BM12) -> 0 | BN22: =SUM(BN21,BN18,BN15,BN12) -> 1355.21 | BO22: =(BO12*$BY12+BO15*$BY15+BO18*$BY18+BO21*$BY21)/$BY22 -> 0.2524618 | BP22: =SUM(BP21,BP18,BP15,BP12) -> 1488 | BQ22: =(BQ12*$BY12+BQ15*$BY15+BQ18*$BY18+BQ21*$BY21)/$BY22 -> 0.061019671 | BR22: =SUM(BR21,BR18,BR15,BR12) -> 0 | BS22: =(BS12*$BY12+BS15*$BY15+BS18*$BY18+BS21*$BY21)/$BY22 -> 0 | BT22: =SUM(BT21,BT18,BT15,BT12) -> 855.68 | BU22: =(BU12*$BY12+BU15*$BY15+BU18*$BY18+BU21*$BY21)/$BY22 -> 0.59470463 | BV22: =(BV12*$BY12+BV15*$BY15+BV18*$BY18+BV21*$BY21)/$BY22 -> 0.3442757 | BW22: =(BW12*$BY12+BW15*$BY15+BW18*$BY18+BW21*$BY21)/$BY22 -> 0.091813901 | BX22: =SUM(BX21,BX18,BX15,BX12) -> 2792 | BY22: 2491 | BZ22: =SUM(BZ21,BZ18,BZ15,BZ12) -> 1809 | CA22: =SUM(BO22,BQ22,BS22,BU22,BW22) -> 1 | CD22: Total Baseloads | CE22: =SUM(CE21,CE18,CE15,CE12) -> 5412.32 | CF22: =SUM(CF21,CF18,CF15,CF12) -> 5325.84 | CG22: =SUM(CG21,CG18,CG15,CG12) -> 86.48 | CH22: =SUM(CH21,CH18,CH15,CH12) -> 1664.15 | CI22: =(CI12*$CS12+CI15*$CS15+CI18*$CS18+CI21*$CS21)/$CS22 -> 0.27031718 | CJ22: =SUM(CJ21,CJ18,CJ15,CJ12) -> 1440 | CK22: =(CK12*$CS12+CK15*$CS15+CK18*$CS18+CK21*$CS21)/$CS22 -> 0.061019671 | CL22: =SUM(CL21,CL18,CL15,CL12) -> 123.53 | CM22: =(CM12*$CS12+CM15*$CS15+CM18*$CS18+CM21*$CS21)/$CS22 -> 0.011249376 | CN22: =SUM(CN21,CN18,CN15,CN12) -> 553.31 | CO22: =(CO12*$CS12+CO15*$CS15+CO18*$CS18+CO21*$CS21)/$CS22 -> 0.59941678 | CP22: =(CP12*$CS12+CP15*$CS15+CP18*$CS18+CP21*$CS21)/$CS22 -> 0.3400903 | CQ22: =(CQ12*$CS12+CQ15*$CS15+CQ18*$CS18+CQ21*$CS21)/$CS22 -> 0.057997 | CR22: =SUM(CR21,CR18,CR15,CR12) -> 2792 | CS22: 2491 | CT22: =SUM(CT21,CT18,CT15,CT12) -> 1797 | CU22: =SUM(CI22,CK22,CM22,CO22,CQ22) -> 1 | CX22: Total Baseloads | CY22: =SUM(CY21,CY18,CY15,CY12) -> 4722.45 | CZ22: =SUM(CZ21,CZ18,CZ15,CZ12) -> 4354.97 | DA22: =SUM(DA21,DA18,DA15,DA12) -> 367.48 | DB22: =SUM(DB21,DB18,DB15,DB12) -> 2321.51 | DC22: =(DC12*$DM12+DC15*$DM15+DC18*$DM18+DC21*$DM21)/$DM22 -> 0.30866692 | DD22: =SUM(DD21,DD18,DD15,DD12) -> 1688.38 | DE22: =(DE12*$DM12+DE15*$DM15+DE18*$DM18+DE21*$DM21)/$DM22 -> 0.076156529 | DF22: =SUM(DF21,DF18,DF15,DF12) -> 195.66 | DG22: =(DG12*$DM12+DG15*$DM15+DG18*$DM18+DG21*$DM21)/$DM22 -> 0.02499509 | DH22: =SUM(DH21,DH18,DH15,DH12) -> 625.85 | DI22: =(DI12*$DM12+DI15*$DM15+DI18*$DM18+DI21*$DM21)/$DM22 -> 0.53364606 | DJ22: =(DJ12*$DM12+DJ15*$DM15+DJ18*$DM18+DJ21*$DM21)/$DM22 -> 0.38828205 | DK22: =(DK12*$DM12+DK15*$DM15+DK18*$DM18+DK21*$DM21)/$DM22 -> 0.056535404 | DL22: =SUM(DL21,DL18,DL15,DL12) -> 2792 | DM22: =SUM(DM21,DM18,DM15,DM12) -> 2491 | DN22: =SUM(DN21,DN18,DN15,DN12) -> 1876 | DO22: =SUM(DC22,DE22,DG22,DI22,DK22) -> 1 | DR22: Total Baseloads | DS22: =SUM(DS21,DS18,DS15,DS12) -> 4546.47 | DT22: =SUM(DT21,DT18,DT15,DT12) -> 4141.83 | DU22: =SUM(DU21,DU18,DU15,DU12) -> 404.64 | DV22: =SUM(DV21,DV18,DV15,DV12) -> 1333.77 | DW22: =(DW12*$EG12+DW15*$EG15+DW18*$EG18+DW21*$EG21)/$EG22 -> 0.27011367 | DX22: =SUM(DX21,DX18,DX15,DX12) -> 2712.38 | DY22: =(DY12*$EG12+DY15*$EG15+DY18*$EG18+DY21*$EG21)/$EG22 -> 0.15987388 | DZ22: =SUM(DZ21,DZ18,DZ15,DZ12) -> 335.38 | EA22: =(EA12*$EG12+EA15*$EG15+EA18*$EG18+EA21*$EG21)/$EG22 -> 0.01809633 | EB22: =SUM(EB21,EB18,EB15,EB12) -> 936.037 | EC22: =(EC12*$EG12+EC15*$EG15+EC18*$EG18+EC21*$EG21)/$EG22 -> 0.48375798 | ED22: =(ED12*$EG12+ED15*$EG15+ED18*$EG18+ED21*$EG21)/$EG22 -> 0.40923939 | EE22: =(EE12*$EG12+EE15*$EG15+EE18*$EG18+EE21*$EG21)/$EG22 -> 0.068158138 | EF22: =SUM(EF21,EF18,EF15,EF12) -> 2792 | EG22: 2491 | EH22: =SUM(EH21,EH18,EH15,EH12) -> 1716 | EI22: =SUM(DW22,DY22,EA22,EC22,EE22) -> 1 | EL22: Total Baseloads | EM22: =SUM(EM21,EM18,EM15,EM12) -> 3936.58 | EN22: =SUM(EN21,EN18,EN15,EN12) -> 3815.93 | EO22: =SUM(EO21,EO18,EO15,EO12) -> 120.65 | EP22: =SUM(EP21,EP18,EP15,EP12) -> 1106.91 | EQ22: =(EQ12*$FA12+EQ15*$FA15+EQ18*$FA18+EQ21*$FA21)/$FA22 -> 0.23918728 | ER22: =SUM(ER21,ER18,ER15,ER12) -> 2688 | ES22: =(ES12*$FA12+ES15*$FA15+ES18*$FA18+ES21*$FA21)/$FA22 -> 0.18867925 | ET22: =SUM(ET21,ET18,ET15,ET12) -> 332.51 | EU22: =(EU12*$FA12+EU15*$FA15+EU18*$FA18+EU21*$FA21)/$FA22 -> 0.027405374 | EV22: =SUM(EV21,EV18,EV15,EV12) -> 273.131 | EW22: =(EW12*$FA12+EW15*$FA15+EW18*$FA18+EW21*$FA21)/$FA22 -> 0.51825322 | EX22: =(EX12*$FA12+EX15*$FA15+EX18*$FA18+EX21*$FA21)/$FA22 -> 0.27197287 | EY22: =(EY12*$FA12+EY15*$FA15+EY18*$FA18+EY21*$FA21)/$FA22 -> 0.026474887 | EZ22: =SUM(EZ21,EZ18,EZ15,EZ12) -> 2792 | FA22: 2491 | FB22: =SUM(FB21,FB18,FB15,FB12) -> 1834 | FC22: =SUM(EQ22,ES22,EU22,EW22,EY22) -> 1 | FF22: Total Baseloads | FG22: =SUM(FG21,FG18,FG15,FG12) -> 4310.62 | FH22: =SUM(FH21,FH18,FH15,FH12) -> 3724.05 | FI22: =SUM(FI21,FI18,FI15,FI12) -> 586.57 | FJ22: =SUM(FJ21,FJ18,FJ15,FJ12) -> 972.84 | FK22: =(FK12*$FU12+FK15*$FU15+FK18*$FU18+FK21*$FU21)/$FU22 -> 0.1972609 | FL22: =SUM(FL21,FL18,FL15,FL12) -> 2976 | FM22: =(FM12*$FU12+FM15*$FU15+FM18*$FU18+FM21*$FU21)/$FU22 -> 0.18867925 | FN22: =SUM(FN21,FN18,FN15,FN12) -> 668.54 | FO22: =(FO12*$FU12+FO15*$FU15+FO18*$FU18+FO21*$FU21)/$FU22 -> 0.068035978 | FP22: =SUM(FP21,FP18,FP15,FP12) -> 230 | FQ22: =(FQ12*$FU12+FQ15*$FU15+FQ18*$FU18+FQ21*$FU21)/$FU22 -> 0.53263363 | FR22: =(FR12*$FU12+FR15*$FU15+FR18*$FU18+FR21*$FU21)/$FU22 -> 0.22690015 | FS22: =(FS12*$FU12+FS15*$FU15+FS18*$FU18+FS21*$FU21)/$FU22 -> 0.013390253 | FT22: =SUM(FT21,FT18,FT15,FT12) -> 2792 | FU22: =SUM(FU21,FU18,FU15,FU12) -> 2491 | FV22: =SUM(FV21,FV18,FV15,FV12) -> 1917 | FW22: =SUM(FK22,FM22,FO22,FQ22,FS22) -> 1 | FZ22: Total Baseloads | GA22: =SUM(GA21,GA18,GA15,GA12) -> 4328.59 | GB22: =SUM(GB21,GB18,GB15,GB12) -> 4184.57 | GC22: =SUM(GC21,GC18,GC15,GC12) -> 144.02 | GD22: =SUM(GD21,GD18,GD15,GD12) -> 1306.39 | GE22: =(GE12*$GO12+GE15*$GO15+GE18*$GO18+GE21*$GO21)/$GO22 -> 0.27670429 | GF22: =SUM(GF21,GF18,GF15,GF12) -> 2880 | GG22: =(GG12*$GO12+GG15*$GO15+GG18*$GO18+GG21*$GO21)/$GO22 -> 0.18867925 | GH22: =SUM(GH21,GH18,GH15,GH12) -> 125.02 | GI22: =(GI12*$GO12+GI15*$GO15+GI18*$GO18+GI21*$GO21)/$GO22 -> 0.024397275 | GJ22: =SUM(GJ21,GJ18,GJ15,GJ12) -> 346.757 | GK22: =(GK12*$GO12+GK15*$GO15+GK18*$GO18+GK21*$GO21)/$GO22 -> 0.47550633 | GL22: =(GL12*$GO12+GL15*$GO15+GL18*$GO18+GL21*$GO21)/$GO22 -> 0.31786743 | GM22: =(GM12*$GO12+GM15*$GO15+GM18*$GO18+GM21*$GO21)/$GO22 -> 0.034712861 | GN22: =SUM(GN21,GN18,GN15,GN12) -> 2792 | GO22: =SUM(GO21,GO18,GO15,GO12) -> 2491 | GP22: =SUM(GP21,GP18,GP15,GP12) -> 1605 | GQ22: =SUM(GE22,GG22,GI22,GK22,GM22) -> 1 | GT22: Total Baseloads | GU22: =SUM(GU21,GU18,GU15,GU12) -> 4860.54 | GV22: =SUM(GV21,GV18,GV15,GV12) -> 4860.54 | GW22: =SUM(GW21,GW18,GW15,GW12) -> 0 | GX22: =SUM(GX21,GX18,GX15,GX12) -> 1196.48 | GY22: =(GY12*$HI12+GY15*$HI15+GY18*$HI18+GY21*$HI21)/$HI22 -> 0.23147067 | GZ22: =SUM(GZ21,GZ18,GZ15,GZ12) -> 2724.23 | HA22: =(HA12*$HI12+HA15*$HI15+HA18*$HI18+HA21*$HI21)/$HI22 -> 0.16449807 | HB22: =SUM(HB21,HB18,HB15,HB12) -> 146.75 | HC22: =(HC12*$HI12+HC15*$HI15+HC18*$HI18+HC21*$HI21)/$HI22 -> 0.016213638 | HD22: =SUM(HD21,HD18,HD15,HD12) -> 471.82 | HE22: =(HE12*$GO12+HE15*$GO15+HE18*$GO18+HE21*$GO21)/$GO22 -> 0.54286295 | HF22: =(HF12*$GO12+HF15*$GO15+HF18*$GO18+HF21*$GO21)/$GO22 -> 0.325294 | HG22: =(HG12*$GO12+HG15*$GO15+HG18*$GO18+HG21*$GO21)/$GO22 -> 0.044954665 | HH22: =SUM(HH21,HH18,HH15,HH12) -> 2792 | HI22: =SUM(HI21,HI18,HI15,HI12) -> 2491 | HJ22: =SUM(HJ21,HJ18,HJ15,HJ12) -> 1430 | HK22: =SUM(GY22,HA22,HC22,HE22,HG22) -> 1 | HN22: Total Baseloads | HO22: =SUM(HO21,HO18,HO15,HO12) -> 5161.4733 | HP22: =SUM(HP21,HP18,HP15,HP12) -> 5161.47 | HQ22: =SUM(HQ21,HQ18,HQ15,HQ12) -> 0 | HR22: =SUM(HR21,HR18,HR15,HR12) -> 1262.57 | HS22: =(HS12*$ID12+HS15*$ID15+HS18*$ID18+HS21*$ID21)/$ID22 -> 0.21338186 | HT22: =SUM(HT21,HT18,HT15,HT12) -> 2083.33 | HU22: =(HU12*$ID12+HU15*$ID15+HU18*$ID18+HU21*$ID21)/$ID22 -> 0.11294717 | HV22: =SUM(HV21,HV18,HV15,HV12) -> 132.63 | HW22: =(HW12*$ID12+HW15*$ID15+HW18*$ID18+HW21*$ID21)/$ID22 -> 0.019782294 | HX22: =SUM(HX21,HX18,HX15,HX12) -> 40.73 | HY22: =SUM(HY21,HY18,HY15,HY12) -> 594.92 | HZ22: =(HZ12*$ID12+HZ15*$ID15+HZ18*$ID18+HZ21*$ID21)/$ID22 -> 0.58878959 | IA22: =(IA12*$ID12+IA15*$ID15+IA18*$ID18+IA21*$ID21)/$ID22 -> 0.31577931 | IB22: =(IB12*$ID12+IB15*$ID15+IB18*$ID18+IB21*$ID21)/$ID22 -> 0.065099268 | IC22: =SUM(IC21,IC18,IC15,IC12) -> 2792 | ID22: =SUM(ID21,ID18,ID15,ID12) -> 2491 | IE22: =SUM(IE21,IE18,IE15,IE12) -> 1795 | IF22: =SUM(HS22,HU22,HW22,HZ22,IB22) -> 1.0000002
A23: AGUIRRE CC | B23: V-1 | C23: 0 | D23: 0 | E23: 0 | F23: 744 | G23: =F23/$B$4 -> 1 | H23: 0 | I23: =H23/$B$4 -> 0 | J23: 0 | K23: =J23/$B$4 -> 0 | L23: 0 | M23: =(C23-L23)/$B$4 -> 0 | N23: =IF((AND(D23=0,F23=0)),0,(F23+L23)/(D23+F23)) -> 1 | O23: =L23/$B$4 -> 0 | P23: 96 | Q23: 96 | R23: 0 | S23: =SUM(G23,I23,K23,M23,O23) -> 1 | U23: AGUIRRE CC | V23: V-1 | W23: 0 | X23: 0 | Y23: 0 | Z23: 744 | AA23: =Z23/$V$4 -> 1 | AB23: 0 | AC23: =AB23/$V$4 -> 0 | AD23: 0 | AE23: =AD23/$V$4 -> 0 | AF23: 0 | AG23: =(W23-AF23)/$V$4 -> 0 | AH23: =IF((AND(X23=0,Z23=0)),0,(Z23+AF23)/(X23+Z23)) -> 1 | AI23: =AF23/$V$4 -> 0 | AJ23: 96 | AK23: 96 | AL23: 0 | AM23: =SUM(AA23,AC23,AE23,AG23,AI23) -> 1 | AO23: AGUIRRE CC | AP23: V-1 | AQ23: 27.3 | AR23: 0 | AS23: 27.3 | AT23: 692.7 | AU23: =AT23/$AP$4 -> 0.96208333 | AV23: 0 | AW23: =AV23/$AP$4 -> 0 | AX23: 0 | AY23: =AX23/$AP$4 -> 0 | AZ23: 0 | BA23: =(AQ23-AZ23)/$AP$4 -> 0.037916667 | BB23: =IF((AND(AR23=0,AT23=0)),0,(AT23+AZ23)/(AR23+AT23)) -> 1 | BC23: =AZ23/$AP$4 -> 0 | BD23: 96 | BE23: 96 | BF23: 0 | BG23: =SUM(AU23,AW23,AY23,BA23,BC23) -> 1 | BI23: AGUIRRE CC | BJ23: V-1 | BK23: 0 | BL23: 0 | BM23: 0 | BN23: 744 | BO23: =BN23/$BJ$4 -> 1 | BP23: 0 | BQ23: =BP23/$BJ$4 -> 0 | BR23: 0 | BS23: =BR23/$BJ$4 -> 0 | BT23: 0 | BU23: =(BK23-BT23)/$BJ$4 -> 0 | BV23: =IF((AND(BL23=0,BN23=0)),0,(BN23+BT23)/(BL23+BN23)) -> 1 | BW23: =BT23/$BJ$4 -> 0 | BX23: 96 | BY23: 96 | BZ23: 0 | CA23: =SUM(BO23,BQ23,BS23,BU23,BW23) -> 1 | CC23: AGUIRRE CC | CD23: V-1 | CE23: 0 | CF23: 0 | CG23: 0 | CH23: 720 | CI23: =CH23/$CD$4 -> 1 | CJ23: 0 | CK23: =CJ23/$CD$4 -> 0 | CL23: 0 | CM23: =CL23/$CD$4 -> 0 | CN23: 0 | CO23: =(CE23-CN23)/$CD$4 -> 0 | CP23: =IF((AND(CF23=0,CH23=0)),0,(CH23+CN23)/(CF23+CH23)) -> 1 | CQ23: =CN23/$CD$4 -> 0 | CR23: 96 | CS23: 96 | CT23: 0 | CU23: =SUM(CI23,CK23,CM23,CO23,CQ23) -> 1 | CW23: AGUIRRE CC | CX23: V-1 | CY23: 0 | CZ23: 0 | DA23: 0 | DB23: 744 | DC23: =DB23/$CX$4 -> 1 | DD23: 0 | DE23: =DD23/$CX$4 -> 0 | DF23: 0 | DG23: =DF23/$CX$4 -> 0 | DH23: 0 | DI23: =(CY23-DH23)/$CX$4 -> 0 | DJ23: =IF((AND(CZ23=0,DB23=0)),0,(DB23+DH23)/(CZ23+DB23)) -> 1 | DK23: =DH23/$CX$4 -> 0 | DL23: 96 | DM23: 96 | DN23: 0 | DO23: =SUM(DC23,DE23,DG23,DI23,DK23) -> 1 | DQ23: AGUIRRE CC | DR23: V-1 | DS23: 0 | DT23: 0 | DU23: 0 | DV23: 744 | DW23: =DV23/$DR$4 -> 1 | DX23: 0 | DY23: =DX23/$DR$4 -> 0 | DZ23: 0 | EA23: =DZ23/$DR$4 -> 0 | EB23: 0 | EC23: =(DS23-EB23)/$DR$4 -> 0 | ED23: =IF((AND(DT23=0,DV23=0)),0,(DV23+EB23)/(DT23+DV23)) -> 1 | EE23: =EB23/$DR$4 -> 0 | EF23: 96 | EG23: 96 | EH23: 0 | EI23: =SUM(DW23,DY23,EA23,EC23,EE23) -> 1 | EK23: AGUIRRE CC | EL23: V-1 | EM23: 0 | EN23: 0 | EO23: 0 | EP23: 672 | EQ23: =EP23/$EL$4 -> 1 | ER23: 0 | ES23: =ER23/$EL$4 -> 0 | ET23: 0 | EU23: =ET23/$EL$4 -> 0 | EV23: 0 | EW23: =(EM23-EV23)/$EL$4 -> 0 | EX23: =IF((AND(EN23=0,EP23=0)),0,(EP23+EV23)/(EN23+EP23)) -> 1 | EY23: =EV23/$EL$4 -> 0 | EZ23: 96 | FA23: 96 | FB23: 0 | FC23: =SUM(EQ23,ES23,EU23,EW23,EY23) -> 1 | FE23: AGUIRRE CC | FF23: V-1 | FG23: 0 | FH23: 0 | FI23: 0 | FJ23: 744 | FK23: =FJ23/$FF$4 -> 1 | FL23: 0 | FM23: =FL23/$FF$4 -> 0 | FN23: 0 | FO23: =FN23/$FF$4 -> 0 | FP23: 0 | FQ23: =(FG23-FP23)/$FF$4 -> 0 | FR23: =IF((AND(FH23=0,FJ23=0)),0,(FJ23+FP23)/(FH23+FJ23)) -> 1 | FS23: =FP23/$FF$4 -> 0 | FT23: 96 | FU23: 96 | FV23: 0 | FW23: =SUM(FK23,FM23,FO23,FQ23,FS23) -> 1 | FY23: AGUIRRE CC | FZ23: V-1 | GA23: 0 | GB23: 0 | GC23: 0 | GD23: 720 | GE23: =GD23/$FZ$4 -> 1 | GF23: 0 | GG23: =GF23/$FZ$4 -> 0 | GH23: 0 | GI23: =GH23/$FZ$4 -> 0 | GJ23: 0 | GK23: =(GA23-GJ23)/$FZ$4 -> 0 | GL23: =IF((AND(GB23=0,GD23=0)),0,(GD23+GJ23)/(GB23+GD23)) -> 1 | GM23: =GJ23/$FZ$4 -> 0 | GN23: 96 | GO23: 96 | GP23: 0 | GQ23: =SUM(GE23,GG23,GI23,GK23,GM23) -> 1 | GS23: AGUIRRE CC | GT23: V-1 | GU23: 0 | GV23: 0 | GW23: 0 | GX23: 744 | GY23: =GX23/$GT$4 -> 1 | GZ23: 0 | HA23: =GZ23/$GT$4 -> 0 | HB23: 0 | HC23: =HB23/$GT$4 -> 0 | HD23: 0 | HE23: =(GU23-HD23)/$GT$4 -> 0 | HF23: =IF((AND(GV23=0,GX23=0)),0,(GX23+HD23)/(GV23+GX23)) -> 1 | HG23: =HD23/$GT$4 -> 0 | HH23: 96 | HI23: 96 | HJ23: 0 | HK23: =SUM(GY23,HA23,HC23,HE23,HG23) -> 1 | HM23: AGUIRRE CC | HN23: V-1 | HO23: 0 | HP23: 0 | HQ23: 0 | HR23: 720 | HS23: =HR23/$HN$4 -> 1 | HT23: 0 | HU23: =HT23/$HN$4 -> 0 | HV23: 0 | HW23: =HV23/$HN$4 -> 0 | HX23: 0 | HY23: 0 | HZ23: =(HO23-HY23)/$HN$4 -> 0 | IA23: =IF((AND(HP23=0,HR23=0)),0,(HR23+HX23+HY23)/(HP23+HR23)) -> 1 | IB23: =(HY23+HX23)/$HN$4 -> 0 | IC23: 96 | ID23: 96 | IE23: 0 | IF23: =SUM(HS23,HU23,HW23,HZ23,IB23) -> 1
B24: 1-1 | C24: 744 | D24: 298 | E24: 446 | F24: 0 | G24: =F24/$B$4 -> 0 | H24: 0 | I24: =H24/$B$4 -> 0 | J24: 0 | K24: =J24/$B$4 -> 0 | L24: 0 | M24: =(C24-L24)/$B$4 -> 1 | N24: =IF((AND(D24=0,F24=0)),0,(F24+L24)/(D24+F24)) -> 0 | O24: =L24/$B$4 -> 0 | P24: 50 | Q24: 50 | R24: 50 | S24: =SUM(G24,I24,K24,M24,O24) -> 1 | V24: 1-1 | W24: 741.3 | X24: 393 | Y24: 348.3 | Z24: 2.7 | AA24: =Z24/$V$4 -> 0.0036290323 | AB24: 0 | AC24: =AB24/$V$4 -> 0 | AD24: 0 | AE24: =AD24/$V$4 -> 0 | AF24: 0 | AG24: =(W24-AF24)/$V$4 -> 0.99637097 | AH24: =IF((AND(X24=0,Z24=0)),0,(Z24+AF24)/(X24+Z24)) -> 0.006823351 | AI24: =AF24/$V$4 -> 0 | AJ24: 50 | AK24: 50 | AL24: 50 | AM24: =SUM(AA24,AC24,AE24,AG24,AI24) -> 1 | AP24: 1-1 | AQ24: 720 | AR24: 252 | AS24: 468 | AT24: 0 | AU24: =AT24/$AP$4 -> 0 | AV24: 0 | AW24: =AV24/$AP$4 -> 0 | AX24: 0 | AY24: =AX24/$AP$4 -> 0 | AZ24: 0 | BA24: =(AQ24-AZ24)/$AP$4 -> 1 | BB24: =IF((AND(AR24=0,AT24=0)),0,(AT24+AZ24)/(AR24+AT24)) -> 0 | BC24: =AZ24/$AP$4 -> 0 | BD24: 50 | BE24: 50 | BF24: 50 | BG24: =SUM(AU24,AW24,AY24,BA24,BC24) -> 1 | BJ24: 1-1 | BK24: 744 | BL24: 510 | BM24: 234 | BN24: 0 | BO24: =BN24/$BJ$4 -> 0 | BP24: 0 | BQ24: =BP24/$BJ$4 -> 0 | BR24: 0 | BS24: =BR24/$BJ$4 -> 0 | BT24: 0 | BU24: =(BK24-BT24)/$BJ$4 -> 1 | BV24: =IF((AND(BL24=0,BN24=0)),0,(BN24+BT24)/(BL24+BN24)) -> 0 | BW24: =BT24/$BJ$4 -> 0 | BX24: 50 | BY24: 50 | BZ24: 50 | CA24: =SUM(BO24,BQ24,BS24,BU24,BW24) -> 1 | CD24: 1-1 | CE24: 699.2 | CF24: 427 | CG24: 272.2 | CH24: 20.8 | CI24: =CH24/$CD$4 -> 0.028888889 | CJ24: 0 | CK24: =CJ24/$CD$4 -> 0 | CL24: 0 | CM24: =CL24/$CD$4 -> 0 | CN24: 0 | CO24: =(CE24-CN24)/$CD$4 -> 0.97111111 | CP24: =IF((AND(CF24=0,CH24=0)),0,(CH24+CN24)/(CF24+CH24)) -> 0.046449308 | CQ24: =CN24/$CD$4 -> 0 | CR24: 50 | CS24: 50 | CT24: 50 | CU24: =SUM(CI24,CK24,CM24,CO24,CQ24) -> 1 | CX24: 1-1 | CY24: 688.9 | CZ24: 241 | DA24: 447.9 | DB24: 0 | DC24: =DB24/$CX$4 -> 0 | DD24: 55.1 | DE24: =DD24/$CX$4 -> 0.07405914 | DF24: 0 | DG24: =DF24/$CX$4 -> 0 | DH24: 0 | DI24: =(CY24-DH24)/$CX$4 -> 0.92594086 | DJ24: =IF((AND(CZ24=0,DB24=0)),0,(DB24+DH24)/(CZ24+DB24)) -> 0 | DK24: =DH24/$CX$4 -> 0 | DL24: 50 | DM24: 50 | DN24: 50 | DO24: =SUM(DC24,DE24,DG24,DI24,DK24) -> 1 | DR24: 1-1 | DS24: 744 | DT24: 260 | DU24: 484 | DV24: 0 | DW24: =DV24/$DR$4 -> 0 | DX24: 0 | DY24: =DX24/$DR$4 -> 0 | DZ24: 0 | EA24: =DZ24/$DR$4 -> 0 | EB24: 0 | EC24: =(DS24-EB24)/$DR$4 -> 1 | ED24: =IF((AND(DT24=0,DV24=0)),0,(DV24+EB24)/(DT24+DV24)) -> 0 | EE24: =EB24/$DR$4 -> 0 | EF24: 50 | EG24: 50 | EH24: 50 | EI24: =SUM(DW24,DY24,EA24,EC24,EE24) -> 1 | EL24: 1-1 | EM24: 672 | EN24: 193 | EO24: 479 | EP24: 0 | EQ24: =EP24/$EL$4 -> 0 | ER24: 0 | ES24: =ER24/$EL$4 -> 0 | ET24: 0 | EU24: =ET24/$EL$4 -> 0 | EV24: 0 | EW24: =(EM24-EV24)/$EL$4 -> 1 | EX24: =IF((AND(EN24=0,EP24=0)),0,(EP24+EV24)/(EN24+EP24)) -> 0 | EY24: =EV24/$EL$4 -> 0 | EZ24: 50 | FA24: 50 | FB24: 50 | FC24: =SUM(EQ24,ES24,EU24,EW24,EY24) -> 1 | FF24: 1-1 | FG24: 740.2 | FH24: 185 | FI24: 555.2 | FJ24: 3.8 | FK24: =FJ24/$FF$4 -> 0.0051075269 | FL24: 0 | FM24: =FL24/$FF$4 -> 0 | FN24: 0 | FO24: =FN24/$FF$4 -> 0 | FP24: 0 | FQ24: =(FG24-FP24)/$FF$4 -> 0.99489247 | FR24: =IF((AND(FH24=0,FJ24=0)),0,(FJ24+FP24)/(FH24+FJ24)) -> 0.020127119 | FS24: =FP24/$FF$4 -> 0 | FT24: 50 | FU24: 50 | FV24: 50 | FW24: =SUM(FK24,FM24,FO24,FQ24,FS24) -> 1 | FZ24: 1-1 | GA24: 720 | GB24: 245 | GC24: 475 | GD24: 0 | GE24: =GD24/$FZ$4 -> 0 | GF24: 0 | GG24: =GF24/$FZ$4 -> 0 | GH24: 0 | GI24: =GH24/$FZ$4 -> 0 | GJ24: 0 | GK24: =(GA24-GJ24)/$FZ$4 -> 1 | GL24: =IF((AND(GB24=0,GD24=0)),0,(GD24+GJ24)/(GB24+GD24)) -> 0 | GM24: =GJ24/$FZ$4 -> 0 | GN24: 50 | GO24: 50 | GP24: 50 | GQ24: =SUM(GE24,GG24,GI24,GK24,GM24) -> 1 | GT24: 1-1 | GU24: 743.3 | GV24: 229 | GW24: 514.3 | GX24: 0.7 | GY24: =GX24/$GT$4 -> 0.00094086022 | GZ24: 0 | HA24: =GZ24/$GT$4 -> 0 | HB24: 0 | HC24: =HB24/$GT$4 -> 0 | HD24: 0 | HE24: =(GU24-HD24)/$GT$4 -> 0.99905914 | HF24: =IF((AND(GV24=0,GX24=0)),0,(GX24+HD24)/(GV24+GX24)) -> 0.0030474532 | HG24: =HD24/$GT$4 -> 0 | HH24: 50 | HI24: 50 | HJ24: 50 | HK24: =SUM(GY24,HA24,HC24,HE24,HG24) -> 1 | HN24: 1-1 | HO24: 717.9 | HP24: 311 | HQ24: 406.9 | HR24: 2.1 | HS24: =HR24/$HN$4 -> 0.0029166667 | HT24: 0 | HU24: =HT24/$HN$4 -> 0 | HV24: 0 | HW24: =HV24/$HN$4 -> 0 | HX24: 0 | HY24: 0 | HZ24: =(HO24-HY24)/$HN$4 -> 0.99708333 | IA24: =IF((AND(HP24=0,HR24=0)),0,(HR24+HX24+HY24)/(HP24+HR24)) -> 0.0067071223 | IB24: =(HY24+HX24)/$HN$4 -> 0 | IC24: 50 | ID24: 50 | IE24: 50 | IF24: =SUM(HS24,HU24,HW24,HZ24,IB24) -> 1
B25: 1-2 | C25: 742.8 | D25: 338 | E25: 404.8 | F25: 1.2 | G25: =F25/$B$4 -> 0.0016129032 | H25: 0 | I25: =H25/$B$4 -> 0 | J25: 0 | K25: =J25/$B$4 -> 0 | L25: 0 | M25: =(C25-L25)/$B$4 -> 0.9983871 | N25: =IF((AND(D25=0,F25=0)),0,(F25+L25)/(D25+F25)) -> 0.0035377358 | O25: =L25/$B$4 -> 0 | P25: 50 | Q25: 50 | R25: 50 | S25: =SUM(G25,I25,K25,M25,O25) -> 1 | V25: 1-2 | W25: 729.5 | X25: 335 | Y25: 394.5 | Z25: 14.5 | AA25: =Z25/$V$4 -> 0.019489247 | AB25: 0 | AC25: =AB25/$V$4 -> 0 | AD25: 0 | AE25: =AD25/$V$4 -> 0 | AF25: 0 | AG25: =(W25-AF25)/$V$4 -> 0.98051075 | AH25: =IF((AND(X25=0,Z25=0)),0,(Z25+AF25)/(X25+Z25)) -> 0.04148784 | AI25: =AF25/$V$4 -> 0 | AJ25: 50 | AK25: 50 | AL25: 50 | AM25: =SUM(AA25,AC25,AE25,AG25,AI25) -> 1 | AP25: 1-2 | AQ25: 718.1 | AR25: 176 | AS25: 542.1 | AT25: 1.9 | AU25: =AT25/$AP$4 -> 0.0026388889 | AV25: 0 | AW25: =AV25/$AP$4 -> 0 | AX25: 0 | AY25: =AX25/$AP$4 -> 0 | AZ25: 0 | BA25: =(AQ25-AZ25)/$AP$4 -> 0.99736111 | BB25: =IF((AND(AR25=0,AT25=0)),0,(AT25+AZ25)/(AR25+AT25)) -> 0.010680157 | BC25: =AZ25/$AP$4 -> 0 | BD25: 50 | BE25: 50 | BF25: 48 | BG25: =SUM(AU25,AW25,AY25,BA25,BC25) -> 1 | BJ25: 1-2 | BK25: 727.5 | BL25: 425 | BM25: 302.5 | BN25: 16.5 | BO25: =BN25/$BJ$4 -> 0.022177419 | BP25: 0 | BQ25: =BP25/$BJ$4 -> 0 | BR25: 0 | BS25: =BR25/$BJ$4 -> 0 | BT25: 0 | BU25: =(BK25-BT25)/$BJ$4 -> 0.97782258 | BV25: =IF((AND(BL25=0,BN25=0)),0,(BN25+BT25)/(BL25+BN25)) -> 0.037372593 | BW25: =BT25/$BJ$4 -> 0 | BX25: 50 | BY25: 50 | BZ25: 50 | CA25: =SUM(BO25,BQ25,BS25,BU25,BW25) -> 1 | CD25: 1-2 | CE25: 720 | CF25: 366 | CG25: 354 | CH25: 0 | CI25: =CH25/$CD$4 -> 0 | CJ25: 0 | CK25: =CJ25/$CD$4 -> 0 | CL25: 0 | CM25: =CL25/$CD$4 -> 0 | CN25: 0 | CO25: =(CE25-CN25)/$CD$4 -> 1 | CP25: =IF((AND(CF25=0,CH25=0)),0,(CH25+CN25)/(CF25+CH25)) -> 0 | CQ25: =CN25/$CD$4 -> 0 | CR25: 50 | CS25: 50 | CT25: 50 | CU25: =SUM(CI25,CK25,CM25,CO25,CQ25) -> 1 | CX25: 1-2 | CY25: 734.7 | CZ25: 200 | DA25: 534.7 | DB25: 9.3 | DC25: =DB25/$CX$4 -> 0.0125 | DD25: 0 | DE25: =DD25/$CX$4 -> 0 | DF25: 0 | DG25: =DF25/$CX$4 -> 0 | DH25: 0 | DI25: =(CY25-DH25)/$CX$4 -> 0.9875 | DJ25: =IF((AND(CZ25=0,DB25=0)),0,(DB25+DH25)/(CZ25+DB25)) -> 0.044433827 | DK25: =DH25/$CX$4 -> 0 | DL25: 50 | DM25: 50 | DN25: 50 | DO25: =SUM(DC25,DE25,DG25,DI25,DK25) -> 1 | DR25: 1-2 | DS25: 699 | DT25: 176 | DU25: 523 | DV25: 45 | DW25: =DV25/$DR$4 -> 0.060483871 | DX25: 0 | DY25: =DX25/$DR$4 -> 0 | DZ25: 0 | EA25: =DZ25/$DR$4 -> 0 | EB25: 0 | EC25: =(DS25-EB25)/$DR$4 -> 0.93951613 | ED25: =IF((AND(DT25=0,DV25=0)),0,(DV25+EB25)/(DT25+DV25)) -> 0.20361991 | EE25: =EB25/$DR$4 -> 0 | EF25: 50 | EG25: 50 | EH25: 50 | EI25: =SUM(DW25,DY25,EA25,EC25,EE25) -> 1 | EL25: 1-2 | EM25: 672 | EN25: 119 | EO25: 553 | EP25: 0 | EQ25: =EP25/$EL$4 -> 0 | ER25: 0 | ES25: =ER25/$EL$4 -> 0 | ET25: 0 | EU25: =ET25/$EL$4 -> 0 | EV25: 0 | EW25: =(EM25-EV25)/$EL$4 -> 1 | EX25: =IF((AND(EN25=0,EP25=0)),0,(EP25+EV25)/(EN25+EP25)) -> 0 | EY25: =EV25/$EL$4 -> 0 | EZ25: 50 | FA25: 50 | FB25: 50 | FC25: =SUM(EQ25,ES25,EU25,EW25,EY25) -> 1 | FF25: 1-2 | FG25: 736.4 | FH25: 133 | FI25: 603.4 | FJ25: 7.6 | FK25: =FJ25/$FF$4 -> 0.010215054 | FL25: 0 | FM25: =FL25/$FF$4 -> 0 | FN25: 0 | FO25: =FN25/$FF$4 -> 0 | FP25: 0 | FQ25: =(FG25-FP25)/$FF$4 -> 0.98978495 | FR25: =IF((AND(FH25=0,FJ25=0)),0,(FJ25+FP25)/(FH25+FJ25)) -> 0.054054054 | FS25: =FP25/$FF$4 -> 0 | FT25: 50 | FU25: 50 | FV25: 50 | FW25: =SUM(FK25,FM25,FO25,FQ25,FS25) -> 1 | FZ25: 1-2 | GA25: 720 | GB25: 191 | GC25: 529 | GD25: 0 | GE25: =GD25/$FZ$4 -> 0 | GF25: 0 | GG25: =GF25/$FZ$4 -> 0 | GH25: 0 | GI25: =GH25/$FZ$4 -> 0 | GJ25: 0 | GK25: =(GA25-GJ25)/$FZ$4 -> 1 | GL25: =IF((AND(GB25=0,GD25=0)),0,(GD25+GJ25)/(GB25+GD25)) -> 0 | GM25: =GJ25/$FZ$4 -> 0 | GN25: 50 | GO25: 50 | GP25: 50 | GQ25: =SUM(GE25,GG25,GI25,GK25,GM25) -> 1 | GT25: 1-2 | GU25: 744 | GV25: 202 | GW25: 542 | GX25: 0 | GY25: =GX25/$GT$4 -> 0 | GZ25: 0 | HA25: =GZ25/$GT$4 -> 0 | HB25: 0 | HC25: =HB25/$GT$4 -> 0 | HD25: 0 | HE25: =(GU25-HD25)/$GT$4 -> 1 | HF25: =IF((AND(GV25=0,GX25=0)),0,(GX25+HD25)/(GV25+GX25)) -> 0 | HG25: =HD25/$GT$4 -> 0 | HH25: 50 | HI25: 50 | HJ25: 50 | HK25: =SUM(GY25,HA25,HC25,HE25,HG25) -> 1 | HN25: 1-2 | HO25: 720 | HP25: 261 | HQ25: 459 | HR25: 0 | HS25: =HR25/$HN$4 -> 0 | HT25: 0 | HU25: =HT25/$HN$4 -> 0 | HV25: 0 | HW25: =HV25/$HN$4 -> 0 | HX25: 0 | HY25: 0 | HZ25: =(HO25-HY25)/$HN$4 -> 1 | IA25: =IF((AND(HP25=0,HR25=0)),0,(HR25+HX25+HY25)/(HP25+HR25)) -> 0 | IB25: =(HY25+HX25)/$HN$4 -> 0 | IC25: 50 | ID25: 50 | IE25: 50 | IF25: =SUM(HS25,HU25,HW25,HZ25,IB25) -> 1
B26: 1-3 | C26: 0 | D26: 0 | E26: 0 | F26: 0 | G26: =F26/$B$4 -> 0 | H26: 744 | I26: =H26/$B$4 -> 1 | J26: 0 | K26: =J26/$B$4 -> 0 | L26: 0 | M26: =(C26-L26)/$B$4 -> 0 | N26: =IF((AND(D26=0,F26=0)),0,(F26+L26)/(D26+F26)) -> 0 | O26: =L26/$B$4 -> 0 | P26: 50 | Q26: 50 | R26: 0 | S26: =SUM(G26,I26,K26,M26,O26) -> 1 | V26: 1-3 | W26: 0 | X26: 0 | Y26: 0 | Z26: 0 | AA26: =Z26/$V$4 -> 0 | AB26: 744 | AC26: =AB26/$V$4 -> 1 | AD26: 0 | AE26: =AD26/$V$4 -> 0 | AF26: 0 | AG26: =(W26-AF26)/$V$4 -> 0 | AH26: =IF((AND(X26=0,Z26=0)),0,(Z26+AF26)/(X26+Z26)) -> 0 | AI26: =AF26/$V$4 -> 0 | AJ26: 50 | AK26: 50 | AL26: 0 | AM26: =SUM(AA26,AC26,AE26,AG26,AI26) -> 1 | AP26: 1-3 | AQ26: 0 | AR26: 0 | AS26: 0 | AT26: 0 | AU26: =AT26/$AP$4 -> 0 | AV26: 720 | AW26: =AV26/$AP$4 -> 1 | AX26: 0 | AY26: =AX26/$AP$4 -> 0 | AZ26: 0 | BA26: =(AQ26-AZ26)/$AP$4 -> 0 | BB26: =IF((AND(AR26=0,AT26=0)),0,(AT26+AZ26)/(AR26+AT26)) -> 0 | BC26: =AZ26/$AP$4 -> 0 | BD26: 50 | BE26: 50 | BF26: 0 | BG26: =SUM(AU26,AW26,AY26,BA26,BC26) -> 1 | BJ26: 1-3 | BK26: 0 | BL26: 0 | BM26: 0 | BN26: 0 | BO26: =BN26/$BJ$4 -> 0 | BP26: 744 | BQ26: =BP26/$BJ$4 -> 1 | BR26: 0 | BS26: =BR26/$BJ$4 -> 0 | BT26: 0 | BU26: =(BK26-BT26)/$BJ$4 -> 0 | BV26: =IF((AND(BL26=0,BN26=0)),0,(BN26+BT26)/(BL26+BN26)) -> 0 | BW26: =BT26/$BJ$4 -> 0 | BX26: 50 | BY26: 50 | BZ26: 0 | CA26: =SUM(BO26,BQ26,BS26,BU26,BW26) -> 1 | CD26: 1-3 | CE26: 0 | CF26: 0 | CG26: 0 | CH26: 0 | CI26: =CH26/$CD$4 -> 0 | CJ26: 720 | CK26: =CJ26/$CD$4 -> 1 | CL26: 0 | CM26: =CL26/$CD$4 -> 0 | CN26: 0 | CO26: =(CE26-CN26)/$CD$4 -> 0 | CP26: =IF((AND(CF26=0,CH26=0)),0,(CH26+CN26)/(CF26+CH26)) -> 0 | CQ26: =CN26/$CD$4 -> 0 | CR26: 50 | CS26: 50 | CT26: 0 | CU26: =SUM(CI26,CK26,CM26,CO26,CQ26) -> 1 | CX26: 1-3 | CY26: 0 | CZ26: 0 | DA26: 0 | DB26: 0 | DC26: =DB26/$CX$4 -> 0 | DD26: 744 | DE26: =DD26/$CX$4 -> 1 | DF26: 0 | DG26: =DF26/$CX$4 -> 0 | DH26: 0 | DI26: =(CY26-DH26)/$CX$4 -> 0 | DJ26: =IF((AND(CZ26=0,DB26=0)),0,(DB26+DH26)/(CZ26+DB26)) -> 0 | DK26: =DH26/$CX$4 -> 0 | DL26: 50 | DM26: 50 | DN26: 0 | DO26: =SUM(DC26,DE26,DG26,DI26,DK26) -> 1 | DR26: 1-3 | DS26: 0 | DT26: 0 | DU26: 0 | DV26: 0 | DW26: =DV26/$DR$4 -> 0 | DX26: 744 | DY26: =DX26/$DR$4 -> 1 | DZ26: 0 | EA26: =DZ26/$DR$4 -> 0 | EB26: 0 | EC26: =(DS26-EB26)/$DR$4 -> 0 | ED26: =IF((AND(DT26=0,DV26=0)),0,(DV26+EB26)/(DT26+DV26)) -> 0 | EE26: =EB26/$DR$4 -> 0 | EF26: 50 | EG26: 50 | EH26: 0 | EI26: =SUM(DW26,DY26,EA26,EC26,EE26) -> 1 | EL26: 1-3 | EM26: 0 | EN26: 0 | EO26: 0 | EP26: 0 | EQ26: =EP26/$EL$4 -> 0 | ER26: 672 | ES26: =ER26/$EL$4 -> 1 | ET26: 0 | EU26: =ET26/$EL$4 -> 0 | EV26: 0 | EW26: =(EM26-EV26)/$EL$4 -> 0 | EX26: =IF((AND(EN26=0,EP26=0)),0,(EP26+EV26)/(EN26+EP26)) -> 0 | EY26: =EV26/$EL$4 -> 0 | EZ26: 50 | FA26: 50 | FB26: 0 | FC26: =SUM(EQ26,ES26,EU26,EW26,EY26) -> 1 | FF26: 1-3 | FG26: 0 | FH26: 0 | FI26: 0 | FJ26: 0 | FK26: =FJ26/$FF$4 -> 0 | FL26: 744 | FM26: =FL26/$FF$4 -> 1 | FN26: 0 | FO26: =FN26/$FF$4 -> 0 | FP26: 0 | FQ26: =(FG26-FP26)/$FF$4 -> 0 | FR26: =IF((AND(FH26=0,FJ26=0)),0,(FJ26+FP26)/(FH26+FJ26)) -> 0 | FS26: =FP26/$FF$4 -> 0 | FT26: 50 | FU26: 50 | FV26: 0 | FW26: =SUM(FK26,FM26,FO26,FQ26,FS26) -> 1 | FZ26: 1-3 | GA26: 0 | GB26: 0 | GC26: 0 | GD26: 0 | GE26: =GD26/$FZ$4 -> 0 | GF26: 720 | GG26: =GF26/$FZ$4 -> 1 | GH26: 0 | GI26: =GH26/$FZ$4 -> 0 | GJ26: 0 | GK26: =(GA26-GJ26)/$FZ$4 -> 0 | GL26: =IF((AND(GB26=0,GD26=0)),0,(GD26+GJ26)/(GB26+GD26)) -> 0 | GM26: =GJ26/$FZ$4 -> 0 | GN26: 50 | GO26: 50 | GP26: 0 | GQ26: =SUM(GE26,GG26,GI26,GK26,GM26) -> 1 | GT26: 1-3 | GU26: 0 | GV26: 0 | GW26: 0 | GX26: 0 | GY26: =GX26/$GT$4 -> 0 | GZ26: 744 | HA26: =GZ26/$GT$4 -> 1 | HB26: 0 | HC26: =HB26/$GT$4 -> 0 | HD26: 0 | HE26: =(GU26-HD26)/$GT$4 -> 0 | HF26: =IF((AND(GV26=0,GX26=0)),0,(GX26+HD26)/(GV26+GX26)) -> 0 | HG26: =HD26/$GT$4 -> 0 | HH26: 50 | HI26: 50 | HJ26: 0 | HK26: =SUM(GY26,HA26,HC26,HE26,HG26) -> 1 | HN26: 1-3 | HO26: 0 | HP26: 0 | HQ26: 0 | HR26: 0 | HS26: =HR26/$HN$4 -> 0 | HT26: 720 | HU26: =HT26/$HN$4 -> 1 | HV26: 0 | HW26: =HV26/$HN$4 -> 0 | HX26: 0 | HY26: 0 | HZ26: =(HO26-HY26)/$HN$4 -> 0 | IA26: =IF((AND(HP26=0,HR26=0)),0,(HR26+HX26+HY26)/(HP26+HR26)) -> 0 | IB26: =(HY26+HX26)/$HN$4 -> 0 | IC26: 50 | ID26: 50 | IE26: 0 | IF26: =SUM(HS26,HU26,HW26,HZ26,IB26) -> 1
B27: 1-4 | C27: 488.3 | D27: 273 | E27: 215.3 | F27: 23.8 | G27: =F27/$B$4 -> 0.031989247 | H27: 231.9 | I27: =H27/$B$4 -> 0.31169355 | J27: 0 | K27: =J27/$B$4 -> 0 | L27: 0 | M27: =(C27-L27)/$B$4 -> 0.6563172 | N27: =IF((AND(D27=0,F27=0)),0,(F27+L27)/(D27+F27)) -> 0.080188679 | O27: =L27/$B$4 -> 0 | P27: 50 | Q27: 50 | R27: 50 | S27: =SUM(G27,I27,K27,M27,O27) -> 1 | V27: 1-4 | W27: 0 | X27: 0 | Y27: 0 | Z27: 0 | AA27: =Z27/$V$4 -> 0 | AB27: 744 | AC27: =AB27/$V$4 -> 1 | AD27: 0 | AE27: =AD27/$V$4 -> 0 | AF27: 0 | AG27: =(W27-AF27)/$V$4 -> 0 | AH27: =IF((AND(X27=0,Z27=0)),0,(Z27+AF27)/(X27+Z27)) -> 0 | AI27: =AF27/$V$4 -> 0 | AJ27: 50 | AK27: 50 | AL27: 0 | AM27: =SUM(AA27,AC27,AE27,AG27,AI27) -> 1 | AP27: 1-4 | AQ27: 0 | AR27: 0 | AS27: 0 | AT27: 0 | AU27: =AT27/$AP$4 -> 0 | AV27: 720 | AW27: =AV27/$AP$4 -> 1 | AX27: 0 | AY27: =AX27/$AP$4 -> 0 | AZ27: 0 | BA27: =(AQ27-AZ27)/$AP$4 -> 0 | BB27: =IF((AND(AR27=0,AT27=0)),0,(AT27+AZ27)/(AR27+AT27)) -> 0 | BC27: =AZ27/$AP$4 -> 0 | BD27: 50 | BE27: 50 | BF27: 0 | BG27: =SUM(AU27,AW27,AY27,BA27,BC27) -> 1 | BJ27: 1-4 | BK27: 0 | BL27: 0 | BM27: 0 | BN27: 0 | BO27: =BN27/$BJ$4 -> 0 | BP27: 744 | BQ27: =BP27/$BJ$4 -> 1 | BR27: 0 | BS27: =BR27/$BJ$4 -> 0 | BT27: 0 | BU27: =(BK27-BT27)/$BJ$4 -> 0 | BV27: =IF((AND(BL27=0,BN27=0)),0,(BN27+BT27)/(BL27+BN27)) -> 0 | BW27: =BT27/$BJ$4 -> 0 | BX27: 50 | BY27: 50 | BZ27: 0 | CA27: =SUM(BO27,BQ27,BS27,BU27,BW27) -> 1 | CD27: 1-4 | CE27: 0 | CF27: 0 | CG27: 0 | CH27: 0 | CI27: =CH27/$CD$4 -> 0 | CJ27: 720 | CK27: =CJ27/$CD$4 -> 1 | CL27: 0 | CM27: =CL27/$CD$4 -> 0 | CN27: 0 | CO27: =(CE27-CN27)/$CD$4 -> 0 | CP27: =IF((AND(CF27=0,CH27=0)),0,(CH27+CN27)/(CF27+CH27)) -> 0 | CQ27: =CN27/$CD$4 -> 0 | CR27: 50 | CS27: 50 | CT27: 0 | CU27: =SUM(CI27,CK27,CM27,CO27,CQ27) -> 1 | CX27: 1-4 | CY27: 0 | CZ27: 0 | DA27: 0 | DB27: 0 | DC27: =DB27/$CX$4 -> 0 | DD27: 744 | DE27: =DD27/$CX$4 -> 1 | DF27: 0 | DG27: =DF27/$CX$4 -> 0 | DH27: 0 | DI27: =(CY27-DH27)/$CX$4 -> 0 | DJ27: =IF((AND(CZ27=0,DB27=0)),0,(DB27+DH27)/(CZ27+DB27)) -> 0 | DK27: =DH27/$CX$4 -> 0 | DL27: 50 | DM27: 50 | DN27: 0 | DO27: =SUM(DC27,DE27,DG27,DI27,DK27) -> 1 | DR27: 1-4 | DS27: 0 | DT27: 0 | DU27: 0 | DV27: 0 | DW27: =DV27/$DR$4 -> 0 | DX27: 744 | DY27: =DX27/$DR$4 -> 1 | DZ27: 0 | EA27: =DZ27/$DR$4 -> 0 | EB27: 0 | EC27: =(DS27-EB27)/$DR$4 -> 0 | ED27: =IF((AND(DT27=0,DV27=0)),0,(DV27+EB27)/(DT27+DV27)) -> 0 | EE27: =EB27/$DR$4 -> 0 | EF27: 50 | EG27: 50 | EH27: 0 | EI27: =SUM(DW27,DY27,EA27,EC27,EE27) -> 1 | EL27: 1-4 | EM27: 0 | EN27: 0 | EO27: 0 | EP27: 0 | EQ27: =EP27/$EL$4 -> 0 | ER27: 672 | ES27: =ER27/$EL$4 -> 1 | ET27: 0 | EU27: =ET27/$EL$4 -> 0 | EV27: 0 | EW27: =(EM27-EV27)/$EL$4 -> 0 | EX27: =IF((AND(EN27=0,EP27=0)),0,(EP27+EV27)/(EN27+EP27)) -> 0 | EY27: =EV27/$EL$4 -> 0 | EZ27: 50 | FA27: 50 | FB27: 0 | FC27: =SUM(EQ27,ES27,EU27,EW27,EY27) -> 1 | FF27: 1-4 | FG27: 0 | FH27: 0 | FI27: 0 | FJ27: 0 | FK27: =FJ27/$FF$4 -> 0 | FL27: 744 | FM27: =FL27/$FF$4 -> 1 | FN27: 0 | FO27: =FN27/$FF$4 -> 0 | FP27: 0 | FQ27: =(FG27-FP27)/$FF$4 -> 0 | FR27: =IF((AND(FH27=0,FJ27=0)),0,(FJ27+FP27)/(FH27+FJ27)) -> 0 | FS27: =FP27/$FF$4 -> 0 | FT27: 50 | FU27: 50 | FV27: 0 | FW27: =SUM(FK27,FM27,FO27,FQ27,FS27) -> 1 | FZ27: 1-4 | GA27: 0 | GB27: 0 | GC27: 0 | GD27: 0 | GE27: =GD27/$FZ$4 -> 0 | GF27: 720 | GG27: =GF27/$FZ$4 -> 1 | GH27: 0 | GI27: =GH27/$FZ$4 -> 0 | GJ27: 0 | GK27: =(GA27-GJ27)/$FZ$4 -> 0 | GL27: =IF((AND(GB27=0,GD27=0)),0,(GD27+GJ27)/(GB27+GD27)) -> 0 | GM27: =GJ27/$FZ$4 -> 0 | GN27: 50 | GO27: 50 | GP27: 0 | GQ27: =SUM(GE27,GG27,GI27,GK27,GM27) -> 1 | GT27: 1-4 | GU27: 0 | GV27: 0 | GW27: 0 | GX27: 0 | GY27: =GX27/$GT$4 -> 0 | GZ27: 744 | HA27: =GZ27/$GT$4 -> 1 | HB27: 0 | HC27: =HB27/$GT$4 -> 0 | HD27: 0 | HE27: =(GU27-HD27)/$GT$4 -> 0 | HF27: =IF((AND(GV27=0,GX27=0)),0,(GX27+HD27)/(GV27+GX27)) -> 0 | HG27: =HD27/$GT$4 -> 0 | HH27: 50 | HI27: 50 | HJ27: 0 | HK27: =SUM(GY27,HA27,HC27,HE27,HG27) -> 1 | HN27: 1-4 | HO27: 0 | HP27: 0 | HQ27: 0 | HR27: 0 | HS27: =HR27/$HN$4 -> 0 | HT27: 720 | HU27: =HT27/$HN$4 -> 1 | HV27: 0 | HW27: =HV27/$HN$4 -> 0 | HX27: 0 | HY27: 0 | HZ27: =(HO27-HY27)/$HN$4 -> 0 | IA27: =IF((AND(HP27=0,HR27=0)),0,(HR27+HX27+HY27)/(HP27+HR27)) -> 0 | IB27: =(HY27+HX27)/$HN$4 -> 0 | IC27: 50 | ID27: 50 | IE27: 0 | IF27: =SUM(HS27,HU27,HW27,HZ27,IB27) -> 1
B28: V-2 | C28: 0 | D28: 0 | E28: 0 | F28: 0 | G28: =F28/$B$4 -> 0 | H28: 744 | I28: =H28/$B$4 -> 1 | J28: 0 | K28: =J28/$B$4 -> 0 | L28: 0 | M28: =(C28-L28)/$B$4 -> 0 | N28: =IF((AND(D28=0,F28=0)),0,(F28+L28)/(D28+F28)) -> 0 | O28: =L28/$B$4 -> 0 | P28: 96 | Q28: 96 | R28: 0 | S28: =SUM(G28,I28,K28,M28,O28) -> 1 | V28: V-2 | W28: 0 | X28: 0 | Y28: 0 | Z28: 0 | AA28: =Z28/$V$4 -> 0 | AB28: 744 | AC28: =AB28/$V$4 -> 1 | AD28: 0 | AE28: =AD28/$V$4 -> 0 | AF28: 0 | AG28: =(W28-AF28)/$V$4 -> 0 | AH28: =IF((AND(X28=0,Z28=0)),0,(Z28+AF28)/(X28+Z28)) -> 0 | AI28: =AF28/$V$4 -> 0 | AJ28: 96 | AK28: 96 | AL28: 0 | AM28: =SUM(AA28,AC28,AE28,AG28,AI28) -> 1 | AP28: V-2 | AQ28: 0 | AR28: 0 | AS28: 0 | AT28: 0 | AU28: =AT28/$AP$4 -> 0 | AV28: 720 | AW28: =AV28/$AP$4 -> 1 | AX28: 0 | AY28: =AX28/$AP$4 -> 0 | AZ28: 0 | BA28: =(AQ28-AZ28)/$AP$4 -> 0 | BB28: =IF((AND(AR28=0,AT28=0)),0,(AT28+AZ28)/(AR28+AT28)) -> 0 | BC28: =AZ28/$AP$4 -> 0 | BD28: 96 | BE28: 96 | BF28: 0 | BG28: =SUM(AU28,AW28,AY28,BA28,BC28) -> 1 | BJ28: V-2 | BK28: 0 | BL28: 0 | BM28: 0 | BN28: 0 | BO28: =BN28/$BJ$4 -> 0 | BP28: 744 | BQ28: =BP28/$BJ$4 -> 1 | BR28: 0 | BS28: =BR28/$BJ$4 -> 0 | BT28: 0 | BU28: =(BK28-BT28)/$BJ$4 -> 0 | BV28: =IF((AND(BL28=0,BN28=0)),0,(BN28+BT28)/(BL28+BN28)) -> 0 | BW28: =BT28/$BJ$4 -> 0 | BX28: 96 | BY28: 96 | BZ28: 0 | CA28: =SUM(BO28,BQ28,BS28,BU28,BW28) -> 1 | CD28: V-2 | CE28: 0 | CF28: 0 | CG28: 0 | CH28: 0 | CI28: =CH28/$CD$4 -> 0 | CJ28: 720 | CK28: =CJ28/$CD$4 -> 1 | CL28: 0 | CM28: =CL28/$CD$4 -> 0 | CN28: 0 | CO28: =(CE28-CN28)/$CD$4 -> 0 | CP28: =IF((AND(CF28=0,CH28=0)),0,(CH28+CN28)/(CF28+CH28)) -> 0 | CQ28: =CN28/$CD$4 -> 0 | CR28: 96 | CS28: 96 | CT28: 0 | CU28: =SUM(CI28,CK28,CM28,CO28,CQ28) -> 1 | CX28: V-2 | CY28: 0 | CZ28: 0 | DA28: 0 | DB28: 0 | DC28: =DB28/$CX$4 -> 0 | DD28: 744 | DE28: =DD28/$CX$4 -> 1 | DF28: 0 | DG28: =DF28/$CX$4 -> 0 | DH28: 0 | DI28: =(CY28-DH28)/$CX$4 -> 0 | DJ28: =IF((AND(CZ28=0,DB28=0)),0,(DB28+DH28)/(CZ28+DB28)) -> 0 | DK28: =DH28/$CX$4 -> 0 | DL28: 96 | DM28: 96 | DN28: 0 | DO28: =SUM(DC28,DE28,DG28,DI28,DK28) -> 1 | DR28: V-2 | DS28: 0 | DT28: 0 | DU28: 0 | DV28: 0 | DW28: =DV28/$DR$4 -> 0 | DX28: 744 | DY28: =DX28/$DR$4 -> 1 | DZ28: 0 | EA28: =DZ28/$DR$4 -> 0 | EB28: 0 | EC28: =(DS28-EB28)/$DR$4 -> 0 | ED28: =IF((AND(DT28=0,DV28=0)),0,(DV28+EB28)/(DT28+DV28)) -> 0 | EE28: =EB28/$DR$4 -> 0 | EF28: 96 | EG28: 96 | EH28: 0 | EI28: =SUM(DW28,DY28,EA28,EC28,EE28) -> 1 | EL28: V-2 | EM28: 0 | EN28: 0 | EO28: 0 | EP28: 0 | EQ28: =EP28/$EL$4 -> 0 | ER28: 672 | ES28: =ER28/$EL$4 -> 1 | ET28: 0 | EU28: =ET28/$EL$4 -> 0 | EV28: 0 | EW28: =(EM28-EV28)/$EL$4 -> 0 | EX28: =IF((AND(EN28=0,EP28=0)),0,(EP28+EV28)/(EN28+EP28)) -> 0 | EY28: =EV28/$EL$4 -> 0 | EZ28: 96 | FA28: 96 | FB28: 0 | FC28: =SUM(EQ28,ES28,EU28,EW28,EY28) -> 1 | FF28: V-2 | FG28: 0 | FH28: 0 | FI28: 0 | FJ28: 0 | FK28: =FJ28/$FF$4 -> 0 | FL28: 744 | FM28: =FL28/$FF$4 -> 1 | FN28: 0 | FO28: =FN28/$FF$4 -> 0 | FP28: 0 | FQ28: =(FG28-FP28)/$FF$4 -> 0 | FR28: =IF((AND(FH28=0,FJ28=0)),0,(FJ28+FP28)/(FH28+FJ28)) -> 0 | FS28: =FP28/$FF$4 -> 0 | FT28: 96 | FU28: 96 | FV28: 0 | FW28: =SUM(FK28,FM28,FO28,FQ28,FS28) -> 1 | FZ28: V-2 | GA28: 0 | GB28: 0 | GC28: 0 | GD28: 0 | GE28: =GD28/$FZ$4 -> 0 | GF28: 720 | GG28: =GF28/$FZ$4 -> 1 | GH28: 0 | GI28: =GH28/$FZ$4 -> 0 | GJ28: 0 | GK28: =(GA28-GJ28)/$FZ$4 -> 0 | GL28: =IF((AND(GB28=0,GD28=0)),0,(GD28+GJ28)/(GB28+GD28)) -> 0 | GM28: =GJ28/$FZ$4 -> 0 | GN28: 96 | GO28: 96 | GP28: 0 | GQ28: =SUM(GE28,GG28,GI28,GK28,GM28) -> 1 | GT28: V-2 | GU28: 0 | GV28: 0 | GW28: 0 | GX28: 0 | GY28: =GX28/$GT$4 -> 0 | GZ28: 744 | HA28: =GZ28/$GT$4 -> 1 | HB28: 0 | HC28: =HB28/$GT$4 -> 0 | HD28: 0 | HE28: =(GU28-HD28)/$GT$4 -> 0 | HF28: =IF((AND(GV28=0,GX28=0)),0,(GX28+HD28)/(GV28+GX28)) -> 0 | HG28: =HD28/$GT$4 -> 0 | HH28: 96 | HI28: 96 | HJ28: 0 | HK28: =SUM(GY28,HA28,HC28,HE28,HG28) -> 1 | HN28: V-2 | HO28: 0 | HP28: 0 | HQ28: 0 | HR28: 0 | HS28: =HR28/$HN$4 -> 0 | HT28: 720 | HU28: =HT28/$HN$4 -> 1 | HV28: 0 | HW28: =HV28/$HN$4 -> 0 | HX28: 0 | HY28: 0 | HZ28: =(HO28-HY28)/$HN$4 -> 0 | IA28: =IF((AND(HP28=0,HR28=0)),0,(HR28+HX28+HY28)/(HP28+HR28)) -> 0 | IB28: =(HY28+HX28)/$HN$4 -> 0 | IC28: 96 | ID28: 96 | IE28: 0 | IF28: =SUM(HS28,HU28,HW28,HZ28,IB28) -> 1
B29: 2-1 | C29: 744 | D29: 424.7 | E29: 319.3 | F29: 0 | G29: =F29/$B$4 -> 0 | H29: 0 | I29: =H29/$B$4 -> 0 | J29: 0 | K29: =J29/$B$4 -> 0 | L29: 0 | M29: =(C29-L29)/$B$4 -> 1 | N29: =IF((AND(D29=0,F29=0)),0,(F29+L29)/(D29+F29)) -> 0 | O29: =L29/$B$4 -> 0 | P29: 50 | Q29: 50 | R29: 50 | S29: =SUM(G29,I29,K29,M29,O29) -> 1 | V29: 2-1 | W29: 690.6 | X29: 397.5 | Y29: 293.1 | Z29: 53.4 | AA29: =Z29/$V$4 -> 0.071774194 | AB29: 0 | AC29: =AB29/$V$4 -> 0 | AD29: 0 | AE29: =AD29/$V$4 -> 0 | AF29: 0 | AG29: =(W29-AF29)/$V$4 -> 0.92822581 | AH29: =IF((AND(X29=0,Z29=0)),0,(Z29+AF29)/(X29+Z29)) -> 0.11842981 | AI29: =AF29/$V$4 -> 0 | AJ29: 50 | AK29: 50 | AL29: 50 | AM29: =SUM(AA29,AC29,AE29,AG29,AI29) -> 1 | AP29: 2-1 | AQ29: 720 | AR29: 297.6 | AS29: 422.4 | AT29: 0 | AU29: =AT29/$AP$4 -> 0 | AV29: 0 | AW29: =AV29/$AP$4 -> 0 | AX29: 0 | AY29: =AX29/$AP$4 -> 0 | AZ29: 0 | BA29: =(AQ29-AZ29)/$AP$4 -> 1 | BB29: =IF((AND(AR29=0,AT29=0)),0,(AT29+AZ29)/(AR29+AT29)) -> 0 | BC29: =AZ29/$AP$4 -> 0 | BD29: 50 | BE29: 50 | BF29: 50 | BG29: =SUM(AU29,AW29,AY29,BA29,BC29) -> 1 | BJ29: 2-1 | BK29: 450.1 | BL29: 322.9 | BM29: 127.2 | BN29: 293.9 | BO29: =BN29/$BJ$4 -> 0.39502688 | BP29: 0 | BQ29: =BP29/$BJ$4 -> 0 | BR29: 0 | BS29: =BR29/$BJ$4 -> 0 | BT29: 0 | BU29: =(BK29-BT29)/$BJ$4 -> 0.60497312 | BV29: =IF((AND(BL29=0,BN29=0)),0,(BN29+BT29)/(BL29+BN29)) -> 0.47649157 | BW29: =BT29/$BJ$4 -> 0 | BX29: 50 | BY29: 50 | BZ29: 50 | CA29: =SUM(BO29,BQ29,BS29,BU29,BW29) -> 1 | CD29: 2-1 | CE29: 707.5 | CF29: 397.8 | CG29: 309.7 | CH29: 0 | CI29: =CH29/$CD$4 -> 0 | CJ29: 0 | CK29: =CJ29/$CD$4 -> 0 | CL29: 12.5 | CM29: =CL29/$CD$4 -> 0.017361111 | CN29: 0 | CO29: =(CE29-CN29)/$CD$4 -> 0.98263889 | CP29: =IF((AND(CF29=0,CH29=0)),0,(CH29+CN29)/(CF29+CH29)) -> 0 | CQ29: =CN29/$CD$4 -> 0 | CR29: 50 | CS29: 50 | CT29: 50 | CU29: =SUM(CI29,CK29,CM29,CO29,CQ29) -> 1 | CX29: 2-1 | CY29: 710.3 | CZ29: 259.7 | DA29: 450.6 | DB29: 33.7 | DC29: =DB29/$CX$4 -> 0.045295699 | DD29: 0 | DE29: =DD29/$CX$4 -> 0 | DF29: 0 | DG29: =DF29/$CX$4 -> 0 | DH29: 0 | DI29: =(CY29-DH29)/$CX$4 -> 0.9547043 | DJ29: =IF((AND(CZ29=0,DB29=0)),0,(DB29+DH29)/(CZ29+DB29)) -> 0.11486026 | DK29: =DH29/$CX$4 -> 0 | DL29: 50 | DM29: 50 | DN29: 50 | DO29: =SUM(DC29,DE29,DG29,DI29,DK29) -> 1 | DR29: 2-1 | DS29: 705.1 | DT29: 272.3 | DU29: 432.8 | DV29: 38.9 | DW29: =DV29/$DR$4 -> 0.052284946 | DX29: 0 | DY29: =DX29/$DR$4 -> 0 | DZ29: 0 | EA29: =DZ29/$DR$4 -> 0 | EB29: 0 | EC29: =(DS29-EB29)/$DR$4 -> 0.94771505 | ED29: =IF((AND(DT29=0,DV29=0)),0,(DV29+EB29)/(DT29+DV29)) -> 0.125 | EE29: =EB29/$DR$4 -> 0 | EF29: 50 | EG29: 50 | EH29: 50 | EI29: =SUM(DW29,DY29,EA29,EC29,EE29) -> 1 | EL29: 2-1 | EM29: 670.9 | EN29: 230.1 | EO29: 440.8 | EP29: 1.1 | EQ29: =EP29/$EL$4 -> 0.0016369048 | ER29: 0 | ES29: =ER29/$EL$4 -> 0 | ET29: 0 | EU29: =ET29/$EL$4 -> 0 | EV29: 0 | EW29: =(EM29-EV29)/$EL$4 -> 0.9983631 | EX29: =IF((AND(EN29=0,EP29=0)),0,(EP29+EV29)/(EN29+EP29)) -> 0.0047577855 | EY29: =EV29/$EL$4 -> 0 | EZ29: 50 | FA29: 50 | FB29: 50 | FC29: =SUM(EQ29,ES29,EU29,EW29,EY29) -> 1 | FF29: 2-1 | FG29: 690.3 | FH29: 208.6 | FI29: 481.7 | FJ29: 53.7 | FK29: =FJ29/$FF$4 -> 0.072177419 | FL29: 0 | FM29: =FL29/$FF$4 -> 0 | FN29: 0 | FO29: =FN29/$FF$4 -> 0 | FP29: 0 | FQ29: =(FG29-FP29)/$FF$4 -> 0.92782258 | FR29: =IF((AND(FH29=0,FJ29=0)),0,(FJ29+FP29)/(FH29+FJ29)) -> 0.20472741 | FS29: =FP29/$FF$4 -> 0 | FT29: 50 | FU29: 50 | FV29: 50 | FW29: =SUM(FK29,FM29,FO29,FQ29,FS29) -> 1 | FZ29: 2-1 | GA29: 647.2 | GB29: 245.6 | GC29: 401.6 | GD29: 72.8 | GE29: =GD29/$FZ$4 -> 0.10111111 | GF29: 0 | GG29: =GF29/$FZ$4 -> 0 | GH29: 0 | GI29: =GH29/$FZ$4 -> 0 | GJ29: 0 | GK29: =(GA29-GJ29)/$FZ$4 -> 0.89888889 | GL29: =IF((AND(GB29=0,GD29=0)),0,(GD29+GJ29)/(GB29+GD29)) -> 0.22864322 | GM29: =GJ29/$FZ$4 -> 0 | GN29: 50 | GO29: 50 | GP29: 50 | GQ29: =SUM(GE29,GG29,GI29,GK29,GM29) -> 1 | GT29: 2-1 | GU29: 744 | GV29: 285.6 | GW29: 458.4 | GX29: 0 | GY29: =GX29/$GT$4 -> 0 | GZ29: 0 | HA29: =GZ29/$GT$4 -> 0 | HB29: 0 | HC29: =HB29/$GT$4 -> 0 | HD29: 0 | HE29: =(GU29-HD29)/$GT$4 -> 1 | HF29: =IF((AND(GV29=0,GX29=0)),0,(GX29+HD29)/(GV29+GX29)) -> 0 | HG29: =HD29/$GT$4 -> 0 | HH29: 50 | HI29: 50 | HJ29: 50 | HK29: =SUM(GY29,HA29,HC29,HE29,HG29) -> 1 | HN29: 2-1 | HO29: 392.3 | HP29: 156 | HQ29: 236.3 | HR29: 327.7 | HS29: =HR29/$HN$4 -> 0.45513889 | HT29: 0 | HU29: =HT29/$HN$4 -> 0 | HV29: 0 | HW29: =HV29/$HN$4 -> 0 | HX29: 0 | HY29: 0 | HZ29: =(HO29-HY29)/$HN$4 -> 0.54486111 | IA29: =IF((AND(HP29=0,HR29=0)),0,(HR29+HX29+HY29)/(HP29+HR29)) -> 0.67748605 | IB29: =(HY29+HX29)/$HN$4 -> 0 | IC29: 50 | ID29: 50 | IE29: 50 | IF29: =SUM(HS29,HU29,HW29,HZ29,IB29) -> 1
B30: 2-2 | C30: 744 | D30: 453.3 | E30: 290.7 | F30: 0 | G30: =F30/$B$4 -> 0 | H30: 0 | I30: =H30/$B$4 -> 0 | J30: 0 | K30: =J30/$B$4 -> 0 | L30: 0 | M30: =(C30-L30)/$B$4 -> 1 | N30: =IF((AND(D30=0,F30=0)),0,(F30+L30)/(D30+F30)) -> 0 | O30: =L30/$B$4 -> 0 | P30: 50 | Q30: 50 | R30: 50 | S30: =SUM(G30,I30,K30,M30,O30) -> 1 | V30: 2-2 | W30: 707.8 | X30: 424.4 | Y30: 283.4 | Z30: 36.2 | AA30: =Z30/$V$4 -> 0.048655914 | AB30: 0 | AC30: =AB30/$V$4 -> 0 | AD30: 0 | AE30: =AD30/$V$4 -> 0 | AF30: 0 | AG30: =(W30-AF30)/$V$4 -> 0.95134409 | AH30: =IF((AND(X30=0,Z30=0)),0,(Z30+AF30)/(X30+Z30)) -> 0.078593139 | AI30: =AF30/$V$4 -> 0 | AJ30: 50 | AK30: 50 | AL30: 50 | AM30: =SUM(AA30,AC30,AE30,AG30,AI30) -> 1 | AP30: 2-2 | AQ30: 718.1 | AR30: 242 | AS30: 476.1 | AT30: 1.9 | AU30: =AT30/$AP$4 -> 0.0026388889 | AV30: 0 | AW30: =AV30/$AP$4 -> 0 | AX30: 0 | AY30: =AX30/$AP$4 -> 0 | AZ30: 0 | BA30: =(AQ30-AZ30)/$AP$4 -> 0.99736111 | BB30: =IF((AND(AR30=0,AT30=0)),0,(AT30+AZ30)/(AR30+AT30)) -> 0.0077900779 | BC30: =AZ30/$AP$4 -> 0 | BD30: 50 | BE30: 50 | BF30: 50 | BG30: =SUM(AU30,AW30,AY30,BA30,BC30) -> 1 | BJ30: 2-2 | BK30: 638.2 | BL30: 293.8 | BM30: 344.4 | BN30: 105.8 | BO30: =BN30/$BJ$4 -> 0.1422043 | BP30: 0 | BQ30: =BP30/$BJ$4 -> 0 | BR30: 0 | BS30: =BR30/$BJ$4 -> 0 | BT30: 0 | BU30: =(BK30-BT30)/$BJ$4 -> 0.8577957 | BV30: =IF((AND(BL30=0,BN30=0)),0,(BN30+BT30)/(BL30+BN30)) -> 0.26476476 | BW30: =BT30/$BJ$4 -> 0 | BX30: 50 | BY30: 50 | BZ30: 50 | CA30: =SUM(BO30,BQ30,BS30,BU30,BW30) -> 1 | CD30: 2-2 | CE30: 581.6 | CF30: 320.7 | CG30: 260.9 | CH30: 125.9 | CI30: =CH30/$CD$4 -> 0.17486111 | CJ30: 0 | CK30: =CJ30/$CD$4 -> 0 | CL30: 12.5 | CM30: =CL30/$CD$4 -> 0.017361111 | CN30: 0 | CO30: =(CE30-CN30)/$CD$4 -> 0.80777778 | CP30: =IF((AND(CF30=0,CH30=0)),0,(CH30+CN30)/(CF30+CH30)) -> 0.28190775 | CQ30: =CN30/$CD$4 -> 0 | CR30: 50 | CS30: 50 | CT30: 50 | CU30: =SUM(CI30,CK30,CM30,CO30,CQ30) -> 1 | CX30: 2-2 | CY30: 722.4 | CZ30: 314.9 | DA30: 407.5 | DB30: 21.6 | DC30: =DB30/$CX$4 -> 0.029032258 | DD30: 0 | DE30: =DD30/$CX$4 -> 0 | DF30: 0 | DG30: =DF30/$CX$4 -> 0 | DH30: 0 | DI30: =(CY30-DH30)/$CX$4 -> 0.97096774 | DJ30: =IF((AND(CZ30=0,DB30=0)),0,(DB30+DH30)/(CZ30+DB30)) -> 0.064190193 | DK30: =DH30/$CX$4 -> 0 | DL30: 50 | DM30: 50 | DN30: 50 | DO30: =SUM(DC30,DE30,DG30,DI30,DK30) -> 1 | DR30: 2-2 | DS30: 662.9 | DT30: 282.6 | DU30: 380.3 | DV30: 81.1 | DW30: =DV30/$DR$4 -> 0.10900538 | DX30: 0 | DY30: =DX30/$DR$4 -> 0 | DZ30: 0 | EA30: =DZ30/$DR$4 -> 0 | EB30: 0 | EC30: =(DS30-EB30)/$DR$4 -> 0.89099462 | ED30: =IF((AND(DT30=0,DV30=0)),0,(DV30+EB30)/(DT30+DV30)) -> 0.22298598 | EE30: =EB30/$DR$4 -> 0 | EF30: 50 | EG30: 50 | EH30: 50 | EI30: =SUM(DW30,DY30,EA30,EC30,EE30) -> 1 | EL30: 2-2 | EM30: 672 | EN30: 260.5 | EO30: 411.5 | EP30: 0 | EQ30: =EP30/$EL$4 -> 0 | ER30: 0 | ES30: =ER30/$EL$4 -> 0 | ET30: 0 | EU30: =ET30/$EL$4 -> 0 | EV30: 0 | EW30: =(EM30-EV30)/$EL$4 -> 1 | EX30: =IF((AND(EN30=0,EP30=0)),0,(EP30+EV30)/(EN30+EP30)) -> 0 | EY30: =EV30/$EL$4 -> 0 | EZ30: 50 | FA30: 50 | FB30: 50 | FC30: =SUM(EQ30,ES30,EU30,EW30,EY30) -> 1 | FF30: 2-2 | FG30: 667.7 | FH30: 225.4 | FI30: 442.3 | FJ30: 76.3 | FK30: =FJ30/$FF$4 -> 0.10255376 | FL30: 0 | FM30: =FL30/$FF$4 -> 0 | FN30: 0 | FO30: =FN30/$FF$4 -> 0 | FP30: 0 | FQ30: =(FG30-FP30)/$FF$4 -> 0.89744624 | FR30: =IF((AND(FH30=0,FJ30=0)),0,(FJ30+FP30)/(FH30+FJ30)) -> 0.25290023 | FS30: =FP30/$FF$4 -> 0 | FT30: 50 | FU30: 50 | FV30: 50 | FW30: =SUM(FK30,FM30,FO30,FQ30,FS30) -> 1 | FZ30: 2-2 | GA30: 720 | GB30: 311.9 | GC30: 408.1 | GD30: 0 | GE30: =GD30/$FZ$4 -> 0 | GF30: 0 | GG30: =GF30/$FZ$4 -> 0 | GH30: 0 | GI30: =GH30/$FZ$4 -> 0 | GJ30: 0 | GK30: =(GA30-GJ30)/$FZ$4 -> 1 | GL30: =IF((AND(GB30=0,GD30=0)),0,(GD30+GJ30)/(GB30+GD30)) -> 0 | GM30: =GJ30/$FZ$4 -> 0 | GN30: 50 | GO30: 50 | GP30: 50 | GQ30: =SUM(GE30,GG30,GI30,GK30,GM30) -> 1 | GT30: 2-2 | GU30: 743.3 | GV30: 296.6 | GW30: 446.7 | GX30: 0.7 | GY30: =GX30/$GT$4 -> 0.00094086022 | GZ30: 0 | HA30: =GZ30/$GT$4 -> 0 | HB30: 0 | HC30: =HB30/$GT$4 -> 0 | HD30: 0 | HE30: =(GU30-HD30)/$GT$4 -> 0.99905914 | HF30: =IF((AND(GV30=0,GX30=0)),0,(GX30+HD30)/(GV30+GX30)) -> 0.002354524 | HG30: =HD30/$GT$4 -> 0 | HH30: 50 | HI30: 50 | HJ30: 50 | HK30: =SUM(GY30,HA30,HC30,HE30,HG30) -> 1 | HN30: 2-2 | HO30: 543.5 | HP30: 245.1 | HQ30: 298.4 | HR30: 176.5 | HS30: =HR30/$HN$4 -> 0.24513889 | HT30: 0 | HU30: =HT30/$HN$4 -> 0 | HV30: 0 | HW30: =HV30/$HN$4 -> 0 | HX30: 0 | HY30: 0 | HZ30: =(HO30-HY30)/$HN$4 -> 0.75486111 | IA30: =IF((AND(HP30=0,HR30=0)),0,(HR30+HX30+HY30)/(HP30+HR30)) -> 0.41864326 | IB30: =(HY30+HX30)/$HN$4 -> 0 | IC30: 50 | ID30: 50 | IE30: 50 | IF30: =SUM(HS30,HU30,HW30,HZ30,IB30) -> 1
B31: 2-3 | C31: 0 | D31: 0 | E31: 0 | F31: 0 | G31: =F31/$B$4 -> 0 | H31: 744 | I31: =H31/$B$4 -> 1 | J31: 0 | K31: =J31/$B$4 -> 0 | L31: 0 | M31: =(C31-L31)/$B$4 -> 0 | N31: =IF((AND(D31=0,F31=0)),0,(F31+L31)/(D31+F31)) -> 0 | O31: =L31/$B$4 -> 0 | P31: 50 | Q31: 50 | R31: 0 | S31: =SUM(G31,I31,K31,M31,O31) -> 1 | V31: 2-3 | W31: 0 | X31: 0 | Y31: 0 | Z31: 0 | AA31: =Z31/$V$4 -> 0 | AB31: 744 | AC31: =AB31/$V$4 -> 1 | AD31: 0 | AE31: =AD31/$V$4 -> 0 | AF31: 0 | AG31: =(W31-AF31)/$V$4 -> 0 | AH31: =IF((AND(X31=0,Z31=0)),0,(Z31+AF31)/(X31+Z31)) -> 0 | AI31: =AF31/$V$4 -> 0 | AJ31: 50 | AK31: 50 | AL31: 0 | AM31: =SUM(AA31,AC31,AE31,AG31,AI31) -> 1 | AP31: 2-3 | AQ31: 0 | AR31: 0 | AS31: 0 | AT31: 0 | AU31: =AT31/$AP$4 -> 0 | AV31: 720 | AW31: =AV31/$AP$4 -> 1 | AX31: 0 | AY31: =AX31/$AP$4 -> 0 | AZ31: 0 | BA31: =(AQ31-AZ31)/$AP$4 -> 0 | BB31: =IF((AND(AR31=0,AT31=0)),0,(AT31+AZ31)/(AR31+AT31)) -> 0 | BC31: =AZ31/$AP$4 -> 0 | BD31: 50 | BE31: 50 | BF31: 0 | BG31: =SUM(AU31,AW31,AY31,BA31,BC31) -> 1 | BJ31: 2-3 | BK31: 0 | BL31: 0 | BM31: 0 | BN31: 0 | BO31: =BN31/$BJ$4 -> 0 | BP31: 744 | BQ31: =BP31/$BJ$4 -> 1 | BR31: 0 | BS31: =BR31/$BJ$4 -> 0 | BT31: 0 | BU31: =(BK31-BT31)/$BJ$4 -> 0 | BV31: =IF((AND(BL31=0,BN31=0)),0,(BN31+BT31)/(BL31+BN31)) -> 0 | BW31: =BT31/$BJ$4 -> 0 | BX31: 50 | BY31: 50 | BZ31: 0 | CA31: =SUM(BO31,BQ31,BS31,BU31,BW31) -> 1 | CD31: 2-3 | CE31: 0 | CF31: 0 | CG31: 0 | CH31: 0 | CI31: =CH31/$CD$4 -> 0 | CJ31: 720 | CK31: =CJ31/$CD$4 -> 1 | CL31: 0 | CM31: =CL31/$CD$4 -> 0 | CN31: 0 | CO31: =(CE31-CN31)/$CD$4 -> 0 | CP31: =IF((AND(CF31=0,CH31=0)),0,(CH31+CN31)/(CF31+CH31)) -> 0 | CQ31: =CN31/$CD$4 -> 0 | CR31: 50 | CS31: 50 | CT31: 0 | CU31: =SUM(CI31,CK31,CM31,CO31,CQ31) -> 1 | CX31: 2-3 | CY31: 0 | CZ31: 0 | DA31: 0 | DB31: 0 | DC31: =DB31/$CX$4 -> 0 | DD31: 744 | DE31: =DD31/$CX$4 -> 1 | DF31: 0 | DG31: =DF31/$CX$4 -> 0 | DH31: 0 | DI31: =(CY31-DH31)/$CX$4 -> 0 | DJ31: =IF((AND(CZ31=0,DB31=0)),0,(DB31+DH31)/(CZ31+DB31)) -> 0 | DK31: =DH31/$CX$4 -> 0 | DL31: 50 | DM31: 50 | DN31: 0 | DO31: =SUM(DC31,DE31,DG31,DI31,DK31) -> 1 | DR31: 2-3 | DS31: 0 | DT31: 0 | DU31: 0 | DV31: 0 | DW31: =DV31/$DR$4 -> 0 | DX31: 744 | DY31: =DX31/$DR$4 -> 1 | DZ31: 0 | EA31: =DZ31/$DR$4 -> 0 | EB31: 0 | EC31: =(DS31-EB31)/$DR$4 -> 0 | ED31: =IF((AND(DT31=0,DV31=0)),0,(DV31+EB31)/(DT31+DV31)) -> 0 | EE31: =EB31/$DR$4 -> 0 | EF31: 50 | EG31: 50 | EH31: 0 | EI31: =SUM(DW31,DY31,EA31,EC31,EE31) -> 1 | EL31: 2-3 | EM31: 0 | EN31: 0 | EO31: 0 | EP31: 0 | EQ31: =EP31/$EL$4 -> 0 | ER31: 672 | ES31: =ER31/$EL$4 -> 1 | ET31: 0 | EU31: =ET31/$EL$4 -> 0 | EV31: 0 | EW31: =(EM31-EV31)/$EL$4 -> 0 | EX31: =IF((AND(EN31=0,EP31=0)),0,(EP31+EV31)/(EN31+EP31)) -> 0 | EY31: =EV31/$EL$4 -> 0 | EZ31: 50 | FA31: 50 | FB31: 0 | FC31: =SUM(EQ31,ES31,EU31,EW31,EY31) -> 1 | FF31: 2-3 | FG31: 0 | FH31: 0 | FI31: 0 | FJ31: 0 | FK31: =FJ31/$FF$4 -> 0 | FL31: 744 | FM31: =FL31/$FF$4 -> 1 | FN31: 0 | FO31: =FN31/$FF$4 -> 0 | FP31: 0 | FQ31: =(FG31-FP31)/$FF$4 -> 0 | FR31: =IF((AND(FH31=0,FJ31=0)),0,(FJ31+FP31)/(FH31+FJ31)) -> 0 | FS31: =FP31/$FF$4 -> 0 | FT31: 50 | FU31: 50 | FV31: 0 | FW31: =SUM(FK31,FM31,FO31,FQ31,FS31) -> 1 | FZ31: 2-3 | GA31: 0 | GB31: 0 | GC31: 0 | GD31: 0 | GE31: =GD31/$FZ$4 -> 0 | GF31: 720 | GG31: =GF31/$FZ$4 -> 1 | GH31: 0 | GI31: =GH31/$FZ$4 -> 0 | GJ31: 0 | GK31: =(GA31-GJ31)/$FZ$4 -> 0 | GL31: =IF((AND(GB31=0,GD31=0)),0,(GD31+GJ31)/(GB31+GD31)) -> 0 | GM31: =GJ31/$FZ$4 -> 0 | GN31: 50 | GO31: 50 | GP31: 0 | GQ31: =SUM(GE31,GG31,GI31,GK31,GM31) -> 1 | GT31: 2-3 | GU31: 0 | GV31: 0 | GW31: 0 | GX31: 0 | GY31: =GX31/$GT$4 -> 0 | GZ31: 744 | HA31: =GZ31/$GT$4 -> 1 | HB31: 0 | HC31: =HB31/$GT$4 -> 0 | HD31: 0 | HE31: =(GU31-HD31)/$GT$4 -> 0 | HF31: =IF((AND(GV31=0,GX31=0)),0,(GX31+HD31)/(GV31+GX31)) -> 0 | HG31: =HD31/$GT$4 -> 0 | HH31: 50 | HI31: 50 | HJ31: 0 | HK31: =SUM(GY31,HA31,HC31,HE31,HG31) -> 1 | HN31: 2-3 | HO31: 0 | HP31: 0 | HQ31: 0 | HR31: 0 | HS31: =HR31/$HN$4 -> 0 | HT31: 720 | HU31: =HT31/$HN$4 -> 1 | HV31: 0 | HW31: =HV31/$HN$4 -> 0 | HX31: 0 | HY31: 0 | HZ31: =(HO31-HY31)/$HN$4 -> 0 | IA31: =IF((AND(HP31=0,HR31=0)),0,(HR31+HX31+HY31)/(HP31+HR31)) -> 0 | IB31: =(HY31+HX31)/$HN$4 -> 0 | IC31: 50 | ID31: 50 | IE31: 0 | IF31: =SUM(HS31,HU31,HW31,HZ31,IB31) -> 1
B32: 2-4 | C32: 687.6 | D32: 316.6 | E32: 371 | F32: 56.4 | G32: =F32/$B$4 -> 0.075806452 | H32: 0 | I32: =H32/$B$4 -> 0 | J32: 0 | K32: =J32/$B$4 -> 0 | L32: 0 | M32: =(C32-L32)/$B$4 -> 0.92419355 | N32: =IF((AND(D32=0,F32=0)),0,(F32+L32)/(D32+F32)) -> 0.15120643 | O32: =L32/$B$4 -> 0 | P32: 50 | Q32: 50 | R32: 50 | S32: =SUM(G32,I32,K32,M32,O32) -> 1 | V32: 2-4 | W32: 660.5 | X32: 321.3 | Y32: 339.2 | Z32: 83.5 | AA32: =Z32/$V$4 -> 0.11223118 | AB32: 0 | AC32: =AB32/$V$4 -> 0 | AD32: 0 | AE32: =AD32/$V$4 -> 0 | AF32: 0 | AG32: =(W32-AF32)/$V$4 -> 0.88776882 | AH32: =IF((AND(X32=0,Z32=0)),0,(Z32+AF32)/(X32+Z32)) -> 0.2062747 | AI32: =AF32/$V$4 -> 0 | AJ32: 50 | AK32: 50 | AL32: 50 | AM32: =SUM(AA32,AC32,AE32,AG32,AI32) -> 1 | AP32: 2-4 | AQ32: 720 | AR32: 213.9 | AS32: 506.1 | AT32: 0 | AU32: =AT32/$AP$4 -> 0 | AV32: 0 | AW32: =AV32/$AP$4 -> 0 | AX32: 0 | AY32: =AX32/$AP$4 -> 0 | AZ32: 0 | BA32: =(AQ32-AZ32)/$AP$4 -> 1 | BB32: =IF((AND(AR32=0,AT32=0)),0,(AT32+AZ32)/(AR32+AT32)) -> 0 | BC32: =AZ32/$AP$4 -> 0 | BD32: 50 | BE32: 50 | BF32: 50 | BG32: =SUM(AU32,AW32,AY32,BA32,BC32) -> 1 | BJ32: 2-4 | BK32: 744 | BL32: 464.1 | BM32: 279.9 | BN32: 0 | BO32: =BN32/$BJ$4 -> 0 | BP32: 0 | BQ32: =BP32/$BJ$4 -> 0 | BR32: 0 | BS32: =BR32/$BJ$4 -> 0 | BT32: 0 | BU32: =(BK32-BT32)/$BJ$4 -> 1 | BV32: =IF((AND(BL32=0,BN32=0)),0,(BN32+BT32)/(BL32+BN32)) -> 0 | BW32: =BT32/$BJ$4 -> 0 | BX32: 50 | BY32: 50 | BZ32: 50 | CA32: =SUM(BO32,BQ32,BS32,BU32,BW32) -> 1 | CD32: 2-4 | CE32: 513 | CF32: 334 | CG32: 179 | CH32: 0 | CI32: =CH32/$CD$4 -> 0 | CJ32: 207 | CK32: =CJ32/$CD$4 -> 0.2875 | CL32: 0 | CM32: =CL32/$CD$4 -> 0 | CN32: 0 | CO32: =(CE32-CN32)/$CD$4 -> 0.7125 | CP32: =IF((AND(CF32=0,CH32=0)),0,(CH32+CN32)/(CF32+CH32)) -> 0 | CQ32: =CN32/$CD$4 -> 0 | CR32: 50 | CS32: 50 | CT32: 50 | CU32: =SUM(CI32,CK32,CM32,CO32,CQ32) -> 1 | CX32: 2-4 | CY32: 571.7 | CZ32: 146.4 | DA32: 425.3 | DB32: 96.2 | DC32: =DB32/$CX$4 -> 0.12930108 | DD32: 76.1 | DE32: =DD32/$CX$4 -> 0.10228495 | DF32: 0 | DG32: =DF32/$CX$4 -> 0 | DH32: 0 | DI32: =(CY32-DH32)/$CX$4 -> 0.76841398 | DJ32: =IF((AND(CZ32=0,DB32=0)),0,(DB32+DH32)/(CZ32+DB32)) -> 0.39653751 | DK32: =DH32/$CX$4 -> 0 | DL32: 50 | DM32: 50 | DN32: 50 | DO32: =SUM(DC32,DE32,DG32,DI32,DK32) -> 1 | DR32: 2-4 | DS32: 738.6 | DT32: 225.3 | DU32: 513.3 | DV32: 5.4 | DW32: =DV32/$DR$4 -> 0.0072580645 | DX32: 0 | DY32: =DX32/$DR$4 -> 0 | DZ32: 0 | EA32: =DZ32/$DR$4 -> 0 | EB32: 0 | EC32: =(DS32-EB32)/$DR$4 -> 0.99274194 | ED32: =IF((AND(DT32=0,DV32=0)),0,(DV32+EB32)/(DT32+DV32)) -> 0.023407022 | EE32: =EB32/$DR$4 -> 0 | EF32: 50 | EG32: 50 | EH32: 50 | EI32: =SUM(DW32,DY32,EA32,EC32,EE32) -> 1 | EL32: 2-4 | EM32: 672 | EN32: 151.8 | EO32: 520.2 | EP32: 0 | EQ32: =EP32/$EL$4 -> 0 | ER32: 0 | ES32: =ER32/$EL$4 -> 0 | ET32: 0 | EU32: =ET32/$EL$4 -> 0 | EV32: 0 | EW32: =(EM32-EV32)/$EL$4 -> 1 | EX32: =IF((AND(EN32=0,EP32=0)),0,(EP32+EV32)/(EN32+EP32)) -> 0 | EY32: =EV32/$EL$4 -> 0 | EZ32: 50 | FA32: 50 | FB32: 50 | FC32: =SUM(EQ32,ES32,EU32,EW32,EY32) -> 1 | FF32: 2-4 | FG32: 733.8 | FH32: 152.3 | FI32: 581.5 | FJ32: 10.2 | FK32: =FJ32/$FF$4 -> 0.013709677 | FL32: 0 | FM32: =FL32/$FF$4 -> 0 | FN32: 0 | FO32: =FN32/$FF$4 -> 0 | FP32: 0 | FQ32: =(FG32-FP32)/$FF$4 -> 0.98629032 | FR32: =IF((AND(FH32=0,FJ32=0)),0,(FJ32+FP32)/(FH32+FJ32)) -> 0.062769231 | FS32: =FP32/$FF$4 -> 0 | FT32: 50 | FU32: 50 | FV32: 50 | FW32: =SUM(FK32,FM32,FO32,FQ32,FS32) -> 1 | FZ32: 2-4 | GA32: 702.5 | GB32: 226.6 | GC32: 475.9 | GD32: 17.5 | GE32: =GD32/$FZ$4 -> 0.024305556 | GF32: 0 | GG32: =GF32/$FZ$4 -> 0 | GH32: 0 | GI32: =GH32/$FZ$4 -> 0 | GJ32: 0 | GK32: =(GA32-GJ32)/$FZ$4 -> 0.97569444 | GL32: =IF((AND(GB32=0,GD32=0)),0,(GD32+GJ32)/(GB32+GD32)) -> 0.07169193 | GM32: =GJ32/$FZ$4 -> 0 | GN32: 50 | GO32: 50 | GP32: 50 | GQ32: =SUM(GE32,GG32,GI32,GK32,GM32) -> 1 | GT32: 2-4 | GU32: 707.8 | GV32: 195.5 | GW32: 512.3 | GX32: 1.7 | GY32: =GX32/$GT$4 -> 0.0022849462 | GZ32: 0 | HA32: =GZ32/$GT$4 -> 0 | HB32: 34.5 | HC32: =HB32/$GT$4 -> 0.046370968 | HD32: 0 | HE32: =(GU32-HD32)/$GT$4 -> 0.95134409 | HF32: =IF((AND(GV32=0,GX32=0)),0,(GX32+HD32)/(GV32+GX32)) -> 0.0086206897 | HG32: =HD32/$GT$4 -> 0 | HH32: 50 | HI32: 50 | HJ32: 50 | HK32: =SUM(GY32,HA32,HC32,HE32,HG32) -> 1 | HN32: 2-4 | HO32: 704.6 | HP32: 272.8 | HQ32: 431.8 | HR32: 15.4 | HS32: =HR32/$HN$4 -> 0.021388889 | HT32: 0 | HU32: =HT32/$HN$4 -> 0 | HV32: 0 | HW32: =HV32/$HN$4 -> 0 | HX32: 0 | HY32: 0 | HZ32: =(HO32-HY32)/$HN$4 -> 0.97861111 | IA32: =IF((AND(HP32=0,HR32=0)),0,(HR32+HX32+HY32)/(HP32+HR32)) -> 0.053435115 | IB32: =(HY32+HX32)/$HN$4 -> 0 | IC32: 50 | ID32: 50 | IE32: 50 | IF32: =SUM(HS32,HU32,HW32,HZ32,IB32) -> 1
B33: Total | C33: =SUM(C23:C32) -> 4150.7 | D33: =SUM(D23:D32) -> 2103.6 | E33: =SUM(E23:E32) -> 2047.1 | F33: =SUM(F23:F32) -> 825.4 | G33: =(G23*Q23+G24*Q24+G25*Q25+G26*Q26+G27*Q27+G28*Q28+G29*Q29+G30*Q30+G31*Q31+G32*Q32)/Q33 -> 0.17140275 | H33: =SUM(H23:H32) -> 2463.9 | I33: =(I23*Q23+I24*Q24+I25*Q25+I26*Q26+I27*Q27+I28*Q28+I29*Q29+I30*Q30+I31*Q31+I32*Q32)/Q33 -> 0.35740655 | J33: =SUM(J23:J32) -> 0 | K33: =(K23*Q23+K24*Q24+K25*Q25+K26*Q26+K27*Q27+K28*Q28+K29*Q29+K30*Q30+K31*Q31+K32*Q32)/Q33 -> 0 | L33: =SUM(L23:L32) -> 0 | M33: =(M23*Q23+M24*Q24+M25*Q25+M26*Q26+M27*Q27+M28*Q28+M29*Q29+M30*Q30+M31*Q31+M32*Q32)/Q33 -> 0.4711907 | N33: =(N23*Q23+N24*Q24+N25*Q25+N26*Q26+N27*Q27+N28*Q28+N29*Q29+N30*Q30+N31*Q31+N32*Q32)/Q33 -> 0.18200446 | O33: =(O23*$Q$23+O24*$Q$24+O25*$Q$25+O26*$Q$26+O27*$Q$27+O28*$Q$28+O29*$Q$29+O30*$Q$30+O31*$Q$31+O32*$Q$32)/$Q$33 -> 0 | P33: =SUM(P23:P32) -> 592 | Q33: =SUM(Q23:Q32) -> 592 | R33: =SUM(R23:R32) -> 300 | S33: =SUM(G33,I33,K33,M33,O33) -> 1 | V33: Total | W33: =SUM(W23:W32) -> 3529.7 | X33: =SUM(X23:X32) -> 1871.2 | Y33: =SUM(Y23:Y32) -> 1658.5 | Z33: =SUM(Z23:Z32) -> 934.3 | AA33: =(AA23*$AK$23+AA24*$AK$24+AA25*$AK$25+AA26*$AK$26+AA27*$AK$27+AA28*$AK$28+AA29*$AK$29+AA30*$AK$30+AA31*$AK$31+AA32*$AK$32)/$AK$33 -> 0.18376517 | AB33: =SUM(AB23:AB32) -> 2976 | AC33: =(AC23*$AK$23+AC24*$AK$24+AC25*$AK$25+AC26*$AK$26+AC27*$AK$27+AC28*$AK$28+AC29*$AK$29+AC30*$AK$30+AC31*$AK$31+AC32*$AK$32)/$AK$33 -> 0.41554054 | AD33: =SUM(AD23:AD32) -> 0 | AE33: =(AE23*$AK$23+AE24*$AK$24+AE25*$AK$25+AE26*$AK$26+AE27*$AK$27+AE28*$AK$28+AE29*$AK$29+AE30*$AK$30+AE31*$AK$31+AE32*$AK$32)/$AK$33 -> 0 | AF33: =SUM(AF23:AF32) -> 0 | AG33: =(AG23*$AK$23+AG24*$AK$24+AG25*$AK$25+AG26*$AK$26+AG27*$AK$27+AG28*$AK$28+AG29*$AK$29+AG30*$AK$30+AG31*$AK$31+AG32*$AK$32)/$AK$33 -> 0.40069429 | AH33: =(AH23*$AK$23+AH24*$AK$24+AH25*$AK$25+AH26*$AK$26+AH27*$AK$27+AH28*$AK$28+AH29*$AK$29+AH30*$AK$30+AH31*$AK$31+AH32*$AK$32)/$AK$33 -> 0.2003048 | AI33: =(AI23*$AK$23+AI24*$AK$24+AI25*$AK$25+AI26*$AK$26+AI27*$AK$27+AI28*$AK$28+AI29*$AK$29+AI30*$AK$30+AI31*$AK$31+AI32*$AK$32)/$AK$33 -> 0 | AJ33: =SUM(AJ23:AJ32) -> 592 | AK33: =SUM(AK23:AK32) -> 592 | AL33: =SUM(AL23:AL32) -> 250 | AM33: =SUM(AA33,AC33,AE33,AG33,AI33) -> 1 | AP33: Total | AQ33: =SUM(AQ23:AQ32) -> 3623.5 | AR33: =SUM(AR23:AR32) -> 1181.5 | AS33: =SUM(AS23:AS32) -> 2442 | AT33: =SUM(AT23:AT32) -> 696.5 | AU33: =(AU23*$BE$23+AU24*$BE$24+AU25*$BE$25+AU26*$BE$26+AU27*$BE$27+AU28*$BE$28+AU29*$BE$29+AU30*$BE$30+AU31*$BE$31+AU32*$BE$32)/$BE$33 -> 0.15645927 | AV33: =SUM(AV23:AV32) -> 2880 | AW33: =(AW23*$BE$23+AW24*$BE$24+AW25*$BE$25+AW26*$BE$26+AW27*$BE$27+AW28*$BE$28+AW29*$BE$29+AW30*$BE$30+AW31*$BE$31+AW32*$BE$32)/$BE$33 -> 0.41554054 | AX33: =SUM(AX23:AX32) -> 0 | AY33: =(AY23*$BE$23+AY24*$BE$24+AY25*$BE$25+AY26*$BE$26+AY27*$BE$27+AY28*$BE$28+AY29*$BE$29+AY30*$BE$30+AY31*$BE$31+AY32*$BE$32)/$BE$33 -> 0 | AZ33: =SUM(AZ23:AZ32) -> 0 | BA33: =(BA23*$BE$23+BA24*$BE$24+BA25*$BE$25+BA26*$BE$26+BA27*$BE$27+BA28*$BE$28+BA29*$BE$29+BA30*$BE$30+BA31*$BE$31+BA32*$BE$32)/$BE$33 -> 0.42800019 | BB33: =(BB23*$BE$23+BB24*$BE$24+BB25*$BE$25+BB26*$BE$26+BB27*$BE$27+BB28*$BE$28+BB29*$BE$29+BB30*$BE$30+BB31*$BE$31+BB32*$BE$32)/$BE$33 -> 0.16372215 | BC33: =(BC23*$BE$23+BC24*$BE$24+BC25*$BE$25+BC26*$BE$26+BC27*$BE$27+BC28*$BE$28+BC29*$BE$29+BC30*$BE$30+BC31*$BE$31+BC32*$BE$32)/$BE$33 -> 0 | BD33: =SUM(BD23:BD32) -> 592 | BE33: =SUM(BE23:BE32) -> 592 | BF33: =SUM(BF23:BF32) -> 248 | BG33: =SUM(AU33,AW33,AY33,BA33,BC33) -> 1 | BJ33: Total | BK33: =SUM(BK23:BK32) -> 3303.8 | BL33: =SUM(BL23:BL32) -> 2015.8 | BM33: =SUM(BM23:BM32) -> 1288 | BN33: =SUM(BN23:BN32) -> 1160.2 | BO33: =(BO23*$BY23+BO24*$BY24+BO25*$BY25+BO26*$BY26+BO27*$BY27+BO28*$BY28+BO29*$BY29+BO30*$BY30+BO31*$BY31+BO32*$BY32)/$BY33 -> 0.20940951 | BP33: =SUM(BP23:BP32) -> 2976 | BQ33: =(BQ23*$BY23+BQ24*$BY24+BQ25*$BY25+BQ26*$BY26+BQ27*$BY27+BQ28*$BY28+BQ29*$BY29+BQ30*$BY30+BQ31*$BY31+BQ32*$BY32)/$BY33 -> 0.41554054 | BR33: =SUM(BR23:BR32) -> 0 | BS33: =(BS23*$BY23+BS24*$BY24+BS25*$BY25+BS26*$BY26+BS27*$BY27+BS28*$BY28+BS29*$BY29+BS30*$BY30+BS31*$BY31+BS32*$BY32)/$BY33 -> 0 | BT33: =SUM(BT23:BT32) -> 0 | BU33: =(BU23*$BY23+BU24*$BY24+BU25*$BY25+BU26*$BY26+BU27*$BY27+BU28*$BY28+BU29*$BY29+BU30*$BY30+BU31*$BY31+BU32*$BY32)/$BY33 -> 0.37504995 | BV33: =(BV23*$BY23+BV24*$BY24+BV25*$BY25+BV26*$BY26+BV27*$BY27+BV28*$BY28+BV29*$BY29+BV30*$BY30+BV31*$BY31+BV32*$BY32)/$BY33 -> 0.22792474 | BW33: =(BW23*$BY23+BW24*$BY24+BW25*$BY25+BW26*$BY26+BW27*$BY27+BW28*$BY28+BW29*$BY29+BW30*$BY30+BW31*$BY31+BW32*$BY32)/$BY33 -> 0 | BX33: =SUM(BX23:BX32) -> 592 | BY33: =SUM(BY23:BY32) -> 592 | BZ33: =SUM(BZ23:BZ32) -> 250 | CA33: =SUM(BO33,BQ33,BS33,BU33,BW33) -> 1 | CD33: Total | CE33: =SUM(CE23:CE32) -> 3221.3 | CF33: =SUM(CF23:CF32) -> 1845.5 | CG33: =SUM(CG23:CG32) -> 1375.8 | CH33: =SUM(CH23:CH32) -> 866.7 | CI33: =(CI23*$CS23+CI24*$CS24+CI25*$CS25+CI26*$CS26+CI27*$CS27+CI28*$CS28+CI29*$CS29+CI30*$CS30+CI31*$CS31+CI32*$CS32)/$CS33 -> 0.17937078 | CJ33: =SUM(CJ23:CJ32) -> 3087 | CK33: =(CK23*$CS23+CK24*$CS24+CK25*$CS25+CK26*$CS26+CK27*$CS27+CK28*$CS28+CK29*$CS29+CK30*$CS30+CK31*$CS31+CK32*$CS32)/$CS33 -> 0.43982264 | CL33: =SUM(CL23:CL32) -> 25 | CM33: =(CM23*$CS23+CM24*$CS24+CM25*$CS25+CM26*$CS26+CM27*$CS27+CM28*$CS28+CM29*$CS29+CM30*$CS30+CM31*$CS31+CM32*$CS32)/$CS33 -> 0.0029326201 | CN33: =SUM(CN23:CN32) -> 0 | CO33: =(CO23*$CS23+CO24*$CS24+CO25*$CS25+CO26*$CS26+CO27*$CS27+CO28*$CS28+CO29*$CS29+CO30*$CS30+CO31*$CS31+CO32*$CS32)/$CS33 -> 0.37787397 | CP33: =(CP23*$CS23+CP24*$CS24+CP25*$CS25+CP26*$CS26+CP27*$CS27+CP28*$CS28+CP29*$CS29+CP30*$CS30+CP31*$CS31+CP32*$CS32)/$CS33 -> 0.18989502 | CQ33: =(CQ23*$CS23+CQ24*$CS24+CQ25*$CS25+CQ26*$CS26+CQ27*$CS27+CQ28*$CS28+CQ29*$CS29+CQ30*$CS30+CQ31*$CS31+CQ32*$CS32)/$CS33 -> 0 | CR33: =SUM(CR23:CR32) -> 592 | CS33: =SUM(CS23:CS32) -> 592 | CT33: =SUM(CT23:CT32) -> 250 | CU33: =SUM(CI33,CK33,CM33,CO33,CQ33) -> 1 | CX33: Total | CY33: =SUM(CY23:CY32) -> 3428 | CZ33: =SUM(CZ23:CZ32) -> 1162 | DA33: =SUM(DA23:DA32) -> 2266 | DB33: =SUM(DB23:DB32) -> 904.8 | DC33: =(DC23*$DM23+DC24*$DM24+DC25*$DM25+DC26*$DM26+DC27*$DM27+DC28*$DM28+DC29*$DM29+DC30*$DM30+DC31*$DM31+DC32*$DM32)/$DM33 -> 0.1804163 | DD33: =SUM(DD23:DD32) -> 3107.2 | DE33: =(DE23*$DM23+DE24*$DM24+DE25*$DM25+DE26*$DM26+DE27*$DM27+DE28*$DM28+DE29*$DM29+DE30*$DM30+DE31*$DM31+DE32*$DM32)/$DM33 -> 0.43043447 | DF33: =SUM(DF23:DF32) -> 0 | DG33: =(DG23*$DM23+DG24*$DM24+DG25*$DM25+DG26*$DM26+DG27*$DM27+DG28*$DM28+DG29*$DM29+DG30*$DM30+DG31*$DM31+DG32*$DM32)/$DM33 -> 0 | DH33: =SUM(DH23:DH32) -> 0 | DI33: =(DI23*$DM23+DI24*$DM24+DI25*$DM25+DI26*$DM26+DI27*$DM27+DI28*$DM28+DI29*$DM29+DI30*$DM30+DI31*$DM31+DI32*$DM32)/$DM33 -> 0.38914923 | DJ33: =(DJ23*$DM23+DJ24*$DM24+DJ25*$DM25+DJ26*$DM26+DJ27*$DM27+DJ28*$DM28+DJ29*$DM29+DJ30*$DM30+DJ31*$DM31+DJ32*$DM32)/$DM33 -> 0.21452887 | DK33: =(DK23*$DM23+DK24*$DM24+DK25*$DM25+DK26*$DM26+DK27*$DM27+DK28*$DM28+DK29*$DM29+DK30*$DM30+DK31*$DM31+DK32*$DM32)/$DM33 -> 0 | DL33: =SUM(DL23:DL32) -> 592 | DM33: =SUM(DM23:DM32) -> 592 | DN33: =SUM(DN23:DN32) -> 250 | DO33: =SUM(DC33,DE33,DG33,DI33,DK33) -> 1 | DR33: Total | DS33: =SUM(DS23:DS32) -> 3549.6 | DT33: =SUM(DT23:DT32) -> 1216.2 | DU33: =SUM(DU23:DU32) -> 2333.4 | DV33: =SUM(DV23:DV32) -> 914.4 | DW33: =(DW23*$EG23+DW24*$EG24+DW25*$EG25+DW26*$EG26+DW27*$EG27+DW28*$EG28+DW29*$EG29+DW30*$EG30+DW31*$EG31+DW32*$EG32)/$EG33 -> 0.1815061 | DX33: =SUM(DX23:DX32) -> 2976 | DY33: =(DY23*$EG23+DY24*$EG24+DY25*$EG25+DY26*$EG26+DY27*$EG27+DY28*$EG28+DY29*$EG29+DY30*$EG30+DY31*$EG31+DY32*$EG32)/$EG33 -> 0.41554054 | DZ33: =SUM(DZ23:DZ32) -> 0 | EA33: =(EA23*$EG23+EA24*$EG24+EA25*$EG25+EA26*$EG26+EA27*$EG27+EA28*$EG28+EA29*$EG29+EA30*$EG30+EA31*$EG31+EA32*$EG32)/$EG33 -> 0 | EB33: =SUM(EB23:EB32) -> 0 | EC33: =(EC23*$EG23+EC24*$EG24+EC25*$EG25+EC26*$EG26+EC27*$EG27+EC28*$EG28+EC29*$EG29+EC30*$EG30+EC31*$EG31+EC32*$EG32)/$EG33 -> 0.40295336 | ED33: =(ED23*$EG23+ED24*$EG24+ED25*$EG25+ED26*$EG26+ED27*$EG27+ED28*$EG28+ED29*$EG29+ED30*$EG30+ED31*$EG31+ED32*$EG32)/$EG33 -> 0.21072744 | EE33: =(EE23*$EG23+EE24*$EG24+EE25*$EG25+EE26*$EG26+EE27*$EG27+EE28*$EG28+EE29*$EG29+EE30*$EG30+EE31*$EG31+EE32*$EG32)/$EG33 -> 0 | EF33: =SUM(EF23:EF32) -> 592 | EG33: =SUM(EG23:EG32) -> 592 | EH33: =SUM(EH23:EH32) -> 250 | EI33: =SUM(DW33,DY33,EA33,EC33,EE33) -> 1 | EL33: Total | EM33: =SUM(EM23:EM32) -> 3358.9 | EN33: =SUM(EN23:EN32) -> 954.4 | EO33: =SUM(EO23:EO32) -> 2404.5 | EP33: =SUM(EP23:EP32) -> 673.1 | EQ33: =(EQ23*$FA23+EQ24*$FA24+EQ25*$FA25+EQ26*$FA26+EQ27*$FA27+EQ28*$FA28+EQ29*$FA29+EQ30*$FA30+EQ31*$FA31+EQ32*$FA32)/$FA33 -> 0.16230041 | ER33: =SUM(ER23:ER32) -> 2688 | ES33: =(ES23*$FA23+ES24*$FA24+ES25*$FA25+ES26*$FA26+ES27*$FA27+ES28*$FA28+ES29*$FA29+ES30*$FA30+ES31*$FA31+ES32*$FA32)/$FA33 -> 0.41554054 | ET33: =SUM(ET23:ET32) -> 0 | EU33: =(EU23*$FA23+EU24*$FA24+EU25*$FA25+EU26*$FA26+EU27*$FA27+EU28*$FA28+EU29*$FA29+EU30*$FA30+EU31*$FA31+EU32*$FA32)/$FA33 -> 0 | EV33: =SUM(EV23:EV32) -> 0 | EW33: =(EW23*$FA23+EW24*$FA24+EW25*$FA25+EW26*$FA26+EW27*$FA27+EW28*$FA28+EW29*$FA29+EW30*$FA30+EW31*$FA31+EW32*$FA32)/$FA33 -> 0.42215905 | EX33: =(EX23*$FA23+EX24*$FA24+EX25*$FA25+EX26*$FA26+EX27*$FA27+EX28*$FA28+EX29*$FA29+EX30*$FA30+EX31*$FA31+EX32*$FA32)/$FA33 -> 0.162564 | EY33: =(EY23*$FA23+EY24*$FA24+EY25*$FA25+EY26*$FA26+EY27*$FA27+EY28*$FA28+EY29*$FA29+EY30*$FA30+EY31*$FA31+EY32*$FA32)/$FA33 -> 0 | EZ33: =SUM(EZ23:EZ32) -> 592 | FA33: =SUM(FA23:FA32) -> 592 | FB33: =SUM(FB23:FB32) -> 250 | FC33: =SUM(EQ33,ES33,EU33,EW33,EY33) -> 1 | FF33: Total | FG33: =SUM(FG23:FG32) -> 3568.4 | FH33: =SUM(FH23:FH32) -> 904.3 | FI33: =SUM(FI23:FI32) -> 2664.1 | FJ33: =SUM(FJ23:FJ32) -> 895.6 | FK33: =(FK23*$FU23+FK24*$FU24+FK25*$FU25+FK26*$FU26+FK27*$FU27+FK28*$FU28+FK29*$FU29+FK30*$FU30+FK31*$FU31+FK32*$FU32)/$FU33 -> 0.17937191 | FL33: =SUM(FL23:FL32) -> 2976 | FM33: =(FM23*$FU23+FM24*$FU24+FM25*$FU25+FM26*$FU26+FM27*$FU27+FM28*$FU28+FM29*$FU29+FM30*$FU30+FM31*$FU31+FM32*$FU32)/$FU33 -> 0.41554054 | FN33: =SUM(FN23:FN32) -> 0 | FO33: =(FO23*$FU23+FO24*$FU24+FO25*$FU25+FO26*$FU26+FO27*$FU27+FO28*$FU28+FO29*$FU29+FO30*$FU30+FO31*$FU31+FO32*$FU32)/$FU33 -> 0 | FP33: =SUM(FP23:FP32) -> 0 | FQ33: =(FQ23*$FU23+FQ24*$FU24+FQ25*$FU25+FQ26*$FU26+FQ27*$FU27+FQ28*$FU28+FQ29*$FU29+FQ30*$FU30+FQ31*$FU31+FQ32*$FU32)/$FU33 -> 0.40508755 | FR33: =(FR23*$FU23+FR24*$FU24+FR25*$FU25+FR26*$FU26+FR27*$FU27+FR28*$FU28+FR29*$FU29+FR30*$FU30+FR31*$FU31+FR32*$FU32)/$FU33 -> 0.2123799 | FS33: =(FS23*$FU23+FS24*$FU24+FS25*$FU25+FS26*$FU26+FS27*$FU27+FS28*$FU28+FS29*$FU29+FS30*$FU30+FS31*$FU31+FS32*$FU32)/$FU33 -> 0 | FT33: =SUM(FT23:FT32) -> 592 | FU33: =SUM(FU23:FU32) -> 592 | FV33: =SUM(FV23:FV32) -> 250 | FW33: =SUM(FK33,FM33,FO33,FQ33,FS33) -> 1 | FZ33: Total | GA33: =SUM(GA23:GA32) -> 3509.7 | GB33: =SUM(GB23:GB32) -> 1220.1 | GC33: =SUM(GC23:GC32) -> 2289.6 | GD33: =SUM(GD23:GD32) -> 810.3 | GE33: =(GE23*$GO23+GE24*$GO24+GE25*$GO25+GE26*$GO26+GE27*$GO27+GE28*$GO28+GE29*$GO29+GE30*$GO30+GE31*$GO31+GE32*$GO32)/$GO33 -> 0.17275479 | GF33: =SUM(GF23:GF32) -> 2880 | GG33: =(GG23*$GO23+GG24*$GO24+GG25*$GO25+GG26*$GO26+GG27*$GO27+GG28*$GO28+GG29*$GO29+GG30*$GO30+GG31*$GO31+GG32*$GO32)/$GO33 -> 0.41554054 | GH33: =SUM(GH23:GH32) -> 0 | GI33: =(GI23*$GO23+GI24*$GO24+GI25*$GO25+GI26*$GO26+GI27*$GO27+GI28*$GO28+GI29*$GO29+GI30*$GO30+GI31*$GO31+GI32*$GO32)/$GO33 -> 0 | GJ33: =SUM(GJ23:GJ32) -> 0 | GK33: =(GK23*$GO23+GK24*$GO24+GK25*$GO25+GK26*$GO26+GK27*$GO27+GK28*$GO28+GK29*$GO29+GK30*$GO30+GK31*$GO31+GK32*$GO32)/$GO33 -> 0.41170467 | GL33: =(GL23*$GO23+GL24*$GO24+GL25*$GO25+GL26*$GO26+GL27*$GO27+GL28*$GO28+GL29*$GO29+GL30*$GO30+GL31*$GO31+GL32*$GO32)/$GO33 -> 0.18752831 | GM33: =(GM23*$GO23+GM24*$GO24+GM25*$GO25+GM26*$GO26+GM27*$GO27+GM28*$GO28+GM29*$GO29+GM30*$GO30+GM31*$GO31+GM32*$GO32)/$GO33 -> 0 | GN33: =SUM(GN23:GN32) -> 592 | GO33: =SUM(GO23:GO32) -> 592 | GP33: =SUM(GP23:GP32) -> 250 | GQ33: =SUM(GE33,GG33,GI33,GK33,GM33) -> 1 | GT33: Total | GU33: =SUM(GU23:GU32) -> 3682.4 | GV33: =SUM(GV23:GV32) -> 1208.7 | GW33: =SUM(GW23:GW32) -> 2473.7 | GX33: =SUM(GX23:GX32) -> 747.1 | GY33: =(GY23*$HI23+GY24*$HI24+GY25*$HI25+GY26*$HI26+GY27*$HI27+GY28*$HI28+GY29*$HI29+GY30*$HI30+GY31*$HI31+GY32*$HI32)/$HI33 -> 0.16251408 | GZ33: =SUM(GZ23:GZ32) -> 2976 | HA33: =(HA23*$HI23+HA24*$HI24+HA25*$HI25+HA26*$HI26+HA27*$HI27+HA28*$HI28+HA29*$HI29+HA30*$HI30+HA31*$HI31+HA32*$HI32)/$HI33 -> 0.41554054 | HB33: =SUM(HB23:HB32) -> 34.5 | HC33: =(HC23*$HI23+HC24*$HI24+HC25*$HI25+HC26*$HI26+HC27*$HI27+HC28*$HI28+HC29*$HI29+HC30*$HI30+HC31*$HI31+HC32*$HI32)/$HI33 -> 0.0039164669 | HD33: =SUM(HD23:HD32) -> 0 | HE33: =(HE23*$HI23+HE24*$HI24+HE25*$HI25+HE26*$HI26+HE27*$HI27+HE28*$HI28+HE29*$HI29+HE30*$HI30+HE31*$HI31+HE32*$HI32)/$HI33 -> 0.41802892 | HF33: =(HF23*$HI23+HF24*$HI24+HF25*$HI25+HF26*$HI26+HF27*$HI27+HF28*$HI28+HF29*$HI29+HF30*$HI30+HF31*$HI31+HF32*$HI32)/$HI33 -> 0.16334651 | HG33: =(HG23*$HI23+HG24*$HI24+HG25*$HI25+HG26*$HI26+HG27*$HI27+HG28*$HI28+HG29*$HI29+HG30*$HI30+HG31*$HI31+HG32*$HI32)/$HI33 -> 0 | HH33: =SUM(HH23:HH32) -> 592 | HI33: =SUM(HI23:HI32) -> 592 | HJ33: =SUM(HJ23:HJ32) -> 250 | HK33: =SUM(GY33,HA33,HC33,HE33,HG33) -> 1 | HN33: Total | HO33: =SUM(HO23:HO32) -> 3078.3 | HP33: =SUM(HP23:HP32) -> 1245.9 | HQ33: =SUM(HQ23:HQ32) -> 1832.4 | HR33: =SUM(HR23:HR32) -> 1241.7 | HS33: =(HS23*$ID23+HS24*$ID24+HS25*$ID25+HS26*$ID26+HS27*$ID27+HS28*$ID28+HS29*$ID29+HS30*$ID30+HS31*$ID31+HS32*$ID32)/$ID33 -> 0.22336008 | HT33: =SUM(HT23:HT32) -> 2880 | HU33: =(HU23*$ID23+HU24*$ID24+HU25*$ID25+HU26*$ID26+HU27*$ID27+HU28*$ID28+HU29*$ID29+HU30*$ID30+HU31*$ID31+HU32*$ID32)/$ID33 -> 0.41554054 | HV33: =SUM(HV23:HV32) -> 0 | HW33: =(HW23*$ID23+HW24*$ID24+HW25*$ID25+HW26*$ID26+HW27*$ID27+HW28*$ID28+HW29*$ID29+HW30*$ID30+HW31*$ID31+HW32*$ID32)/$ID33 -> 0 | HX33: =SUM(HX23:HX32) -> 0 | HY33: =SUM(HY23:HY32) -> 0 | HZ33: =(HZ23*$ID23+HZ24*$ID24+HZ25*$ID25+HZ26*$ID26+HZ27*$ID27+HZ28*$ID28+HZ29*$ID29+HZ30*$ID30+HZ31*$ID31+HZ32*$ID32)/$ID33 -> 0.36109938 | IA33: =(IA23*$ID23+IA24*$ID24+IA25*$ID25+IA26*$ID26+IA27*$ID27+IA28*$ID28+IA29*$ID29+IA30*$ID30+IA31*$ID31+IA32*$ID32)/$ID33 -> 0.25982023 | IB33: =(IB23*$ID23+IB24*$ID24+IB25*$ID25+IB26*$ID26+IB27*$ID27+IB28*$ID28+IB29*$ID29+IB30*$ID30+IB31*$ID31+IB32*$ID32)/$ID33 -> 0 | IC33: =SUM(IC23:IC32) -> 592 | ID33: =SUM(ID23:ID32) -> 592 | IE33: =SUM(IE23:IE32) -> 250 | IF33: =SUM(HS33,HU33,HW33,HZ33,IB33) -> 1
A34: PALO | B34: 1-1 | C34: 504 | D34: 128.6 | E34: 375.4 | F34: 240 | G34: =F34/$B$4 -> 0.32258065 | H34: 0 | I34: =H34/$B$4 -> 0 | J34: 0 | K34: =J34/$B$4 -> 0 | L34: 0 | M34: =(C34-L34)/$B$4 -> 0.67741935 | N34: =IF((AND(D34=0,F34=0)),0,(F34+L34)/(D34+F34)) -> 0.65111232 | O34: =L34/$B$4 -> 0 | P34: 21 | Q34: 21 | R34: 18 | S34: =SUM(G34,I34,K34,M34,O34) -> 1 | U34: PALO | V34: 1-1 | W34: 0 | X34: 0 | Y34: 0 | Z34: 744 | AA34: =Z34/$V$4 -> 1 | AB34: 0 | AC34: =AB34/$V$4 -> 0 | AD34: 0 | AE34: =AD34/$V$4 -> 0 | AF34: 0 | AG34: =(W34-AF34)/$V$4 -> 0 | AH34: =IF((AND(X34=0,Z34=0)),0,(Z34+AF34)/(X34+Z34)) -> 1 | AI34: =AF34/$V$4 -> 0 | AJ34: 21 | AK34: 21 | AL34: 0 | AM34: =SUM(AA34,AC34,AE34,AG34,AI34) -> 1 | AO34: PALO | AP34: 1-1 | AQ34: 0 | AR34: 0 | AS34: 0 | AT34: 720 | AU34: =AT34/$AP$4 -> 1 | AV34: 0 | AW34: =AV34/$AP$4 -> 0 | AX34: 0 | AY34: =AX34/$AP$4 -> 0 | AZ34: 0 | BA34: =(AQ34-AZ34)/$AP$4 -> 0 | BB34: =IF((AND(AR34=0,AT34=0)),0,(AT34+AZ34)/(AR34+AT34)) -> 1 | BC34: =AZ34/$AP$4 -> 0 | BD34: 21 | BE34: 21 | BF34: 0 | BG34: =SUM(AU34,AW34,AY34,BA34,BC34) -> 1 | BI34: PALO | BJ34: 1-1 | BK34: 0 | BL34: 0 | BM34: 0 | BN34: 744 | BO34: =BN34/$BJ$4 -> 1 | BP34: 0 | BQ34: =BP34/$BJ$4 -> 0 | BR34: 0 | BS34: =BR34/$BJ$4 -> 0 | BT34: 0 | BU34: =(BK34-BT34)/$BJ$4 -> 0 | BV34: =IF((AND(BL34=0,BN34=0)),0,(BN34+BT34)/(BL34+BN34)) -> 1 | BW34: =BT34/$BJ$4 -> 0 | BX34: 21 | BY34: 21 | BZ34: 0 | CA34: =SUM(BO34,BQ34,BS34,BU34,BW34) -> 1 | CC34: PALO | CD34: 1-1 | CE34: 0 | CF34: 0 | CG34: 0 | CH34: 720 | CI34: =CH34/$CD$4 -> 1 | CJ34: 0 | CK34: =CJ34/$CD$4 -> 0 | CL34: 0 | CM34: =CL34/$CD$4 -> 0 | CN34: 0 | CO34: =(CE34-CN34)/$CD$4 -> 0 | CP34: =IF((AND(CF34=0,CH34=0)),0,(CH34+CN34)/(CF34+CH34)) -> 1 | CQ34: =CN34/$CD$4 -> 0 | CR34: 21 | CS34: 21 | CT34: 0 | CU34: =SUM(CI34,CK34,CM34,CO34,CQ34) -> 1 | CW34: PALO | CX34: 1-1 | CY34: 0 | CZ34: 0 | DA34: 0 | DB34: 744 | DC34: =DB34/$CX$4 -> 1 | DD34: 0 | DE34: =DD34/$CX$4 -> 0 | DF34: 0 | DG34: =DF34/$CX$4 -> 0 | DH34: 0 | DI34: =(CY34-DH34)/$CX$4 -> 0 | DJ34: =IF((AND(CZ34=0,DB34=0)),0,(DB34+DH34)/(CZ34+DB34)) -> 1 | DK34: =DH34/$CX$4 -> 0 | DL34: 21 | DM34: 21 | DN34: 0 | DO34: =SUM(DC34,DE34,DG34,DI34,DK34) -> 1 | DQ34: PALO | DR34: 1-1 | DS34: 0 | DT34: 0 | DU34: 0 | DV34: 744 | DW34: =DV34/$DR$4 -> 1 | DX34: 0 | DY34: =DX34/$DR$4 -> 0 | DZ34: 0 | EA34: =DZ34/$DR$4 -> 0 | EB34: 0 | EC34: =(DS34-EB34)/$DR$4 -> 0 | ED34: =IF((AND(DT34=0,DV34=0)),0,(DV34+EB34)/(DT34+DV34)) -> 1 | EE34: =EB34/$DR$4 -> 0 | EF34: 21 | EG34: 21 | EH34: 0 | EI34: =SUM(DW34,DY34,EA34,EC34,EE34) -> 1 | EK34: PALO | EL34: 1-1 | EM34: 0 | EN34: 0 | EO34: 0 | EP34: 672 | EQ34: =EP34/$EL$4 -> 1 | ER34: 0 | ES34: =ER34/$EL$4 -> 0 | ET34: 0 | EU34: =ET34/$EL$4 -> 0 | EV34: 0 | EW34: =(EM34-EV34)/$EL$4 -> 0 | EX34: =IF((AND(EN34=0,EP34=0)),0,(EP34+EV34)/(EN34+EP34)) -> 1 | EY34: =EV34/$EL$4 -> 0 | EZ34: 21 | FA34: 21 | FB34: 0 | FC34: =SUM(EQ34,ES34,EU34,EW34,EY34) -> 1 | FE34: PALO | FF34: 1-1 | FG34: 0 | FH34: 0 | FI34: 0 | FJ34: 744 | FK34: =FJ34/$FF$4 -> 1 | FL34: 0 | FM34: =FL34/$FF$4 -> 0 | FN34: 0 | FO34: =FN34/$FF$4 -> 0 | FP34: 0 | FQ34: =(FG34-FP34)/$FF$4 -> 0 | FR34: =IF((AND(FH34=0,FJ34=0)),0,(FJ34+FP34)/(FH34+FJ34)) -> 1 | FS34: =FP34/$FF$4 -> 0 | FT34: 21 | FU34: 21 | FV34: 0 | FW34: =SUM(FK34,FM34,FO34,FQ34,FS34) -> 1 | FY34: PALO | FZ34: 1-1 | GA34: 0 | GB34: 0 | GC34: 0 | GD34: 720 | GE34: =GD34/$FZ$4 -> 1 | GF34: 0 | GG34: =GF34/$FZ$4 -> 0 | GH34: 0 | GI34: =GH34/$FZ$4 -> 0 | GJ34: 0 | GK34: =(GA34-GJ34)/$FZ$4 -> 0 | GL34: =IF((AND(GB34=0,GD34=0)),0,(GD34+GJ34)/(GB34+GD34)) -> 1 | GM34: =GJ34/$FZ$4 -> 0 | GN34: 21 | GO34: 21 | GP34: 0 | GQ34: =SUM(GE34,GG34,GI34,GK34,GM34) -> 1 | GS34: PALO | GT34: 1-1 | GU34: 0 | GV34: 0 | GW34: 0 | GX34: 744 | GY34: =GX34/$GT$4 -> 1 | GZ34: 0 | HA34: =GZ34/$GT$4 -> 0 | HB34: 0 | HC34: =HB34/$GT$4 -> 0 | HD34: 0 | HE34: =(GU34-HD34)/$GT$4 -> 0 | HF34: =IF((AND(GV34=0,GX34=0)),0,(GX34+HD34)/(GV34+GX34)) -> 1 | HG34: =HD34/$GT$4 -> 0 | HH34: 21 | HI34: 21 | HJ34: 0 | HK34: =SUM(GY34,HA34,HC34,HE34,HG34) -> 1 | HM34: PALO | HN34: 1-1 | HO34: 0 | HP34: 0 | HQ34: 0 | HR34: 720 | HS34: =HR34/$HN$4 -> 1 | HT34: 0 | HU34: =HT34/$HN$4 -> 0 | HV34: 0 | HW34: =HV34/$HN$4 -> 0 | HX34: 0 | HY34: 0 | HZ34: =(HO34-HY34)/$HN$4 -> 0 | IA34: =IF((AND(HP34=0,HR34=0)),0,(HR34+HX34+HY34)/(HP34+HR34)) -> 1 | IB34: =(HY34+HX34)/$HN$4 -> 0 | IC34: 21 | ID34: 21 | IE34: 0 | IF34: =SUM(HS34,HU34,HW34,HZ34,IB34) -> 1
A35: SECO | B35: 1-2 | C35: 744 | D35: 213.44 | E35: 530.56 | F35: 0 | G35: =F35/$B$4 -> 0 | H35: 0 | I35: =H35/$B$4 -> 0 | J35: 0 | K35: =J35/$B$4 -> 0 | L35: 0 | M35: =(C35-L35)/$B$4 -> 1 | N35: =IF((AND(D35=0,F35=0)),0,(F35+L35)/(D35+F35)) -> 0 | O35: =L35/$B$4 -> 0 | P35: 21 | Q35: 21 | R35: 18 | S35: =SUM(G35,I35,K35,M35,O35) -> 1 | U35: SECO | V35: 1-2 | W35: 744 | X35: 180.76 | Y35: 563.24 | Z35: 0 | AA35: =Z35/$V$4 -> 0 | AB35: 0 | AC35: =AB35/$V$4 -> 0 | AD35: 0 | AE35: =AD35/$V$4 -> 0 | AF35: 0 | AG35: =(W35-AF35)/$V$4 -> 1 | AH35: =IF((AND(X35=0,Z35=0)),0,(Z35+AF35)/(X35+Z35)) -> 0 | AI35: =AF35/$V$4 -> 0 | AJ35: 21 | AK35: 21 | AL35: 21 | AM35: =SUM(AA35,AC35,AE35,AG35,AI35) -> 1 | AO35: SECO | AP35: 1-2 | AQ35: 717.2 | AR35: 107.6 | AS35: 609.6 | AT35: 2.8 | AU35: =AT35/$AP$4 -> 0.0038888889 | AV35: 0 | AW35: =AV35/$AP$4 -> 0 | AX35: 0 | AY35: =AX35/$AP$4 -> 0 | AZ35: 0 | BA35: =(AQ35-AZ35)/$AP$4 -> 0.99611111 | BB35: =IF((AND(AR35=0,AT35=0)),0,(AT35+AZ35)/(AR35+AT35)) -> 0.025362319 | BC35: =AZ35/$AP$4 -> 0 | BD35: 21 | BE35: 21 | BF35: 18.361266 | BG35: =SUM(AU35,AW35,AY35,BA35,BC35) -> 1 | BI35: SECO | BJ35: 1-2 | BK35: 744 | BL35: 275.3 | BM35: 468.7 | BN35: 0 | BO35: =BN35/$BJ$4 -> 0 | BP35: 0 | BQ35: =BP35/$BJ$4 -> 0 | BR35: 0 | BS35: =BR35/$BJ$4 -> 0 | BT35: 0 | BU35: =(BK35-BT35)/$BJ$4 -> 1 | BV35: =IF((AND(BL35=0,BN35=0)),0,(BN35+BT35)/(BL35+BN35)) -> 0 | BW35: =BT35/$BJ$4 -> 0 | BX35: 21 | BY35: 21 | BZ35: 19 | CA35: =SUM(BO35,BQ35,BS35,BU35,BW35) -> 1 | CC35: SECO | CD35: 1-2 | CE35: 698.5 | CF35: 205.3 | CG35: 493.2 | CH35: 21.5 | CI35: =CH35/$CD$4 -> 0.029861111 | CJ35: 0 | CK35: =CJ35/$CD$4 -> 0 | CL35: 0 | CM35: =CL35/$CD$4 -> 0 | CN35: 0 | CO35: =(CE35-CN35)/$CD$4 -> 0.97013889 | CP35: =IF((AND(CF35=0,CH35=0)),0,(CH35+CN35)/(CF35+CH35)) -> 0.094797178 | CQ35: =CN35/$CD$4 -> 0 | CR35: 21 | CS35: 21 | CT35: 19 | CU35: =SUM(CI35,CK35,CM35,CO35,CQ35) -> 1 | CW35: SECO | CX35: 1-2 | CY35: 744 | CZ35: 131.6 | DA35: 612.4 | DB35: 0 | DC35: =DB35/$CX$4 -> 0 | DD35: 0 | DE35: =DD35/$CX$4 -> 0 | DF35: 0 | DG35: =DF35/$CX$4 -> 0 | DH35: 0 | DI35: =(CY35-DH35)/$CX$4 -> 1 | DJ35: =IF((AND(CZ35=0,DB35=0)),0,(DB35+DH35)/(CZ35+DB35)) -> 0 | DK35: =DH35/$CX$4 -> 0 | DL35: 21 | DM35: 21 | DN35: 19 | DO35: =SUM(DC35,DE35,DG35,DI35,DK35) -> 1 | DQ35: SECO | DR35: 1-2 | DS35: 696.35 | DT35: 93.8 | DU35: 602.55 | DV35: 47.65 | DW35: =DV35/$DR$4 -> 0.064045699 | DX35: 0 | DY35: =DX35/$DR$4 -> 0 | DZ35: 0 | EA35: =DZ35/$DR$4 -> 0 | EB35: 0 | EC35: =(DS35-EB35)/$DR$4 -> 0.9359543 | ED35: =IF((AND(DT35=0,DV35=0)),0,(DV35+EB35)/(DT35+DV35)) -> 0.33686815 | EE35: =EB35/$DR$4 -> 0 | EF35: 21 | EG35: 21 | EH35: 18 | EI35: =SUM(DW35,DY35,EA35,EC35,EE35) -> 1 | EK35: SECO | EL35: 1-2 | EM35: 625.5 | EN35: 52.9 | EO35: 572.6 | EP35: 46.5 | EQ35: =EP35/$EL$4 -> 0.069196429 | ER35: 0 | ES35: =ER35/$EL$4 -> 0 | ET35: 0 | EU35: =ET35/$EL$4 -> 0 | EV35: 0 | EW35: =(EM35-EV35)/$EL$4 -> 0.93080357 | EX35: =IF((AND(EN35=0,EP35=0)),0,(EP35+EV35)/(EN35+EP35)) -> 0.46780684 | EY35: =EV35/$EL$4 -> 0 | EZ35: 21 | FA35: 21 | FB35: 18 | FC35: =SUM(EQ35,ES35,EU35,EW35,EY35) -> 1 | FE35: SECO | FF35: 1-2 | FG35: 649.22 | FH35: 38 | FI35: 611.22 | FJ35: 94.78 | FK35: =FJ35/$FF$4 -> 0.12739247 | FL35: 0 | FM35: =FL35/$FF$4 -> 0 | FN35: 0 | FO35: =FN35/$FF$4 -> 0 | FP35: 0 | FQ35: =(FG35-FP35)/$FF$4 -> 0.87260753 | FR35: =IF((AND(FH35=0,FJ35=0)),0,(FJ35+FP35)/(FH35+FJ35)) -> 0.71381232 | FS35: =FP35/$FF$4 -> 0 | FT35: 21 | FU35: 21 | FV35: 18 | FW35: =SUM(FK35,FM35,FO35,FQ35,FS35) -> 1 | FY35: SECO | FZ35: 1-2 | GA35: 488.73 | GB35: 136.03 | GC35: 352.7 | GD35: 231.27 | GE35: =GD35/$FZ$4 -> 0.32120833 | GF35: 0 | GG35: =GF35/$FZ$4 -> 0 | GH35: 0 | GI35: =GH35/$FZ$4 -> 0 | GJ35: 0 | GK35: =(GA35-GJ35)/$FZ$4 -> 0.67879167 | GL35: =IF((AND(GB35=0,GD35=0)),0,(GD35+GJ35)/(GB35+GD35)) -> 0.62964879 | GM35: =GJ35/$FZ$4 -> 0 | GN35: 21 | GO35: 21 | GP35: 18 | GQ35: =SUM(GE35,GG35,GI35,GK35,GM35) -> 1 | GS35: SECO | GT35: 1-2 | GU35: 744 | GV35: 151.25 | GW35: 592.75 | GX35: 0 | GY35: =GX35/$GT$4 -> 0 | GZ35: 0 | HA35: =GZ35/$GT$4 -> 0 | HB35: 0 | HC35: =HB35/$GT$4 -> 0 | HD35: 0 | HE35: =(GU35-HD35)/$GT$4 -> 1 | HF35: =IF((AND(GV35=0,GX35=0)),0,(GX35+HD35)/(GV35+GX35)) -> 0 | HG35: =HD35/$GT$4 -> 0 | HH35: 21 | HI35: 21 | HJ35: 18 | HK35: =SUM(GY35,HA35,HC35,HE35,HG35) -> 1 | HM35: SECO | HN35: 1-2 | HO35: 624.72 | HP35: 245.37 | HQ35: 379.35 | HR35: 95.28 | HS35: =HR35/$HN$4 -> 0.13233333 | HT35: 0 | HU35: =HT35/$HN$4 -> 0 | HV35: 0 | HW35: =HV35/$HN$4 -> 0 | HX35: 0 | HY35: 0 | HZ35: =(HO35-HY35)/$HN$4 -> 0.86766667 | IA35: =IF((AND(HP35=0,HR35=0)),0,(HR35+HX35+HY35)/(HP35+HR35)) -> 0.27970057 | IB35: =(HY35+HX35)/$HN$4 -> 0 | IC35: 21 | ID35: 21 | IE35: 18 | IF35: =SUM(HS35,HU35,HW35,HZ35,IB35) -> 1
B36: 2-1 | C36: 0 | D36: 0 | E36: 0 | F36: 744 | G36: =F36/$B$4 -> 1 | H36: 0 | I36: =H36/$B$4 -> 0 | J36: 0 | K36: =J36/$B$4 -> 0 | L36: 0 | M36: =(C36-L36)/$B$4 -> 0 | N36: =IF((AND(D36=0,F36=0)),0,(F36+L36)/(D36+F36)) -> 1 | O36: =L36/$B$4 -> 0 | P36: 21 | Q36: 21 | R36: 0 | S36: =SUM(G36,I36,K36,M36,O36) -> 1 | V36: 2-1 | W36: 0 | X36: 0 | Y36: 0 | Z36: 744 | AA36: =Z36/$V$4 -> 1 | AB36: 0 | AC36: =AB36/$V$4 -> 0 | AD36: 0 | AE36: =AD36/$V$4 -> 0 | AF36: 0 | AG36: =(W36-AF36)/$V$4 -> 0 | AH36: =IF((AND(X36=0,Z36=0)),0,(Z36+AF36)/(X36+Z36)) -> 1 | AI36: =AF36/$V$4 -> 0 | AJ36: 21 | AK36: 21 | AL36: 0 | AM36: =SUM(AA36,AC36,AE36,AG36,AI36) -> 1 | AP36: 2-1 | AQ36: 0 | AR36: 0 | AS36: 0 | AT36: 720 | AU36: =AT36/$AP$4 -> 1 | AV36: 0 | AW36: =AV36/$AP$4 -> 0 | AX36: 0 | AY36: =AX36/$AP$4 -> 0 | AZ36: 0 | BA36: =(AQ36-AZ36)/$AP$4 -> 0 | BB36: =IF((AND(AR36=0,AT36=0)),0,(AT36+AZ36)/(AR36+AT36)) -> 1 | BC36: =AZ36/$AP$4 -> 0 | BD36: 21 | BE36: 21 | BF36: 0 | BG36: =SUM(AU36,AW36,AY36,BA36,BC36) -> 1 | BJ36: 2-1 | BK36: 0 | BL36: 0 | BM36: 0 | BN36: 744 | BO36: =BN36/$BJ$4 -> 1 | BP36: 0 | BQ36: =BP36/$BJ$4 -> 0 | BR36: 0 | BS36: =BR36/$BJ$4 -> 0 | BT36: 0 | BU36: =(BK36-BT36)/$BJ$4 -> 0 | BV36: =IF((AND(BL36=0,BN36=0)),0,(BN36+BT36)/(BL36+BN36)) -> 1 | BW36: =BT36/$BJ$4 -> 0 | BX36: 21 | BY36: 21 | BZ36: 0 | CA36: =SUM(BO36,BQ36,BS36,BU36,BW36) -> 1 | CD36: 2-1 | CE36: 0 | CF36: 0 | CG36: 0 | CH36: 720 | CI36: =CH36/$CD$4 -> 1 | CJ36: 0 | CK36: =CJ36/$CD$4 -> 0 | CL36: 0 | CM36: =CL36/$CD$4 -> 0 | CN36: 0 | CO36: =(CE36-CN36)/$CD$4 -> 0 | CP36: =IF((AND(CF36=0,CH36=0)),0,(CH36+CN36)/(CF36+CH36)) -> 1 | CQ36: =CN36/$CD$4 -> 0 | CR36: 21 | CS36: 21 | CT36: 0 | CU36: =SUM(CI36,CK36,CM36,CO36,CQ36) -> 1 | CX36: 2-1 | CY36: 0 | CZ36: 0 | DA36: 0 | DB36: 744 | DC36: =DB36/$CX$4 -> 1 | DD36: 0 | DE36: =DD36/$CX$4 -> 0 | DF36: 0 | DG36: =DF36/$CX$4 -> 0 | DH36: 0 | DI36: =(CY36-DH36)/$CX$4 -> 0 | DJ36: =IF((AND(CZ36=0,DB36=0)),0,(DB36+DH36)/(CZ36+DB36)) -> 1 | DK36: =DH36/$CX$4 -> 0 | DL36: 21 | DM36: 21 | DN36: 0 | DO36: =SUM(DC36,DE36,DG36,DI36,DK36) -> 1 | DR36: 2-1 | DS36: 0 | DT36: 0 | DU36: 0 | DV36: 744 | DW36: =DV36/$DR$4 -> 1 | DX36: 0 | DY36: =DX36/$DR$4 -> 0 | DZ36: 0 | EA36: =DZ36/$DR$4 -> 0 | EB36: 0 | EC36: =(DS36-EB36)/$DR$4 -> 0 | ED36: =IF((AND(DT36=0,DV36=0)),0,(DV36+EB36)/(DT36+DV36)) -> 1 | EE36: =EB36/$DR$4 -> 0 | EF36: 21 | EG36: 21 | EH36: 0 | EI36: =SUM(DW36,DY36,EA36,EC36,EE36) -> 1 | EL36: 2-1 | EM36: 0 | EN36: 0 | EO36: 0 | EP36: 672 | EQ36: =EP36/$EL$4 -> 1 | ER36: 0 | ES36: =ER36/$EL$4 -> 0 | ET36: 0 | EU36: =ET36/$EL$4 -> 0 | EV36: 0 | EW36: =(EM36-EV36)/$EL$4 -> 0 | EX36: =IF((AND(EN36=0,EP36=0)),0,(EP36+EV36)/(EN36+EP36)) -> 1 | EY36: =EV36/$EL$4 -> 0 | EZ36: 21 | FA36: 21 | FB36: 0 | FC36: =SUM(EQ36,ES36,EU36,EW36,EY36) -> 1 | FF36: 2-1 | FG36: 0 | FH36: 0 | FI36: 0 | FJ36: 744 | FK36: =FJ36/$FF$4 -> 1 | FL36: 0 | FM36: =FL36/$FF$4 -> 0 | FN36: 0 | FO36: =FN36/$FF$4 -> 0 | FP36: 0 | FQ36: =(FG36-FP36)/$FF$4 -> 0 | FR36: =IF((AND(FH36=0,FJ36=0)),0,(FJ36+FP36)/(FH36+FJ36)) -> 1 | FS36: =FP36/$FF$4 -> 0 | FT36: 21 | FU36: 21 | FV36: 0 | FW36: =SUM(FK36,FM36,FO36,FQ36,FS36) -> 1 | FZ36: 2-1 | GA36: 0 | GB36: 0 | GC36: 0 | GD36: 720 | GE36: =GD36/$FZ$4 -> 1 | GF36: 0 | GG36: =GF36/$FZ$4 -> 0 | GH36: 0 | GI36: =GH36/$FZ$4 -> 0 | GJ36: 0 | GK36: =(GA36-GJ36)/$FZ$4 -> 0 | GL36: =IF((AND(GB36=0,GD36=0)),0,(GD36+GJ36)/(GB36+GD36)) -> 1 | GM36: =GJ36/$FZ$4 -> 0 | GN36: 21 | GO36: 21 | GP36: 0 | GQ36: =SUM(GE36,GG36,GI36,GK36,GM36) -> 1 | GT36: 2-1 | GU36: 0 | GV36: 0 | GW36: 0 | GX36: 744 | GY36: =GX36/$GT$4 -> 1 | GZ36: 0 | HA36: =GZ36/$GT$4 -> 0 | HB36: 0 | HC36: =HB36/$GT$4 -> 0 | HD36: 0 | HE36: =(GU36-HD36)/$GT$4 -> 0 | HF36: =IF((AND(GV36=0,GX36=0)),0,(GX36+HD36)/(GV36+GX36)) -> 1 | HG36: =HD36/$GT$4 -> 0 | HH36: 21 | HI36: 21 | HJ36: 0 | HK36: =SUM(GY36,HA36,HC36,HE36,HG36) -> 1 | HN36: 2-1 | HO36: 0 | HP36: 0 | HQ36: 0 | HR36: 720 | HS36: =HR36/$HN$4 -> 1 | HT36: 0 | HU36: =HT36/$HN$4 -> 0 | HV36: 0 | HW36: =HV36/$HN$4 -> 0 | HX36: 0 | HY36: 0 | HZ36: =(HO36-HY36)/$HN$4 -> 0 | IA36: =IF((AND(HP36=0,HR36=0)),0,(HR36+HX36+HY36)/(HP36+HR36)) -> 1 | IB36: =(HY36+HX36)/$HN$4 -> 0 | IC36: 21 | ID36: 21 | IE36: 0 | IF36: =SUM(HS36,HU36,HW36,HZ36,IB36) -> 1
B37: Total | C37: =SUM(C34:C36) -> 1248 | D37: =SUM(D34:D36) -> 342.04 | E37: =SUM(E34:E36) -> 905.96 | F37: =SUM(F34:F36) -> 984 | G37: =(G34*Q34+G35*Q35+G36*Q36)/Q37 -> 0.44086022 | H37: =SUM(H34:H36) -> 0 | I37: =(I34*Q34+I35*Q35+I36*Q36)/Q37 -> 0 | J37: =SUM(J34:J36) -> 0 | K37: =(K34*Q34+K35*Q35+K36*Q36)/Q37 -> 0 | L37: =SUM(L34:L36) -> 0 | M37: =(M34*Q34+M35*Q35+M36*Q36)/Q37 -> 0.55913978 | N37: =(N34*Q34+N35*Q35+N36*Q36)/Q37 -> 0.55037077 | O37: =(O34*Q34+O35*Q35+O36*Q36)/Q37 -> 0 | P37: =SUM(P34:P36) -> 63 | Q37: =SUM(Q34:Q36) -> 63 | R37: =SUM(R34:R36) -> 36 | S37: =SUM(G37,I37,K37,M37,O37) -> 1 | V37: Total | W37: =SUM(W34:W36) -> 744 | X37: =SUM(X34:X36) -> 180.76 | Y37: =SUM(Y34:Y36) -> 563.24 | Z37: =SUM(Z34:Z36) -> 1488 | AA37: =(AA34*$AK$34+AA35*$AK$35+AA36*$AK$36)/$AK$37 -> 0.66666667 | AB37: =SUM(AB34:AB36) -> 0 | AC37: =(AC34*$AK$34+AC35*$AK$35+AC36*$AK$36)/$AK$37 -> 0 | AD37: =SUM(AD34:AD36) -> 0 | AE37: =(AE34*$AK$34+AE35*$AK$35+AE36*$AK$36)/$AK$37 -> 0 | AF37: =SUM(AF34:AF36) -> 0 | AG37: =(AG34*$AK$34+AG35*$AK$35+AG36*$AK$36)/$AK$37 -> 0.33333333 | AH37: =(AH34*$AK$34+AH35*$AK$35+AH36*$AK$36)/$AK$37 -> 0.66666667 | AI37: =(AI34*$AK$34+AI35*$AK$35+AI36*$AK$36)/$AK$37 -> 0 | AJ37: =SUM(AJ34:AJ36) -> 63 | AK37: =SUM(AK34:AK36) -> 63 | AL37: =SUM(AL34:AL36) -> 21 | AM37: =SUM(AA37,AC37,AE37,AG37,AI37) -> 1 | AP37: Total | AQ37: =SUM(AQ34:AQ36) -> 717.2 | AR37: =SUM(AR34:AR36) -> 107.6 | AS37: =SUM(AS34:AS36) -> 609.6 | AT37: =SUM(AT34:AT36) -> 1442.8 | AU37: =(AU34*$BE34+AU35*$BE35+AU36*$BE36)/$BE37 -> 0.66796296 | AV37: =SUM(AV34:AV36) -> 0 | AW37: =(AW34*$BE34+AW35*$BE35+AW36*$BE36)/$BE37 -> 0 | AX37: =SUM(AX34:AX36) -> 0 | AY37: =(AY34*$BE34+AY35*$BE35+AY36*$BE36)/$BE37 -> 0 | AZ37: =SUM(AZ34:AZ36) -> 0 | BA37: =(BA34*$BE34+BA35*$BE35+BA36*$BE36)/$BE37 -> 0.33203704 | BB37: =(BB34*$BE34+BB35*$BE35+BB36*$BE36)/$BE37 -> 0.67512077 | BC37: =(BC34*$BE34+BC35*$BE35+BC36*$BE36)/$BE37 -> 0 | BD37: =SUM(BD34:BD36) -> 63 | BE37: =SUM(BE34:BE36) -> 63 | BF37: =SUM(BF34:BF36) -> 18.361266 | BG37: =SUM(AU37,AW37,AY37,BA37,BC37) -> 1 | BJ37: Total | BK37: =SUM(BK34:BK36) -> 744 | BL37: =SUM(BL34:BL36) -> 275.3 | BM37: =SUM(BM34:BM36) -> 468.7 | BN37: =SUM(BN34:BN36) -> 1488 | BO37: =(BO34*$BY34+BO35*$BY35+BO36*$BY36)/$BY37 -> 0.66666667 | BP37: =SUM(BP34:BP36) -> 0 | BQ37: =(BQ34*$BY34+BQ35*$BY35+BQ36*$BY36)/$BY37 -> 0 | BR37: =SUM(BR34:BR36) -> 0 | BS37: =(BS34*$BY34+BS35*$BY35+BS36*$BY36)/$BY37 -> 0 | BT37: =SUM(BT34:BT36) -> 0 | BU37: =(BU34*$BY34+BU35*$BY35+BU36*$BY36)/$BY37 -> 0.33333333 | BV37: =(BV34*$BY34+BV35*$BY35+BV36*$BY36)/$BY37 -> 0.66666667 | BW37: =(BW34*$BY34+BW35*$BY35+BW36*$BY36)/$BY37 -> 0 | BX37: =SUM(BX34:BX36) -> 63 | BY37: =SUM(BY34:BY36) -> 63 | BZ37: =SUM(BZ34:BZ36) -> 19 | CA37: =SUM(BO37,BQ37,BS37,BU37,BW37) -> 1 | CD37: Total | CE37: =SUM(CE34:CE36) -> 698.5 | CF37: =SUM(CF34:CF36) -> 205.3 | CG37: =SUM(CG34:CG36) -> 493.2 | CH37: =SUM(CH34:CH36) -> 1461.5 | CI37: =(CI34*$CS34+CI35*$CS35+CI36*$CS36)/$CS37 -> 0.67662037 | CJ37: =SUM(CJ34:CJ36) -> 0 | CK37: =(CK34*$CS34+CK35*$CS35+CK36*$CS36)/$CS37 -> 0 | CL37: =SUM(CL34:CL36) -> 0 | CM37: =(CM34*$CS34+CM35*$CS35+CM36*$CS36)/$CS37 -> 0 | CN37: =SUM(CN34:CN36) -> 0 | CO37: =(CO34*$CS34+CO35*$CS35+CO36*$CS36)/$CS37 -> 0.32337963 | CP37: =(CP34*$CS34+CP35*$CS35+CP36*$CS36)/$CS37 -> 0.69826573 | CQ37: =(CQ34*$CS34+CQ35*$CS35+CQ36*$CS36)/$CS37 -> 0 | CR37: =SUM(CR34:CR36) -> 63 | CS37: =SUM(CS34:CS36) -> 63 | CT37: =SUM(CT34:CT36) -> 19 | CU37: =SUM(CI37,CK37,CM37,CO37,CQ37) -> 1 | CX37: Total | CY37: =SUM(CY34:CY36) -> 744 | CZ37: =SUM(CZ34:CZ36) -> 131.6 | DA37: =SUM(DA34:DA36) -> 612.4 | DB37: =SUM(DB34:DB36) -> 1488 | DC37: =(DC34*$DM34+DC35*$DM35+DC36*$DM36)/$DM37 -> 0.66666667 | DD37: =SUM(DD34:DD36) -> 0 | DE37: =(DE34*$DM34+DE35*$DM35+DE36*$DM36)/$DM37 -> 0 | DF37: =SUM(DF34:DF36) -> 0 | DG37: =(DG34*$DM34+DG35*$DM35+DG36*$DM36)/$DM37 -> 0 | DH37: =SUM(DH34:DH36) -> 0 | DI37: =(DI34*$DM34+DI35*$DM35+DI36*$DM36)/$DM37 -> 0.33333333 | DJ37: =(DJ34*$DM34+DJ35*$DM35+DJ36*$DM36)/$DM37 -> 0.66666667 | DK37: =(DK34*$DM34+DK35*$DM35+DK36*$DM36)/$DM37 -> 0 | DL37: =SUM(DL34:DL36) -> 63 | DM37: =SUM(DM34:DM36) -> 63 | DN37: =SUM(DN34:DN36) -> 19 | DO37: =SUM(DC37,DE37,DG37,DI37,DK37) -> 1 | DR37: Total | DS37: =SUM(DS34:DS36) -> 696.35 | DT37: =SUM(DT34:DT36) -> 93.8 | DU37: =SUM(DU34:DU36) -> 602.55 | DV37: =SUM(DV34:DV36) -> 1535.65 | DW37: =(DW34*$EG34+DW35*$EG35+DW36*$EG36)/$EG37 -> 0.68801523 | DX37: =SUM(DX34:DX36) -> 0 | DY37: =(DY34*$EG34+DY35*$EG35+DY36*$EG36)/$EG37 -> 0 | DZ37: =SUM(DZ34:DZ36) -> 0 | EA37: =(EA34*$EG34+EA35*$EG35+EA36*$EG36)/$EG37 -> 0 | EB37: =SUM(EB34:EB36) -> 0 | EC37: =(EC34*$EG34+EC35*$EG35+EC36*$EG36)/$EG37 -> 0.31198477 | ED37: =(ED34*$EG34+ED35*$EG35+ED36*$EG36)/$EG37 -> 0.77895605 | EE37: =(EE34*$EG34+EE35*$EG35+EE36*$EG36)/$EG37 -> 0 | EF37: =SUM(EF34:EF36) -> 63 | EG37: =SUM(EG34:EG36) -> 63 | EH37: =SUM(EH34:EH36) -> 18 | EI37: =SUM(DW37,DY37,EA37,EC37,EE37) -> 1 | EL37: Total | EM37: =SUM(EM34:EM36) -> 625.5 | EN37: =SUM(EN34:EN36) -> 52.9 | EO37: =SUM(EO34:EO36) -> 572.6 | EP37: =SUM(EP34:EP36) -> 1390.5 | EQ37: =(EQ34*$FA34+EQ35*$FA35+EQ36*$FA36)/$FA37 -> 0.68973214 | ER37: =SUM(ER34:ER36) -> 0 | ES37: =(ES34*$FA34+ES35*$FA35+ES36*$FA36)/$FA37 -> 0 | ET37: =SUM(ET34:ET36) -> 0 | EU37: =(EU34*$FA34+EU35*$FA35+EU36*$FA36)/$FA37 -> 0 | EV37: =SUM(EV34:EV36) -> 0 | EW37: =(EW34*$FA34+EW35*$FA35+EW36*$FA36)/$FA37 -> 0.31026786 | EX37: =(EX34*$FA34+EX35*$FA35+EX36*$FA36)/$FA37 -> 0.82260228 | EY37: =(EY34*$FA34+EY35*$FA35+EY36*$FA36)/$FA37 -> 0 | EZ37: =SUM(EZ34:EZ36) -> 63 | FA37: =SUM(FA34:FA36) -> 63 | FB37: =SUM(FB34:FB36) -> 18 | FC37: =SUM(EQ37,ES37,EU37,EW37,EY37) -> 1 | FF37: Total | FG37: =SUM(FG34:FG36) -> 649.22 | FH37: =SUM(FH34:FH36) -> 38 | FI37: =SUM(FI34:FI36) -> 611.22 | FJ37: =SUM(FJ34:FJ36) -> 1582.78 | FK37: =(FK34*$FU34+FK35*$FU35+FK36*$FU36)/$FU37 -> 0.70913082 | FL37: =SUM(FL34:FL36) -> 0 | FM37: =(FM34*$FU34+FM35*$FU35+FM36*$FU36)/$FU37 -> 0 | FN37: =SUM(FN34:FN36) -> 0 | FO37: =(FO34*$FU34+FO35*$FU35+FO36*$FU36)/$FU37 -> 0 | FP37: =SUM(FP34:FP36) -> 0 | FQ37: =(FQ34*$FU34+FQ35*$FU35+FQ36*$FU36)/$FU37 -> 0.29086918 | FR37: =(FR34*$FU34+FR35*$FU35+FR36*$FU36)/$FU37 -> 0.90460411 | FS37: =(FS34*$FU34+FS35*$FU35+FS36*$FU36)/$FU37 -> 0 | FT37: =SUM(FT34:FT36) -> 63 | FU37: =SUM(FU34:FU36) -> 63 | FV37: =SUM(FV34:FV36) -> 18 | FW37: =SUM(FK37,FM37,FO37,FQ37,FS37) -> 1 | FZ37: Total | GA37: =SUM(GA34:GA36) -> 488.73 | GB37: =SUM(GB34:GB36) -> 136.03 | GC37: =SUM(GC34:GC36) -> 352.7 | GD37: =SUM(GD34:GD36) -> 1671.27 | GE37: =(GE34*$GO34+GE35*$GO35+GE36*$GO36)/$GO37 -> 0.77373611 | GF37: =SUM(GF34:GF36) -> 0 | GG37: =(GG34*$GO34+GG35*$GO35+GG36*$GO36)/$GO37 -> 0 | GH37: =SUM(GH34:GH36) -> 0 | GI37: =(GI34*$GO34+GI35*$GO35+GI36*$GO36)/$GO37 -> 0 | GJ37: =SUM(GJ34:GJ36) -> 0 | GK37: =(GK34*$GO34+GK35*$GO35+GK36*$GO36)/$GO37 -> 0.22626389 | GL37: =(GL34*$GO34+GL35*$GO35+GL36*$GO36)/$GO37 -> 0.8765496 | GM37: =(GM34*$GO34+GM35*$GO35+GM36*$GO36)/$GO37 -> 0 | GN37: =SUM(GN34:GN36) -> 63 | GO37: =SUM(GO34:GO36) -> 63 | GP37: =SUM(GP34:GP36) -> 18 | GQ37: =SUM(GE37,GG37,GI37,GK37,GM37) -> 1 | GT37: Total | GU37: =SUM(GU34:GU36) -> 744 | GV37: =SUM(GV34:GV36) -> 151.25 | GW37: =SUM(GW34:GW36) -> 592.75 | GX37: =SUM(GX34:GX36) -> 1488 | GY37: =(GY34*$HI34+GY35*$HI35+GY36*$HI36)/$HI37 -> 0.66666667 | GZ37: =SUM(GZ34:GZ36) -> 0 | HA37: =(HA34*$HI34+HA35*$HI35+HA36*$HI36)/$HI37 -> 0 | HB37: =SUM(HB34:HB36) -> 0 | HC37: =(HC34*$HI34+HC35*$HI35+HC36*$HI36)/$HI37 -> 0 | HD37: =SUM(HD34:HD36) -> 0 | HE37: =(HE34*$HI34+HE35*$HI35+HE36*$HI36)/$HI37 -> 0.33333333 | HF37: =(HF34*$HI34+HF35*$HI35+HF36*$HI36)/$HI37 -> 0.66666667 | HG37: =(HG34*$HI34+HG35*$HI35+HG36*$HI36)/$HI37 -> 0 | HH37: =SUM(HH34:HH36) -> 63 | HI37: =SUM(HI34:HI36) -> 63 | HJ37: =SUM(HJ34:HJ36) -> 18 | HK37: =SUM(GY37,HA37,HC37,HE37,HG37) -> 1 | HN37: Total | HO37: =SUM(HO34:HO36) -> 624.72 | HP37: =SUM(HP34:HP36) -> 245.37 | HQ37: =SUM(HQ34:HQ36) -> 379.35 | HR37: =SUM(HR34:HR36) -> 1535.28 | HS37: =(HS34*$ID34+HS35*$ID35+HS36*$ID36)/$ID37 -> 0.71077778 | HT37: =SUM(HT34:HT36) -> 0 | HU37: =(HU34*$ID34+HU35*$ID35+HU36*$ID36)/$ID37 -> 0 | HV37: =SUM(HV34:HV36) -> 0 | HW37: =(HW34*$ID34+HW35*$ID35+HW36*$ID36)/$ID37 -> 0 | HX37: =SUM(HX34:HX36) -> 0 | HY37: =SUM(HY34:HY36) -> 0 | HZ37: =(HZ34*$ID34+HZ35*$ID35+HZ36*$ID36)/$ID37 -> 0.28922222 | IA37: =(IA34*$ID34+IA35*$ID35+IA36*$ID36)/$ID37 -> 0.75990019 | IB37: =(IB34*$ID34+IB35*$ID35+IB36*$ID36)/$ID37 -> 0 | IC37: =SUM(IC34:IC36) -> 63 | ID37: =SUM(ID34:ID36) -> 63 | IE37: =SUM(IE34:IE36) -> 18 | IF37: =SUM(HS37,HU37,HW37,HZ37,IB37) -> 1
A38: JOBOS | B38: 1-2 | C38: 744 | D38: 169.1 | E38: 574.9 | F38: 0 | G38: =F38/$B$4 -> 0 | H38: 0 | I38: =H38/$B$4 -> 0 | J38: 0 | K38: =J38/$B$4 -> 0 | L38: 0 | M38: =(C38-L38)/$B$4 -> 1 | N38: =IF((AND(D38=0,F38=0)),0,(F38+L38)/(D38+F38)) -> 0 | O38: =L38/$B$4 -> 0 | P38: 21 | Q38: 20 | R38: 20 | S38: =SUM(G38,I38,K38,M38,O38) -> 1 | U38: JOBOS | V38: 1-2 | W38: 744 | X38: 169.7 | Y38: 574.3 | Z38: 0 | AA38: =Z38/$V$4 -> 0 | AB38: 0 | AC38: =AB38/$V$4 -> 0 | AD38: 0 | AE38: =AD38/$V$4 -> 0 | AF38: 0 | AG38: =(W38-AF38)/$V$4 -> 1 | AH38: =IF((AND(X38=0,Z38=0)),0,(Z38+AF38)/(X38+Z38)) -> 0 | AI38: =AF38/$V$4 -> 0 | AJ38: 21 | AK38: 20 | AL38: 20 | AM38: =SUM(AA38,AC38,AE38,AG38,AI38) -> 1 | AO38: JOBOS | AP38: 1-2 | AQ38: 720 | AR38: 79 | AS38: 641 | AT38: 0 | AU38: =AT38/$AP$4 -> 0 | AV38: 0 | AW38: =AV38/$AP$4 -> 0 | AX38: 0 | AY38: =AX38/$AP$4 -> 0 | AZ38: 0 | BA38: =(AQ38-AZ38)/$AP$4 -> 1 | BB38: =IF((AND(AR38=0,AT38=0)),0,(AT38+AZ38)/(AR38+AT38)) -> 0 | BC38: =AZ38/$AP$4 -> 0 | BD38: 21 | BE38: 20 | BF38: 20 | BG38: =SUM(AU38,AW38,AY38,BA38,BC38) -> 1 | BI38: JOBOS | BJ38: 1-2 | BK38: 739.4 | BL38: 235.2 | BM38: 504.2 | BN38: 4.6 | BO38: =BN38/$BJ$4 -> 0.0061827957 | BP38: 0 | BQ38: =BP38/$BJ$4 -> 0 | BR38: 0 | BS38: =BR38/$BJ$4 -> 0 | BT38: 0 | BU38: =(BK38-BT38)/$BJ$4 -> 0.9938172 | BV38: =IF((AND(BL38=0,BN38=0)),0,(BN38+BT38)/(BL38+BN38)) -> 0.019182652 | BW38: =BT38/$BJ$4 -> 0 | BX38: 21 | BY38: 20 | BZ38: 20 | CA38: =SUM(BO38,BQ38,BS38,BU38,BW38) -> 1 | CC38: JOBOS | CD38: 1-2 | CE38: 720 | CF38: 193.1 | CG38: 526.9 | CH38: 0 | CI38: =CH38/$CD$4 -> 0 | CJ38: 0 | CK38: =CJ38/$CD$4 -> 0 | CL38: 0 | CM38: =CL38/$CD$4 -> 0 | CN38: 0 | CO38: =(CE38-CN38)/$CD$4 -> 1 | CP38: =IF((AND(CF38=0,CH38=0)),0,(CH38+CN38)/(CF38+CH38)) -> 0 | CQ38: =CN38/$CD$4 -> 0 | CR38: 21 | CS38: 20 | CT38: 20 | CU38: =SUM(CI38,CK38,CM38,CO38,CQ38) -> 1 | CW38: JOBOS | CX38: 1-2 | CY38: 61 | CZ38: 18.7 | DA38: 42.3 | DB38: 683 | DC38: =DB38/$CX$4 -> 0.91801075 | DD38: 0 | DE38: =DD38/$CX$4 -> 0 | DF38: 0 | DG38: =DF38/$CX$4 -> 0 | DH38: 0 | DI38: =(CY38-DH38)/$CX$4 -> 0.081989247 | DJ38: =IF((AND(CZ38=0,DB38=0)),0,(DB38+DH38)/(CZ38+DB38)) -> 0.97335043 | DK38: =DH38/$CX$4 -> 0 | DL38: 21 | DM38: 20 | DN38: 20 | DO38: =SUM(DC38,DE38,DG38,DI38,DK38) -> 1 | DQ38: JOBOS | DR38: 1-2 | DS38: 0 | DT38: 0 | DU38: 0 | DV38: 744 | DW38: =DV38/$DR$4 -> 1 | DX38: 0 | DY38: =DX38/$DR$4 -> 0 | DZ38: 0 | EA38: =DZ38/$DR$4 -> 0 | EB38: 0 | EC38: =(DS38-EB38)/$DR$4 -> 0 | ED38: =IF((AND(DT38=0,DV38=0)),0,(DV38+EB38)/(DT38+DV38)) -> 1 | EE38: =EB38/$DR$4 -> 0 | EF38: 21 | EG38: 20 | EH38: 0 | EI38: =SUM(DW38,DY38,EA38,EC38,EE38) -> 1 | EK38: JOBOS | EL38: 1-2 | EM38: 0 | EN38: 0 | EO38: 0 | EP38: 672 | EQ38: =EP38/$EL$4 -> 1 | ER38: 0 | ES38: =ER38/$EL$4 -> 0 | ET38: 0 | EU38: =ET38/$EL$4 -> 0 | EV38: 0 | EW38: =(EM38-EV38)/$EL$4 -> 0 | EX38: =IF((AND(EN38=0,EP38=0)),0,(EP38+EV38)/(EN38+EP38)) -> 1 | EY38: =EV38/$EL$4 -> 0 | EZ38: 21 | FA38: 20 | FB38: 0 | FC38: =SUM(EQ38,ES38,EU38,EW38,EY38) -> 1 | FE38: JOBOS | FF38: 1-2 | FG38: 555.25 | FH38: 31.5 | FI38: 523.75 | FJ38: 188.75 | FK38: =FJ38/$FF$4 -> 0.25369624 | FL38: 0 | FM38: =FL38/$FF$4 -> 0 | FN38: 0 | FO38: =FN38/$FF$4 -> 0 | FP38: 0 | FQ38: =(FG38-FP38)/$FF$4 -> 0.74630376 | FR38: =IF((AND(FH38=0,FJ38=0)),0,(FJ38+FP38)/(FH38+FJ38)) -> 0.8569807 | FS38: =FP38/$FF$4 -> 0 | FT38: 21 | FU38: 20 | FV38: 20 | FW38: =SUM(FK38,FM38,FO38,FQ38,FS38) -> 1 | FY38: JOBOS | FZ38: 1-2 | GA38: 713.8 | GB38: 69.1 | GC38: 644.7 | GD38: 0 | GE38: =GD38/$FZ$4 -> 0 | GF38: 0 | GG38: =GF38/$FZ$4 -> 0 | GH38: 6.2 | GI38: =GH38/$FZ$4 -> 0.0086111111 | GJ38: 0 | GK38: =(GA38-GJ38)/$FZ$4 -> 0.99138889 | GL38: =IF((AND(GB38=0,GD38=0)),0,(GD38+GJ38)/(GB38+GD38)) -> 0 | GM38: =GJ38/$FZ$4 -> 0 | GN38: 21 | GO38: 20 | GP38: 18.94356 | GQ38: =SUM(GE38,GG38,GI38,GK38,GM38) -> 1 | GS38: JOBOS | GT38: 1-2 | GU38: 735.9 | GV38: 80.9 | GW38: 655 | GX38: 8.1 | GY38: =GX38/$GT$4 -> 0.010887097 | GZ38: 0 | HA38: =GZ38/$GT$4 -> 0 | HB38: 0 | HC38: =HB38/$GT$4 -> 0 | HD38: 0 | HE38: =(GU38-HD38)/$GT$4 -> 0.9891129 | HF38: =IF((AND(GV38=0,GX38=0)),0,(GX38+HD38)/(GV38+GX38)) -> 0.091011236 | HG38: =HD38/$GT$4 -> 0 | HH38: 21 | HI38: 20 | HJ38: 18.751545 | HK38: =SUM(GY38,HA38,HC38,HE38,HG38) -> 1 | HM38: JOBOS | HN38: 1-2 | HO38: 674.37 | HP38: 121.8 | HQ38: 552.57 | HR38: 45.63 | HS38: =HR38/$HN$4 -> 0.063375 | HT38: 0 | HU38: =HT38/$HN$4 -> 0 | HV38: 0 | HW38: =HV38/$HN$4 -> 0 | HX38: 0 | HY38: 0 | HZ38: =(HO38-HY38)/$HN$4 -> 0.936625 | IA38: =IF((AND(HP38=0,HR38=0)),0,(HR38+HX38+HY38)/(HP38+HR38)) -> 0.2725318 | IB38: =(HY38+HX38)/$HN$4 -> 0 | IC38: 21 | ID38: 20 | IE38: 18.62069 | IF38: =SUM(HS38,HU38,HW38,HZ38,IB38) -> 1
B39: Total | C39: =SUM(C38:C38) -> 744 | D39: =SUM(D38:D38) -> 169.1 | E39: =SUM(E38:E38) -> 574.9 | F39: =SUM(F38:F38) -> 0 | G39: =(G38*Q38)/Q39 -> 0 | H39: =SUM(H38:H38) -> 0 | I39: =(I38*Q38)/Q39 -> 0 | J39: =SUM(J38:J38) -> 0 | K39: =(K38*Q38)/Q39 -> 0 | L39: =SUM(L38:L38) -> 0 | M39: =(M38*Q38)/Q39 -> 1 | N39: =(N38*Q38)/Q39 -> 0 | O39: =(O38*Q38)/Q39 -> 0 | P39: =SUM(P38:P38) -> 21 | Q39: =SUM(Q38:Q38) -> 20 | R39: =SUM(R38:R38) -> 20 | S39: =SUM(G39,I39,K39,M39,O39) -> 1 | V39: Total | W39: =SUM(W38) -> 744 | X39: =SUM(X38) -> 169.7 | Y39: =SUM(Y38) -> 574.3 | Z39: =SUM(Z38) -> 0 | AA39: =(AA38*$AK$38)/$AK$39 -> 0 | AB39: =SUM(AB38) -> 0 | AC39: =(AC38*$AK$38)/$AK$39 -> 0 | AD39: =SUM(AD38) -> 0 | AE39: =(AE38*$AK$38)/$AK$39 -> 0 | AF39: =SUM(AF38) -> 0 | AG39: =(AG38*$AK$38)/$AK$39 -> 1 | AH39: =(AH38*$AK$38)/$AK$39 -> 0 | AI39: =(AI38*$AK$38)/$AK$39 -> 0 | AJ39: =SUM(AJ38:AJ38) -> 21 | AK39: =SUM(AK38:AK38) -> 20 | AL39: =SUM(AL38:AL38) -> 20 | AM39: =SUM(AA39,AC39,AE39,AG39,AI39) -> 1 | AP39: Total | AQ39: =SUM(AQ38) -> 720 | AR39: =SUM(AR38) -> 79 | AS39: =SUM(AS38) -> 641 | AT39: =SUM(AT38) -> 0 | AU39: =(AU38*$BE38)/$BE39 -> 0 | AV39: =SUM(AV38) -> 0 | AW39: =(AW38*$BE38)/$BE39 -> 0 | AX39: =SUM(AX38) -> 0 | AY39: =(AY38*$BE38)/$BE39 -> 0 | AZ39: =SUM(AZ38) -> 0 | BA39: =(BA38*BE38)/BE39 -> 1 | BB39: =(BB38*$BE38)/$BE39 -> 0 | BC39: =(BC38*$BE38)/$BE39 -> 0 | BD39: =SUM(BD38:BD38) -> 21 | BE39: =SUM(BE38:BE38) -> 20 | BF39: =SUM(BF38:BF38) -> 20 | BG39: =SUM(AU39,AW39,AY39,BA39,BC39) -> 1 | BJ39: Total | BK39: =SUM(BK38) -> 739.4 | BL39: =SUM(BL38) -> 235.2 | BM39: =SUM(BM38) -> 504.2 | BN39: =SUM(BN38) -> 4.6 | BO39: =(BO38*$BY38)/$BY39 -> 0.0061827957 | BP39: =SUM(BP38) -> 0 | BQ39: =(BQ38*$BY38)/$BY39 -> 0 | BR39: =SUM(BR38) -> 0 | BS39: =(BS38*$BY38)/$BY39 -> 0 | BT39: =SUM(BT38) -> 0 | BU39: =(BU38*$BY38)/$BY39 -> 0.9938172 | BV39: =(BV38*$BY38)/$BY39 -> 0.019182652 | BW39: =(BW38*$BY38)/$BY39 -> 0 | BX39: =SUM(BX38:BX38) -> 21 | BY39: =SUM(BY38:BY38) -> 20 | BZ39: =SUM(BZ38:BZ38) -> 20 | CA39: =SUM(BO39,BQ39,BS39,BU39,BW39) -> 1 | CD39: Total | CE39: =SUM(CE38) -> 720 | CF39: =SUM(CF38) -> 193.1 | CG39: =SUM(CG38) -> 526.9 | CH39: =SUM(CH38) -> 0 | CI39: =(CI38*$CS38)/$CS39 -> 0 | CJ39: =SUM(CJ38) -> 0 | CK39: =(CK38*$CS38)/$CS39 -> 0 | CL39: =SUM(CL38) -> 0 | CM39: =(CM38*$CS38)/$CS39 -> 0 | CN39: =SUM(CN38) -> 0 | CO39: =(CO38*$CS38)/$CS39 -> 1 | CP39: =(CP38*$CS38)/$CS39 -> 0 | CQ39: =(CQ38*$CS38)/$CS39 -> 0 | CR39: =SUM(CR38:CR38) -> 21 | CS39: =SUM(CS38:CS38) -> 20 | CT39: =SUM(CT38:CT38) -> 20 | CU39: =SUM(CI39,CK39,CM39,CO39,CQ39) -> 1 | CX39: Total | CY39: =SUM(CY38) -> 61 | CZ39: =SUM(CZ38) -> 18.7 | DA39: =SUM(DA38) -> 42.3 | DB39: =SUM(DB38) -> 683 | DC39: =(DC38*$DM38)/$DM39 -> 0.91801075 | DD39: =SUM(DD38) -> 0 | DE39: =(DE38*$DM38)/$DM39 -> 0 | DF39: =SUM(DF38) -> 0 | DG39: =(DG38*$DM38)/$DM39 -> 0 | DH39: =SUM(DH38) -> 0 | DI39: =(DI38*$DM38)/$DM39 -> 0.081989247 | DJ39: =(DJ38*$DM38)/$DM39 -> 0.97335043 | DK39: =(DK38*$DM38)/$DM39 -> 0 | DL39: =SUM(DL38:DL38) -> 21 | DM39: =SUM(DM38:DM38) -> 20 | DN39: =SUM(DN38:DN38) -> 20 | DO39: =SUM(DC39,DE39,DG39,DI39,DK39) -> 1 | DR39: Total | DS39: =SUM(DS38) -> 0 | DT39: =SUM(DT38) -> 0 | DU39: =SUM(DU38) -> 0 | DV39: =SUM(DV38) -> 744 | DW39: =(DW38*$EG38)/$EG39 -> 1 | DX39: =SUM(DX38) -> 0 | DY39: =(DY38*$EG38)/$EG39 -> 0 | DZ39: =SUM(DZ38) -> 0 | EA39: =(EA38*$EG38)/$EG39 -> 0 | EB39: =SUM(EB38) -> 0 | EC39: =(EC38*$EG38)/$EG39 -> 0 | ED39: =(ED38*$EG38)/$EG39 -> 1 | EE39: =(EE38*$EG38)/$EG39 -> 0 | EF39: =SUM(EF38:EF38) -> 21 | EG39: =SUM(EG38:EG38) -> 20 | EH39: =SUM(EH38:EH38) -> 0 | EI39: =SUM(DW39,DY39,EA39,EC39,EE39) -> 1 | EL39: Total | EM39: =SUM(EM38) -> 0 | EN39: =SUM(EN38) -> 0 | EO39: =SUM(EO38) -> 0 | EP39: =SUM(EP38) -> 672 | EQ39: =(EQ38*$FA38)/$FA39 -> 1 | ER39: =SUM(ER38) -> 0 | ES39: =(ES38*$FA38)/$FA39 -> 0 | ET39: =SUM(ET38) -> 0 | EU39: =(EU38*$FA38)/$FA39 -> 0 | EV39: =SUM(EV38) -> 0 | EW39: =(EW38*$FA38)/$FA39 -> 0 | EX39: =(EX38*$FA38)/$FA39 -> 1 | EY39: =(EY38*$FA38)/$FA39 -> 0 | EZ39: =SUM(EZ38:EZ38) -> 21 | FA39: =SUM(FA38:FA38) -> 20 | FB39: =SUM(FB38) -> 0 | FC39: =SUM(EQ39,ES39,EU39,EW39,EY39) -> 1 | FF39: Total | FG39: =SUM(FG38) -> 555.25 | FH39: =SUM(FH38) -> 31.5 | FI39: =SUM(FI38) -> 523.75 | FJ39: =SUM(FJ38) -> 188.75 | FK39: =(FK38*$FU38)/$FU39 -> 0.25369624 | FL39: =SUM(FL38) -> 0 | FM39: =(FM38*$FU38)/$FU39 -> 0 | FN39: =SUM(FN38) -> 0 | FO39: =(FO38*$FU38)/$FU39 -> 0 | FP39: =SUM(FP38) -> 0 | FQ39: =(FQ38*$FU38)/$FU39 -> 0.74630376 | FR39: =(FR38*$FU38)/$FU39 -> 0.8569807 | FS39: =(FS38*$FU38)/$FU39 -> 0 | FT39: =SUM(FT38:FT38) -> 21 | FU39: =SUM(FU38:FU38) -> 20 | FV39: =SUM(FV38:FV38) -> 20 | FW39: =SUM(FK39,FM39,FO39,FQ39,FS39) -> 1 | FZ39: Total | GA39: =SUM(GA38) -> 713.8 | GB39: =SUM(GB38) -> 69.1 | GC39: =SUM(GC38) -> 644.7 | GD39: =SUM(GD38) -> 0 | GE39: =(GE38*$GO38)/$GO39 -> 0 | GF39: =SUM(GF38) -> 0 | GG39: =(GG38*$GO38)/$GO39 -> 0 | GH39: =SUM(GH38) -> 6.2 | GI39: =(GI38*$GO38)/$GO39 -> 0.0086111111 | GJ39: =SUM(GJ38) -> 0 | GK39: =(GK38*$GO38)/$GO39 -> 0.99138889 | GL39: =(GL38*$GO38)/$GO39 -> 0 | GM39: =(GM38*$GO38)/$GO39 -> 0 | GN39: =SUM(GN38:GN38) -> 21 | GO39: =SUM(GO38:GO38) -> 20 | GP39: =SUM(GP38:GP38) -> 18.94356 | GQ39: =SUM(GE39,GG39,GI39,GK39,GM39) -> 1 | GT39: Total | GU39: =SUM(GU38:GU38) -> 735.9 | GV39: =SUM(GV38:GV38) -> 80.9 | GW39: =SUM(GW38:GW38) -> 655 | GX39: =SUM(GX38:GX38) -> 8.1 | GY39: =(GY38*$HI38)/$HI39 -> 0.010887097 | GZ39: =SUM(GZ38:GZ38) -> 0 | HA39: =(HA38*$HI38)/$HI39 -> 0 | HB39: =SUM(HB38:HB38) -> 0 | HC39: =(HC38*$HI38)/$HI39 -> 0 | HD39: =SUM(HD38:HD38) -> 0 | HE39: =(HE38*$HI38)/$HI39 -> 0.9891129 | HF39: =(HF38*$HI38)/$HI39 -> 0.091011236 | HG39: =(HG38*$HI38)/$HI39 -> 0 | HH39: =SUM(HH38:HH38) -> 21 | HI39: =SUM(HI38:HI38) -> 20 | HJ39: =SUM(HJ38:HJ38) -> 18.751545 | HK39: =SUM(GY39,HA39,HC39,HE39,HG39) -> 1 | HN39: Total | HO39: =SUM(HO38) -> 674.37 | HP39: =SUM(HP38) -> 121.8 | HQ39: =SUM(HQ38) -> 552.57 | HR39: =SUM(HR38) -> 45.63 | HS39: =(HS38*$ID38)/$ID39 -> 0.063375 | HT39: =SUM(HT38) -> 0 | HU39: =(HU38*$ID38)/$ID39 -> 0 | HV39: =SUM(HV38) -> 0 | HW39: =(HW38*$ID38)/$ID39 -> 0 | HX39: =SUM(HX38) -> 0 | HY39: =SUM(HY38) -> 0 | HZ39: =(HZ38*$ID38)/$ID39 -> 0.936625 | IA39: =(IA38*$ID38)/$ID39 -> 0.2725318 | IB39: =(IB38*$ID38)/$ID39 -> 0 | IC39: =SUM(IC38:IC38) -> 21 | ID39: =SUM(ID38:ID38) -> 20 | IE39: =SUM(IE38:IE38) -> 18.62069 | IF39: =SUM(HS39,HU39,HW39,HZ39,IB39) -> 1
