Workbook

Sheet KPI_FY 25-26
A3: JULY 2025 | U3: AUGUST 2025 | AO3: SEPTEMBER 2025 | BI3: OCTOBER 2025 | CC3: NOVEMBER 2025 | CW3: DECEMBER 2025 | DQ3: JANUARY 2026 | EK3: FEBRUARY 2026 | FE3: MARCH 2026 | FY3: APRIL 2026 | GS3: MAY 2026 | HM3: JUNE 2026
A4: MONTH HOURS: | B4: 744 | U4: MONTH HOURS: | V4: 744 | AO4: MONTH HOURS: | AP4: 720 | BI4: MONTH HOURS: | BJ4: 744 | CC4: MONTH HOURS: | CD4: 720 | CW4: MONTH HOURS: | CX4: 744 | DQ4: MONTH HOURS: | DR4: 744 | EK4: MONTH HOURS: | EL4: 672 | FE4: MONTH HOURS: | FF4: 744 | FY4: MONTH HOURS: | FZ4: 720 | GS4: MONTH HOURS: | GT4: 744 | HM4: MONTH HOURS: | HN4: 720
A5: PLANT | B5: UNIT | C5: AH | D5: SH | E5: RSH | F5: FOH | G5: FOF | H5: POH | I5: POF | J5: MOH | K5: MOF | L5: EUDH | M5: EAF | N5: EFOR | O5: EOF | P5: Nameplate Capacity | Q5: APT Capacity | R5: Available Capacity | S5: KPI Acum | U5: PLANT | V5: UNIT | W5: AH | X5: SH | Y5: RSH | Z5: FOH | AA5: FOF | AB5: POH | AC5: POF | AD5: MOH | AE5: MOF | AF5: EUDH | AG5: EAF | AH5: EFOR | AI5: EOF | AJ5: Nameplate Capacity | AK5: APT Capacity | AL5: Available Capacity | AM5: KPI Acum | AO5: PLANT | AP5: UNIT | AQ5: AH | AR5: SH | AS5: RSH | AT5: FOH | AU5: FOF | AV5: POH | AW5: POF | AX5: MOH | AY5: MOF | AZ5: EUDH | BA5: EAF | BB5: EFOR | BC5: EOF | BD5: Nameplate Capacity | BE5: APT Capacity | BF5: Available Capacity | BG5: KPI Acum | BI5: PLANT | BJ5: UNIT | BK5: AH | BL5: SH | BM5: RSH | BN5: FOH | BO5: FOF | BP5: POH | BQ5: POF | BR5: MOH | BS5: MOF | BT5: EUDH | BU5: EAF | BV5: EFOR | BW5: EOF | BX5: Nameplate Capacity | BY5: APT Capacity | BZ5: Available Capacity | CA5: KPI Acum | CC5: PLANT | CD5: UNIT | CE5: AH | CF5: SH | CG5: RSH | CH5: FOH | CI5: FOF | CJ5: POH | CK5: POF | CL5: MOH | CM5: MOF | CN5: EUDH | CO5: EAF | CP5: EFOR | CQ5: EOF | CR5: Nameplate Capacity | CS5: APT Capacity | CT5: Available Capacity | CU5: KPI Acum | CW5: PLANT | CX5: UNIT | CY5: AH | CZ5: SH | DA5: RSH | DB5: FOH | DC5: FOF | DD5: POH | DE5: POF | DF5: MOH | DG5: MOF | DH5: EUDH | DI5: EAF | DJ5: EFOR | DK5: EOF | DL5: Nameplate Capacity | DM5: APT Capacity | DN5: Available Capacity | DO5: KPI Acum | DQ5: PLANT | DR5: UNIT | DS5: AH | DT5: SH | DU5: RSH | DV5: FOH | DW5: FOF | DX5: POH | DY5: POF | DZ5: MOH | EA5: MOF | EB5: EUDH | EC5: EAF | ED5: EFOR | EE5: EOF | EF5: Nameplate Capacity | EG5: APT Capacity | EH5: Available Capacity | EI5: KPI Acum | EK5: PLANT | EL5: UNIT | EM5: AH | EN5: SH | EO5: RSH | EP5: FOH | EQ5: FOF | ER5: POH | ES5: POF | ET5: MOH | EU5: MOF | EV5: EUDH | EW5: EAF | EX5: EFOR | EY5: EOF | EZ5: Nameplate Capacity | FA5: APT Capacity | FB5: Available Capacity | FC5: KPI Acum | FE5: PLANT | FF5: UNIT | FG5: AH | FH5: SH | FI5: RSH | FJ5: FOH | FK5: FOF | FL5: POH | FM5: POF | FN5: MOH | FO5: MOF | FP5: EUDH | FQ5: EAF | FR5: EFOR | FS5: EOF | FT5: Nameplate Capacity | FU5: APT Capacity | FV5: Available Capacity | FW5: KPI Acum | FY5: PLANT | FZ5: UNIT | GA5: AH | GB5: SH | GC5: RSH | GD5: FOH | GE5: FOF | GF5: POH | GG5: POF | GH5: MOH | GI5: MOF | GJ5: EUDH | GK5: EAF | GL5: EFOR | GM5: EOF | GN5: Nameplate Capacity | GO5: APT Capacity | GP5: Available Capacity | GQ5: KPI Acum | GS5: PLANT | GT5: UNIT | GU5: AH | GV5: SH | GW5: RSH | GX5: FOH | GY5: FOF | GZ5: POH | HA5: POF | HB5: MOH | HC5: MOF | HD5: EUDH | HE5: EAF | HF5: EFOR | HG5: EOF | HH5: Nameplate Capacity | HI5: APT Capacity | HJ5: Available Capacity | HK5: KPI Acum | HM5: PLANT | HN5: UNIT | HO5: AH | HP5: SH | HQ5: RSH | HR5: FOH | HS5: FOF | HT5: POH | HU5: POF | HV5: MOH | HW5: MOF | HX5: EMDH | HY5: EUDH | HZ5: EAF | IA5: EFOR | IB5: EOF | IC5: Nameplate Capacity | ID5: APT Capacity | IE5: Available Capacity | IF5: KPI Acum
A6: SAN | B6: CT 5 | C6: 726.4 | D6: 726.4 | E6: 0 | F6: 0 | G6: =F6/$B$4 -> 0 | H6: 0 | I6: =H6/$B$4 -> 0 | J6: 17.6 | K6: =J6/$B$4 -> 0.023655914 | L6: ='[1]UNIT DATA'!$P$2 -> 57.773 | M6: =(C6-L6)/$B$4 -> 0.8986922 | N6: =IF((AND(D6=0,F6=0)),0,(F6+L6)/(D6+F6)) -> 0.079533315 | O6: =L6/$B$4 -> 0.077651882 | P6: 160 | Q6: 153 | R6: 156 | S6: =SUM(G6,I6,K6,M6,O6) -> 1 | U6: SAN | V6: CT 5 | W6: 667.4 | X6: 667.4 | Y6: 0 | Z6: 0 | AA6: =Z6/$V$4 -> 0 | AB6: 0 | AC6: =AB6/$V$4 -> 0 | AD6: 76.6 | AE6: =AD6/$V$4 -> 0.10295699 | AF6: 0 | AG6: =(W6-AF6)/$V$4 -> 0.89704301 | AH6: =IF((AND(X6=0,Z6=0)),0,(Z6+AF6)/(X6+Z6)) -> 0 | AI6: =AF6/$V$4 -> 0 | AJ6: 160 | AK6: 153 | AL6: 151 | AM6: =SUM(AA6,AC6,AE6,AG6,AI6) -> 1 | AO6: SAN | AP6: CT 5 | AQ6: 653.83 | AR6: 653.83 | AS6: 0 | AT6: 18.7 | AU6: =AT6/$AP$4 -> 0.025972222 | AV6: 0 | AW6: =AV6/$AP$4 -> 0 | AX6: 47.47 | AY6: =AX6/$AP$4 -> 0.065930556 | AZ6: 0 | BA6: =(AQ6-AZ6)/$AP$4 -> 0.90809722 | BB6: =IF((AND(AR6=0,AT6=0)),0,(AT6+AZ6)/(AR6+AT6)) -> 0.027805451 | BC6: =AZ6/$AP$4 -> 0 | BD6: 160 | BE6: 153 | BF6: 150 | BG6: =SUM(AU6,AW6,AY6,BA6,BC6) -> 1 | BI6: SAN | BJ6: CT 5 | BK6: 656.1 | BL6: 656.1 | BM6: 0 | BN6: 87.9 | BO6: =BN6/$BJ$4 -> 0.11814516 | BP6: 0 | BQ6: =BP6/$BJ$4 -> 0 | BR6: 0 | BS6: =BR6/$BJ$4 -> 0 | BT6: 35.99 | BU6: =(BK6-BT6)/$BJ$4 -> 0.83348118 | BV6: =IF((AND(BL6=0,BN6=0)),0,(BN6+BT6)/(BL6+BN6)) -> 0.16651882 | BW6: =BT6/$BJ$4 -> 0.048373656 | BX6: 160 | BY6: 153 | BZ6: 150 | CA6: =SUM(BO6,BQ6,BS6,BU6,BW6) -> 1 | CC6: SAN | CD6: CT 5 | CE6: 432.8 | CF6: 432.8 | CG6: 0 | CH6: 264.1 | CI6: =CH6/$CD$4 -> 0.36680556 | CJ6: 0 | CK6: =CJ6/$CD$4 -> 0 | CL6: 23.1 | CM6: =CL6/$CD$4 -> 0.032083333 | CN6: 7.96 | CO6: =(CE6-CN6)/$CD$4 -> 0.59005556 | CP6: =IF((AND(CF6=0,CH6=0)),0,(CH6+CN6)/(CF6+CH6)) -> 0.390386 | CQ6: =CN6/$CD$4 -> 0.011055556 | CR6: 160 | CS6: 153 | CT6: 153 | CU6: =SUM(CI6,CK6,CM6,CO6,CQ6) -> 1 | CW6: SAN | CX6: CT 5 | CY6: 198.6 | CZ6: 175.72 | DA6: 22.88 | DB6: 545.4 | DC6: =DB6/$CX$4 -> 0.73306452 | DD6: 0 | DE6: =DD6/$CX$4 -> 0 | DF6: 0 | DG6: =DF6/$CX$4 -> 0 | DH6: 14.91 | DI6: =(CY6-DH6)/$CX$4 -> 0.24689516 | DJ6: =IF((AND(CZ6=0,DB6=0)),0,(DB6+DH6)/(CZ6+DB6)) -> 0.77699967 | DK6: =DH6/$CX$4 -> 0.020040323 | DL6: 160 | DM6: 153 | DN6: 125 | DO6: =SUM(DC6,DE6,DG6,DI6,DK6) -> 1 | DQ6: SAN | DR6: CT 5 | DS6: 739.75 | DT6: 739.75 | DU6: 0 | DV6: 4.25 | DW6: =DV6/$DR$4 -> 0.0057123656 | DX6: 0 | DY6: =DX6/$DR$4 -> 0 | DZ6: 0 | EA6: =DZ6/$DR$4 -> 0 | EB6: 113.2 | EC6: =(DS6-EB6)/$DR$4 -> 0.8421371 | ED6: =IF((AND(DT6=0,DV6=0)),0,(DV6+EB6)/(DT6+DV6)) -> 0.1578629 | EE6: =EB6/$DR$4 -> 0.15215054 | EF6: 160 | EG6: 153 | EH6: 125 | EI6: =SUM(DW6,DY6,EA6,EC6,EE6) -> 1 | EK6: SAN | EL6: CT 5 | EM6: 668.7 | EN6: 668.7 | EO6: 0 | EP6: 3.3 | EQ6: =EP6/$EL$4 -> 0.0049107143 | ER6: 0 | ES6: =ER6/$EL$4 -> 0 | ET6: 0 | EU6: =ET6/$EL$4 -> 0 | EV6: 28.56 | EW6: =(EM6-EV6)/$EL$4 -> 0.95258929 | EX6: =IF((AND(EN6=0,EP6=0)),0,(EP6+EV6)/(EN6+EP6)) -> 0.047410714 | EY6: =EV6/$EL$4 -> 0.0425 | EZ6: 160 | FA6: 153 | FB6: 160 | FC6: =SUM(EQ6,ES6,EU6,EW6,EY6) -> 1 | FE6: SAN | FF6: CT 5 | FG6: 666.84 | FH6: 666.84 | FI6: 0 | FJ6: 12.09 | FK6: =FJ6/$FF$4 -> 0.01625 | FL6: 0 | FM6: =FL6/$FF$4 -> 0 | FN6: 65.07 | FO6: =FN6/$FF$4 -> 0.087459677 | FP6: 41.13 | FQ6: =(FG6-FP6)/$FF$4 -> 0.84100806 | FR6: =IF((AND(FH6=0,FJ6=0)),0,(FJ6+FP6)/(FH6+FJ6)) -> 0.078388052 | FS6: =FP6/$FF$4 -> 0.055282258 | FT6: 160 | FU6: 153 | FV6: 160 | FW6: =SUM(FK6,FM6,FO6,FQ6,FS6) -> 1 | FY6: SAN | FZ6: CT 5 | GA6: 713.85 | GB6: 713.85 | GC6: 0 | GD6: 6.15 | GE6: =GD6/$FZ$4 -> 0.0085416667 | GF6: 0 | GG6: =GF6/$FZ$4 -> 0 | GH6: 0 | GI6: =GH6/$FZ$4 -> 0 | GJ6: 0 | GK6: =(GA6-GJ6)/$FZ$4 -> 0.99145833 | GL6: =IF((AND(GB6=0,GD6=0)),0,(GD6+GJ6)/(GB6+GD6)) -> 0.0085416667 | GM6: =GJ6/$FZ$4 -> 0 | GN6: 160 | GO6: 153 | GP6: 160 | GQ6: =SUM(GE6,GG6,GI6,GK6,GM6) -> 1 | GS6: SAN | GT6: CT 5 | GU6: 724.18 | GV6: 724.18 | GW6: 0 | GX6: 0 | GY6: =GX6/$GT$4 -> 0 | GZ6: 0 | HA6: =GZ6/$GT$4 -> 0 | HB6: 19.82 | HC6: =HB6/$GT$4 -> 0.026639785 | HD6: 0 | HE6: =(GU6-HD6)/$GT$4 -> 0.97336022 | HF6: =IF((AND(GV6=0,GX6=0)),0,(GX6+HD6)/(GV6+GX6)) -> 0 | HG6: =HD6/$GT$4 -> 0 | HH6: 160 | HI6: 153 | HJ6: 160 | HK6: =SUM(GY6,HA6,HC6,HE6,HG6) -> 1 | HM6: SAN | HN6: CT 5 | HO6: 667.64 | HP6: 667.64 | HQ6: 0 | HR6: 33.28 | HS6: =HR6/$HN$4 -> 0.046222222 | HT6: 0 | HU6: =HT6/$HN$4 -> 0 | HV6: 19.08 | HW6: =HV6/$HN$4 -> 0.0265 | HX6: 0 | HY6: 0 | HZ6: =(HO6-HX6-HY6)/$HN$4 -> 0.92727778 | IA6: =IF((AND(HP6=0,HR6=0)),0,(HR6+HX6+HY6)/(HP6+HR6)) -> 0.047480454 | IB6: =(HY6+HX6)/$HN$4 -> 0 | IC6: 160 | ID6: 153 | IE6: 160 | IF6: =SUM(HS6,HU6,HW6,HZ6,IB6) -> 1
A7: JUAN | B7: ST 5 | C7: 724.9 | D7: 724.9 | E7: 0 | F7: 0 | G7: =F7/$B$4 -> 0 | H7: 0 | I7: =H7/$B$4 -> 0 | J7: 19.1 | K7: =J7/$B$4 -> 0.025672043 | L7: ='[1]UNIT DATA'!$P$3 -> 48.165 | M7: =(C7-L7)/$B$4 -> 0.90959005 | N7: =IF((AND(D7=0,F7=0)),0,(F7+L7)/(D7+F7)) -> 0.066443647 | O7: =L7/$B$4 -> 0.064737903 | P7: 60 | Q7: 52 | R7: 53 | S7: =SUM(G7,I7,K7,M7,O7) -> 1 | U7: JUAN | V7: ST 5 | W7: 656.5 | X7: 656.5 | Y7: 0 | Z7: 6.1 | AA7: =Z7/$V$4 -> 0.0081989247 | AB7: 0 | AC7: =AB7/$V$4 -> 0 | AD7: 81.4 | AE7: =AD7/$V$4 -> 0.1094086 | AF7: 0 | AG7: =(W7-AF7)/$V$4 -> 0.88239247 | AH7: =IF((AND(X7=0,Z7=0)),0,(Z7+AF7)/(X7+Z7)) -> 0.0092061576 | AI7: =AF7/$V$4 -> 0 | AJ7: 60 | AK7: 52 | AL7: 53 | AM7: =SUM(AA7,AC7,AE7,AG7,AI7) -> 1 | AO7: JUAN | AP7: ST 5 | AQ7: 636.9 | AR7: 636.9 | AS7: 0 | AT7: 21.2 | AU7: =AT7/$AP$4 -> 0.029444444 | AV7: 0 | AW7: =AV7/$AP$4 -> 0 | AX7: 61.9 | AY7: =AX7/$AP$4 -> 0.085972222 | AZ7: 0 | BA7: =(AQ7-AZ7)/$AP$4 -> 0.88458333 | BB7: =IF((AND(AR7=0,AT7=0)),0,(AT7+AZ7)/(AR7+AT7)) -> 0.032213949 | BC7: =AZ7/$AP$4 -> 0 | BD7: 60 | BE7: 52 | BF7: 50 | BG7: =SUM(AU7,AW7,AY7,BA7,BC7) -> 1 | BI7: JUAN | BJ7: ST 5 | BK7: 647.9 | BL7: 647.9 | BM7: 0 | BN7: 96.1 | BO7: =BN7/$BJ$4 -> 0.12916667 | BP7: 0 | BQ7: =BP7/$BJ$4 -> 0 | BR7: 0 | BS7: =BR7/$BJ$4 -> 0 | BT7: 32.96 | BU7: =(BK7-BT7)/$BJ$4 -> 0.82653226 | BV7: =IF((AND(BL7=0,BN7=0)),0,(BN7+BT7)/(BL7+BN7)) -> 0.17346774 | BW7: =BT7/$BJ$4 -> 0.044301075 | BX7: 60 | BY7: 52 | BZ7: 50 | CA7: =SUM(BO7,BQ7,BS7,BU7,BW7) -> 1 | CC7: JUAN | CD7: ST 5 | CE7: 424.8 | CF7: 424.8 | CG7: 0 | CH7: 264.4 | CI7: =CH7/$CD$4 -> 0.36722222 | CJ7: 0 | CK7: =CJ7/$CD$4 -> 0 | CL7: 30.8 | CM7: =CL7/$CD$4 -> 0.042777778 | CN7: 0 | CO7: =(CE7-CN7)/$CD$4 -> 0.59 | CP7: =IF((AND(CF7=0,CH7=0)),0,(CH7+CN7)/(CF7+CH7)) -> 0.3836332 | CQ7: =CN7/$CD$4 -> 0 | CR7: 60 | CS7: 52 | CT7: 52 | CU7: =SUM(CI7,CK7,CM7,CO7,CQ7) -> 1 | CW7: JUAN | CX7: ST 5 | CY7: 182.32 | CZ7: 151.64 | DA7: 30.68 | DB7: 561.68 | DC7: =DB7/$CX$4 -> 0.75494624 | DD7: 0 | DE7: =DD7/$CX$4 -> 0 | DF7: 0 | DG7: =DF7/$CX$4 -> 0 | DH7: 59.09 | DI7: =(CY7-DH7)/$CX$4 -> 0.16563172 | DJ7: =IF((AND(CZ7=0,DB7=0)),0,(DB7+DH7)/(CZ7+DB7)) -> 0.87025458 | DK7: =DH7/$CX$4 -> 0.079422043 | DL7: 60 | DM7: 52 | DN7: 44 | DO7: =SUM(DC7,DE7,DG7,DI7,DK7) -> 1 | DQ7: JUAN | DR7: ST 5 | DS7: 617.5 | DT7: 617.5 | DU7: 0 | DV7: 126.5 | DW7: =DV7/$DR$4 -> 0.17002688 | DX7: 0 | DY7: =DX7/$DR$4 -> 0 | DZ7: 0 | EA7: =DZ7/$DR$4 -> 0 | EB7: 448.44 | EC7: =(DS7-EB7)/$DR$4 -> 0.22723118 | ED7: =IF((AND(DT7=0,DV7=0)),0,(DV7+EB7)/(DT7+DV7)) -> 0.77276882 | EE7: =EB7/$DR$4 -> 0.60274194 | EF7: 60 | EG7: 52 | EH7: 44 | EI7: =SUM(DW7,DY7,EA7,EC7,EE7) -> 1 | EK7: JUAN | EL7: ST 5 | EM7: 499.73 | EN7: 454.95 | EO7: 44.78 | EP7: 172.27 | EQ7: =EP7/$EL$4 -> 0.25635417 | ER7: 0 | ES7: =ER7/$EL$4 -> 0 | ET7: 0 | EU7: =ET7/$EL$4 -> 0 | EV7: 41.61 | EW7: =(EM7-EV7)/$EL$4 -> 0.68172619 | EX7: =IF((AND(EN7=0,EP7=0)),0,(EP7+EV7)/(EN7+EP7)) -> 0.34099678 | EY7: =EV7/$EL$4 -> 0.061919643 | EZ7: 60 | FA7: 52 | FB7: 52 | FC7: =SUM(EQ7,ES7,EU7,EW7,EY7) -> 1 | FE7: JUAN | FF7: ST 5 | FG7: 627.01 | FH7: 554.26 | FI7: 72.75 | FJ7: 30.32 | FK7: =FJ7/$FF$4 -> 0.040752688 | FL7: 0 | FM7: =FL7/$FF$4 -> 0 | FN7: 86.67 | FO7: =FN7/$FF$4 -> 0.11649194 | FP7: 65.71 | FQ7: =(FG7-FP7)/$FF$4 -> 0.75443548 | FR7: =IF((AND(FH7=0,FJ7=0)),0,(FJ7+FP7)/(FH7+FJ7)) -> 0.16427178 | FS7: =FP7/$FF$4 -> 0.088319892 | FT7: 60 | FU7: 52 | FV7: 50 | FW7: =SUM(FK7,FM7,FO7,FQ7,FS7) -> 1 | FY7: JUAN | FZ7: ST 5 | GA7: 705.83 | GB7: 705.83 | GC7: 0 | GD7: 14.17 | GE7: =GD7/$FZ$4 -> 0.019680556 | GF7: 0 | GG7: =GF7/$FZ$4 -> 0 | GH7: 0 | GI7: =GH7/$FZ$4 -> 0 | GJ7: 0 | GK7: =(GA7-GJ7)/$FZ$4 -> 0.98031944 | GL7: =IF((AND(GB7=0,GD7=0)),0,(GD7+GJ7)/(GB7+GD7)) -> 0.019680556 | GM7: =GJ7/$FZ$4 -> 0 | GN7: 60 | GO7: 52 | GP7: 50 | GQ7: =SUM(GE7,GG7,GI7,GK7,GM7) -> 1 | GS7: JUAN | GT7: ST 5 | GU7: 685.58 | GV7: 685.58 | GW7: 0 | GX7: 0 | GY7: =GX7/$GT$4 -> 0 | GZ7: 0 | HA7: =GZ7/$GT$4 -> 0 | HB7: 58.42 | HC7: =HB7/$GT$4 -> 0.078521505 | HD7: 0 | HE7: =(GU7-HD7)/$GT$4 -> 0.92147849 | HF7: =IF((AND(GV7=0,GX7=0)),0,(GX7+HD7)/(GV7+GX7)) -> 0 | HG7: =HD7/$GT$4 -> 0 | HH7: 60 | HI7: 52 | HJ7: 50 | HK7: =SUM(GY7,HA7,HC7,HE7,HG7) -> 1 | HM7: JUAN | HN7: ST 5 | HO7: 645.57 | HP7: 645.57 | HQ7: 0 | HR7: 50.33 | HS7: =HR7/$HN$4 -> 0.069902778 | HT7: 0 | HU7: =HT7/$HN$4 -> 0 | HV7: 24.1 | HW7: =HV7/$HN$4 -> 0.033472222 | HX7: 0 | HY7: 0 | HZ7: =(HO7-HX7-HY7)/$HN$4 -> 0.896625 | IA7: =IF((AND(HP7=0,HR7=0)),0,(HR7+HX7+HY7)/(HP7+HR7)) -> 0.07232361 | IB7: =(HY7+HX7)/$HN$4 -> 0 | IC7: 60 | ID7: 52 | IE7: 50 | IF7: =SUM(HS7,HU7,HW7,HZ7,IB7) -> 1
B8: CT 6 | C8: 610.1 | D8: 550 | E8: 60.1 | F8: 133.9 | G8: =F8/$B$4 -> 0.17997312 | H8: 0 | I8: =H8/$B$4 -> 0 | J8: 0 | K8: =J8/$B$4 -> 0 | L8: ='[1]UNIT DATA'!$P$4 -> 3.568 | M8: =(C8-L8)/$B$4 -> 0.81523118 | N8: =IF((AND(D8=0,F8=0)),0,(F8+L8)/(D8+F8)) -> 0.201006 | O8: =L8/$B$4 -> 0.0047956989 | P8: 160 | Q8: 140 | R8: 160 | S8: =SUM(G8,I8,K8,M8,O8) -> 1 | V8: CT 6 | W8: 360.7 | X8: 300.6 | Y8: 60.1 | Z8: 383.3 | AA8: =Z8/$V$4 -> 0.51518817 | AB8: 0 | AC8: =AB8/$V$4 -> 0 | AD8: 0 | AE8: =AD8/$V$4 -> 0 | AF8: 0 | AG8: =(W8-AF8)/$V$4 -> 0.48481183 | AH8: =IF((AND(X8=0,Z8=0)),0,(Z8+AF8)/(X8+Z8)) -> 0.56046206 | AI8: =AF8/$V$4 -> 0 | AJ8: 160 | AK8: 140 | AL8: 160 | AM8: =SUM(AA8,AC8,AE8,AG8,AI8) -> 1 | AP8: CT 6 | AQ8: 583.7 | AR8: 581.3 | AS8: 2.4 | AT8: 0 | AU8: =AT8/$AP$4 -> 0 | AV8: 0 | AW8: =AV8/$AP$4 -> 0 | AX8: 136.3 | AY8: =AX8/$AP$4 -> 0.18930556 | AZ8: 0 | BA8: =(AQ8-AZ8)/$AP$4 -> 0.81069444 | BB8: =IF((AND(AR8=0,AT8=0)),0,(AT8+AZ8)/(AR8+AT8)) -> 0 | BC8: =AZ8/$AP$4 -> 0 | BD8: 160 | BE8: 140 | BF8: 160 | BG8: =SUM(AU8,AW8,AY8,BA8,BC8) -> 1 | BJ8: CT 6 | BK8: 722.7 | BL8: 722.7 | BM8: 0 | BN8: 21.3 | BO8: =BN8/$BJ$4 -> 0.028629032 | BP8: 0 | BQ8: =BP8/$BJ$4 -> 0 | BR8: 0 | BS8: =BR8/$BJ$4 -> 0 | BT8: 31.74 | BU8: =(BK8-BT8)/$BJ$4 -> 0.92870968 | BV8: =IF((AND(BL8=0,BN8=0)),0,(BN8+BT8)/(BL8+BN8)) -> 0.071290323 | BW8: =BT8/$BJ$4 -> 0.04266129 | BX8: 160 | BY8: 140 | BZ8: 160 | CA8: =SUM(BO8,BQ8,BS8,BU8,BW8) -> 1 | CD8: CT 6 | CE8: 718.5 | CF8: 718.5 | CG8: 0 | CH8: 1.5 | CI8: =CH8/$CD$4 -> 0.0020833333 | CJ8: 0 | CK8: =CJ8/$CD$4 -> 0 | CL8: 0 | CM8: =CL8/$CD$4 -> 0 | CN8: 0 | CO8: =(CE8-CN8)/$CD$4 -> 0.99791667 | CP8: =IF((AND(CF8=0,CH8=0)),0,(CH8+CN8)/(CF8+CH8)) -> 0.0020833333 | CQ8: =CN8/$CD$4 -> 0 | CR8: 160 | CS8: 140 | CT8: 160 | CU8: =SUM(CI8,CK8,CM8,CO8,CQ8) -> 1 | CX8: CT 6 | CY8: 368.62 | CZ8: 359.82 | DA8: 8.8 | DB8: 175 | DC8: =DB8/$CX$4 -> 0.23521505 | DD8: 200.38 | DE8: =DD8/$CX$4 -> 0.26932796 | DF8: 0 | DG8: =DF8/$CX$4 -> 0 | DH8: 0 | DI8: =(CY8-DH8)/$CX$4 -> 0.49545699 | DJ8: =IF((AND(CZ8=0,DB8=0)),0,(DB8+DH8)/(CZ8+DB8)) -> 0.32721289 | DK8: =DH8/$CX$4 -> 0 | DL8: 160 | DM8: 140 | DN8: 160 | DO8: =SUM(DC8,DE8,DG8,DI8,DK8) -> 1 | DR8: CT 6 | DS8: 0 | DT8: 0 | DU8: 0 | DV8: 0 | DW8: =DV8/$DR$4 -> 0 | DX8: 744 | DY8: =DX8/$DR$4 -> 1 | DZ8: 0 | EA8: =DZ8/$DR$4 -> 0 | EB8: 0 | EC8: =(DS8-EB8)/$DR$4 -> 0 | ED8: =IF((AND(DT8=0,DV8=0)),0,(DV8+EB8)/(DT8+DV8)) -> 0 | EE8: =EB8/$DR$4 -> 0 | EF8: 160 | EG8: 140 | EH8: 0 | EI8: =SUM(DW8,DY8,EA8,EC8,EE8) -> 1 | EL8: CT 6 | EM8: 0 | EN8: 0 | EO8: 0 | EP8: 0 | EQ8: =EP8/$EL$4 -> 0 | ER8: 672 | ES8: =ER8/$EL$4 -> 1 | ET8: 0 | EU8: =ET8/$EL$4 -> 0 | EV8: 0 | EW8: =(EM8-EV8)/$EL$4 -> 0 | EX8: =IF((AND(EN8=0,EP8=0)),0,(EP8+EV8)/(EN8+EP8)) -> 0 | EY8: =EV8/$EL$4 -> 0 | EZ8: 160 | FA8: 140 | FB8: 160 | FC8: =SUM(EQ8,ES8,EU8,EW8,EY8) -> 1 | FF8: CT 6 | FG8: 0 | FH8: 0 | FI8: 0 | FJ8: 0 | FK8: =FJ8/$FF$4 -> 0 | FL8: 744 | FM8: =FL8/$FF$4 -> 1 | FN8: 0 | FO8: =FN8/$FF$4 -> 0 | FP8: 0 | FQ8: =(FG8-FP8)/$FF$4 -> 0 | FR8: =IF((AND(FH8=0,FJ8=0)),0,(FJ8+FP8)/(FH8+FJ8)) -> 0 | FS8: =FP8/$FF$4 -> 0 | FT8: 160 | FU8: 140 | FV8: 0 | FW8: =SUM(FK8,FM8,FO8,FQ8,FS8) -> 1 | FZ8: CT 6 | GA8: 0 | GB8: 0 | GC8: 0 | GD8: 0 | GE8: =GD8/$FZ$4 -> 0 | GF8: 720 | GG8: =GF8/$FZ$4 -> 1 | GH8: 0 | GI8: =GH8/$FZ$4 -> 0 | GJ8: 0 | GK8: =(GA8-GJ8)/$FZ$4 -> 0 | GL8: =IF((AND(GB8=0,GD8=0)),0,(GD8+GJ8)/(GB8+GD8)) -> 0 | GM8: =GJ8/$FZ$4 -> 0 | GN8: 160 | GO8: 140 | GP8: 0 | GQ8: =SUM(GE8,GG8,GI8,GK8,GM8) -> 1 | GT8: CT 6 | GU8: 0 | GV8: 0 | GW8: 0 | GX8: 0 | GY8: =GX8/$GT$4 -> 0 | GZ8: 744 | HA8: =GZ8/$GT$4 -> 1 | HB8: 0 | HC8: =HB8/$GT$4 -> 0 | HD8: 0 | HE8: =(GU8-HD8)/$GT$4 -> 0 | HF8: =IF((AND(GV8=0,GX8=0)),0,(GX8+HD8)/(GV8+GX8)) -> 0 | HG8: =HD8/$GT$4 -> 0 | HH8: 160 | HI8: 140 | HJ8: 0 | HK8: =SUM(GY8,HA8,HC8,HE8,HG8) -> 1 | HN8: CT 6 | HO8: 0 | HP8: 0 | HQ8: 0 | HR8: 0 | HS8: =HR8/$HN$4 -> 0 | HT8: 720 | HU8: =HT8/$HN$4 -> 1 | HV8: 0 | HW8: =HV8/$HN$4 -> 0 | HX8: 0 | HY8: 0 | HZ8: =(HO8-HX8-HY8)/$HN$4 -> 0 | IA8: =IF((AND(HP8=0,HR8=0)),0,(HR8+HX8+HY8)/(HP8+HR8)) -> 0 | IB8: =(HY8+HX8)/$HN$4 -> 0 | IC8: 160 | ID8: 140 | IE8: 0 | IF8: =SUM(HS8,HU8,HW8,HZ8,IB8) -> 1
B9: ST 6 | C9: 0 | D9: 0 | E9: 0 | F9: 0 | G9: =F9/$B$4 -> 0 | H9: 744 | I9: =H9/$B$4 -> 1 | J9: 0 | K9: =J9/$B$4 -> 0 | L9: ='[1]UNIT DATA'!$P$5 -> 0 | M9: =(C9-L9)/$B$4 -> 0 | N9: =IF((AND(D9=0,F9=0)),0,(F9+L9)/(D9+F9)) -> 0 | O9: =L9/$B$4 -> 0 | P9: 60 | Q9: 52 | R9: 0 | S9: =SUM(G9,I9,K9,M9,O9) -> 1 | V9: ST 6 | W9: 0 | X9: 0 | Y9: 0 | Z9: 0 | AA9: =Z9/$V$4 -> 0 | AB9: 744 | AC9: =AB9/$V$4 -> 1 | AD9: 0 | AE9: =AD9/$V$4 -> 0 | AF9: 0 | AG9: =(W9-AF9)/$V$4 -> 0 | AH9: =IF((AND(X9=0,Z9=0)),0,(Z9+AF9)/(X9+Z9)) -> 0 | AI9: =AF9/$V$4 -> 0 | AJ9: 60 | AK9: 52 | AL9: 0 | AM9: =SUM(AA9,AC9,AE9,AG9,AI9) -> 1 | AP9: ST 6 | AQ9: 0 | AR9: 0 | AS9: 0 | AT9: 0 | AU9: =AT9/$AP$4 -> 0 | AV9: 720 | AW9: =AV9/$AP$4 -> 1 | AX9: 0 | AY9: =AX9/$AP$4 -> 0 | AZ9: 0 | BA9: =(AQ9-AZ9)/$AP$4 -> 0 | BB9: =IF((AND(AR9=0,AT9=0)),0,(AT9+AZ9)/(AR9+AT9)) -> 0 | BC9: =AZ9/$AP$4 -> 0 | BD9: 60 | BE9: 52 | BF9: 0 | BG9: =SUM(AU9,AW9,AY9,BA9,BC9) -> 1 | BJ9: ST 6 | BK9: 0 | BL9: 0 | BM9: 0 | BN9: 0 | BO9: =BN9/$BJ$4 -> 0 | BP9: 744 | BQ9: =BP9/$BJ$4 -> 1 | BR9: 0 | BS9: =BR9/$BJ$4 -> 0 | BT9: 0 | BU9: =(BK9-BT9)/$BJ$4 -> 0 | BV9: =IF((AND(BL9=0,BN9=0)),0,(BN9+BT9)/(BL9+BN9)) -> 0 | BW9: =BT9/$BJ$4 -> 0 | BX9: 60 | BY9: 52 | BZ9: 0 | CA9: =SUM(BO9,BQ9,BS9,BU9,BW9) -> 1 | CD9: ST 6 | CE9: 0 | CF9: 0 | CG9: 0 | CH9: 0 | CI9: =CH9/$CD$4 -> 0 | CJ9: 720 | CK9: =CJ9/$CD$4 -> 1 | CL9: 0 | CM9: =CL9/$CD$4 -> 0 | CN9: 0 | CO9: =(CE9-CN9)/$CD$4 -> 0 | CP9: =IF((AND(CF9=0,CH9=0)),0,(CH9+CN9)/(CF9+CH9)) -> 0 | CQ9: =CN9/$CD$4 -> 0 | CR9: 60 | CS9: 52 | CT9: 0 | CU9: =SUM(CI9,CK9,CM9,CO9,CQ9) -> 1 | CX9: ST 6 | CY9: 0 | CZ9: 0 | DA9: 0 | DB9: 0 | DC9: =DB9/$CX$4 -> 0 | DD9: 744 | DE9: =DD9/$CX$4 -> 1 | DF9: 0 | DG9: =DF9/$CX$4 -> 0 | DH9: 0 | DI9: =(CY9-DH9)/$CX$4 -> 0 | DJ9: =IF((AND(CZ9=0,DB9=0)),0,(DB9+DH9)/(CZ9+DB9)) -> 0 | DK9: =DH9/$CX$4 -> 0 | DL9: 60 | DM9: 52 | DN9: 0 | DO9: =SUM(DC9,DE9,DG9,DI9,DK9) -> 1 | DR9: ST 6 | DS9: 0 | DT9: 0 | DU9: 0 | DV9: 0 | DW9: =DV9/$DR$4 -> 0 | DX9: 744 | DY9: =DX9/$DR$4 -> 1 | DZ9: 0 | EA9: =DZ9/$DR$4 -> 0 | EB9: 0 | EC9: =(DS9-EB9)/$DR$4 -> 0 | ED9: =IF((AND(DT9=0,DV9=0)),0,(DV9+EB9)/(DT9+DV9)) -> 0 | EE9: =EB9/$DR$4 -> 0 | EF9: 60 | EG9: 52 | EH9: 0 | EI9: =SUM(DW9,DY9,EA9,EC9,EE9) -> 1 | EL9: ST 6 | EM9: 0 | EN9: 0 | EO9: 0 | EP9: 0 | EQ9: =EP9/$EL$4 -> 0 | ER9: 672 | ES9: =ER9/$EL$4 -> 1 | ET9: 0 | EU9: =ET9/$EL$4 -> 0 | EV9: 0 | EW9: =(EM9-EV9)/$EL$4 -> 0 | EX9: =IF((AND(EN9=0,EP9=0)),0,(EP9+EV9)/(EN9+EP9)) -> 0 | EY9: =EV9/$EL$4 -> 0 | EZ9: 60 | FA9: 52 | FB9: 52 | FC9: =SUM(EQ9,ES9,EU9,EW9,EY9) -> 1 | FF9: ST 6 | FG9: 0 | FH9: 0 | FI9: 0 | FJ9: 0 | FK9: =FJ9/$FF$4 -> 0 | FL9: 744 | FM9: =FL9/$FF$4 -> 1 | FN9: 0 | FO9: =FN9/$FF$4 -> 0 | FP9: 0 | FQ9: =(FG9-FP9)/$FF$4 -> 0 | FR9: =IF((AND(FH9=0,FJ9=0)),0,(FJ9+FP9)/(FH9+FJ9)) -> 0 | FS9: =FP9/$FF$4 -> 0 | FT9: 60 | FU9: 52 | FV9: 0 | FW9: =SUM(FK9,FM9,FO9,FQ9,FS9) -> 1 | FZ9: ST 6 | GA9: 0 | GB9: 0 | GC9: 0 | GD9: 0 | GE9: =GD9/$FZ$4 -> 0 | GF9: 720 | GG9: =GF9/$FZ$4 -> 1 | GH9: 0 | GI9: =GH9/$FZ$4 -> 0 | GJ9: 0 | GK9: =(GA9-GJ9)/$FZ$4 -> 0 | GL9: =IF((AND(GB9=0,GD9=0)),0,(GD9+GJ9)/(GB9+GD9)) -> 0 | GM9: =GJ9/$FZ$4 -> 0 | GN9: 60 | GO9: 52 | GP9: 0 | GQ9: =SUM(GE9,GG9,GI9,GK9,GM9) -> 1 | GT9: ST 6 | GU9: 0 | GV9: 0 | GW9: 0 | GX9: 0 | GY9: =GX9/$GT$4 -> 0 | GZ9: 744 | HA9: =GZ9/$GT$4 -> 1 | HB9: 0 | HC9: =HB9/$GT$4 -> 0 | HD9: 0 | HE9: =(GU9-HD9)/$GT$4 -> 0 | HF9: =IF((AND(GV9=0,GX9=0)),0,(GX9+HD9)/(GV9+GX9)) -> 0 | HG9: =HD9/$GT$4 -> 0 | HH9: 60 | HI9: 52 | HJ9: 0 | HK9: =SUM(GY9,HA9,HC9,HE9,HG9) -> 1 | HN9: ST 6 | HO9: 0 | HP9: 0 | HQ9: 0 | HR9: 0 | HS9: =HR9/$HN$4 -> 0 | HT9: 720 | HU9: =HT9/$HN$4 -> 1 | HV9: 0 | HW9: =HV9/$HN$4 -> 0 | HX9: 0 | HY9: 0 | HZ9: =(HO9-HX9-HY9)/$HN$4 -> 0 | IA9: =IF((AND(HP9=0,HR9=0)),0,(HR9+HX9+HY9)/(HP9+HR9)) -> 0 | IB9: =(HY9+HX9)/$HN$4 -> 0 | IC9: 60 | ID9: 52 | IE9: 0 | IF9: =SUM(HS9,HU9,HW9,HZ9,IB9) -> 1
B10: 7 | C10: 0 | D10: 0 | E10: 0 | F10: 0 | G10: =F10/$B$4 -> 0 | H10: 744 | I10: =H10/$B$4 -> 1 | J10: 0 | K10: =J10/$B$4 -> 0 | L10: ='[1]UNIT DATA'!$P$6 -> 0 | M10: =(C10-L10)/$B$4 -> 0 | N10: =IF((AND(D10=0,F10=0)),0,(F10+L10)/(D10+F10)) -> 0 | O10: =L10/$B$4 -> 0 | P10: 100 | Q10: 100 | R10: 0 | S10: =SUM(G10,I10,K10,M10,O10) -> 1 | V10: 7 | W10: 0 | X10: 0 | Y10: 0 | Z10: 0 | AA10: =Z10/$V$4 -> 0 | AB10: 744 | AC10: =AB10/$V$4 -> 1 | AD10: 0 | AE10: =AD10/$V$4 -> 0 | AF10: 0 | AG10: =(W10-AF10)/$V$4 -> 0 | AH10: =IF((AND(X10=0,Z10=0)),0,(Z10+AF10)/(X10+Z10)) -> 0 | AI10: =AF10/$V$4 -> 0 | AJ10: 100 | AK10: 100 | AL10: 0 | AM10: =SUM(AA10,AC10,AE10,AG10,AI10) -> 1 | AP10: 7 | AQ10: 0 | AR10: 0 | AS10: 0 | AT10: 0 | AU10: =AT10/$AP$4 -> 0 | AV10: 720 | AW10: =AV10/$AP$4 -> 1 | AX10: 0 | AY10: =AX10/$AP$4 -> 0 | AZ10: 0 | BA10: =(AQ10-AZ10)/$AP$4 -> 0 | BB10: =IF((AND(AR10=0,AT10=0)),0,(AT10+AZ10)/(AR10+AT10)) -> 0 | BC10: =AZ10/$AP$4 -> 0 | BD10: 100 | BE10: 100 | BF10: 0 | BG10: =SUM(AU10,AW10,AY10,BA10,BC10) -> 1 | BJ10: 7 | BK10: 0 | BL10: 0 | BM10: 0 | BN10: 0 | BO10: =BN10/$BJ$4 -> 0 | BP10: 744 | BQ10: =BP10/$BJ$4 -> 1 | BR10: 0 | BS10: =BR10/$BJ$4 -> 0 | BT10: 0 | BU10: =(BK10-BT10)/$BJ$4 -> 0 | BV10: =IF((AND(BL10=0,BN10=0)),0,(BN10+BT10)/(BL10+BN10)) -> 0 | BW10: =BT10/$BJ$4 -> 0 | BX10: 100 | BY10: 100 | BZ10: 0 | CA10: =SUM(BO10,BQ10,BS10,BU10,BW10) -> 1 | CD10: 7 | CE10: 0 | CF10: 0 | CG10: 0 | CH10: 0 | CI10: =CH10/$CD$4 -> 0 | CJ10: 720 | CK10: =CJ10/$CD$4 -> 1 | CL10: 0 | CM10: =CL10/$CD$4 -> 0 | CN10: 0 | CO10: =(CE10-CN10)/$CD$4 -> 0 | CP10: =IF((AND(CF10=0,CH10=0)),0,(CH10+CN10)/(CF10+CH10)) -> 0 | CQ10: =CN10/$CD$4 -> 0 | CR10: 100 | CS10: 100 | CT10: 0 | CU10: =SUM(CI10,CK10,CM10,CO10,CQ10) -> 1 | CX10: 7 | CY10: 0 | CZ10: 0 | DA10: 0 | DB10: 0 | DC10: =DB10/$CX$4 -> 0 | DD10: 744 | DE10: =DD10/$CX$4 -> 1 | DF10: 0 | DG10: =DF10/$CX$4 -> 0 | DH10: 0 | DI10: =(CY10-DH10)/$CX$4 -> 0 | DJ10: =IF((AND(CZ10=0,DB10=0)),0,(DB10+DH10)/(CZ10+DB10)) -> 0 | DK10: =DH10/$CX$4 -> 0 | DL10: 100 | DM10: 100 | DN10: 0 | DO10: =SUM(DC10,DE10,DG10,DI10,DK10) -> 1 | DR10: 7 | DS10: 0 | DT10: 0 | DU10: 0 | DV10: 0 | DW10: =DV10/$DR$4 -> 0 | DX10: 744 | DY10: =DX10/$DR$4 -> 1 | DZ10: 0 | EA10: =DZ10/$DR$4 -> 0 | EB10: 0 | EC10: =(DS10-EB10)/$DR$4 -> 0 | ED10: =IF((AND(DT10=0,DV10=0)),0,(DV10+EB10)/(DT10+DV10)) -> 0 | EE10: =EB10/$DR$4 -> 0 | EF10: 100 | EG10: 100 | EH10: 0 | EI10: =SUM(DW10,DY10,EA10,EC10,EE10) -> 1 | EL10: 7 | EM10: 0 | EN10: 0 | EO10: 0 | EP10: 0 | EQ10: =EP10/$EL$4 -> 0 | ER10: 672 | ES10: =ER10/$EL$4 -> 1 | ET10: 0 | EU10: =ET10/$EL$4 -> 0 | EV10: 0 | EW10: =(EM10-EV10)/$EL$4 -> 0 | EX10: =IF((AND(EN10=0,EP10=0)),0,(EP10+EV10)/(EN10+EP10)) -> 0 | EY10: =EV10/$EL$4 -> 0 | EZ10: 100 | FA10: 100 | FB10: 0 | FC10: =SUM(EQ10,ES10,EU10,EW10,EY10) -> 1 | FF10: 7 | FG10: 0 | FH10: 0 | FI10: 0 | FJ10: 0 | FK10: =FJ10/$FF$4 -> 0 | FL10: 744 | FM10: =FL10/$FF$4 -> 1 | FN10: 0 | FO10: =FN10/$FF$4 -> 0 | FP10: 0 | FQ10: =(FG10-FP10)/$FF$4 -> 0 | FR10: =IF((AND(FH10=0,FJ10=0)),0,(FJ10+FP10)/(FH10+FJ10)) -> 0 | FS10: =FP10/$FF$4 -> 0 | FT10: 100 | FU10: 100 | FV10: 0 | FW10: =SUM(FK10,FM10,FO10,FQ10,FS10) -> 1 | FZ10: 7 | GA10: 0 | GB10: 0 | GC10: 0 | GD10: 0 | GE10: =GD10/$FZ$4 -> 0 | GF10: 720 | GG10: =GF10/$FZ$4 -> 1 | GH10: 0 | GI10: =GH10/$FZ$4 -> 0 | GJ10: 0 | GK10: =(GA10-GJ10)/$FZ$4 -> 0 | GL10: =IF((AND(GB10=0,GD10=0)),0,(GD10+GJ10)/(GB10+GD10)) -> 0 | GM10: =GJ10/$FZ$4 -> 0 | GN10: 100 | GO10: 100 | GP10: 0 | GQ10: =SUM(GE10,GG10,GI10,GK10,GM10) -> 1 | GT10: 7 | GU10: 0 | GV10: 0 | GW10: 0 | GX10: 0 | GY10: =GX10/$GT$4 -> 0 | GZ10: 744 | HA10: =GZ10/$GT$4 -> 1 | HB10: 0 | HC10: =HB10/$GT$4 -> 0 | HD10: 0 | HE10: =(GU10-HD10)/$GT$4 -> 0 | HF10: =IF((AND(GV10=0,GX10=0)),0,(GX10+HD10)/(GV10+GX10)) -> 0 | HG10: =HD10/$GT$4 -> 0 | HH10: 100 | HI10: 100 | HJ10: 0 | HK10: =SUM(GY10,HA10,HC10,HE10,HG10) -> 1 | HN10: 7 | HO10: 14.423333 | HP10: 14.42 | HQ10: 0 | HR10: 62.25 | HS10: =HR10/$HN$4 -> 0.086458333 | HT10: 643.33 | HU10: =HT10/$HN$4 -> 0.89351389 | HV10: 0 | HW10: =HV10/$HN$4 -> 0 | HX10: 0 | HY10: 12.09 | HZ10: =(HO10-HX10-HY10)/$HN$4 -> 0.0032407407 | IA10: =IF((AND(HP10=0,HR10=0)),0,(HR10+HX10+HY10)/(HP10+HR10)) -> 0.96961002 | IB10: =(HY10+HX10)/$HN$4 -> 0.016791667 | IC10: 100 | ID10: 100 | IE10: 0 | IF10: =SUM(HS10,HU10,HW10,HZ10,IB10) -> 1.0000046
B11: 9 | C11: 645.7 | D11: 645.7 | E11: 0 | F11: 30.7 | G11: =F11/$B$4 -> 0.041263441 | H11: 0 | I11: =H11/$B$4 -> 0 | J11: 67.6 | K11: =J11/$B$4 -> 0.090860215 | L11: ='[1]UNIT DATA'!$P$7 -> 21.804 | M11: =(C11-L11)/$B$4 -> 0.83856989 | N11: =IF((AND(D11=0,F11=0)),0,(F11+L11)/(D11+F11)) -> 0.077622708 | O11: =L11/$B$4 -> 0.029306452 | P11: 100 | Q11: 100 | R11: 57 | S11: =SUM(G11,I11,K11,M11,O11) -> 1 | V11: 9 | W11: 730.5 | X11: 730.5 | Y11: 0 | Z11: 13.5 | AA11: =Z11/$V$4 -> 0.018145161 | AB11: 0 | AC11: =AB11/$V$4 -> 0 | AD11: 0 | AE11: =AD11/$V$4 -> 0 | AF11: 0 | AG11: =(W11-AF11)/$V$4 -> 0.98185484 | AH11: =IF((AND(X11=0,Z11=0)),0,(Z11+AF11)/(X11+Z11)) -> 0.018145161 | AI11: =AF11/$V$4 -> 0 | AJ11: 100 | AK11: 100 | AL11: 93 | AM11: =SUM(AA11,AC11,AE11,AG11,AI11) -> 1 | AP11: 9 | AQ11: 623.05 | AR11: 623.05 | AS11: 0 | AT11: 96.95 | AU11: =AT11/$AP$4 -> 0.13465278 | AV11: 0 | AW11: =AV11/$AP$4 -> 0 | AX11: 0 | AY11: =AX11/$AP$4 -> 0 | AZ11: 42.48 | BA11: =(AQ11-AZ11)/$AP$4 -> 0.80634722 | BB11: =IF((AND(AR11=0,AT11=0)),0,(AT11+AZ11)/(AR11+AT11)) -> 0.19365278 | BC11: =AZ11/$AP$4 -> 0.059 | BD11: 100 | BE11: 100 | BF11: 81 | BG11: =SUM(AU11,AW11,AY11,BA11,BC11) -> 1 | BJ11: 9 | BK11: 744 | BL11: 744 | BM11: 0 | BN11: 0 | BO11: =BN11/$BJ$4 -> 0 | BP11: 0 | BQ11: =BP11/$BJ$4 -> 0 | BR11: 0 | BS11: =BR11/$BJ$4 -> 0 | BT11: 137.29 | BU11: =(BK11-BT11)/$BJ$4 -> 0.81547043 | BV11: =IF((AND(BL11=0,BN11=0)),0,(BN11+BT11)/(BL11+BN11)) -> 0.18452957 | BW11: =BT11/$BJ$4 -> 0.18452957 | BX11: 100 | BY11: 100 | BZ11: 82 | CA11: =SUM(BO11,BQ11,BS11,BU11,BW11) -> 1 | CD11: 9 | CE11: 720 | CF11: 720 | CG11: 0 | CH11: 0 | CI11: =CH11/$CD$4 -> 0 | CJ11: 0 | CK11: =CJ11/$CD$4 -> 0 | CL11: 0 | CM11: =CL11/$CD$4 -> 0 | CN11: 129.6 | CO11: =(CE11-CN11)/$CD$4 -> 0.82 | CP11: =IF((AND(CF11=0,CH11=0)),0,(CH11+CN11)/(CF11+CH11)) -> 0.18 | CQ11: =CN11/$CD$4 -> 0.18 | CR11: 100 | CS11: 100 | CT11: 82 | CU11: =SUM(CI11,CK11,CM11,CO11,CQ11) -> 1 | CX11: 9 | CY11: 655.37 | CZ11: 655.37 | DA11: 0 | DB11: 0 | DC11: =DB11/$CX$4 -> 0 | DD11: 0 | DE11: =DD11/$CX$4 -> 0 | DF11: 88.63 | DG11: =DF11/$CX$4 -> 0.11912634 | DH11: 131.07 | DI11: =(CY11-DH11)/$CX$4 -> 0.7047043 | DJ11: =IF((AND(CZ11=0,DB11=0)),0,(DB11+DH11)/(CZ11+DB11)) -> 0.1999939 | DK11: =DH11/$CX$4 -> 0.17616935 | DL11: 100 | DM11: 100 | DN11: 82 | DO11: =SUM(DC11,DE11,DG11,DI11,DK11) -> 1 | DR11: 9 | DS11: 317.46 | DT11: 298.49 | DU11: 18.97 | DV11: 8.33 | DW11: =DV11/$DR$4 -> 0.011196237 | DX11: 82.83 | DY11: =DX11/$DR$4 -> 0.11133065 | DZ11: 335.38 | EA11: =DZ11/$DR$4 -> 0.45077957 | EB11: 95.47 | EC11: =(DS11-EB11)/$DR$4 -> 0.29837366 | ED11: =IF((AND(DT11=0,DV11=0)),0,(DV11+EB11)/(DT11+DV11)) -> 0.33830911 | EE11: =EB11/$DR$4 -> 0.12831989 | EF11: 100 | EG11: 100 | EH11: 82 | EI11: =SUM(DW11,DY11,EA11,EC11,EE11) -> 1 | EL11: 9 | EM11: 446.65 | EN11: 446.65 | EO11: 0 | EP11: 1.67 | EQ11: =EP11/$EL$4 -> 0.002485119 | ER11: 0 | ES11: =ER11/$EL$4 -> 0 | ET11: 223.68 | EU11: =ET11/$EL$4 -> 0.33285714 | EV11: 114.2 | EW11: =(EM11-EV11)/$EL$4 -> 0.49471726 | EX11: =IF((AND(EN11=0,EP11=0)),0,(EP11+EV11)/(EN11+EP11)) -> 0.25845378 | EY11: =EV11/$EL$4 -> 0.16994048 | EZ11: 100 | FA11: 100 | FB11: 90 | FC11: =SUM(EQ11,ES11,EU11,EW11,EY11) -> 1 | FF11: 9 | FG11: 593.77 | FH11: 356.54 | FI11: 237.23 | FJ11: 150.23 | FK11: =FJ11/$FF$4 -> 0.20192204 | FL11: 0 | FM11: =FL11/$FF$4 -> 0 | FN11: 0 | FO11: =FN11/$FF$4 -> 0 | FP11: 106.96 | FQ11: =(FG11-FP11)/$FF$4 -> 0.65431452 | FR11: =IF((AND(FH11=0,FJ11=0)),0,(FJ11+FP11)/(FH11+FJ11)) -> 0.50750834 | FS11: =FP11/$FF$4 -> 0.14376344 | FT11: 100 | FU11: 100 | FV11: 70 | FW11: =SUM(FK11,FM11,FO11,FQ11,FS11) -> 1 | FZ11: 9 | GA11: 720 | GB11: 720 | GC11: 0 | GD11: 0 | GE11: =GD11/$FZ$4 -> 0 | GF11: 0 | GG11: =GF11/$FZ$4 -> 0 | GH11: 0 | GI11: =GH11/$FZ$4 -> 0 | GJ11: 216 | GK11: =(GA11-GJ11)/$FZ$4 -> 0.7 | GL11: =IF((AND(GB11=0,GD11=0)),0,(GD11+GJ11)/(GB11+GD11)) -> 0.3 | GM11: =GJ11/$FZ$4 -> 0.3 | GN11: 100 | GO11: 100 | GP11: 70 | GQ11: =SUM(GE11,GG11,GI11,GK11,GM11) -> 1 | GT11: 9 | GU11: 694.92 | GV11: 694.92 | GW11: 0 | GX11: 49.08 | GY11: =GX11/$GT$4 -> 0.065967742 | GZ11: 0 | HA11: =GZ11/$GT$4 -> 0 | HB11: 0 | HC11: =HB11/$GT$4 -> 0 | HD11: 300.35 | HE11: =(GU11-HD11)/$GT$4 -> 0.53033602 | HF11: =IF((AND(GV11=0,GX11=0)),0,(GX11+HD11)/(GV11+GX11)) -> 0.46966398 | HG11: =HD11/$GT$4 -> 0.40369624 | HH11: 100 | HI11: 100 | HJ11: 45 | HK11: =SUM(GY11,HA11,HC11,HE11,HG11) -> 1 | HN11: 9 | HO11: 388.67 | HP11: 388.67 | HQ11: 0 | HR11: 331.33 | HS11: =HR11/$HN$4 -> 0.46018056 | HT11: 0 | HU11: =HT11/$HN$4 -> 0 | HV11: 0 | HW11: =HV11/$HN$4 -> 0 | HX11: 0 | HY11: 232.8 | HZ11: =(HO11-HX11-HY11)/$HN$4 -> 0.21648611 | IA11: =IF((AND(HP11=0,HR11=0)),0,(HR11+HX11+HY11)/(HP11+HR11)) -> 0.78351389 | IB11: =(HY11+HX11)/$HN$4 -> 0.32333333 | IC11: 100 | ID11: 100 | IE11: 100 | IF11: =SUM(HS11,HU11,HW11,HZ11,IB11) -> 1
B12: Total | C12: =SUM(C6:C11) -> 2707.1 | D12: =SUM(D6:D11) -> 2647 | E12: =SUM(E6:E11) -> 60.1 | F12: =SUM(F6:F11) -> 164.6 | G12: =(G6*Q6+G7*Q7+G8*Q8+G9*Q9+G10*Q10+G11*Q11)/Q12 -> 0.04911655 | H12: =SUM(H6:H11) -> 1488 | I12: =(I6*Q6+I7*Q7+I8*Q8+I9*Q9+I10*Q10+I11*Q11)/Q12 -> 0.25460637 | J12: =SUM(J6:J11) -> 104.3 | K12: =(K6*Q6+K7*Q7+K8*Q8+K9*Q9+K10*Q10+K11*Q11)/Q12 -> 0.023518128 | L12: =SUM(L6:L11) -> 131.31 | M12: =(M6*Q6+M7*Q7+M8*Q8+M9*Q9+M10*Q10+M11*Q11)/Q12 -> 0.64118584 | N12: =(N6*Q6+N7*Q7+N8*Q8+N9*Q9+N10*Q10+N11*Q11)/Q12 -> 0.086309509 | O12: =(O6*Q6+O7*Q7+O8*Q8+O9*Q9+O10*Q10+O11*Q11)/Q12 -> 0.031573119 | P12: =SUM(P6:P11) -> 640 | Q12: =SUM(Q6:Q11) -> 597 | R12: =SUM(R6:R11) -> 426 | S12: =SUM(G12,I12,K12,M12,O12) -> 1 | V12: Total | W12: =SUM(W6:W11) -> 2415.1 | X12: =SUM(X6:X11) -> 2355 | Y12: =SUM(Y6:Y11) -> 60.1 | Z12: =SUM(Z6:Z11) -> 402.9 | AA12: =(AA6*$AK$6+AA7*$AK$7+AA8*$AK$8+AA9*$AK$9+AA10*$AK$10+AA11*$AK$11)/$AK$12 -> 0.12456818 | AB12: =SUM(AB6:AB11) -> 1488 | AC12: =(AC6*$AK$6+AC7*$AK$7+AC8*$AK$8+AC9*$AK$9+AC10*$AK$10+AC11*$AK$11)/$AK$12 -> 0.25460637 | AD12: =SUM(AD6:AD11) -> 158 | AE12: =(AE6*$AK$6+AE7*$AK$7+AE8*$AK$8+AE9*$AK$9+AE10*$AK$10+AE11*$AK$11)/$AK$12 -> 0.03591569 | AF12: =SUM(AF6:AF11) -> 0 | AG12: =(AG6*$AK$6+AG7*$AK$7+AG8*$AK$8+AG9*$AK$9+AG10*$AK$10+AG11*$AK$11)/$AK$12 -> 0.58490976 | AH12: =(AH6*$AK$6+AH7*$AK$7+AH8*$AK$8+AH9*$AK$9+AH10*$AK$10+AH11*$AK$11)/$AK$12 -> 0.1352729 | AI12: =(AI6*$AK$6+AI7*$AK$7+AI8*$AK$8+AI9*$AK$9+AI10*$AK$10+AI11*$AK$11)/$AK$12 -> 0 | AJ12: =SUM(AJ6:AJ11) -> 640 | AK12: =SUM(AK6:AK11) -> 597 | AL12: =SUM(AL6:AL11) -> 457 | AM12: =SUM(AA12,AC12,AE12,AG12,AI12) -> 1 | AP12: Total | AQ12: =SUM(AQ6:AQ11) -> 2497.48 | AR12: =SUM(AR6:AR11) -> 2495.08 | AS12: =SUM(AS6:AS11) -> 2.4 | AT12: =SUM(AT6:AT11) -> 136.85 | AU12: =(AU6*$BE6+AU7*$BE7+AU8*$BE8+AU9*$BE9+AU10*$BE10+AU11*$BE11)/$BE12 -> 0.031775777 | AV12: =SUM(AV6:AV11) -> 1440 | AW12: =(AW6*$BE6+AW7*$BE7+AW8*$BE8+AW9*$BE9+AW10*$BE10+AW11*$BE11)/$BE12 -> 0.25460637 | AX12: =SUM(AX6:AX11) -> 245.67 | AY12: =(AY6*$BE6+AY7*$BE7+AY8*$BE8+AY9*$BE9+AY10*$BE10+AY11*$BE11)/$BE12 -> 0.068778406 | AZ12: =SUM(AZ6:AZ11) -> 42.48 | BA12: =(BA6*$BE6+BA7*$BE7+BA8*$BE8+BA9*$BE9+BA10*$BE10+BA11*$BE11)/$BE12 -> 0.6349567 | BB12: =(BB6*$BE6+BB7*$BE7+BB8*$BE8+BB9*$BE9+BB10*$BE10+BB11*$BE11)/$BE12 -> 0.042369576 | BC12: =(BC6*$BE6+BC7*$BE7+BC8*$BE8+BC9*$BE9+BC10*$BE10+BC11*$BE11)/$BE12 -> 0.0098827471 | BD12: =SUM(BD6:BD11) -> 640 | BE12: =SUM(BE6:BE11) -> 597 | BF12: =SUM(BF6:BF11) -> 441 | BG12: =SUM(AU12,AW12,AY12,BA12,BC12) -> 1 | BJ12: Total | BK12: =SUM(BK6:BK11) -> 2770.7 | BL12: =SUM(BL6:BL11) -> 2770.7 | BM12: =SUM(BM6:BM11) -> 0 | BN12: =SUM(BN6:BN11) -> 205.3 | BO12: =(BO6*$BY6+BO7*$BY7+BO8*$BY8+BO9*$BY9+BO10*$BY10+BO11*$BY11)/$BY12 -> 0.048242782 | BP12: =SUM(BP6:BP11) -> 1488 | BQ12: =(BQ6*$BY6+BQ7*$BY7+BQ8*$BY8+BQ9*$BY9+BQ10*$BY10+BQ11*$BY11)/$BY12 -> 0.25460637 | BR12: =SUM(BR6:BR11) -> 0 | BS12: =(BS6*$BY6+BS7*$BY7+BS8*$BY8+BS9*$BY9+BS10*$BY10+BS11*$BY11)/$BY12 -> 0 | BT12: =SUM(BT6:BT11) -> 237.98 | BU12: =(BU6*$BY6+BU7*$BY7+BU8*$BY8+BU9*$BY9+BU10*$BY10+BU11*$BY11)/$BY12 -> 0.63998107 | BV12: =(BV6*$BY6+BV7*$BY7+BV8*$BY8+BV9*$BY9+BV10*$BY10+BV11*$BY11)/$BY12 -> 0.10541257 | BW12: =(BW6*$BY6+BW7*$BY7+BW8*$BY8+BW9*$BY9+BW10*$BY10+BW11*$BY11)/$BY12 -> 0.057169787 | BX12: =SUM(BX6:BX11) -> 640 | BY12: 597 | BZ12: =SUM(BZ6:BZ11) -> 442 | CA12: =SUM(BO12,BQ12,BS12,BU12,BW12) -> 1 | CD12: Total | CE12: =SUM(CE6:CE11) -> 2296.1 | CF12: =SUM(CF6:CF11) -> 2296.1 | CG12: =SUM(CG6:CG11) -> 0 | CH12: =SUM(CH6:CH11) -> 530 | CI12: =(CI6*$CS6+CI7*$CS7+CI8*$CS8+CI9*$CS9+CI10*$CS10+CI11*$CS11)/$CS12 -> 0.12647985 | CJ12: =SUM(CJ6:CJ11) -> 1440 | CK12: =(CK6*$CS6+CK7*$CS7+CK8*$CS8+CK9*$CS9+CK10*$CS10+CK11*$CS11)/$CS12 -> 0.25460637 | CL12: =SUM(CL6:CL11) -> 53.9 | CM12: =(CM6*$CS6+CM7*$CS7+CM8*$CS8+CM9*$CS9+CM10*$CS10+CM11*$CS11)/$CS12 -> 0.011948399 | CN12: =SUM(CN6:CN11) -> 137.56 | CO12: =(CO6*$CS6+CO7*$CS7+CO8*$CS8+CO9*$CS9+CO10*$CS10+CO11*$CS11)/$CS12 -> 0.5739813 | CP12: =(CP6*$CS6+CP7*$CS7+CP8*$CS8+CP9*$CS9+CP10*$CS10+CP11*$CS11)/$CS12 -> 0.16410327 | CQ12: =(CQ6*$CS6+CQ7*$CS7+CQ8*$CS8+CQ9*$CS9+CQ10*$CS10+CQ11*$CS11)/$CS12 -> 0.032984087 | CR12: =SUM(CR6:CR11) -> 640 | CS12: 597 | CT12: =SUM(CT6:CT11) -> 447 | CU12: =SUM(CI12,CK12,CM12,CO12,CQ12) -> 1 | CX12: Total | CY12: =SUM(CY6:CY11) -> 1404.91 | CZ12: =SUM(CZ6:CZ11) -> 1342.55 | DA12: =SUM(DA6:DA11) -> 62.36 | DB12: =SUM(DB6:DB11) -> 1282.08 | DC12: =(DC6*$DM6+DC7*$DM7+DC8*$DM8+DC9*$DM9+DC10*$DM10+DC11*$DM11)/$DM12 -> 0.30878758 | DD12: =SUM(DD6:DD11) -> 1688.38 | DE12: =(DE6*$DM6+DE7*$DM7+DE8*$DM8+DE9*$DM9+DE10*$DM10+DE11*$DM11)/$DM12 -> 0.31776535 | DF12: =SUM(DF6:DF11) -> 88.63 | DG12: =(DG6*$DM6+DG7*$DM7+DG8*$DM8+DG9*$DM9+DG10*$DM10+DG11*$DM11)/$DM12 -> 0.019954161 | DH12: =SUM(DH6:DH11) -> 205.07 | DI12: =(DI6*$DM6+DI7*$DM7+DI8*$DM8+DI9*$DM9+DI10*$DM10+DI11*$DM11)/$DM12 -> 0.31193001 | DJ12: =(DJ6*$DM6+DJ7*$DM7+DJ8*$DM8+DJ9*$DM9+DJ10*$DM10+DJ11*$DM11)/$DM12 -> 0.38516479 | DK12: =(DK6*$DM6+DK7*$DM7+DK8*$DM8+DK9*$DM9+DK10*$DM10+DK11*$DM11)/$DM12 -> 0.0415629 | DL12: =SUM(DL6:DL11) -> 640 | DM12: =SUM(DM6:DM11) -> 597 | DN12: =SUM(DN6:DN11) -> 411 | DO12: =SUM(DC12,DE12,DG12,DI12,DK12) -> 1 | DR12: Total | DS12: =SUM(DS6:DS11) -> 1674.71 | DT12: =SUM(DT6:DT11) -> 1655.74 | DU12: =SUM(DU6:DU11) -> 18.97 | DV12: =SUM(DV6:DV11) -> 139.08 | DW12: =(DW6*$EG6+DW7*$EG7+DW8*$EG8+DW9*$EG9+DW10*$EG10+DW11*$EG11)/$EG12 -> 0.018149101 | DX12: =SUM(DX6:DX11) -> 2314.83 | DY12: =(DY6*$EG6+DY7*$EG7+DY8*$EG8+DY9*$EG9+DY10*$EG10+DY11*$EG11)/$EG12 -> 0.50776058 | DZ12: =SUM(DZ6:DZ11) -> 335.38 | EA12: =(EA6*$EG6+EA7*$EG7+EA8*$EG8+EA9*$EG9+EA10*$EG10+EA11*$EG11)/$EG12 -> 0.075507466 | EB12: =SUM(EB6:EB11) -> 657.11 | EC12: =(EC6*$EG6+EC7*$EG7+EC8*$EG8+EC9*$EG9+EC10*$EG10+EC11*$EG11)/$EG12 -> 0.28559525 | ED12: =(ED6*$EG6+ED7*$EG7+ED8*$EG8+ED9*$EG9+ED10*$EG10+ED11*$EG11)/$EG12 -> 0.16443537 | EE12: =(EE6*$EG6+EE7*$EG7+EE8*$EG8+EE9*$EG9+EE10*$EG10+EE11*$EG11)/$EG12 -> 0.11298761 | EF12: =SUM(EF6:EF11) -> 640 | EG12: 597 | EH12: =SUM(EH6:EH11) -> 251 | EI12: =SUM(DW12,DY12,EA12,EC12,EE12) -> 1 | EL12: Total | EM12: =SUM(EM6:EM11) -> 1615.08 | EN12: =SUM(EN6:EN11) -> 1570.3 | EO12: =SUM(EO6:EO11) -> 44.78 | EP12: =SUM(EP6:EP11) -> 177.24 | EQ12: =(EQ6*$FA6+EQ7*$FA7+EQ8*$FA8+EQ9*$FA9+EQ10*$FA10+EQ11*$FA11)/$FA12 -> 0.024003799 | ER12: =SUM(ER6:ER11) -> 2016 | ES12: =(ES6*$FA6+ES7*$FA7+ES8*$FA8+ES9*$FA9+ES10*$FA10+ES11*$FA11)/$FA12 -> 0.48911223 | ET12: =SUM(ET6:ET11) -> 223.68 | EU12: =(EU6*$FA6+EU7*$FA7+EU8*$FA8+EU9*$FA9+EU10*$FA10+EU11*$FA11)/$FA12 -> 0.055754965 | EV12: =SUM(EV6:EV11) -> 184.37 | EW12: =(EW6*$FA6+EW7*$FA7+EW8*$FA8+EW9*$FA9+EW10*$FA10+EW11*$FA11)/$FA12 -> 0.38637797 | EX12: =(EX6*$FA6+EX7*$FA7+EX8*$FA8+EX9*$FA9+EX10*$FA10+EX11*$FA11)/$FA12 -> 0.085144138 | EY12: =(EY6*$FA6+EY7*$FA7+EY8*$FA8+EY9*$FA9+EY10*$FA10+EY11*$FA11)/$FA12 -> 0.044751037 | EZ12: =SUM(EZ6:EZ11) -> 640 | FA12: =SUM(FA6:FA11) -> 597 | FB12: =SUM(FB6:FB11) -> 514 | FC12: =SUM(EQ12,ES12,EU12,EW12,EY12) -> 1 | FF12: Total | FG12: =SUM(FG6:FG11) -> 1887.62 | FH12: =SUM(FH6:FH11) -> 1577.64 | FI12: =SUM(FI6:FI11) -> 309.98 | FJ12: =SUM(FJ6:FJ11) -> 192.64 | FK12: =(FK6*$FU6+FK7*$FU7+FK8*$FU8+FK9*$FU9+FK10*$FU10+FK11*$FU11)/$FU12 -> 0.041537009 | FL12: =SUM(FL6:FL11) -> 2232 | FM12: =(FM6*$FU6+FM7*$FU7+FM8*$FU8+FM9*$FU9+FM10*$FU10+FM11*$FU11)/$FU12 -> 0.48911223 | FN12: =SUM(FN6:FN11) -> 151.74 | FO12: =(FO6*$FU6+FO7*$FU7+FO8*$FU8+FO9*$FU9+FO10*$FU10+FO11*$FU11)/$FU12 -> 0.03256099 | FP12: =SUM(FP6:FP11) -> 213.8 | FQ12: =(FQ6*$FU6+FQ7*$FU7+FQ8*$FU8+FQ9*$FU9+FQ10*$FU10+FQ11*$FU11)/$FU12 -> 0.39084813 | FR12: =(FR6*$FU6+FR7*$FU7+FR8*$FU8+FR9*$FU9+FR10*$FU10+FR11*$FU11)/$FU12 -> 0.1194076 | FS12: =(FS6*$FU6+FS7*$FU7+FS8*$FU8+FS9*$FU9+FS10*$FU10+FS11*$FU11)/$FU12 -> 0.045941648 | FT12: =SUM(FT6:FT11) -> 640 | FU12: 597 | FV12: 597 | FW12: =SUM(FK12,FM12,FO12,FQ12,FS12) -> 1 | FZ12: Total | GA12: =SUM(GA6:GA11) -> 2139.68 | GB12: =SUM(GB6:GB11) -> 2139.68 | GC12: =SUM(GC6:GC11) -> 0 | GD12: =SUM(GD6:GD11) -> 20.32 | GE12: =(GE6*$GO6+GE7*$GO7+GE8*$GO8+GE9*$GO9+GE10*$GO10+GE11*$GO11)/$GO12 -> 0.0039032896 | GF12: =SUM(GF6:GF11) -> 2160 | GG12: =(GG6*$GO6+GG7*$GO7+GG8*$GO8+GG9*$GO9+GG10*$GO10+GG11*$GO11)/$GO12 -> 0.48911223 | GH12: =SUM(GH6:GH11) -> 0 | GI12: =(GI6*$GO6+GI7*$GO7+GI8*$GO8+GI9*$GO9+GI10*$GO10+GI11*$GO11)/$GO12 -> 0 | GJ12: =SUM(GJ6:GJ11) -> 216 | GK12: =(GK6*$GO6+GK7*$GO7+GK8*$GO8+GK9*$GO9+GK10*$GO10+GK11*$GO11)/$GO12 -> 0.45673323 | GL12: =(GL6*$GO6+GL7*$GO7+GL8*$GO8+GL9*$GO9+GL10*$GO10+GL11*$GO11)/$GO12 -> 0.054154546 | GM12: =(GM6*$GO6+GM7*$GO7+GM8*$GO8+GM9*$GO9+GM10*$GO10+GM11*$GO11)/$GO12 -> 0.050251256 | GN12: =SUM(GN6:GN11) -> 640 | GO12: =SUM(GO6:GO11) -> 597 | GP12: =SUM(GP6:GP11) -> 280 | GQ12: =SUM(GE12,GG12,GI12,GK12,GM12) -> 1 | GT12: Total | GU12: =SUM(GU6:GU11) -> 2104.68 | GV12: =SUM(GV6:GV11) -> 2104.68 | GW12: =SUM(GW6:GW11) -> 0 | GX12: =SUM(GX6:GX11) -> 49.08 | GY12: =(GY6*$HI6+GY7*$HI7+GY8*$HI8+GY9*$HI9+GY10*$HI10+GY11*$HI11)/$HI12 -> 0.011049873 | GZ12: =SUM(GZ6:GZ11) -> 2232 | HA12: =(HA6*$HI6+HA7*$HI7+HA8*$HI8+HA9*$HI9+HA10*$HI10+HA11*$HI11)/$HI12 -> 0.48911223 | HB12: =SUM(HB6:HB11) -> 78.24 | HC12: =(HC6*$HI6+HC7*$HI7+HC8*$HI8+HC9*$HI9+HC10*$HI10+HC11*$HI11)/$HI12 -> 0.013666676 | HD12: =SUM(HD6:HD11) -> 300.35 | HE12: =(HE6*$HI6+HE7*$HI7+HE8*$HI8+HE9*$HI9+HE10*$HI10+HE11*$HI11)/$HI12 -> 0.41855041 | HF12: =(HF6*$HI6+HF7*$HI7+HF8*$HI8+HF9*$HI9+HF10*$HI10+HF11*$HI11)/$HI12 -> 0.078670683 | HG12: =(HG6*$HI6+HG7*$HI7+HG8*$HI8+HG9*$HI9+HG10*$HI10+HG11*$HI11)/$HI12 -> 0.06762081 | HH12: =SUM(HH6:HH11) -> 640 | HI12: =SUM(HI6:HI11) -> 597 | HJ12: =SUM(HJ6:HJ11) -> 255 | HK12: =SUM(GY12,HA12,HC12,HE12,HG12) -> 1 | HN12: Total | HO12: =SUM(HO6:HO11) -> 1716.3033 | HP12: =SUM(HP6:HP11) -> 1716.3 | HQ12: =SUM(HQ6:HQ11) -> 0 | HR12: =SUM(HR6:HR11) -> 477.19 | HS12: =(HS6*$ID6+HS7*$ID7+HS8*$ID8+HS9*$ID9+HS10*$ID10+HS11*$ID11)/$ID12 -> 0.10949888 | HT12: =SUM(HT6:HT11) -> 2083.33 | HU12: =(HU6*$ID6+HU7*$ID7+HU8*$ID8+HU9*$ID9+HU10*$ID10+HU11*$ID11)/$ID12 -> 0.47127536 | HV12: =SUM(HV6:HV11) -> 43.18 | HW12: =(HW6*$ID6+HW7*$ID7+HW8*$ID8+HW9*$ID9+HW10*$ID10+HW11*$ID11)/$ID12 -> 0.0097069607 | HX12: =SUM(HX6:HX11) -> 0 | HY12: =SUM(HY6:HY11) -> 244.89 | HZ12: =(HZ6*$ID6+HZ7*$ID7+HZ8*$ID8+HZ9*$ID9+HZ10*$ID10+HZ11*$ID11)/$ID12 -> 0.35254721 | IA12: =(IA6*$ID6+IA7*$ID7+IA8*$ID8+IA9*$ID9+IA10*$ID10+IA11*$ID11)/$ID12 -> 0.3121235 | IB12: =(IB6*$ID6+IB7*$ID7+IB8*$ID8+IB9*$ID9+IB10*$ID10+IB11*$ID11)/$ID12 -> 0.056972362 | IC12: =SUM(IC6:IC11) -> 640 | ID12: =SUM(ID6:ID11) -> 597 | IE12: =SUM(IE6:IE11) -> 310 | IF12: =SUM(HS12,HU12,HW12,HZ12,IB12) -> 1.0000008
A13: PALO | B13: 3 | C13: 739.33 | D13: 739.33 | E13: 0 | F13: 4.67 | G13: =F13/$B$4 -> 0.0062768817 | H13: 0 | I13: =H13/$B$4 -> 0 | J13: 0 | K13: =J13/$B$4 -> 0 | L13: 271.25 | M13: =(C13-L13)/$B$4 -> 0.62913978 | N13: =IF((AND(D13=0,F13=0)),0,(F13+L13)/(D13+F13)) -> 0.37086022 | O13: =L13/$B$4 -> 0.36458333 | P13: 216 | Q13: 178 | R13: 130 | S13: =SUM(G13,I13,K13,M13,O13) -> 1 | U13: PALO | V13: 3 | W13: 744 | X13: 744 | Y13: 0 | Z13: 0 | AA13: =Z13/$V$4 -> 0 | AB13: 0 | AC13: =AB13/$V$4 -> 0 | AD13: 0 | AE13: =AD13/$V$4 -> 0 | AF13: 296.22 | AG13: =(W13-AF13)/$V$4 -> 0.60185484 | AH13: =IF((AND(X13=0,Z13=0)),0,(Z13+AF13)/(X13+Z13)) -> 0.39814516 | AI13: =AF13/$V$4 -> 0.39814516 | AJ13: 216 | AK13: 178 | AL13: 130 | AM13: =SUM(AA13,AC13,AE13,AG13,AI13) -> 1 | AO13: PALO | AP13: 3 | AQ13: 704.52 | AR13: 704.52 | AS13: 0 | AT13: 15.48 | AU13: =AT13/$AP$4 -> 0.0215 | AV13: 0 | AW13: =AV13/$AP$4 -> 0 | AX13: 0 | AY13: =AX13/$AP$4 -> 0 | AZ13: 314.11 | BA13: =(AQ13-AZ13)/$AP$4 -> 0.54223611 | BB13: =IF((AND(AR13=0,AT13=0)),0,(AT13+AZ13)/(AR13+AT13)) -> 0.45776389 | BC13: =AZ13/$AP$4 -> 0.43626389 | BD13: 216 | BE13: 178 | BF13: 100 | BG13: =SUM(AU13,AW13,AY13,BA13,BC13) -> 1 | BI13: PALO | BJ13: 3 | BK13: 640.45 | BL13: 640.45 | BM13: 0 | BN13: 103.55 | BO13: =BN13/$BJ$4 -> 0.13918011 | BP13: 0 | BQ13: =BP13/$BJ$4 -> 0 | BR13: 0 | BS13: =BR13/$BJ$4 -> 0 | BT13: 264.55 | BU13: =(BK13-BT13)/$BJ$4 -> 0.50524194 | BV13: =IF((AND(BL13=0,BN13=0)),0,(BN13+BT13)/(BL13+BN13)) -> 0.49475806 | BW13: =BT13/$BJ$4 -> 0.35557796 | BX13: 216 | BY13: 178 | BZ13: 145 | CA13: =SUM(BO13,BQ13,BS13,BU13,BW13) -> 1 | CC13: PALO | CD13: 3 | CE13: 628.18 | CF13: 628.18 | CG13: 0 | CH13: 91.82 | CI13: =CH13/$CD$4 -> 0.12752778 | CJ13: 0 | CK13: =CJ13/$CD$4 -> 0 | CL13: 0 | CM13: =CL13/$CD$4 -> 0 | CN13: 206.5 | CO13: =(CE13-CN13)/$CD$4 -> 0.58566667 | CP13: =IF((AND(CF13=0,CH13=0)),0,(CH13+CN13)/(CF13+CH13)) -> 0.41433333 | CQ13: =CN13/$CD$4 -> 0.28680556 | CR13: 216 | CS13: 178 | CT13: 145 | CU13: =SUM(CI13,CK13,CM13,CO13,CQ13) -> 1 | CW13: PALO | CX13: 3 | CY13: 744 | CZ13: 660 | DA13: 84 | DB13: 0 | DC13: =DB13/$CX$4 -> 0 | DD13: 0 | DE13: =DD13/$CX$4 -> 0 | DF13: 0 | DG13: =DF13/$CX$4 -> 0 | DH13: 212.99 | DI13: =(CY13-DH13)/$CX$4 -> 0.71372312 | DJ13: =IF((AND(CZ13=0,DB13=0)),0,(DB13+DH13)/(CZ13+DB13)) -> 0.32271212 | DK13: =DH13/$CX$4 -> 0.28627688 | DL13: 216 | DM13: 178 | DN13: 145 | DO13: =SUM(DC13,DE13,DG13,DI13,DK13) -> 1 | DQ13: PALO | DR13: 3 | DS13: 346.45 | DT13: 234.53 | DU13: 111.92 | DV13: 0 | DW13: =DV13/$DR$4 -> 0 | DX13: 397.55 | DY13: =DX13/$DR$4 -> 0.5343414 | DZ13: 0 | EA13: =DZ13/$DR$4 -> 0 | EB13: 82.02 | EC13: =(DS13-EB13)/$DR$4 -> 0.35541667 | ED13: =IF((AND(DT13=0,DV13=0)),0,(DV13+EB13)/(DT13+DV13)) -> 0.34972072 | EE13: =EB13/$DR$4 -> 0.11024194 | EF13: 216 | EG13: 178 | EH13: 145 | EI13: =SUM(DW13,DY13,EA13,EC13,EE13) -> 1 | EK13: PALO | EL13: 3 | EM13: 0 | EN13: 0 | EO13: 0 | EP13: 0 | EQ13: =EP13/$EL$4 -> 0 | ER13: ='[17]UNIT DATA'!$N2 -> 672 | ES13: =ER13/$EL$4 -> 1 | ET13: ='[17]UNIT DATA'!$O2 -> 0 | EU13: =ET13/$EL$4 -> 0 | EV13: 0 | EW13: =(EM13-EV13)/$EL$4 -> 0 | EX13: =IF((AND(EN13=0,EP13=0)),0,(EP13+EV13)/(EN13+EP13)) -> 0 | EY13: =EV13/$EL$4 -> 0 | EZ13: 216 | FA13: 178 | FB13: 0 | FC13: =SUM(EQ13,ES13,EU13,EW13,EY13) -> 1 | FE13: PALO | FF13: 3 | FG13: 0 | FH13: 0 | FI13: 0 | FJ13: 0 | FK13: =FJ13/$FF$4 -> 0 | FL13: 744 | FM13: =FL13/$FF$4 -> 1 | FN13: 0 | FO13: =FN13/$FF$4 -> 0 | FP13: 0 | FQ13: =(FG13-FP13)/$FF$4 -> 0 | FR13: =IF((AND(FH13=0,FJ13=0)),0,(FJ13+FP13)/(FH13+FJ13)) -> 0 | FS13: =FP13/$FF$4 -> 0 | FT13: 216 | FU13: 178 | FV13: 0 | FW13: =SUM(FK13,FM13,FO13,FQ13,FS13) -> 1 | FY13: PALO | FZ13: 3 | GA13: 0 | GB13: 0 | GC13: 0 | GD13: 0 | GE13: =GD13/$FZ$4 -> 0 | GF13: 720 | GG13: =GF13/$FZ$4 -> 1 | GH13: 0 | GI13: =GH13/$FZ$4 -> 0 | GJ13: 0 | GK13: =(GA13-GJ13)/$FZ$4 -> 0 | GL13: =IF((AND(GB13=0,GD13=0)),0,(GD13+GJ13)/(GB13+GD13)) -> 0 | GM13: =GJ13/$FZ$4 -> 0 | GN13: 216 | GO13: 178 | GP13: 0 | GQ13: =SUM(GE13,GG13,GI13,GK13,GM13) -> 1 | GS13: PALO | GT13: 3 | GU13: 0.92 | GV13: 0.92 | GW13: 0 | GX13: 250.85 | GY13: =GX13/$GT$4 -> 0.33716398 | GZ13: 492.23 | HA13: =GZ13/$GT$4 -> 0.66159946 | HB13: 0 | HC13: =HB13/$GT$4 -> 0 | HD13: 0 | HE13: =(GU13-HD13)/$GT$4 -> 0.0012365591 | HF13: =IF((AND(GV13=0,GX13=0)),0,(GX13+HD13)/(GV13+GX13)) -> 0.99634587 | HG13: =HD13/$GT$4 -> 0 | HH13: 216 | HI13: 178 | HJ13: 0 | HK13: =SUM(GY13,HA13,HC13,HE13,HG13) -> 1 | HM13: PALO | HN13: 3 | HO13: 654.62 | HP13: 654.62 | HQ13: 0 | HR13: 65.38 | HS13: =HR13/$HN$4 -> 0.090805556 | HT13: 0 | HU13: =HT13/$HN$4 -> 0 | HV13: 0 | HW13: =HV13/$HN$4 -> 0 | HX13: 0 | HY13: 130.6 | HZ13: =(HO13-HX13-HY13)/$HN$4 -> 0.72780556 | IA13: =IF((AND(HP13=0,HR13=0)),0,(HR13+HX13+HY13)/(HP13+HR13)) -> 0.27219444 | IB13: =(HY13+HX13)/$HN$4 -> 0.18138889 | IC13: 216 | ID13: 178 | IE13: 210 | IF13: =SUM(HS13,HU13,HW13,HZ13,IB13) -> 1
A14: SECO | B14: 4 | C14: 0 | D14: 0 | E14: 0 | F14: 744 | G14: =F14/$B$4 -> 1 | H14: 0 | I14: =H14/$B$4 -> 0 | J14: 0 | K14: =J14/$B$4 -> 0 | L14: 0 | M14: =(C14-L14)/$B$4 -> 0 | N14: =IF((AND(D14=0,F14=0)),0,(F14+L14)/(D14+F14)) -> 1 | O14: =L14/$B$4 -> 0 | P14: 216 | Q14: 216 | R14: 0 | S14: =SUM(G14,I14,K14,M14,O14) -> 1 | U14: SECO | V14: 4 | W14: 0 | X14: 0 | Y14: 0 | Z14: 744 | AA14: =Z14/$V$4 -> 1 | AB14: 0 | AC14: =AB14/$V$4 -> 0 | AD14: 0 | AE14: =AD14/$V$4 -> 0 | AF14: 0 | AG14: =(W14-AF14)/$V$4 -> 0 | AH14: =IF((AND(X14=0,Z14=0)),0,(Z14+AF14)/(X14+Z14)) -> 1 | AI14: =AF14/$V$4 -> 0 | AJ14: 216 | AK14: 216 | AL14: 0 | AM14: =SUM(AA14,AC14,AE14,AG14,AI14) -> 1 | AO14: SECO | AP14: 4 | AQ14: 113.88 | AR14: 113.88 | AS14: 0 | AT14: 606.12 | AU14: =AT14/$AP$4 -> 0.84183333 | AV14: 0 | AW14: =AV14/$AP$4 -> 0 | AX14: 0 | AY14: =AX14/$AP$4 -> 0 | AZ14: 66.84 | BA14: =(AQ14-AZ14)/$AP$4 -> 0.065333333 | BB14: =IF((AND(AR14=0,AT14=0)),0,(AT14+AZ14)/(AR14+AT14)) -> 0.93466667 | BC14: =AZ14/$AP$4 -> 0.092833333 | BD14: 216 | BE14: 216 | BF14: 80 | BG14: =SUM(AU14,AW14,AY14,BA14,BC14) -> 1 | BI14: SECO | BJ14: 4 | BK14: 649.99 | BL14: 649.99 | BM14: 0 | BN14: 94.01 | BO14: =BN14/$BJ$4 -> 0.12635753 | BP14: 0 | BQ14: =BP14/$BJ$4 -> 0 | BR14: 0 | BS14: =BR14/$BJ$4 -> 0 | BT14: 193.48 | BU14: =(BK14-BT14)/$BJ$4 -> 0.61358871 | BV14: =IF((AND(BL14=0,BN14=0)),0,(BN14+BT14)/(BL14+BN14)) -> 0.38641129 | BW14: =BT14/$BJ$4 -> 0.26005376 | BX14: 216 | BY14: 216 | BZ14: 170 | CA14: =SUM(BO14,BQ14,BS14,BU14,BW14) -> 1 | CC14: SECO | CD14: 4 | CE14: 480.92 | CF14: 394.44 | CG14: 86.48 | CH14: 169.45 | CI14: =CH14/$CD$4 -> 0.23534722 | CJ14: 0 | CK14: =CJ14/$CD$4 -> 0 | CL14: 69.63 | CM14: =CL14/$CD$4 -> 0.096708333 | CN14: 150.4 | CO14: =(CE14-CN14)/$CD$4 -> 0.45905556 | CP14: =IF((AND(CF14=0,CH14=0)),0,(CH14+CN14)/(CF14+CH14)) -> 0.56722056 | CQ14: =CN14/$CD$4 -> 0.20888889 | CR14: 216 | CS14: 216 | CT14: 85 | CU14: =SUM(CI14,CK14,CM14,CO14,CQ14) -> 1 | CW14: SECO | CX14: 4 | CY14: 719.37 | CZ14: 692.87 | DA14: 26.5 | DB14: 24.63 | DC14: =DB14/$CX$4 -> 0.033104839 | DD14: 0 | DE14: =DD14/$CX$4 -> 0 | DF14: 0 | DG14: =DF14/$CX$4 -> 0 | DH14: 181.51 | DI14: =(CY14-DH14)/$CX$4 -> 0.72293011 | DJ14: =IF((AND(CZ14=0,DB14=0)),0,(DB14+DH14)/(CZ14+DB14)) -> 0.28730314 | DK14: =DH14/$CX$4 -> 0.24396505 | DL14: 216 | DM14: 216 | DN14: 200 | DO14: =SUM(DC14,DE14,DG14,DI14,DK14) -> 1 | DQ14: SECO | DR14: 4 | DS14: 744 | DT14: 744 | DU14: 0 | DV14: 0 | DW14: =DV14/$DR$4 -> 0 | DX14: 0 | DY14: =DX14/$DR$4 -> 0 | DZ14: 0 | EA14: =DZ14/$DR$4 -> 0 | EB14: 55.11 | EC14: =(DS14-EB14)/$DR$4 -> 0.92592742 | ED14: =IF((AND(DT14=0,DV14=0)),0,(DV14+EB14)/(DT14+DV14)) -> 0.074072581 | EE14: =EB14/$DR$4 -> 0.074072581 | EF14: 216 | EG14: 216 | EH14: 200 | EI14: =SUM(DW14,DY14,EA14,EC14,EE14) -> 1 | EK14: SECO | EL14: 4 | EM14: 549.54 | EN14: 473.67 | EO14: 75.87 | EP14: 13.63 | EQ14: =EP14/$EL$4 -> 0.020282738 | ER14: ='[17]UNIT DATA'!$N3 -> 0 | ES14: =ER14/$EL$4 -> 0 | ET14: ='[17]UNIT DATA'!$O3 -> 108.83 | EU14: =ET14/$EL$4 -> 0.1619494 | EV14: 35.09 | EW14: =(EM14-EV14)/$EL$4 -> 0.7655506 | EX14: =IF((AND(EN14=0,EP14=0)),0,(EP14+EV14)/(EN14+EP14)) -> 0.099979479 | EY14: =EV14/$EL$4 -> 0.052217262 | EZ14: 216 | FA14: 216 | FB14: 200 | FC14: =SUM(EQ14,ES14,EU14,EW14,EY14) -> 1 | FE14: SECO | FF14: 4 | FG14: 224.7 | FH14: 126.98 | FI14: 97.72 | FJ14: 2.5 | FK14: =FJ14/$FF$4 -> 0.0033602151 | FL14: 0 | FM14: =FL14/$FF$4 -> 0 | FN14: 516.8 | FO14: =FN14/$FF$4 -> 0.69462366 | FP14: 9.4 | FQ14: =(FG14-FP14)/$FF$4 -> 0.28938172 | FR14: =IF((AND(FH14=0,FJ14=0)),0,(FJ14+FP14)/(FH14+FJ14)) -> 0.091906086 | FS14: =FP14/$FF$4 -> 0.012634409 | FT14: 216 | FU14: 216 | FV14: 200 | FW14: =SUM(FK14,FM14,FO14,FQ14,FS14) -> 1 | FY14: SECO | FZ14: 4 | GA14: 514.57 | GB14: 514.57 | GC14: 0 | GD14: 205.43 | GE14: =GD14/$FZ$4 -> 0.28531944 | GF14: 0 | GG14: =GF14/$FZ$4 -> 0 | GH14: 0 | GI14: =GH14/$FZ$4 -> 0 | GJ14: 38.11 | GK14: =(GA14-GJ14)/$FZ$4 -> 0.66175 | GL14: =IF((AND(GB14=0,GD14=0)),0,(GD14+GJ14)/(GB14+GD14)) -> 0.33825 | GM14: =GJ14/$FZ$4 -> 0.052930556 | GN14: 216 | GO14: 216 | GP14: 200 | GQ14: =SUM(GE14,GG14,GI14,GK14,GM14) -> 1 | GS14: SECO | GT14: 4 | GU14: 678.58 | GV14: 678.58 | GW14: 0 | GX14: 65.42 | GY14: =GX14/$GT$4 -> 0.087930108 | GZ14: 0 | HA14: =GZ14/$GT$4 -> 0 | HB14: 0 | HC14: =HB14/$GT$4 -> 0 | HD14: 50.26 | HE14: =(GU14-HD14)/$GT$4 -> 0.84451613 | HF14: =IF((AND(GV14=0,GX14=0)),0,(GX14+HD14)/(GV14+GX14)) -> 0.15548387 | HG14: =HD14/$GT$4 -> 0.067553763 | HH14: 216 | HI14: 216 | HJ14: 200 | HK14: =SUM(GY14,HA14,HC14,HE14,HG14) -> 1 | HM14: SECO | HN14: 4 | HO14: 720 | HP14: 720 | HQ14: 0 | HR14: 0 | HS14: =HR14/$HN$4 -> 0 | HT14: 0 | HU14: =HT14/$HN$4 -> 0 | HV14: 0 | HW14: =HV14/$HN$4 -> 0 | HX14: 0 | HY14: 164.44 | HZ14: =(HO14-HX14-HY14)/$HN$4 -> 0.77161111 | IA14: =IF((AND(HP14=0,HR14=0)),0,(HR14+HX14+HY14)/(HP14+HR14)) -> 0.22838889 | IB14: =(HY14+HX14)/$HN$4 -> 0.22838889 | IC14: 216 | ID14: 216 | IE14: 150 | IF14: =SUM(HS14,HU14,HW14,HZ14,IB14) -> 1
B15: Total | C15: =SUM(C13:C14) -> 739.33 | D15: =SUM(D13:D14) -> 739.33 | E15: =SUM(E13:E14) -> 0 | F15: =SUM(F13:F14) -> 748.67 | G15: =(G13*Q13+G14*Q14)/Q15 -> 0.5510591 | H15: =SUM(H13:H14) -> 0 | I15: =(I13*Q13+I14*Q14)/Q15 -> 0 | J15: =SUM(J13:J14) -> 0 | K15: =(K13*Q13+K14*Q14)/Q15 -> 0 | L15: =SUM(L13:L14) -> 271.25 | M15: =(M13*Q13+M14*Q14)/Q15 -> 0.28423066 | N15: =(N13*Q13+N14*Q14)/Q15 -> 0.71576934 | O15: =(O13*Q13+O14*Q14)/Q15 -> 0.16471024 | P15: =SUM(P13:P14) -> 432 | Q15: =SUM(Q13:Q14) -> 394 | R15: =SUM(R13:R14) -> 130 | S15: =SUM(G15,I15,K15,M15,O15) -> 1 | V15: Total | W15: =SUM(W13:W14) -> 744 | X15: =SUM(X13:X14) -> 744 | Y15: =SUM(Y13:Y14) -> 0 | Z15: =SUM(Z13:Z14) -> 744 | AA15: =(AA13*$AK$13+AA14*$AK$14)/$AK$15 -> 0.54822335 | AB15: =SUM(AB13:AB14) -> 0 | AC15: =(AC13*$AK$13+AC14*$AK$14)/$AK$15 -> 0 | AD15: =SUM(AD13:AD14) -> 0 | AE15: =(AE13*$AK$13+AE14*$AK$14)/$AK$15 -> 0 | AF15: =SUM(AF13:AF14) -> 296.22 | AG15: =(AG13*$AK$13+AG14*$AK$14)/$AK$15 -> 0.27190396 | AH15: =(AH13*$AK$13+AH14*$AK$14)/$AK$15 -> 0.72809604 | AI15: =(AI13*$AK$13+AI14*$AK$14)/$AK$15 -> 0.17987269 | AJ15: =SUM(AJ13:AJ14) -> 432 | AK15: =SUM(AK13:AK14) -> 394 | AL15: =SUM(AL13:AL14) -> 130 | AM15: =SUM(AA15,AC15,AE15,AG15,AI15) -> 1 | AP15: Total | AQ15: =SUM(AQ13:AQ14) -> 818.4 | AR15: =SUM(AR13:AR14) -> 818.4 | AS15: =SUM(AS13:AS14) -> 0 | AT15: =SUM(AT13:AT14) -> 621.6 | AU15: =(AU13*$BE13+AU14*$BE14)/$BE15 -> 0.47122589 | AV15: =SUM(AV13:AV14) -> 0 | AW15: =(AW13*$BE13+AW14*$BE14)/$BE15 -> 0 | AX15: =SUM(AX13:AX14) -> 0 | AY15: =(AY13*$BE13+AY14*$BE14)/$BE15 -> 0 | AZ15: =SUM(AZ13:AZ14) -> 380.95 | BA15: =(BA13*$BE13+BA14*$BE14)/$BE15 -> 0.28078687 | BB15: =(BB13*$BE13+BB14*$BE14)/$BE15 -> 0.71921313 | BC15: =(BC13*$BE13+BC14*$BE14)/$BE15 -> 0.24798724 | BD15: =SUM(BD13:BD14) -> 432 | BE15: =SUM(BE13:BE14) -> 394 | BF15: =SUM(BF13:BF14) -> 180 | BG15: =SUM(AU15,AW15,AY15,BA15,BC15) -> 1 | BJ15: Total | BK15: =SUM(BK13:BK14) -> 1290.44 | BL15: =SUM(BL13:BL14) -> 1290.44 | BM15: =SUM(BM13:BM14) -> 0 | BN15: =SUM(BN13:BN14) -> 197.56 | BO15: =(BO13*$BY13+BO14*$BY14)/$BY15 -> 0.13215047 | BP15: =SUM(BP13:BP14) -> 0 | BQ15: =(BQ13*$BY13+BQ14*$BY14)/$BY15 -> 0 | BR15: =SUM(BR13:BR14) -> 0 | BS15: =(BS13*$BY13+BS14*$BY14)/$BY15 -> 0 | BT15: =SUM(BT13:BT14) -> 458.03 | BU15: =(BU13*$BY13+BU14*$BY14)/$BY15 -> 0.56464017 | BV15: =(BV13*$BY13+BV14*$BY14)/$BY15 -> 0.43535983 | BW15: =(BW13*$BY13+BW14*$BY14)/$BY15 -> 0.30320936 | BX15: =SUM(BX13:BX14) -> 432 | BY15: 394 | BZ15: =SUM(BZ13:BZ14) -> 315 | CA15: =SUM(BO15,BQ15,BS15,BU15,BW15) -> 1 | CD15: Total | CE15: =SUM(CE13:CE14) -> 1109.1 | CF15: =SUM(CF13:CF14) -> 1022.62 | CG15: =SUM(CG13:CG14) -> 86.48 | CH15: =SUM(CH13:CH14) -> 261.27 | CI15: =(CI13*$CS13+CI14*$CS14)/$CS15 -> 0.18663691 | CJ15: =SUM(CJ13:CJ14) -> 0 | CK15: =(CK13*$CS13+CK14*$CS14)/$CS15 -> 0 | CL15: =SUM(CL13:CL14) -> 69.63 | CM15: =(CM13*$CS13+CM14*$CS14)/$CS15 -> 0.053017766 | CN15: =SUM(CN13:CN14) -> 356.9 | CO15: =(CO13*$CS13+CO14*$CS14)/$CS15 -> 0.5162555 | CP15: =(CP13*$CS13+CP14*$CS14)/$CS15 -> 0.49814968 | CQ15: =(CQ13*$CS13+CQ14*$CS14)/$CS15 -> 0.24408982 | CR15: =SUM(CR13:CR14) -> 432 | CS15: 394 | CT15: =SUM(CT13:CT14) -> 230 | CU15: =SUM(CI15,CK15,CM15,CO15,CQ15) -> 1 | CX15: Total | CY15: =SUM(CY13:CY14) -> 1463.37 | CZ15: =SUM(CZ13:CZ14) -> 1352.87 | DA15: =SUM(DA13:DA14) -> 110.5 | DB15: =SUM(DB13:DB14) -> 24.63 | DC15: =(DC13*$DM13+DC14*$DM14)/$DM15 -> 0.018148846 | DD15: =SUM(DD13:DD14) -> 0 | DE15: =(DE13*$DM13+DE14*$DM14)/$DM15 -> 0 | DF15: =SUM(DF13:DF14) -> 0 | DG15: =(DG13*$DM13+DG14*$DM14)/$DM15 -> 0 | DH15: =SUM(DH13:DH14) -> 394.5 | DI15: =(DI13*$DM13+DI14*$DM14)/$DM15 -> 0.7187706 | DJ15: =(DJ13*$DM13+DJ14*$DM14)/$DM15 -> 0.30330009 | DK15: =(DK13*$DM13+DK14*$DM14)/$DM15 -> 0.26308055 | DL15: =SUM(DL13:DL14) -> 432 | DM15: =SUM(DM13:DM14) -> 394 | DN15: =SUM(DN13:DN14) -> 345 | DO15: =SUM(DC15,DE15,DG15,DI15,DK15) -> 1 | DR15: Total | DS15: =SUM(DS13:DS14) -> 1090.45 | DT15: =SUM(DT13:DT14) -> 978.53 | DU15: =SUM(DU13:DU14) -> 111.92 | DV15: =SUM(DV13:DV14) -> 0 | DW15: =(DW13*$EG13+DW14*$EG14)/$EG15 -> 0 | DX15: =SUM(DX13:DX14) -> 397.55 | DY15: =(DY13*$EG13+DY14*$EG14)/$EG15 -> 0.24140297 | DZ15: =SUM(DZ13:DZ14) -> 0 | EA15: =(EA13*$EG13+EA14*$EG14)/$EG15 -> 0 | EB15: =SUM(EB13:EB14) -> 137.13 | EC15: =(EC13*$EG13+EC14*$EG14)/$EG15 -> 0.66818398 | ED15: =(ED13*$EG13+ED14*$EG14)/$EG15 -> 0.19860397 | EE15: =(EE13*$EG13+EE14*$EG14)/$EG15 -> 0.090413051 | EF15: =SUM(EF13:EF14) -> 432 | EG15: 394 | EH15: =SUM(EH13:EH14) -> 345 | EI15: =SUM(DW15,DY15,EA15,EC15,EE15) -> 1 | EL15: Total | EM15: =SUM(EM13:EM14) -> 549.54 | EN15: =SUM(EN13:EN14) -> 473.67 | EO15: =SUM(EO13:EO14) -> 75.87 | EP15: =SUM(EP13:EP14) -> 13.63 | EQ15: =(EQ13*$FA13+EQ14*$FA14)/$FA15 -> 0.011119471 | ER15: =SUM(ER13:ER14) -> 672 | ES15: =(ES13*$FA13+ES14*$FA14)/$FA15 -> 0.45177665 | ET15: =SUM(ET13:ET14) -> 108.83 | EU15: =(EU13*$FA13+EU14*$FA14)/$FA15 -> 0.088784445 | EV15: =SUM(EV13:EV14) -> 35.09 | EW15: =(EW13*$FA13+EW14*$FA14)/$FA15 -> 0.41969271 | EX15: =(EX13*$FA13+EX14*$FA14)/$FA15 -> 0.054811085 | EY15: =(EY13*$FA13+EY14*$FA14)/$FA15 -> 0.028626722 | EZ15: =SUM(EZ13:EZ14) -> 432 | FA15: =SUM(FA13:FA14) -> 394 | FB15: =SUM(FB13:FB14) -> 200 | FC15: =SUM(EQ15,ES15,EU15,EW15,EY15) -> 1 | FF15: Total | FG15: =SUM(FG13:FG14) -> 224.7 | FH15: =SUM(FH13:FH14) -> 126.98 | FI15: =SUM(FI13:FI14) -> 97.72 | FJ15: =SUM(FJ13:FJ14) -> 2.5 | FK15: =(FK13*$FU13+FK14*$FU14)/$FU15 -> 0.0018421484 | FL15: =SUM(FL13:FL14) -> 744 | FM15: =(FM13*$FU13+FM14*$FU14)/$FU15 -> 0.45177665 | FN15: =SUM(FN13:FN14) -> 516.8 | FO15: =(FO13*$FU13+FO14*$FU14)/$FU15 -> 0.38080891 | FP15: =SUM(FP13:FP14) -> 9.4 | FQ15: =(FQ13*$FU13+FQ14*$FU14)/$FU15 -> 0.15864582 | FR15: =(FR13*$FU13+FR14*$FU14)/$FU15 -> 0.050385062 | FS15: =(FS13*$FU13+FS14*$FU14)/$FU15 -> 0.0069264778 | FT15: =SUM(FT13:FT14) -> 432 | FU15: =SUM(FU13:FU14) -> 394 | FV15: =SUM(FV13:FV14) -> 200 | FW15: =SUM(FK15,FM15,FO15,FQ15,FS15) -> 1 | FZ15: Total | GA15: =SUM(GA13:GA14) -> 514.57 | GB15: =SUM(GB13:GB14) -> 514.57 | GC15: =SUM(GC13:GC14) -> 0 | GD15: =SUM(GD13:GD14) -> 205.43 | GE15: =(GE13*$GO13+GE14*$GO14)/$GO15 -> 0.15641878 | GF15: =SUM(GF13:GF14) -> 720 | GG15: =(GG13*$GO13+GG14*$GO14)/$GO15 -> 0.45177665 | GH15: =SUM(GH13:GH14) -> 0 | GI15: =(GI13*$GO13+GI14*$GO14)/$GO15 -> 0 | GJ15: =SUM(GJ13:GJ14) -> 38.11 | GK15: =(GK13*$GO13+GK14*$GO14)/$GO15 -> 0.3627868 | GL15: =(GL13*$GO13+GL14*$GO14)/$GO15 -> 0.18543655 | GM15: =(GM13*$GO13+GM14*$GO14)/$GO15 -> 0.029017766 | GN15: =SUM(GN13:GN14) -> 432 | GO15: =SUM(GO13:GO14) -> 394 | GP15: =SUM(GP13:GP14) -> 200 | GQ15: =SUM(GE15,GG15,GI15,GK15,GM15) -> 1 | GT15: Total | GU15: =SUM(GU13:GU14) -> 679.5 | GV15: =SUM(GV13:GV14) -> 679.5 | GW15: =SUM(GW13:GW14) -> 0 | GX15: =SUM(GX13:GX14) -> 316.27 | GY15: =(GY13*$HI13+GY14*$HI14)/$HI15 -> 0.20052815 | GZ15: =SUM(GZ13:GZ14) -> 492.23 | HA15: =(HA13*$HI13+HA14*$HI14)/$HI15 -> 0.29889519 | HB15: =SUM(HB13:HB14) -> 0 | HC15: =(HC13*$HI13+HC14*$HI14)/$HI15 -> 0 | HD15: =SUM(HD13:HD14) -> 50.26 | HE15: =(HE13*$GO13+HE14*$GO14)/$GO15 -> 0.46354211 | HF15: =(HF13*$GO13+HF14*$GO14)/$GO15 -> 0.53536569 | HG15: =(HG13*$GO13+HG14*$GO14)/$GO15 -> 0.037034551 | HH15: =SUM(HH13:HH14) -> 432 | HI15: =SUM(HI13:HI14) -> 394 | HJ15: =SUM(HJ13:HJ14) -> 200 | HK15: =SUM(GY15,HA15,HC15,HE15,HG15) -> 1 | HN15: Total | HO15: =SUM(HO13:HO14) -> 1374.62 | HP15: =SUM(HP13:HP14) -> 1374.62 | HQ15: =SUM(HQ13:HQ14) -> 0 | HR15: =SUM(HR13:HR14) -> 65.38 | HS15: =(HS13*$ID13+HS14*$ID14)/$ID15 -> 0.04102383 | HT15: =SUM(HT13:HT14) -> 0 | HU15: =(HU13*$ID13+HU14*$ID14)/$ID15 -> 0 | HV15: =SUM(HV13:HV14) -> 0 | HW15: =(HW13*$ID13+HW14*$ID14)/$ID15 -> 0 | HX15: =SUM(HX13:HX14) -> 0 | HY15: =SUM(HY13:HY14) -> 295.04 | HZ15: =(HZ13*$ID13+HZ14*$ID14)/$ID15 -> 0.75182078 | IA15: =(IA13*$ID13+IA14*$ID14)/$ID15 -> 0.24817922 | IB15: =(IB13*$ID13+IB14*$ID14)/$ID15 -> 0.20715539 | IC15: =SUM(IC13:IC14) -> 432 | ID15: =SUM(ID13:ID14) -> 394 | IE15: =SUM(IE13:IE14) -> 360 | IF15: =SUM(HS15,HU15,HW15,HZ15,IB15) -> 1
