Workbook

Sheet KPI_FY 26-27 (OMC)
A3: JULY 2026 | S3: AUGUST 2026 | AK3: SEPTEMBER 2026 | BC3: OCTOBER 2026 | BU3: NOVEMBER 2026 | CM3: DECEMBER 2026 | DE3: JANUARY 2027 | DW3: FEBRUARY 2027 | EO3: MARCH 2027 | FG3: APRIL 2027 | FY3: MAY 2027 | GQ3: JUNE 2027
A4: MONTH HOURS: | B4: 744 | S4: MONTH HOURS: | T4: 744 | AK4: MONTH HOURS: | AL4: 720 | BC4: MONTH HOURS: | BD4: 0 | BU4: MONTH HOURS: | BV4: 0 | CM4: MONTH HOURS: | CN4: 0 | DE4: MONTH HOURS: | DF4: 0 | DW4: MONTH HOURS: | DX4: 0 | EO4: MONTH HOURS: | EP4: 0 | FG4: MONTH HOURS: | FH4: 0 | FY4: MONTH HOURS: | FZ4: 0 | GQ4: MONTH HOURS: | GR4: 0
A5: PLANT | B5: UNIT | C5: Available Hours (AH) | D5: Service Hours (SH) | E5: Reserve Shutdown Hours (RSH) | F5: Forced Outage Hours (FOH) | G5: Forced Outage Factor (FOF) | H5: Planned Outage Hours (POH) | I5: Planned Outage Factor (POF) | J5: Maintenance Outage Hours (MOH) | K5: Maintenance Outage Factor (MOF) | L5: Equivalent Maintenance Derated Hours (EMDH) | M5: Equivalent Unplanned Derated Hours (EMDH) | N5: Equivalent Availability Factor (EAF) | O5: Gross Generation (MW) | P5: Nameplate Capacity (MW) | Q5: Gross APT Capacity (MW) | S5: PLANT | T5: UNIT | U5: Available Hours (AH) | V5: Service Hours (SH) | W5: Reserve Shutdown Hours (RSH) | X5: Forced Outage Hours (FOH) | Y5: Forced Outage Factor (FOF) | Z5: Planned Outage Hours (POH) | AA5: Planned Outage Factor (POF) | AB5: Maintenance Outage Hours (MOH) | AC5: Maintenance Outage Factor (MOF) | AD5: Equivalent Maintenance Derated Hours (EMDH) | AE5: Equivalent Unplanned Derated Hours (EMDH) | AF5: Equivalent Availability Factor (EAF) | AG5: Gross Generation (MW) | AH5: Nameplate Capacity (MW) | AI5: Gross APT Capacity (MW) | AK5: PLANT | AL5: UNIT | AM5: Available Hours (AH) | AN5: Service Hours (SH) | AO5: Reserve Shutdown Hours (RSH) | AP5: Forced Outage Hours (FOH) | AQ5: Forced Outage Factor (FOF) | AR5: Planned Outage Hours (POH) | AS5: Planned Outage Factor (POF) | AT5: Maintenance Outage Hours (MOH) | AU5: Maintenance Outage Factor (MOF) | AV5: Equivalent Maintenance Derated Hours (EMDH) | AW5: Equivalent Unplanned Derated Hours (EMDH) | AX5: Equivalent Availability Factor (EAF) | AY5: Gross Generation (MW) | AZ5: Nameplate Capacity (MW) | BA5: Gross APT Capacity (MW) | BC5: PLANT | BD5: UNIT | BE5: Available Hours (AH) | BF5: Service Hours (SH) | BG5: Reserve Shutdown Hours (RSH) | BH5: Forced Outage Hours (FOH) | BI5: Forced Outage Factor (FOF) | BJ5: Planned Outage Hours (POH) | BK5: Planned Outage Factor (POF) | BL5: Maintenance Outage Hours (MOH) | BM5: Maintenance Outage Factor (MOF) | BN5: Equivalent Maintenance Derated Hours (EMDH) | BO5: Equivalent Unplanned Derated Hours (EMDH) | BP5: Equivalent Availability Factor (EAF) | BQ5: Gross Generation (MW) | BR5: Nameplate Capacity (MW) | BS5: Gross APT Capacity (MW) | BU5: PLANT | BV5: UNIT | BW5: Available Hours (AH) | BX5: Service Hours (SH) | BY5: Reserve Shutdown Hours (RSH) | BZ5: Forced Outage Hours (FOH) | CA5: Forced Outage Factor (FOF) | CB5: Planned Outage Hours (POH) | CC5: Planned Outage Factor (POF) | CD5: Maintenance Outage Hours (MOH) | CE5: Maintenance Outage Factor (MOF) | CF5: Equivalent Maintenance Derated Hours (EMDH) | CG5: Equivalent Unplanned Derated Hours (EMDH) | CH5: Equivalent Availability Factor (EAF) | CI5: Gross Generation (MW) | CJ5: Nameplate Capacity (MW) | CK5: Gross APT Capacity (MW) | CM5: PLANT | CN5: UNIT | CO5: Available Hours (AH) | CP5: Service Hours (SH) | CQ5: Reserve Shutdown Hours (RSH) | CR5: Forced Outage Hours (FOH) | CS5: Forced Outage Factor (FOF) | CT5: Planned Outage Hours (POH) | CU5: Planned Outage Factor (POF) | CV5: Maintenance Outage Hours (MOH) | CW5: Maintenance Outage Factor (MOF) | CX5: Equivalent Maintenance Derated Hours (EMDH) | CY5: Equivalent Unplanned Derated Hours (EMDH) | CZ5: Equivalent Availability Factor (EAF) | DA5: Gross Generation (MW) | DB5: Nameplate Capacity (MW) | DC5: Gross APT Capacity (MW) | DE5: PLANT | DF5: UNIT | DG5: Available Hours (AH) | DH5: Service Hours (SH) | DI5: Reserve Shutdown Hours (RSH) | DJ5: Forced Outage Hours (FOH) | DK5: Forced Outage Factor (FOF) | DL5: Planned Outage Hours (POH) | DM5: Planned Outage Factor (POF) | DN5: Maintenance Outage Hours (MOH) | DO5: Maintenance Outage Factor (MOF) | DP5: Equivalent Maintenance Derated Hours (EMDH) | DQ5: Equivalent Unplanned Derated Hours (EMDH) | DR5: Equivalent Availability Factor (EAF) | DS5: Gross Generation (MW) | DT5: Nameplate Capacity (MW) | DU5: Gross APT Capacity (MW) | DW5: PLANT | DX5: UNIT | DY5: Available Hours (AH) | DZ5: Service Hours (SH) | EA5: Reserve Shutdown Hours (RSH) | EB5: Forced Outage Hours (FOH) | EC5: Forced Outage Factor (FOF) | ED5: Planned Outage Hours (POH) | EE5: Planned Outage Factor (POF) | EF5: Maintenance Outage Hours (MOH) | EG5: Maintenance Outage Factor (MOF) | EH5: Equivalent Maintenance Derated Hours (EMDH) | EI5: Equivalent Unplanned Derated Hours (EMDH) | EJ5: Equivalent Availability Factor (EAF) | EK5: Gross Generation (MW) | EL5: Nameplate Capacity (MW) | EM5: Gross APT Capacity (MW) | EO5: PLANT | EP5: UNIT | EQ5: Available Hours (AH) | ER5: Service Hours (SH) | ES5: Reserve Shutdown Hours (RSH) | ET5: Forced Outage Hours (FOH) | EU5: Forced Outage Factor (FOF) | EV5: Planned Outage Hours (POH) | EW5: Planned Outage Factor (POF) | EX5: Maintenance Outage Hours (MOH) | EY5: Maintenance Outage Factor (MOF) | EZ5: Equivalent Maintenance Derated Hours (EMDH) | FA5: Equivalent Unplanned Derated Hours (EMDH) | FB5: Equivalent Availability Factor (EAF) | FC5: Gross Generation (MW) | FD5: Nameplate Capacity (MW) | FE5: Gross APT Capacity (MW) | FG5: PLANT | FH5: UNIT | FI5: Available Hours (AH) | FJ5: Service Hours (SH) | FK5: Reserve Shutdown Hours (RSH) | FL5: Forced Outage Hours (FOH) | FM5: Forced Outage Factor (FOF) | FN5: Planned Outage Hours (POH) | FO5: Planned Outage Factor (POF) | FP5: Maintenance Outage Hours (MOH) | FQ5: Maintenance Outage Factor (MOF) | FR5: Equivalent Maintenance Derated Hours (EMDH) | FS5: Equivalent Unplanned Derated Hours (EMDH) | FT5: Equivalent Availability Factor (EAF) | FU5: Gross Generation (MW) | FV5: Nameplate Capacity (MW) | FW5: Gross APT Capacity (MW) | FY5: PLANT | FZ5: UNIT | GA5: Available Hours (AH) | GB5: Service Hours (SH) | GC5: Reserve Shutdown Hours (RSH) | GD5: Forced Outage Hours (FOH) | GE5: Forced Outage Factor (FOF) | GF5: Planned Outage Hours (POH) | GG5: Planned Outage Factor (POF) | GH5: Maintenance Outage Hours (MOH) | GI5: Maintenance Outage Factor (MOF) | GJ5: Equivalent Maintenance Derated Hours (EMDH) | GK5: Equivalent Unplanned Derated Hours (EMDH) | GL5: Equivalent Availability Factor (EAF) | GM5: Gross Generation (MW) | GN5: Nameplate Capacity (MW) | GO5: Gross APT Capacity (MW) | GQ5: PLANT | GR5: UNIT | GS5: Available Hours (AH) | GT5: Service Hours (SH) | GU5: Reserve Shutdown Hours (RSH) | GV5: Forced Outage Hours (FOH) | GW5: Forced Outage Factor (FOF) | GX5: Planned Outage Hours (POH) | GY5: Planned Outage Factor (POF) | GZ5: Maintenance Outage Hours (MOH) | HA5: Maintenance Outage Factor (MOF) | HB5: Equivalent Maintenance Derated Hours (EMDH) | HC5: Equivalent Unplanned Derated Hours (EMDH) | HD5: Equivalent Availability Factor (EAF) | HE5: Gross Generation (MW) | HF5: Nameplate Capacity (MW) | HG5: Gross APT Capacity (MW)
A6: SAN JUAN | B6: CT 5 | C6: 723.45 | D6: 723.45 | E6: 0 | F6: 0 | G6: =F6/$B$4 -> 0 | H6: 0 | I6: =H6/$B$4 -> 0 | J6: 20.55 | K6: =J6/$B$4 -> 0.027620968 | L6: ='[1]UNIT DATA'!P2 -> 0 | M6: ='[1]UNIT DATA'!Q2 -> 0 | N6: =(C6-L6-M6)/$B$4 -> 0.97237903 | O6: 101062 | P6: 160 | Q6: 153 | S6: SAN JUAN | T6: CT 5 | U6: 726.05 | V6: 726.05 | W6: 0 | X6: 17.95 | Y6: =X6/$T$4 -> 0.024126344 | Z6: 0 | AA6: =Z6/$T$4 -> 0 | AB6: 0 | AC6: =AB6/$T$4 -> 0 | AD6: 0 | AE6: 34.29 | AF6: =(U6-AD6-AE6)/$T$4 -> 0.92978495 | AG6: 95170 | AH6: 160 | AI6: 153 | AK6: SAN JUAN | AL6: CT 5 | AM6: 699.5 | AN6: 694.56 | AO6: 4.94 | AP6: 3.25 | AQ6: =AP6/$AL$4 -> 0.0045138889 | AR6: 0 | AS6: =AR6/$AL$4 -> 0 | AT6: 17.25 | AU6: =AT6/$AL$4 -> 0.023958333 | AV6: 0 | AW6: 0 | AX6: =(AM6-AV6-AW6)/$AL$4 -> 0.97152778 | AY6: 97839 | AZ6: 160 | BA6: 153 | BC6: SAN JUAN | BD6: CT 5 | BI6: =BH6/$BD$4 -> #DIV/0! | BK6: =BJ6/$BD$4 -> #DIV/0! | BM6: =BL6/$BD$4 -> #DIV/0! | BP6: =(BE6-BO6)/$BD$4 -> #DIV/0! | BR6: 160 | BS6: 153 | BU6: SAN JUAN | BV6: CT 5 | CA6: =BZ6/$BV$4 -> #DIV/0! | CC6: =CB6/$BV$4 -> #DIV/0! | CE6: =CD6/$BV$4 -> #DIV/0! | CH6: =(BW6-CF6-CG6)/$BV$4 -> #DIV/0! | CJ6: 160 | CK6: 153 | CM6: SAN JUAN | CN6: CT 5 | CS6: =CR6/$CN$4 -> #DIV/0! | CU6: =CT6/$CN$4 -> #DIV/0! | CW6: =CV6/$CN$4 -> #DIV/0! | CZ6: =(CO6-CX6-CY6)/$CN$4 -> #DIV/0! | DB6: 160 | DC6: 153 | DE6: SAN JUAN | DF6: CT 5 | DK6: =DJ6/$DF$4 -> #DIV/0! | DM6: =DL6/$DF$4 -> #DIV/0! | DO6: =DN6/$DF$4 -> #DIV/0! | DR6: =(DG6-DP6-DQ6)/$DF$4 -> #DIV/0! | DT6: 160 | DU6: 153 | DW6: SAN JUAN | DX6: CT 5 | EC6: =EB6/$DX$4 -> #DIV/0! | EE6: =ED6/$DX$4 -> #DIV/0! | EG6: =EF6/$DX$4 -> #DIV/0! | EJ6: =(DY6-EH6-EI6)/$DX$4 -> #DIV/0! | EL6: 160 | EM6: 153 | EO6: SAN JUAN | EP6: CT 5 | EU6: =ET6/$EP$4 -> #DIV/0! | EW6: =EV6/$EP$4 -> #DIV/0! | EY6: =EX6/$EP$4 -> #DIV/0! | FB6: =(EQ6-EZ6-FA6)/$EP$4 -> #DIV/0! | FD6: 160 | FE6: 153 | FG6: SAN JUAN | FH6: CT 5 | FM6: =FL6/$FH$4 -> #DIV/0! | FO6: =FN6/$FH$4 -> #DIV/0! | FQ6: =FP6/$FH$4 -> #DIV/0! | FT6: =(FI6-FR6-FS6)/$FH$4 -> #DIV/0! | FV6: 160 | FW6: 153 | FY6: SAN JUAN | FZ6: CT 5 | GE6: =GD6/$FZ$4 -> #DIV/0! | GG6: =GF6/$FZ$4 -> #DIV/0! | GI6: =GH6/$FZ$4 -> #DIV/0! | GL6: =(GA6-GJ6-GK6)/$FZ$4 -> #DIV/0! | GN6: 160 | GO6: 153 | GQ6: SAN JUAN | GR6: CT 5 | GW6: =GV6/$GR$4 -> #DIV/0! | GY6: =GX6/$GR$4 -> #DIV/0! | HA6: =GZ6/$GR$4 -> #DIV/0! | HD6: =(GS6-HB6-HC6)/$GR$4 -> #DIV/0! | HF6: 160 | HG6: 153
B7: ST 5 | C7: 720.57 | D7: 720.57 | E7: 0 | F7: 0 | G7: =F7/$B$4 -> 0 | H7: 0 | I7: =H7/$B$4 -> 0 | J7: 23.43 | K7: =J7/$B$4 -> 0.031491935 | L7: ='[1]UNIT DATA'!P3 -> 0 | M7: ='[1]UNIT DATA'!Q3 -> 0 | N7: =(C7-L7-M7)/$B$4 -> 0.96850806 | O7: 31780 | P7: 60 | Q7: 50 | T7: ST 5 | U7: 696.7 | V7: 648.17 | W7: 48.53 | X7: 47.3 | Y7: =X7/$T$4 -> 0.063575269 | Z7: 0 | AA7: =Z7/$T$4 -> 0 | AB7: 0 | AC7: =AB7/$T$4 -> 0 | AD7: 0 | AE7: 0 | AF7: =(U7-AD7-AE7)/$T$4 -> 0.93642473 | AG7: 29503 | AH7: 60 | AI7: 50 | AL7: ST 5 | AM7: 685.9 | AN7: 676.08 | AO7: 9.82 | AP7: 13.82 | AQ7: =AP7/$AL$4 -> 0.019194444 | AR7: 0 | AS7: =AR7/$AL$4 -> 0 | AT7: 20.28 | AU7: =AT7/$AL$4 -> 0.028166667 | AV7: 0 | AW7: 0 | AX7: =(AM7-AV7-AW7)/$AL$4 -> 0.95263889 | AY7: 30948 | AZ7: 60 | BA7: 50 | BD7: ST 5 | BI7: =BH7/$BD$4 -> #DIV/0! | BK7: =BJ7/$BD$4 -> #DIV/0! | BM7: =BL7/$BD$4 -> #DIV/0! | BP7: =(BE7-BO7)/$BD$4 -> #DIV/0! | BR7: 60 | BS7: 50 | BV7: ST 5 | CA7: =BZ7/$BV$4 -> #DIV/0! | CC7: =CB7/$BV$4 -> #DIV/0! | CE7: =CD7/$BV$4 -> #DIV/0! | CH7: =(BW7-CF7-CG7)/$BV$4 -> #DIV/0! | CJ7: 60 | CK7: 50 | CN7: ST 5 | CS7: =CR7/$CN$4 -> #DIV/0! | CU7: =CT7/$CN$4 -> #DIV/0! | CW7: =CV7/$CN$4 -> #DIV/0! | CZ7: =(CO7-CX7-CY7)/$CN$4 -> #DIV/0! | DB7: 60 | DC7: 50 | DF7: ST 5 | DK7: =DJ7/$DF$4 -> #DIV/0! | DM7: =DL7/$DF$4 -> #DIV/0! | DO7: =DN7/$DF$4 -> #DIV/0! | DR7: =(DG7-DP7-DQ7)/$DF$4 -> #DIV/0! | DT7: 60 | DU7: 50 | DX7: ST 5 | EC7: =EB7/$DX$4 -> #DIV/0! | EE7: =ED7/$DX$4 -> #DIV/0! | EG7: =EF7/$DX$4 -> #DIV/0! | EJ7: =(DY7-EH7-EI7)/$DX$4 -> #DIV/0! | EL7: 60 | EM7: 50 | EP7: ST 5 | EU7: =ET7/$EP$4 -> #DIV/0! | EW7: =EV7/$EP$4 -> #DIV/0! | EY7: =EX7/$EP$4 -> #DIV/0! | FB7: =(EQ7-EZ7-FA7)/$EP$4 -> #DIV/0! | FD7: 60 | FE7: 50 | FH7: ST 5 | FM7: =FL7/$FH$4 -> #DIV/0! | FO7: =FN7/$FH$4 -> #DIV/0! | FQ7: =FP7/$FH$4 -> #DIV/0! | FT7: =(FI7-FR7-FS7)/$FH$4 -> #DIV/0! | FV7: 60 | FW7: 50 | FZ7: ST 5 | GE7: =GD7/$FZ$4 -> #DIV/0! | GG7: =GF7/$FZ$4 -> #DIV/0! | GI7: =GH7/$FZ$4 -> #DIV/0! | GL7: =(GA7-GJ7-GK7)/$FZ$4 -> #DIV/0! | GN7: 60 | GO7: 50 | GR7: ST 5 | GW7: =GV7/$GR$4 -> #DIV/0! | GY7: =GX7/$GR$4 -> #DIV/0! | HA7: =GZ7/$GR$4 -> #DIV/0! | HD7: =(GS7-HB7-HC7)/$GR$4 -> #DIV/0! | HF7: 60 | HG7: 50
B8: CT 6 | C8: 699.76 | D8: 699.76 | E8: 0 | F8: 26.62 | G8: =F8/$B$4 -> 0.03577957 | H8: 17.62 | I8: =H8/$B$4 -> 0.023682796 | J8: 0 | K8: =J8/$B$4 -> 0 | L8: ='[1]UNIT DATA'!P4 -> 0 | M8: ='[1]UNIT DATA'!Q4 -> 0 | N8: =(C8-L8-M8)/$B$4 -> 0.94053763 | O8: 98917 | P8: 160 | Q8: 154 | T8: CT 6 | U8: 716.79 | V8: 716.79 | W8: 0 | X8: 22.01 | Y8: =X8/$T$4 -> 0.029583333 | Z8: 0 | AA8: =Z8/$T$4 -> 0 | AB8: 5.2 | AC8: =AB8/$T$4 -> 0.0069892473 | AD8: 0 | AE8: 0 | AF8: =(U8-AD8-AE8)/$T$4 -> 0.96342742 | AG8: 100155 | AH8: 160 | AI8: 154 | AL8: CT 6 | AM8: 464.75 | AN8: 436.98 | AO8: 27.77 | AP8: 223.98 | AQ8: =AP8/$AL$4 -> 0.31108333 | AR8: 0 | AS8: =AR8/$AL$4 -> 0 | AT8: 31.27 | AU8: =AT8/$AL$4 -> 0.043430556 | AV8: 0 | AW8: 0 | AX8: =(AM8-AV8-AW8)/$AL$4 -> 0.64548611 | AY8: 60783 | AZ8: 160 | BA8: 154 | BD8: CT 6 | BI8: =BH8/$BD$4 -> #DIV/0! | BK8: =BJ8/$BD$4 -> #DIV/0! | BM8: =BL8/$BD$4 -> #DIV/0! | BP8: =(BE8-BO8)/$BD$4 -> #DIV/0! | BR8: 160 | BS8: 154 | BV8: CT 6 | CA8: =BZ8/$BV$4 -> #DIV/0! | CC8: =CB8/$BV$4 -> #DIV/0! | CE8: =CD8/$BV$4 -> #DIV/0! | CH8: =(BW8-CF8-CG8)/$BV$4 -> #DIV/0! | CJ8: 160 | CK8: 154 | CN8: CT 6 | CS8: =CR8/$CN$4 -> #DIV/0! | CU8: =CT8/$CN$4 -> #DIV/0! | CW8: =CV8/$CN$4 -> #DIV/0! | CZ8: =(CO8-CX8-CY8)/$CN$4 -> #DIV/0! | DB8: 160 | DC8: 154 | DF8: CT 6 | DK8: =DJ8/$DF$4 -> #DIV/0! | DM8: =DL8/$DF$4 -> #DIV/0! | DO8: =DN8/$DF$4 -> #DIV/0! | DR8: =(DG8-DP8-DQ8)/$DF$4 -> #DIV/0! | DT8: 160 | DU8: 154 | DX8: CT 6 | EC8: =EB8/$DX$4 -> #DIV/0! | EE8: =ED8/$DX$4 -> #DIV/0! | EG8: =EF8/$DX$4 -> #DIV/0! | EJ8: =(DY8-EH8-EI8)/$DX$4 -> #DIV/0! | EL8: 160 | EM8: 154 | EP8: CT 6 | EU8: =ET8/$EP$4 -> #DIV/0! | EW8: =EV8/$EP$4 -> #DIV/0! | EY8: =EX8/$EP$4 -> #DIV/0! | FB8: =(EQ8-EZ8-FA8)/$EP$4 -> #DIV/0! | FD8: 160 | FE8: 154 | FH8: CT 6 | FM8: =FL8/$FH$4 -> #DIV/0! | FO8: =FN8/$FH$4 -> #DIV/0! | FQ8: =FP8/$FH$4 -> #DIV/0! | FT8: =(FI8-FR8-FS8)/$FH$4 -> #DIV/0! | FV8: 160 | FW8: 154 | FZ8: CT 6 | GE8: =GD8/$FZ$4 -> #DIV/0! | GG8: =GF8/$FZ$4 -> #DIV/0! | GI8: =GH8/$FZ$4 -> #DIV/0! | GL8: =(GA8-GJ8-GK8)/$FZ$4 -> #DIV/0! | GN8: 160 | GO8: 154 | GR8: CT 6 | GW8: =GV8/$GR$4 -> #DIV/0! | GY8: =GX8/$GR$4 -> #DIV/0! | HA8: =GZ8/$GR$4 -> #DIV/0! | HD8: =(GS8-HB8-HC8)/$GR$4 -> #DIV/0! | HF8: 160 | HG8: 154
B9: ST 6 | C9: 0 | D9: 0 | E9: 0 | F9: 0 | G9: =F9/$B$4 -> 0 | H9: 744 | I9: =H9/$B$4 -> 1 | J9: 0 | K9: =J9/$B$4 -> 0 | L9: ='[1]UNIT DATA'!P5 -> 0 | M9: ='[1]UNIT DATA'!Q5 -> 0 | N9: =(C9-L9-M9)/$B$4 -> 0 | O9: 0 | P9: 60 | Q9: 60 | T9: ST 6 | U9: 0 | V9: 0 | W9: 0 | X9: 0 | Y9: =X9/$T$4 -> 0 | Z9: 744 | AA9: =Z9/$T$4 -> 1 | AB9: 0 | AC9: =AB9/$T$4 -> 0 | AD9: 0 | AE9: 0 | AF9: =(U9-AD9-AE9)/$T$4 -> 0 | AG9: 0 | AH9: 60 | AI9: 60 | AL9: ST 6 | AM9: 0 | AN9: 0 | AO9: 0 | AP9: 0 | AQ9: =AP9/$AL$4 -> 0 | AR9: 720 | AS9: =AR9/$AL$4 -> 1 | AT9: 0 | AU9: =AT9/$AL$4 -> 0 | AV9: 0 | AW9: 0 | AX9: =(AM9-AV9-AW9)/$AL$4 -> 0 | AY9: 0 | AZ9: 60 | BA9: 60 | BD9: ST 6 | BI9: =BH9/$BD$4 -> #DIV/0! | BK9: =BJ9/$BD$4 -> #DIV/0! | BM9: =BL9/$BD$4 -> #DIV/0! | BP9: =(BE9-BO9)/$BD$4 -> #DIV/0! | BR9: 60 | BS9: 60 | BV9: ST 6 | CA9: =BZ9/$BV$4 -> #DIV/0! | CC9: =CB9/$BV$4 -> #DIV/0! | CE9: =CD9/$BV$4 -> #DIV/0! | CH9: =(BW9-CF9-CG9)/$BV$4 -> #DIV/0! | CJ9: 60 | CK9: 60 | CN9: ST 6 | CS9: =CR9/$CN$4 -> #DIV/0! | CU9: =CT9/$CN$4 -> #DIV/0! | CW9: =CV9/$CN$4 -> #DIV/0! | CZ9: =(CO9-CX9-CY9)/$CN$4 -> #DIV/0! | DB9: 60 | DC9: 60 | DF9: ST 6 | DK9: =DJ9/$DF$4 -> #DIV/0! | DM9: =DL9/$DF$4 -> #DIV/0! | DO9: =DN9/$DF$4 -> #DIV/0! | DR9: =(DG9-DP9-DQ9)/$DF$4 -> #DIV/0! | DT9: 60 | DU9: 60 | DX9: ST 6 | EC9: =EB9/$DX$4 -> #DIV/0! | EE9: =ED9/$DX$4 -> #DIV/0! | EG9: =EF9/$DX$4 -> #DIV/0! | EJ9: =(DY9-EH9-EI9)/$DX$4 -> #DIV/0! | EL9: 60 | EM9: 60 | EP9: ST 6 | EU9: =ET9/$EP$4 -> #DIV/0! | EW9: =EV9/$EP$4 -> #DIV/0! | EY9: =EX9/$EP$4 -> #DIV/0! | FB9: =(EQ9-EZ9-FA9)/$EP$4 -> #DIV/0! | FD9: 60 | FE9: 60 | FH9: ST 6 | FM9: =FL9/$FH$4 -> #DIV/0! | FO9: =FN9/$FH$4 -> #DIV/0! | FQ9: =FP9/$FH$4 -> #DIV/0! | FT9: =(FI9-FR9-FS9)/$FH$4 -> #DIV/0! | FV9: 60 | FW9: 60 | FZ9: ST 6 | GE9: =GD9/$FZ$4 -> #DIV/0! | GG9: =GF9/$FZ$4 -> #DIV/0! | GI9: =GH9/$FZ$4 -> #DIV/0! | GL9: =(GA9-GJ9-GK9)/$FZ$4 -> #DIV/0! | GN9: 60 | GO9: 60 | GR9: ST 6 | GW9: =GV9/$GR$4 -> #DIV/0! | GY9: =GX9/$GR$4 -> #DIV/0! | HA9: =GZ9/$GR$4 -> #DIV/0! | HD9: =(GS9-HB9-HC9)/$GR$4 -> #DIV/0! | HF9: 60 | HG9: 60
B10: Total CC | C10: =SUM(C6:C9) -> 2143.78 | D10: =SUM(D6:D9) -> 2143.78 | E10: =SUM(E6:E9) -> 0 | F10: =SUM(F6:F9) -> 26.62 | G10: =(G6*$Q6+G7*$Q7+G8*$Q8+G9*$Q9)/$Q10 -> 0.013213558 | H10: =SUM(H6:H9) -> 761.62 | I10: =(I6*$Q6+I7*$Q7+I8*$Q8+I9*$Q9)/$Q10 -> 0.15263106 | J10: =SUM(J6:J9) -> 43.98 | K10: =(K6*$Q6+K7*$Q7+K8*$Q8+K9*$Q9)/$Q10 -> 0.013910323 | L10: =SUM(L6:L9) -> 0 | M10: =SUM(M6:M9) -> 0 | N10: =(N6*$Q6+N7*$Q7+N8*$Q8+N9*$Q9)/$Q10 -> 0.82024506 | O10: =SUM(O6:O9) -> 231759 | P10: =SUM(P6:P9) -> 440 | Q10: =SUM(Q6:Q9) -> 417 | T10: Total CC | U10: =SUM(U6:U9) -> 2139.54 | V10: =SUM(V6:V9) -> 2091.01 | W10: =SUM(W6:W9) -> 48.53 | X10: =SUM(X6:X9) -> 87.26 | Y10: =(Y6*$AI6+Y7*$AI7+Y8*$AI8+Y9*$AI9)/$AI10 -> 0.027400306 | Z10: =SUM(Z6:Z9) -> 744 | AA10: =(AA6*$AI6+AA7*$AI7+AA8*$AI8+AA9*$AI9)/$AI10 -> 0.14388489 | AB10: =SUM(AB6:AB9) -> 5.2 | AC10: =(AC6*$AI6+AC7*$AI7+AC8*$AI8+AC9*$AI9)/$AI10 -> 0.0025811609 | AD10: =SUM(AD6:AD9) -> 0 | AE10: =SUM(AE6:AE9) -> 34.29 | AF10: =(AF6*$AI6+AF7*$AI7+AF8*$AI8+AF9*$AI9)/$AI10 -> 0.8092234 | AG10: =SUM(AG6:AG9) -> 224828 | AH10: =SUM(AH6:AH9) -> 440 | AI10: =SUM(AI6:AI9) -> 417 | AL10: Total CC | AM10: =SUM(AM6:AM9) -> 1850.15 | AN10: =SUM(AN6:AN9) -> 1807.62 | AO10: =SUM(AO6:AO9) -> 42.53 | AP10: =SUM(AP6:AP9) -> 241.05 | AQ10: =(AQ6*$BA6+AQ7*$BA7+AQ8*$BA8+AQ9*$BA9)/$BA10 -> 0.11884216 | AR10: =SUM(AR6:AR9) -> 720 | AS10: =(AS6*$BA6+AS7*$BA7+AS8*$BA8+AS9*$BA9)/$BA10 -> 0.14388489 | AT10: =SUM(AT6:AT9) -> 68.8 | AU10: =(AU6*$BA6+AU7*$BA7+AU8*$BA8+AU9*$BA9)/$BA10 -> 0.028206868 | AV10: =SUM(AV6:AV9) -> 0 | AW10: =SUM(AW6:AW9) -> 0 | AX10: =(AX6*$BA6+AX7*$BA7+AX8*$BA8+AX9*$BA9)/$BA10 -> 0.70906608 | AY10: =SUM(AY6:AY9) -> 189570 | AZ10: =SUM(AZ6:AZ9) -> 440 | BA10: =SUM(BA6:BA9) -> 417 | BD10: Total CC | BE10: =SUM(BE6:BE9) -> 0 | BF10: =SUM(BF6:BF9) -> 0 | BG10: =SUM(BG6:BG9) -> 0 | BH10: =SUM(BH6:BH9) -> 0 | BI10: =(BI6*$BS6+BI7*$BS7+BI8*$BS8+BI9*$BS9)/$BS10 -> #DIV/0! | BJ10: =SUM(BJ6:BJ9) -> 0 | BK10: =(BK6*$BS6+BK7*$BS7+BK8*$BS8+BK9*$BS9)/$BS10 -> #DIV/0! | BL10: =SUM(BL6:BL9) -> 0 | BM10: =(BM6*$BS6+BM7*$BS7+BM8*$BS8+BM9*$BS9)/$BS10 -> #DIV/0! | BN10: =SUM(BN6:BN9) -> 0 | BO10: =SUM(BO6:BO9) -> 0 | BP10: =(BP6*$BS6+BP7*$BS7+BP8*$BS8+BP9*$BS9)/$BS10 -> #DIV/0! | BQ10: =SUM(BQ6:BQ9) -> 0 | BR10: =SUM(BR6:BR9) -> 440 | BS10: =SUM(BS6:BS9) -> 417 | BV10: Total CC | BW10: =SUM(BW6:BW9) -> 0 | BX10: =SUM(BX6:BX9) -> 0 | BY10: =SUM(BY6:BY9) -> 0 | BZ10: =SUM(BZ6:BZ9) -> 0 | CB10: =SUM(CB6:CB9) -> 0 | CD10: =SUM(CD6:CD9) -> 0 | CF10: =SUM(CF6:CF9) -> 0 | CG10: =SUM(CG6:CG9) -> 0 | CI10: =SUM(CI6:CI9) -> 0 | CJ10: =SUM(CJ6:CJ9) -> 440 | CK10: =SUM(CK6:CK9) -> 417 | CN10: Total CC | CO10: =SUM(CO6:CO9) -> 0 | CP10: =SUM(CP6:CP9) -> 0 | CQ10: =SUM(CQ6:CQ9) -> 0 | CR10: =SUM(CR6:CR9) -> 0 | CT10: =SUM(CT6:CT9) -> 0 | CV10: =SUM(CV6:CV9) -> 0 | CX10: =SUM(CX6:CX9) -> 0 | CY10: =SUM(CY6:CY9) -> 0 | DA10: =SUM(DA6:DA9) -> 0 | DB10: =SUM(DB6:DB9) -> 440 | DC10: =SUM(DC6:DC9) -> 417 | DF10: Total CC | DG10: =SUM(DG6:DG9) -> 0 | DH10: =SUM(DH6:DH9) -> 0 | DI10: =SUM(DI6:DI9) -> 0 | DJ10: =SUM(DJ6:DJ9) -> 0 | DL10: =SUM(DL6:DL9) -> 0 | DN10: =SUM(DN6:DN9) -> 0 | DP10: =SUM(DP6:DP9) -> 0 | DQ10: =SUM(DQ6:DQ9) -> 0 | DS10: =SUM(DS6:DS9) -> 0 | DT10: =SUM(DT6:DT9) -> 440 | DU10: =SUM(DU6:DU9) -> 417 | DX10: Total CC | DY10: =SUM(DY6:DY9) -> 0 | DZ10: =SUM(DZ6:DZ9) -> 0 | EA10: =SUM(EA6:EA9) -> 0 | EB10: =SUM(EB6:EB9) -> 0 | ED10: =SUM(ED6:ED9) -> 0 | EF10: =SUM(EF6:EF9) -> 0 | EH10: =SUM(EH6:EH9) -> 0 | EI10: =SUM(EI6:EI9) -> 0 | EK10: =SUM(EK6:EK9) -> 0 | EL10: =SUM(EL6:EL9) -> 440 | EM10: =SUM(EM6:EM9) -> 417 | EP10: Total CC | EQ10: =SUM(EQ6:EQ9) -> 0 | ER10: =SUM(ER6:ER9) -> 0 | ES10: =SUM(ES6:ES9) -> 0 | ET10: =SUM(ET6:ET9) -> 0 | EV10: =SUM(EV6:EV9) -> 0 | EX10: =SUM(EX6:EX9) -> 0 | EZ10: =SUM(EZ6:EZ9) -> 0 | FA10: =SUM(FA6:FA9) -> 0 | FC10: =SUM(FC6:FC9) -> 0 | FD10: =SUM(FD6:FD9) -> 440 | FE10: =SUM(FE6:FE9) -> 417 | FH10: Total CC | FI10: =SUM(FI6:FI9) -> 0 | FJ10: =SUM(FJ6:FJ9) -> 0 | FK10: =SUM(FK6:FK9) -> 0 | FL10: =SUM(FL6:FL9) -> 0 | FN10: =SUM(FN6:FN9) -> 0 | FP10: =SUM(FP6:FP9) -> 0 | FR10: =SUM(FR6:FR9) -> 0 | FS10: =SUM(FS6:FS9) -> 0 | FU10: =SUM(FU6:FU9) -> 0 | FV10: =SUM(FV6:FV9) -> 440 | FW10: =SUM(FW6:FW9) -> 417 | FZ10: Total CC | GA10: =SUM(GA6:GA9) -> 0 | GB10: =SUM(GB6:GB9) -> 0 | GC10: =SUM(GC6:GC9) -> 0 | GD10: =SUM(GD6:GD9) -> 0 | GF10: =SUM(GF6:GF9) -> 0 | GH10: =SUM(GH6:GH9) -> 0 | GJ10: =SUM(GJ6:GJ9) -> 0 | GK10: =SUM(GK6:GK9) -> 0 | GM10: =SUM(GM6:GM9) -> 0 | GN10: =SUM(GN6:GN9) -> 440 | GO10: =SUM(GO6:GO9) -> 417 | GR10: Total CC | GS10: =SUM(GS6:GS9) -> 0 | GT10: =SUM(GT6:GT9) -> 0 | GU10: =SUM(GU6:GU9) -> 0 | GV10: =SUM(GV6:GV9) -> 0 | GX10: =SUM(GX6:GX9) -> 0 | GZ10: =SUM(GZ6:GZ9) -> 0 | HB10: =SUM(HB6:HB9) -> 0 | HC10: =SUM(HC6:HC9) -> 0 | HE10: =SUM(HE6:HE9) -> 0 | HF10: =SUM(HF6:HF9) -> 440 | HG10: =SUM(HG6:HG9) -> 417
B11: 7 | C11: 301.45 | D11: 301.45 | E11: 0 | F11: 442.55 | G11: =F11/$B$4 -> 0.59482527 | H11: 0 | I11: =H11/$B$4 -> 0 | J11: 0 | K11: =J11/$B$4 -> 0 | L11: ='[1]UNIT DATA'!P6 -> 0 | M11: ='[1]UNIT DATA'!Q6 -> 75.3 | N11: =(C11-L11-M11)/$B$4 -> 0.30396505 | O11: 20195 | P11: 100 | Q11: 100 | T11: 7 | U11: 322.55 | V11: 322.55 | W11: 0 | X11: 421.45 | Y11: =X11/$T$4 -> 0.56646505 | Z11: 0 | AA11: =Z11/$T$4 -> 0 | AB11: 0 | AC11: =AB11/$T$4 -> 0 | AD11: 17.5 | AE11: 77.45 | AF11: =(U11-AD11-AE11)/$T$4 -> 0.30591398 | AG11: 22201 | AH11: 100 | AI11: 100 | AL11: 7 | AM11: 0 | AN11: 0 | AO11: 0 | AP11: 720 | AQ11: =AP11/$AL$4 -> 1 | AR11: 0 | AS11: =AR11/$AL$4 -> 0 | AT11: 0 | AU11: =AT11/$AL$4 -> 0 | AV11: 0 | AW11: 0 | AX11: =(AM11-AV11-AW11)/$AL$4 -> 0 | AY11: 0 | AZ11: 100 | BA11: 100 | BD11: 7 | BI11: =BH11/$BD$4 -> #DIV/0! | BK11: =BJ11/$BD$4 -> #DIV/0! | BM11: =BL11/$BD$4 -> #DIV/0! | BP11: =(BE11-BO11)/$BD$4 -> #DIV/0! | BR11: 100 | BS11: 100 | BV11: 7 | CA11: =BZ11/$BV$4 -> #DIV/0! | CC11: =CB11/$BV$4 -> #DIV/0! | CE11: =CD11/$BV$4 -> #DIV/0! | CH11: =(BW11-CF11-CG11)/$BV$4 -> #DIV/0! | CJ11: 100 | CK11: 100 | CN11: 7 | CS11: =CR11/$CN$4 -> #DIV/0! | CU11: =CT11/$CN$4 -> #DIV/0! | CW11: =CV11/$CN$4 -> #DIV/0! | CZ11: =(CO11-CX11-CY11)/$CN$4 -> #DIV/0! | DB11: 100 | DC11: 100 | DF11: 7 | DK11: =DJ11/$DF$4 -> #DIV/0! | DM11: =DL11/$DF$4 -> #DIV/0! | DO11: =DN11/$DF$4 -> #DIV/0! | DR11: =(DG11-DP11-DQ11)/$DF$4 -> #DIV/0! | DT11: 100 | DU11: 100 | DX11: 7 | EC11: =EB11/$DX$4 -> #DIV/0! | EE11: =ED11/$DX$4 -> #DIV/0! | EG11: =EF11/$DX$4 -> #DIV/0! | EJ11: =(DY11-EH11-EI11)/$DX$4 -> #DIV/0! | EL11: 100 | EM11: 100 | EP11: 7 | EU11: =ET11/$EP$4 -> #DIV/0! | EW11: =EV11/$EP$4 -> #DIV/0! | EY11: =EX11/$EP$4 -> #DIV/0! | FB11: =(EQ11-EZ11-FA11)/$EP$4 -> #DIV/0! | FD11: 100 | FE11: 100 | FH11: 7 | FM11: =FL11/$FH$4 -> #DIV/0! | FO11: =FN11/$FH$4 -> #DIV/0! | FQ11: =FP11/$FH$4 -> #DIV/0! | FT11: =(FI11-FR11-FS11)/$FH$4 -> #DIV/0! | FV11: 100 | FW11: 100 | FZ11: 7 | GE11: =GD11/$FZ$4 -> #DIV/0! | GG11: =GF11/$FZ$4 -> #DIV/0! | GI11: =GH11/$FZ$4 -> #DIV/0! | GL11: =(GA11-GJ11-GK11)/$FZ$4 -> #DIV/0! | GN11: 100 | GO11: 100 | GR11: 7 | GW11: =GV11/$GR$4 -> #DIV/0! | GY11: =GX11/$GR$4 -> #DIV/0! | HA11: =GZ11/$GR$4 -> #DIV/0! | HD11: =(GS11-HB11-HC11)/$GR$4 -> #DIV/0! | HF11: 100 | HG11: 100
B12: 9 | C12: 0 | D12: 0 | E12: 0 | F12: 0 | G12: =F12/$B$4 -> 0 | H12: 744 | I12: =H12/$B$4 -> 1 | J12: 0 | K12: =J12/$B$4 -> 0 | L12: ='[1]UNIT DATA'!P7 -> 0 | M12: ='[1]UNIT DATA'!Q7 -> 0 | N12: =(C12-L12-M12)/$B$4 -> 0 | O12: 0 | P12: 100 | Q12: 78 | T12: 9 | U12: 0 | V12: 0 | W12: 0 | X12: 0 | Y12: =X12/$T$4 -> 0 | Z12: 744 | AA12: =Z12/$T$4 -> 1 | AB12: 0 | AC12: =AB12/$T$4 -> 0 | AD12: 0 | AE12: 0 | AF12: =(U12-AD12-AE12)/$T$4 -> 0 | AG12: 0 | AH12: 100 | AI12: 78 | AL12: 9 | AM12: 0 | AN12: 0 | AO12: 0 | AP12: 0 | AQ12: =AP12/$AL$4 -> 0 | AR12: 720 | AS12: =AR12/$AL$4 -> 1 | AT12: 0 | AU12: =AT12/$AL$4 -> 0 | AV12: 0 | AW12: 0 | AX12: =(AM12-AV12-AW12)/$AL$4 -> 0 | AY12: 0 | AZ12: 100 | BA12: 78 | BD12: 9 | BI12: =BH12/$BD$4 -> #DIV/0! | BK12: =BJ12/$BD$4 -> #DIV/0! | BM12: =BL12/$BD$4 -> #DIV/0! | BP12: =(BE12-BO12)/$BD$4 -> #DIV/0! | BR12: 100 | BS12: 78 | BV12: 9 | CA12: =BZ12/$BV$4 -> #DIV/0! | CC12: =CB12/$BV$4 -> #DIV/0! | CE12: =CD12/$BV$4 -> #DIV/0! | CH12: =(BW12-CF12-CG12)/$BV$4 -> #DIV/0! | CJ12: 100 | CK12: 78 | CN12: 9 | CS12: =CR12/$CN$4 -> #DIV/0! | CU12: =CT12/$CN$4 -> #DIV/0! | CW12: =CV12/$CN$4 -> #DIV/0! | CZ12: =(CO12-CX12-CY12)/$CN$4 -> #DIV/0! | DB12: 100 | DC12: 78 | DF12: 9 | DK12: =DJ12/$DF$4 -> #DIV/0! | DM12: =DL12/$DF$4 -> #DIV/0! | DO12: =DN12/$DF$4 -> #DIV/0! | DR12: =(DG12-DP12-DQ12)/$DF$4 -> #DIV/0! | DT12: 100 | DU12: 78 | DX12: 9 | EC12: =EB12/$DX$4 -> #DIV/0! | EE12: =ED12/$DX$4 -> #DIV/0! | EG12: =EF12/$DX$4 -> #DIV/0! | EJ12: =(DY12-EH12-EI12)/$DX$4 -> #DIV/0! | EL12: 100 | EM12: 78 | EP12: 9 | EU12: =ET12/$EP$4 -> #DIV/0! | EW12: =EV12/$EP$4 -> #DIV/0! | EY12: =EX12/$EP$4 -> #DIV/0! | FB12: =(EQ12-EZ12-FA12)/$EP$4 -> #DIV/0! | FD12: 100 | FE12: 78 | FH12: 9 | FM12: =FL12/$FH$4 -> #DIV/0! | FO12: =FN12/$FH$4 -> #DIV/0! | FQ12: =FP12/$FH$4 -> #DIV/0! | FT12: =(FI12-FR12-FS12)/$FH$4 -> #DIV/0! | FV12: 100 | FW12: 78 | FZ12: 9 | GE12: =GD12/$FZ$4 -> #DIV/0! | GG12: =GF12/$FZ$4 -> #DIV/0! | GI12: =GH12/$FZ$4 -> #DIV/0! | GL12: =(GA12-GJ12-GK12)/$FZ$4 -> #DIV/0! | GN12: 100 | GO12: 78 | GR12: 9 | GW12: =GV12/$GR$4 -> #DIV/0! | GY12: =GX12/$GR$4 -> #DIV/0! | HA12: =GZ12/$GR$4 -> #DIV/0! | HD12: =(GS12-HB12-HC12)/$GR$4 -> #DIV/0! | HF12: 100 | HG12: 78
B13: Total Steam | C13: =SUM(C11:C12) -> 301.45 | D13: =SUM(D11:D12) -> 301.45 | E13: =SUM(E11:E12) -> 0 | F13: =SUM(F11:F12) -> 442.55 | G13: =(G11*$Q11+G12*$Q12)/$Q13 -> 0.3341715 | H13: =SUM(H11:H12) -> 744 | I13: =(I11*$Q11+I12*$Q12)/$Q13 -> 0.43820225 | J13: =SUM(J11:J12) -> 0 | K13: =(K11*$Q11+K12*$Q12)/$Q13 -> 0 | L13: =SUM(L11:L12) -> 0 | M13: =SUM(M11:M12) -> 75.3 | N13: =(N11*$Q11+N12*$Q12)/$Q13 -> 0.17076688 | O13: =SUM(O11:O12) -> 20195 | P13: =SUM(P11:P12) -> 200 | Q13: =SUM(Q11:Q12) -> 178 | T13: Total Steam | U13: =SUM(U11:U12) -> 322.55 | V13: =SUM(V11:V12) -> 322.55 | W13: =SUM(W11:W12) -> 0 | X13: =SUM(X11:X12) -> 421.45 | Y13: =(Y11*$AI11+Y12*$AI12)/$AI13 -> 0.31823879 | Z13: =SUM(Z11:Z12) -> 744 | AA13: =(AA11*$AI11+AA12*$AI12)/$AI13 -> 0.43820225 | AB13: =SUM(AB11:AB12) -> 0 | AC13: =(AC11*$AI11+AC12*$AI12)/$AI13 -> 0 | AD13: =SUM(AD11:AD12) -> 17.5 | AE13: =SUM(AE11:AE12) -> 77.45 | AF13: =(AF11*$AI11+AF12*$AI12)/$AI13 -> 0.17186179 | AG13: =SUM(AG11:AG12) -> 22201 | AH13: =SUM(AH11:AH12) -> 200 | AI13: =SUM(AI11:AI12) -> 178 | AL13: Total Steam | AM13: =SUM(AM11:AM12) -> 0 | AN13: =SUM(AN11:AN12) -> 0 | AO13: =SUM(AO11:AO12) -> 0 | AP13: =SUM(AP11:AP12) -> 720 | AQ13: =(AQ11*$BA11+AQ12*$BA12)/$BA13 -> 0.56179775 | AR13: =SUM(AR11:AR12) -> 720 | AS13: =(AS11*$BA11+AS12*$BA12)/$BA13 -> 0.43820225 | AT13: =SUM(AT11:AT12) -> 0 | AU13: =(AU11*$BA11+AU12*$BA12)/$BA13 -> 0 | AV13: =SUM(AV11:AV12) -> 0 | AW13: =SUM(AW11:AW12) -> 0 | AX13: =(AX11*$BA11+AX12*$BA12)/$BA13 -> 0 | AY13: =SUM(AY11:AY12) -> 0 | AZ13: =SUM(AZ11:AZ12) -> 200 | BA13: =SUM(BA11:BA12) -> 178 | BD13: Total Steam | BE13: =SUM(BE11:BE12) -> 0 | BF13: =SUM(BF11:BF12) -> 0 | BG13: =SUM(BG11:BG12) -> 0 | BH13: =SUM(BH11:BH12) -> 0 | BI13: =(BI11*$BS11+BI12*$BS12)/$BS13 -> #DIV/0! | BJ13: =SUM(BJ11:BJ12) -> 0 | BK13: =(BK11*$BS11+BK12*$BS12)/$BS13 -> #DIV/0! | BL13: =SUM(BL11:BL12) -> 0 | BM13: =(BM11*$BS11+BM12*$BS12)/$BS13 -> #DIV/0! | BN13: =SUM(BN11:BN12) -> 0 | BO13: =SUM(BO11:BO12) -> 0 | BP13: =(BP11*$BS11+BP12*$BS12)/$BS13 -> #DIV/0! | BQ13: =SUM(BQ11:BQ12) -> 0 | BR13: =SUM(BR11:BR12) -> 200 | BS13: =SUM(BS11:BS12) -> 178 | BV13: Total Steam | BW13: =SUM(BW11:BW12) -> 0 | BX13: =SUM(BX11:BX12) -> 0 | BY13: =SUM(BY11:BY12) -> 0 | BZ13: =SUM(BZ11:BZ12) -> 0 | CB13: =SUM(CB11:CB12) -> 0 | CD13: =SUM(CD11:CD12) -> 0 | CF13: =SUM(CF11:CF12) -> 0 | CG13: =SUM(CG11:CG12) -> 0 | CI13: =SUM(CI11:CI12) -> 0 | CJ13: =SUM(CJ11:CJ12) -> 200 | CK13: =SUM(CK11:CK12) -> 178 | CN13: Total Steam | CO13: =SUM(CO11:CO12) -> 0 | CP13: =SUM(CP11:CP12) -> 0 | CQ13: =SUM(CQ11:CQ12) -> 0 | CR13: =SUM(CR11:CR12) -> 0 | CT13: =SUM(CT11:CT12) -> 0 | CV13: =SUM(CV11:CV12) -> 0 | CX13: =SUM(CX11:CX12) -> 0 | CY13: =SUM(CY11:CY12) -> 0 | DA13: =SUM(DA11:DA12) -> 0 | DB13: =SUM(DB11:DB12) -> 200 | DC13: =SUM(DC11:DC12) -> 178 | DF13: Total Steam | DG13: =SUM(DG11:DG12) -> 0 | DH13: =SUM(DH11:DH12) -> 0 | DI13: =SUM(DI11:DI12) -> 0 | DJ13: =SUM(DJ11:DJ12) -> 0 | DL13: =SUM(DL11:DL12) -> 0 | DN13: =SUM(DN11:DN12) -> 0 | DP13: =SUM(DP11:DP12) -> 0 | DQ13: =SUM(DQ11:DQ12) -> 0 | DS13: =SUM(DS11:DS12) -> 0 | DT13: =SUM(DT11:DT12) -> 200 | DU13: =SUM(DU11:DU12) -> 178 | DX13: Total Steam | DY13: =SUM(DY11:DY12) -> 0 | DZ13: =SUM(DZ11:DZ12) -> 0 | EA13: =SUM(EA11:EA12) -> 0 | EB13: =SUM(EB11:EB12) -> 0 | ED13: =SUM(ED11:ED12) -> 0 | EF13: =SUM(EF11:EF12) -> 0 | EH13: =SUM(EH11:EH12) -> 0 | EI13: =SUM(EI11:EI12) -> 0 | EK13: =SUM(EK11:EK12) -> 0 | EL13: =SUM(EL11:EL12) -> 200 | EM13: =SUM(EM11:EM12) -> 178 | EP13: Total Steam | EQ13: =SUM(EQ11:EQ12) -> 0 | ER13: =SUM(ER11:ER12) -> 0 | ES13: =SUM(ES11:ES12) -> 0 | ET13: =SUM(ET11:ET12) -> 0 | EV13: =SUM(EV11:EV12) -> 0 | EX13: =SUM(EX11:EX12) -> 0 | EZ13: =SUM(EZ11:EZ12) -> 0 | FA13: =SUM(FA11:FA12) -> 0 | FC13: =SUM(FC11:FC12) -> 0 | FD13: =SUM(FD11:FD12) -> 200 | FE13: =SUM(FE11:FE12) -> 178 | FH13: Total Steam | FI13: =SUM(FI11:FI12) -> 0 | FJ13: =SUM(FJ11:FJ12) -> 0 | FK13: =SUM(FK11:FK12) -> 0 | FL13: =SUM(FL11:FL12) -> 0 | FN13: =SUM(FN11:FN12) -> 0 | FP13: =SUM(FP11:FP12) -> 0 | FR13: =SUM(FR11:FR12) -> 0 | FS13: =SUM(FS11:FS12) -> 0 | FU13: =SUM(FU11:FU12) -> 0 | FV13: =SUM(FV11:FV12) -> 200 | FW13: =SUM(FW11:FW12) -> 178 | FZ13: Total Steam | GA13: =SUM(GA11:GA12) -> 0 | GB13: =SUM(GB11:GB12) -> 0 | GC13: =SUM(GC11:GC12) -> 0 | GD13: =SUM(GD11:GD12) -> 0 | GF13: =SUM(GF11:GF12) -> 0 | GH13: =SUM(GH11:GH12) -> 0 | GJ13: =SUM(GJ11:GJ12) -> 0 | GK13: =SUM(GK11:GK12) -> 0 | GM13: =SUM(GM11:GM12) -> 0 | GN13: =SUM(GN11:GN12) -> 200 | GO13: =SUM(GO11:GO12) -> 178 | GR13: Total Steam | GS13: =SUM(GS11:GS12) -> 0 | GT13: =SUM(GT11:GT12) -> 0 | GU13: =SUM(GU11:GU12) -> 0 | GV13: =SUM(GV11:GV12) -> 0 | GX13: =SUM(GX11:GX12) -> 0 | GZ13: =SUM(GZ11:GZ12) -> 0 | HB13: =SUM(HB11:HB12) -> 0 | HC13: =SUM(HC11:HC12) -> 0 | HE13: =SUM(HE11:HE12) -> 0 | HF13: =SUM(HF11:HF12) -> 200 | HG13: =SUM(HG11:HG12) -> 178
B14: Total | C14: =SUM(C10,C13) -> 2445.23 | D14: =SUM(D10,D13) -> 2445.23 | E14: =SUM(E10,E13) -> 0 | F14: =SUM(F10,F13) -> 469.17 | G14: =(G6*Q6+G7*Q7+G8*Q8+G9*Q9+G11*Q11+G12*Q12)/Q14 -> 0.10923123 | H14: =SUM(H10,H13) -> 1505.62 | I14: =(I6*Q6+I7*Q7+I8*Q8+I9*Q9+I11*Q11+I12*Q12)/Q14 -> 0.23806244 | J14: =SUM(J10,J13) -> 43.98 | K14: =(K6*Q6+K7*Q7+K8*Q8+K9*Q9+K11*Q11+K12*Q12)/Q14 -> 0.0097489157 | L14: =SUM(L10,L13) -> 0 | M14: =SUM(M10,M13) -> 75.3 | N14: =(N6*Q6+N7*Q7+N8*Q8+N9*Q9+N11*Q11+N12*Q12)/Q14 -> 0.62594739 | O14: =SUM(O10,O13) -> 251954 | P14: =SUM(P10,P13) -> 640 | Q14: =SUM(Q10,Q13) -> 595 | T14: Total | U14: =SUM(U10,U13) -> 2462.09 | V14: =SUM(V10,V13) -> 2413.56 | W14: =SUM(W10,W13) -> 48.53 | X14: =SUM(X10,X13) -> 508.71 | Y14: =(Y6*$AI$6+Y7*$AI$7+Y8*$AI$8+Y9*$AI$9+Y11*$AI$11+Y12*$AI$12)/$AI$14 -> 0.11440745 | Z14: =SUM(Z10,Z13) -> 1488 | AA14: =(AA6*$AI$6+AA7*$AI$7+AA8*$AI$8+AA9*$AI$9+AA11*$AI$11+AA12*$AI$12)/$AI$14 -> 0.23193277 | AB14: =SUM(AB10,AB13) -> 5.2 | AC14: =(AC6*$AI$6+AC7*$AI$7+AC8*$AI$8+AC9*$AI$9+AC11*$AI$11+AC12*$AI$12)/$AI$14 -> 0.0018089817 | AD14: =SUM(AD10,AD13) -> 17.5 | AE14: =SUM(AE10,AE13) -> 111.74 | AF14: =(AF6*$AI$6+AF7*$AI$7+AF8*$AI$8+AF9*$AI$9+AF11*$AI$11+AF12*$AI$12)/$AI$14 -> 0.61855051 | AG14: =SUM(AG10,AG13) -> 247029 | AH14: =SUM(AH10,AH13) -> 640 | AI14: =SUM(AI10,AI13) -> 595 | AL14: Total | AM14: =SUM(AM10,AM13) -> 1850.15 | AN14: =SUM(AN10,AN13) -> 1807.62 | AO14: =SUM(AO10,AO13) -> 42.53 | AP14: =SUM(AP10,AP13) -> 961.05 | AQ14: =(AQ6*$BA6+AQ7*$BA7+AQ8*$BA8+AQ9*$BA9+AQ11*$BA11+AQ12*$BA12)/$BA14 -> 0.25135661 | AR14: =SUM(AR10,AR13) -> 1440 | AS14: =(AS6*$BA6+AS7*$BA7+AS8*$BA8+AS9*$BA9+AS11*$BA11+AS12*$BA12)/$BA14 -> 0.23193277 | AT14: =SUM(AT10,AT13) -> 68.8 | AU14: =(AU6*$BA6+AU7*$BA7+AU8*$BA8+AU9*$BA9+AU11*$BA11+AU12*$BA12)/$BA14 -> 0.019768511 | AV14: =SUM(AV10,AV13) -> 0 | AW14: =SUM(AW10,AW13) -> 0 | AX14: =(AX6*$BA6+AX7*$BA7+AX8*$BA8+AX9*$BA9+AX11*$BA11+AX12*$BA12)/$BA14 -> 0.49694211 | AY14: =SUM(AY10,AY13) -> 189570 | AZ14: =SUM(AZ10,AZ13) -> 640 | BA14: =SUM(BA10,BA13) -> 595 | BD14: Total | BE14: =SUM(BE10,BE13) -> 0 | BF14: =SUM(BF10,BF13) -> 0 | BG14: =SUM(BG10,BG13) -> 0 | BH14: =SUM(BH10,BH13) -> 0 | BI14: =(BI6*$BS6+BI7*$BS7+BI8*$BS8+BI9*$BS9+BI11*$BS11+BI12*$BS12)/$BS14 -> #DIV/0! | BJ14: =SUM(BJ10,BJ13) -> 0 | BK14: =(BK6*$BS6+BK7*$BS7+BK8*$BS8+BK9*$BS9+BK11*$BS11+BK12*$BS12)/$BS14 -> #DIV/0! | BL14: =SUM(BL10,BL13) -> 0 | BM14: =(BM6*$BS6+BM7*$BS7+BM8*$BS8+BM9*$BS9+BM11*$BS11+BM12*$BS12)/$BS14 -> #DIV/0! | BN14: =SUM(BN10,BN13) -> 0 | BO14: =SUM(BO10,BO13) -> 0 | BP14: =(BP6*$BS6+BP7*$BS7+BP8*$BS8+BP9*$BS9+BP11*$BS11+BP12*$BS12)/$BS14 -> #DIV/0! | BQ14: =SUM(BQ10,BQ13) -> 0 | BR14: =SUM(BR10,BR13) -> 640 | BS14: =SUM(BS10,BS13) -> 595 | BV14: Total | BW14: =SUM(BW10,BW13) -> 0 | BX14: =SUM(BX10,BX13) -> 0 | BY14: =SUM(BY10,BY13) -> 0 | BZ14: =SUM(BZ10,BZ13) -> 0 | CA14: =(CA6*$CK6+CA7*$CK7+CA8*$CK8+CA9*$CK9+CA11*$CK11+CA12*$CK12)/$CK14 -> #DIV/0! | CB14: =SUM(CB10,CB13) -> 0 | CC14: =(CC6*$CK6+CC7*$CK7+CC8*$CK8+CC9*$CK9+CC11*$CK11+CC12*$CK12)/$CK14 -> #DIV/0! | CD14: =SUM(CD10,CD13) -> 0 | CE14: =(CE6*$CK6+CE7*$CK7+CE8*$CK8+CE9*$CK9+CE11*$CK11+CE12*$CK12)/$CK14 -> #DIV/0! | CF14: =SUM(CF10,CF13) -> 0 | CG14: =SUM(CG10,CG13) -> 0 | CH14: =(CH6*$CK6+CH7*$CK7+CH8*$CK8+CH9*$CK9+CH11*$CK11+CH12*$CK12)/$CK14 -> #DIV/0! | CI14: =SUM(CI10,CI13) -> 0 | CJ14: =SUM(CJ10,CJ13) -> 640 | CK14: =SUM(CK10,CK13) -> 595 | CN14: Total | CO14: =SUM(CO10,CO13) -> 0 | CP14: =SUM(CP10,CP13) -> 0 | CQ14: =SUM(CQ10,CQ13) -> 0 | CR14: =SUM(CR10,CR13) -> 0 | CS14: =(CS6*$DC6+CS7*$DC7+CS8*$DC8+CS9*$DC9+CS11*$DC11+CS12*$DC12)/$DC14 -> #DIV/0! | CT14: =SUM(CT10,CT13) -> 0 | CU14: =(CU6*$DC6+CU7*$DC7+CU8*$DC8+CU9*$DC9+CU11*$DC11+CU12*$DC12)/$DC14 -> #DIV/0! | CV14: =SUM(CV10,CV13) -> 0 | CW14: =(CW6*$DC6+CW7*$DC7+CW8*$DC8+CW9*$DC9+CW11*$DC11+CW12*$DC12)/$DC14 -> #DIV/0! | CX14: =SUM(CX10,CX13) -> 0 | CY14: =SUM(CY10,CY13) -> 0 | CZ14: =(CZ6*$DC6+CZ7*$DC7+CZ8*$DC8+CZ9*$DC9+CZ11*$DC11+CZ12*$DC12)/$DC14 -> #DIV/0! | DA14: =SUM(DA10,DA13) -> 0 | DB14: =SUM(DB10,DB13) -> 640 | DC14: =SUM(DC10,DC13) -> 595 | DF14: Total | DG14: =SUM(DG10,DG13) -> 0 | DH14: =SUM(DH10,DH13) -> 0 | DI14: =SUM(DI10,DI13) -> 0 | DJ14: =SUM(DJ10,DJ13) -> 0 | DK14: =(DK6*$DU6+DK7*$DU7+DK8*$DU8+DK9*$DU9+DK11*$DU11+DK12*$DU12)/$DU14 -> #DIV/0! | DL14: =SUM(DL10,DL13) -> 0 | DM14: =(DM6*$DU6+DM7*$DU7+DM8*$DU8+DM9*$DU9+DM11*$DU11+DM12*$DU12)/$DU14 -> #DIV/0! | DN14: =SUM(DN10,DN13) -> 0 | DO14: =(DO6*$DU6+DO7*$DU7+DO8*$DU8+DO9*$DU9+DO11*$DU11+DO12*$DU12)/$DU14 -> #DIV/0! | DP14: =SUM(DP10,DP13) -> 0 | DQ14: =SUM(DQ10,DQ13) -> 0 | DR14: =(DR6*$DU6+DR7*$DU7+DR8*$DU8+DR9*$DU9+DR11*$DU11+DR12*$DU12)/$DU14 -> #DIV/0! | DS14: =SUM(DS10,DS13) -> 0 | DT14: =SUM(DT10,DT13) -> 640 | DU14: =SUM(DU10,DU13) -> 595 | DX14: Total | DY14: =SUM(DY10,DY13) -> 0 | DZ14: =SUM(DZ10,DZ13) -> 0 | EA14: =SUM(EA10,EA13) -> 0 | EB14: =SUM(EB10,EB13) -> 0 | EC14: =(EC6*$EM6+EC7*$EM7+EC8*$EM8+EC9*$EM9+EC11*$EM11+EC12*$EM12)/$EM14 -> #DIV/0! | ED14: =SUM(ED10,ED13) -> 0 | EE14: =(EE6*$EM6+EE7*$EM7+EE8*$EM8+EE9*$EM9+EE11*$EM11+EE12*$EM12)/$EM14 -> #DIV/0! | EF14: =SUM(EF10,EF13) -> 0 | EG14: =(EG6*$EM6+EG7*$EM7+EG8*$EM8+EG9*$EM9+EG11*$EM11+EG12*$EM12)/$EM14 -> #DIV/0! | EH14: =SUM(EH10,EH13) -> 0 | EI14: =SUM(EI10,EI13) -> 0 | EJ14: =(EJ6*$EM6+EJ7*$EM7+EJ8*$EM8+EJ9*$EM9+EJ11*$EM11+EJ12*$EM12)/$EM14 -> #DIV/0! | EK14: =SUM(EK10,EK13) -> 0 | EL14: =SUM(EL10,EL13) -> 640 | EM14: =SUM(EM10,EM13) -> 595 | EP14: Total | EQ14: =SUM(EQ10,EQ13) -> 0 | ER14: =SUM(ER10,ER13) -> 0 | ES14: =SUM(ES10,ES13) -> 0 | ET14: =SUM(ET10,ET13) -> 0 | EU14: =(EU6*$FE6+EU7*$FE7+EU8*$FE8+EU9*$FE9+EU11*$FE11+EU12*$FE12)/$FE14 -> #DIV/0! | EV14: =SUM(EV10,EV13) -> 0 | EW14: =(EW6*$FE6+EW7*$FE7+EW8*$FE8+EW9*$FE9+EW11*$FE11+EW12*$FE12)/$FE14 -> #DIV/0! | EX14: =SUM(EX10,EX13) -> 0 | EY14: =(EY6*$FE6+EY7*$FE7+EY8*$FE8+EY9*$FE9+EY11*$FE11+EY12*$FE12)/$FE14 -> #DIV/0! | EZ14: =SUM(EZ10,EZ13) -> 0 | FA14: =SUM(FA10,FA13) -> 0 | FB14: =(FB6*$FE6+FB7*$FE7+FB8*$FE8+FB9*$FE9+FB11*$FE11+FB12*$FE12)/$FE14 -> #DIV/0! | FC14: =SUM(FC10,FC13) -> 0 | FD14: =SUM(FD10,FD13) -> 640 | FE14: =SUM(FE10,FE13) -> 595 | FH14: Total | FI14: =SUM(FI10,FI13) -> 0 | FJ14: =SUM(FJ10,FJ13) -> 0 | FK14: =SUM(FK10,FK13) -> 0 | FL14: =SUM(FL10,FL13) -> 0 | FM14: =(FM6*$FW6+FM7*$FW7+FM8*$FW8+FM9*$FW9+FM11*$FW11+FM12*$FW12)/$FW14 -> #DIV/0! | FN14: =SUM(FN10,FN13) -> 0 | FO14: =(FO6*$FW6+FO7*$FW7+FO8*$FW8+FO9*$FW9+FO11*$FW11+FO12*$FW12)/$FW14 -> #DIV/0! | FP14: =SUM(FP10,FP13) -> 0 | FQ14: =(FQ6*$FW6+FQ7*$FW7+FQ8*$FW8+FQ9*$FW9+FQ11*$FW11+FQ12*$FW12)/$FW14 -> #DIV/0! | FR14: =SUM(FR10,FR13) -> 0 | FS14: =SUM(FS10,FS13) -> 0 | FT14: =(FT6*$FW6+FT7*$FW7+FT8*$FW8+FT9*$FW9+FT11*$FW11+FT12*$FW12)/$FW14 -> #DIV/0! | FU14: =SUM(FU10,FU13) -> 0 | FV14: =SUM(FV10,FV13) -> 640 | FW14: =SUM(FW10,FW13) -> 595 | FZ14: Total | GA14: =SUM(GA10,GA13) -> 0 | GB14: =SUM(GB10,GB13) -> 0 | GC14: =SUM(GC10,GC13) -> 0 | GD14: =SUM(GD10,GD13) -> 0 | GE14: =(GE6*$GO6+GE7*$GO7+GE8*$GO8+GE9*$GO9+GE11*$GO11+GE12*$GO12)/$GO14 -> #DIV/0! | GF14: =SUM(GF10,GF13) -> 0 | GG14: =(GG6*$GO6+GG7*$GO7+GG8*$GO8+GG9*$GO9+GG11*$GO11+GG12*$GO12)/$GO14 -> #DIV/0! | GH14: =SUM(GH10,GH13) -> 0 | GI14: =(GI6*$GO6+GI7*$GO7+GI8*$GO8+GI9*$GO9+GI11*$GO11+GI12*$GO12)/$GO14 -> #DIV/0! | GJ14: =SUM(GJ10,GJ13) -> 0 | GK14: =SUM(GK10,GK13) -> 0 | GL14: =(GL6*$GO6+GL7*$GO7+GL8*$GO8+GL9*$GO9+GL11*$GO11+GL12*$GO12)/$GO14 -> #DIV/0! | GM14: =SUM(GM10,GM13) -> 0 | GN14: =SUM(GN10,GN13) -> 640 | GO14: =SUM(GO10,GO13) -> 595 | GR14: Total | GS14: =SUM(GS10,GS13) -> 0 | GT14: =SUM(GT10,GT13) -> 0 | GU14: =SUM(GU10,GU13) -> 0 | GV14: =SUM(GV10,GV13) -> 0 | GW14: =(GW6*$HG6+GW7*$HG7+GW8*$HG8+GW9*$HG9+GW11*$HG11+GW12*$HG12)/$HG14 -> #DIV/0! | GX14: =SUM(GX10,GX13) -> 0 | GY14: =(GY6*$HG6+GY7*$HG7+GY8*$HG8+GY9*$HG9+GY11*$HG11+GY12*$HG12)/$HG14 -> #DIV/0! | GZ14: =SUM(GZ10,GZ13) -> 0 | HA14: =(HA6*$HG6+HA7*$HG7+HA8*$HG8+HA9*$HG9+HA11*$HG11+HA12*$HG12)/$HG14 -> #DIV/0! | HB14: =SUM(HB10,HB13) -> 0 | HC14: =SUM(HC10,HC13) -> 0 | HD14: =(HD6*$HG6+HD7*$HG7+HD8*$HG8+HD9*$HG9+HD11*$HG11+HD12*$HG12)/$HG14 -> #DIV/0! | HE14: =SUM(HE10,HE13) -> 0 | HF14: =SUM(HF10,HF13) -> 640 | HG14: =SUM(HG10,HG13) -> 595
A15: PALO SECO | B15: 3 | C15: 744 | D15: 744 | E15: 0 | F15: 0 | G15: =F15/$B$4 -> 0 | H15: 0 | I15: =H15/$B$4 -> 0 | J15: 0 | K15: =J15/$B$4 -> 0 | L15: ='[2]UNIT DATA'!P2 -> 0 | M15: ='[2]UNIT DATA'!Q2 -> 4.51 | N15: =(C15-L15-M15)/$B$4 -> 0.99393817 | O15: 116770 | P15: 216 | Q15: 145 | S15: PALO SECO | T15: 3 | U15: 651.98 | V15: 651.98 | W15: 0 | X15: 92.02 | Y15: =X15/$T$4 -> 0.1236828 | Z15: 0 | AA15: =Z15/$T$4 -> 0 | AB15: 0 | AC15: =AB15/$T$4 -> 0 | AD15: 0 | AE15: 239.53 | AF15: =(U15-AD15-AE15)/$T$4 -> 0.55436828 | AG15: 75755 | AH15: 216 | AI15: 145 | AK15: PALO SECO | AL15: 3 | AM15: 720 | AN15: 720 | AO15: 0 | AP15: 0 | AQ15: =AP15/$AL$4 -> 0 | AR15: 0 | AS15: =AR15/$AL$4 -> 0 | AT15: 0 | AU15: =AT15/$AL$4 -> 0 | AV15: 0 | AW15: 222.53 | AX15: =(AM15-AV15-AW15)/$AL$4 -> 0.69093056 | AY15: 100078 | AZ15: 216 | BA15: 145 | BC15: PALO SECO | BD15: 3 | BI15: =BH15/$BD$4 -> #DIV/0! | BK15: =BJ15/$BD$4 -> #DIV/0! | BM15: =BL15/$BD$4 -> #DIV/0! | BP15: =(BE15-BO15)/$BD$4 -> #DIV/0! | BR15: 216 | BS15: 145 | BU15: PALO SECO | BV15: 3 | CA15: =BZ15/$BV$4 -> #DIV/0! | CC15: =CB15/$BV$4 -> #DIV/0! | CE15: =CD15/$BV$4 -> #DIV/0! | CH15: =(BW15-CF15-CG15)/$BV$4 -> #DIV/0! | CJ15: 216 | CK15: 145 | CM15: PALO SECO | CN15: 3 | CS15: =CR15/$CN$4 -> #DIV/0! | CU15: =CT15/$CN$4 -> #DIV/0! | CW15: =CV15/$CN$4 -> #DIV/0! | CZ15: =(CO15-CX15-CY15)/$CN$4 -> #DIV/0! | DB15: 216 | DC15: 145 | DE15: PALO SECO | DF15: 3 | DK15: =DJ15/$DF$4 -> #DIV/0! | DM15: =DL15/$DF$4 -> #DIV/0! | DO15: =DN15/$DF$4 -> #DIV/0! | DR15: =(DG15-DP15-DQ15)/$DF$4 -> #DIV/0! | DT15: 216 | DU15: 145 | DW15: PALO SECO | DX15: 3 | EC15: =EB15/$DX$4 -> #DIV/0! | EE15: =ED15/$DX$4 -> #DIV/0! | EG15: =EF15/$DX$4 -> #DIV/0! | EJ15: =(DY15-EH15-EI15)/$DX$4 -> #DIV/0! | EL15: 216 | EM15: 145 | EO15: PALO SECO | EP15: 3 | EU15: =ET15/$EP$4 -> #DIV/0! | EW15: =EV15/$EP$4 -> #DIV/0! | EY15: =EX15/$EP$4 -> #DIV/0! | FB15: =(EQ15-EZ15-FA15)/$EP$4 -> #DIV/0! | FD15: 216 | FE15: 145 | FG15: PALO SECO | FH15: 3 | FM15: =FL15/$FH$4 -> #DIV/0! | FO15: =FN15/$FH$4 -> #DIV/0! | FQ15: =FP15/$FH$4 -> #DIV/0! | FT15: =(FI15-FR15-FS15)/$FH$4 -> #DIV/0! | FV15: 216 | FW15: 145 | FY15: PALO SECO | FZ15: 3 | GE15: =GD15/$FZ$4 -> #DIV/0! | GG15: =GF15/$FZ$4 -> #DIV/0! | GI15: =GH15/$FZ$4 -> #DIV/0! | GL15: =(GA15-GJ15-GK15)/$FZ$4 -> #DIV/0! | GN15: 216 | GO15: 145 | GQ15: PALO SECO | GR15: 3 | GW15: =GV15/$GR$4 -> #DIV/0! | GY15: =GX15/$GR$4 -> #DIV/0! | HA15: =GZ15/$GR$4 -> #DIV/0! | HD15: =(GS15-HB15-HC15)/$GR$4 -> #DIV/0! | HF15: 216 | HG15: 145
B16: 4 | C16: 518.3 | D16: 518.3 | E16: 0 | F16: 225.7 | G16: =F16/$B$4 -> 0.30336022 | H16: 0 | I16: =H16/$B$4 -> 0 | J16: 0 | K16: =J16/$B$4 -> 0 | L16: ='[2]UNIT DATA'!P3 -> 0 | M16: ='[2]UNIT DATA'!Q3 -> 72.51 | N16: =(C16-L16-M16)/$B$4 -> 0.59918011 | O16: 73712 | P16: 216 | Q16: 165 | T16: 4 | U16: 738.75 | V16: 738.75 | W16: 0 | X16: 5.25 | Y16: =X16/$T$4 -> 0.0070564516 | Z16: 0 | AA16: =Z16/$T$4 -> 0 | AB16: 0 | AC16: =AB16/$T$4 -> 0 | AD16: 0 | AE16: 151.05 | AF16: =(U16-AD16-AE16)/$T$4 -> 0.78991935 | AG16: 100163 | AH16: 216 | AI16: 165 | AL16: 4 | AM16: 584.95 | AN16: 584.95 | AO16: 0 | AP16: 30.85 | AQ16: =AP16/$AL$4 -> 0.042847222 | AR16: 0 | AS16: =AR16/$AL$4 -> 0 | AT16: 104.2 | AU16: =AT16/$AL$4 -> 0.14472222 | AV16: 0 | AW16: 105.13 | AX16: =(AM16-AV16-AW16)/$AL$4 -> 0.66641667 | AY16: 84764 | AZ16: 216 | BA16: 165 | BD16: 4 | BI16: =BH16/$BD$4 -> #DIV/0! | BK16: =BJ16/$BD$4 -> #DIV/0! | BM16: =BL16/$BD$4 -> #DIV/0! | BP16: =(BE16-BO16)/$BD$4 -> #DIV/0! | BR16: 216 | BS16: 165 | BV16: 4 | CA16: =BZ16/$BV$4 -> #DIV/0! | CC16: =CB16/$BV$4 -> #DIV/0! | CE16: =CD16/$BV$4 -> #DIV/0! | CH16: =(BW16-CF16-CG16)/$BV$4 -> #DIV/0! | CJ16: 216 | CK16: 165 | CN16: 4 | CS16: =CR16/$CN$4 -> #DIV/0! | CU16: =CT16/$CN$4 -> #DIV/0! | CW16: =CV16/$CN$4 -> #DIV/0! | CZ16: =(CO16-CX16-CY16)/$CN$4 -> #DIV/0! | DB16: 216 | DC16: 165 | DF16: 4 | DK16: =DJ16/$DF$4 -> #DIV/0! | DM16: =DL16/$DF$4 -> #DIV/0! | DO16: =DN16/$DF$4 -> #DIV/0! | DR16: =(DG16-DP16-DQ16)/$DF$4 -> #DIV/0! | DT16: 216 | DU16: 165 | DX16: 4 | EC16: =EB16/$DX$4 -> #DIV/0! | EE16: =ED16/$DX$4 -> #DIV/0! | EG16: =EF16/$DX$4 -> #DIV/0! | EJ16: =(DY16-EH16-EI16)/$DX$4 -> #DIV/0! | EL16: 216 | EM16: 165 | EP16: 4 | EU16: =ET16/$EP$4 -> #DIV/0! | EW16: =EV16/$EP$4 -> #DIV/0! | EY16: =EX16/$EP$4 -> #DIV/0! | FB16: =(EQ16-EZ16-FA16)/$EP$4 -> #DIV/0! | FD16: 216 | FE16: 165 | FH16: 4 | FM16: =FL16/$FH$4 -> #DIV/0! | FO16: =FN16/$FH$4 -> #DIV/0! | FQ16: =FP16/$FH$4 -> #DIV/0! | FT16: =(FI16-FR16-FS16)/$FH$4 -> #DIV/0! | FV16: 216 | FW16: 165 | FZ16: 4 | GE16: =GD16/$FZ$4 -> #DIV/0! | GG16: =GF16/$FZ$4 -> #DIV/0! | GI16: =GH16/$FZ$4 -> #DIV/0! | GL16: =(GA16-GJ16-GK16)/$FZ$4 -> #DIV/0! | GN16: 216 | GO16: 165 | GR16: 4 | GW16: =GV16/$GR$4 -> #DIV/0! | GY16: =GX16/$GR$4 -> #DIV/0! | HA16: =GZ16/$GR$4 -> #DIV/0! | HD16: =(GS16-HB16-HC16)/$GR$4 -> #DIV/0! | HF16: 216 | HG16: 165
B17: Total | C17: =SUM(C15:C16) -> 1262.3 | D17: =SUM(D15:D16) -> 1262.3 | E17: =SUM(E15:E16) -> 0 | F17: =SUM(F15:F16) -> 225.7 | G17: =(G15*Q15+G16*Q16)/Q17 -> 0.16146592 | H17: =SUM(H15:H16) -> 0 | I17: =(I15*Q15+I16*Q16)/Q17 -> 0 | J17: =SUM(J15:J16) -> 0 | K17: =(K15*Q15+K16*Q16)/Q17 -> 0 | L17: =SUM(L15:L16) -> 0 | M17: =SUM(M15:M16) -> 77.02 | N17: =(N15*Q15+N16*Q16)/Q17 -> 0.78382501 | O17: =SUM(O15:O16) -> 190482 | P17: =SUM(P15:P16) -> 432 | Q17: =SUM(Q15:Q16) -> 310 | T17: Total | U17: =SUM(U15:U16) -> 1390.73 | V17: =SUM(V15:V16) -> 1390.73 | W17: =SUM(W15:W16) -> 0 | X17: =SUM(X15:X16) -> 97.27 | Y17: =(Y15*$AI$15+Y16*$AI$16)/$AI$17 -> 0.061607484 | Z17: =SUM(Z15:Z16) -> 0 | AA17: =(AA15*$AI$15+AA16*$AI$16)/$AI$17 -> 0 | AB17: =SUM(AB15:AB16) -> 0 | AC17: =(AC15*$AI$15+AC16*$AI$16)/$AI$17 -> 0 | AD17: =SUM(AD15:AD16) -> 0 | AE17: =SUM(AE15:AE16) -> 390.58 | AF17: =(AF15*$AI$15+AF16*$AI$16)/$AI$17 -> 0.67974224 | AG17: =SUM(AG15:AG16) -> 175918 | AH17: =SUM(AH15:AH16) -> 432 | AI17: =SUM(AI15:AI16) -> 310 | AL17: Total | AM17: =SUM(AM15:AM16) -> 1304.95 | AN17: =SUM(AN15:AN16) -> 1304.95 | AO17: =SUM(AO15:AO16) -> 0 | AP17: =SUM(AP15:AP16) -> 30.85 | AQ17: =(AQ15*$BA15+AQ16*$BA16)/$BA17 -> 0.02280578 | AR17: =SUM(AR15:AR16) -> 0 | AS17: =(AS15*$BA15+AS16*$BA16)/$BA17 -> 0 | AT17: =SUM(AT15:AT16) -> 104.2 | AU17: =(AU15*$BA15+AU16*$BA16)/$BA17 -> 0.07702957 | AV17: =SUM(AV15:AV16) -> 0 | AW17: =SUM(AW15:AW16) -> 327.66 | AX17: =(AX15*$BA15+AX16*$BA16)/$BA17 -> 0.67788284 | AY17: =SUM(AY15:AY16) -> 184842 | AZ17: =SUM(AZ15:AZ16) -> 432 | BA17: =SUM(BA15:BA16) -> 310 | BD17: Total | BE17: =SUM(BE15:BE16) -> 0 | BF17: =SUM(BF15:BF16) -> 0 | BG17: =SUM(BG15:BG16) -> 0 | BH17: =SUM(BH15:BH16) -> 0 | BI17: =(BI15*$BS15+BI16*$BS16)/$BS17 -> #DIV/0! | BJ17: =SUM(BJ15:BJ16) -> 0 | BK17: =(BK15*$BS15+BK16*$BS16)/$BS17 -> #DIV/0! | BL17: =SUM(BL15:BL16) -> 0 | BM17: =(BM15*$BS15+BM16*$BS16)/$BS17 -> #DIV/0! | BN17: =SUM(BN15:BN16) -> 0 | BO17: =SUM(BO15:BO16) -> 0 | BP17: =(BP15*$BS15+BP16*$BS16)/$BS17 -> #DIV/0! | BQ17: =SUM(BQ15:BQ16) -> 0 | BR17: =SUM(BR15:BR16) -> 432 | BS17: =SUM(BS15:BS16) -> 310 | BV17: Total | BW17: =SUM(BW15:BW16) -> 0 | BX17: =SUM(BX15:BX16) -> 0 | BY17: =SUM(BY15:BY16) -> 0 | BZ17: =SUM(BZ15:BZ16) -> 0 | CA17: =(CA15*$CK15+CA16*$CK16)/$CK17 -> #DIV/0! | CB17: =SUM(CB15:CB16) -> 0 | CC17: =(CC15*$CK15+CC16*$CK16)/$CK17 -> #DIV/0! | CD17: =SUM(CD15:CD16) -> 0 | CE17: =(CE15*$CK15+CE16*$CK16)/$CK17 -> #DIV/0! | CF17: =SUM(CF15:CF16) -> 0 | CG17: =SUM(CG15:CG16) -> 0 | CH17: =(CH15*$CK15+CH16*$CK16)/$CK17 -> #DIV/0! | CI17: =SUM(CI15:CI16) -> 0 | CJ17: =SUM(CJ15:CJ16) -> 432 | CK17: =SUM(CK15:CK16) -> 310 | CN17: Total | CO17: =SUM(CO15:CO16) -> 0 | CP17: =SUM(CP15:CP16) -> 0 | CQ17: =SUM(CQ15:CQ16) -> 0 | CR17: =SUM(CR15:CR16) -> 0 | CS17: =(CS15*$DC15+CS16*$DC16)/$DC17 -> #DIV/0! | CT17: =SUM(CT15:CT16) -> 0 | CU17: =(CU15*$DC15+CU16*$DC16)/$DC17 -> #DIV/0! | CV17: =SUM(CV15:CV16) -> 0 | CW17: =(CW15*$DC15+CW16*$DC16)/$DC17 -> #DIV/0! | CX17: =SUM(CX15:CX16) -> 0 | CY17: =SUM(CY15:CY16) -> 0 | CZ17: =(CZ15*$DC15+CZ16*$DC16)/$DC17 -> #DIV/0! | DA17: =SUM(DA15:DA16) -> 0 | DB17: =SUM(DB15:DB16) -> 432 | DC17: =SUM(DC15:DC16) -> 310 | DF17: Total | DG17: =SUM(DG15:DG16) -> 0 | DH17: =SUM(DH15:DH16) -> 0 | DI17: =SUM(DI15:DI16) -> 0 | DJ17: =SUM(DJ15:DJ16) -> 0 | DK17: =(DK15*$DU15+DK16*$DU16)/$DU17 -> #DIV/0! | DL17: =SUM(DL15:DL16) -> 0 | DM17: =(DM15*$DU15+DM16*$DU16)/$DU17 -> #DIV/0! | DN17: =SUM(DN15:DN16) -> 0 | DO17: =(DO15*$DU15+DO16*$DU16)/$DU17 -> #DIV/0! | DP17: =SUM(DP15:DP16) -> 0 | DQ17: =SUM(DQ15:DQ16) -> 0 | DR17: =(DR15*$DU15+DR16*$DU16)/$DU17 -> #DIV/0! | DS17: =SUM(DS15:DS16) -> 0 | DT17: =SUM(DT15:DT16) -> 432 | DU17: =SUM(DU15:DU16) -> 310 | DX17: Total | DY17: =SUM(DY15:DY16) -> 0 | DZ17: =SUM(DZ15:DZ16) -> 0 | EA17: =SUM(EA15:EA16) -> 0 | EB17: =SUM(EB15:EB16) -> 0 | EC17: =(EC15*$EM15+EC16*$EM16)/$EM17 -> #DIV/0! | ED17: =SUM(ED15:ED16) -> 0 | EE17: =(EE15*$EM15+EE16*$EM16)/$EM17 -> #DIV/0! | EF17: =SUM(EF15:EF16) -> 0 | EG17: =(EG15*$EM15+EG16*$EM16)/$EM17 -> #DIV/0! | EH17: =SUM(EH15:EH16) -> 0 | EI17: =SUM(EI15:EI16) -> 0 | EJ17: =(EJ15*$EM15+EJ16*$EM16)/$EM17 -> #DIV/0! | EK17: =SUM(EK15:EK16) -> 0 | EL17: =SUM(EL15:EL16) -> 432 | EM17: =SUM(EM15:EM16) -> 310 | EP17: Total | EQ17: =SUM(EQ15:EQ16) -> 0 | ER17: =SUM(ER15:ER16) -> 0 | ES17: =SUM(ES15:ES16) -> 0 | ET17: =SUM(ET15:ET16) -> 0 | EU17: =(EU15*$FE15+EU16*$FE16)/$FE17 -> #DIV/0! | EV17: =SUM(EV15:EV16) -> 0 | EW17: =(EW15*$FE15+EW16*$FE16)/$FE17 -> #DIV/0! | EX17: =SUM(EX15:EX16) -> 0 | EY17: =(EY15*$FE15+EY16*$FE16)/$FE17 -> #DIV/0! | EZ17: =SUM(EZ15:EZ16) -> 0 | FA17: =SUM(FA15:FA16) -> 0 | FB17: =(FB15*$FE15+FB16*$FE16)/$FE17 -> #DIV/0! | FC17: =SUM(FC15:FC16) -> 0 | FD17: =SUM(FD15:FD16) -> 432 | FE17: =SUM(FE15:FE16) -> 310 | FH17: Total | FI17: =SUM(FI15:FI16) -> 0 | FJ17: =SUM(FJ15:FJ16) -> 0 | FK17: =SUM(FK15:FK16) -> 0 | FL17: =SUM(FL15:FL16) -> 0 | FM17: =(FM15*$FW15+FM16*$FW16)/$FW17 -> #DIV/0! | FN17: =SUM(FN15:FN16) -> 0 | FO17: =(FO15*$FW15+FO16*$FW16)/$FW17 -> #DIV/0! | FP17: =SUM(FP15:FP16) -> 0 | FQ17: =(FQ15*$FW15+FQ16*$FW16)/$FW17 -> #DIV/0! | FR17: =SUM(FR15:FR16) -> 0 | FS17: =SUM(FS15:FS16) -> 0 | FT17: =(FT15*$FW15+FT16*$FW16)/$FW17 -> #DIV/0! | FU17: =SUM(FU15:FU16) -> 0 | FV17: =SUM(FV15:FV16) -> 432 | FW17: =SUM(FW15:FW16) -> 310 | FZ17: Total | GA17: =SUM(GA15:GA16) -> 0 | GB17: =SUM(GB15:GB16) -> 0 | GC17: =SUM(GC15:GC16) -> 0 | GD17: =SUM(GD15:GD16) -> 0 | GE17: =(GE15*$GO15+GE16*$GO16)/$GO17 -> #DIV/0! | GF17: =SUM(GF15:GF16) -> 0 | GG17: =(GG15*$GO15+GG16*$GO16)/$GO17 -> #DIV/0! | GH17: =SUM(GH15:GH16) -> 0 | GI17: =(GI15*$GO15+GI16*$GO16)/$GO17 -> #DIV/0! | GJ17: =SUM(GJ15:GJ16) -> 0 | GK17: =SUM(GK15:GK16) -> 0 | GL17: =(GL15*$FW15+GL16*$FW16)/$FW17 -> #DIV/0! | GM17: =SUM(GM15:GM16) -> 0 | GN17: =SUM(GN15:GN16) -> 432 | GO17: =SUM(GO15:GO16) -> 310 | GR17: Total | GS17: =SUM(GS15:GS16) -> 0 | GT17: =SUM(GT15:GT16) -> 0 | GU17: =SUM(GU15:GU16) -> 0 | GV17: =SUM(GV15:GV16) -> 0 | GW17: =(GW15*$HG15+GW16*$HG16)/$HG17 -> #DIV/0! | GX17: =SUM(GX15:GX16) -> 0 | GY17: =(GY15*$HG15+GY16*$HG16)/$HG17 -> #DIV/0! | GZ17: =SUM(GZ15:GZ16) -> 0 | HA17: =(HA15*$HG15+HA16*$HG16)/$HG17 -> #DIV/0! | HB17: =SUM(HB15:HB16) -> 0 | HC17: =SUM(HC15:HC16) -> 0 | HD17: =(HD15*$HG15+HD16*$HG16)/$HG17 -> #DIV/0! | HE17: =SUM(HE15:HE16) -> 0 | HF17: =SUM(HF15:HF16) -> 432 | HG17: =SUM(HG15:HG16) -> 310
A18: COSTA SUR | B18: 5 | C18: 667.05 | D18: 667.05 | E18: 0 | F18: 76.95 | G18: =F18/$B$4 -> 0.10342742 | H18: 0 | I18: =H18/$B$4 -> 0 | J18: 0 | K18: =J18/$B$4 -> 0 | L18: ='[3]UNIT DATA'!P2 -> 6.36 | M18: ='[3]UNIT DATA'!Q2 -> 10.95 | N18: =(C18-L18-M18)/$B$4 -> 0.87330645 | O18: 189080 | P18: 410 | Q18: 410 | S18: COSTA SUR | T18: 5 | U18: 726.7 | V18: 700.67 | W18: 26.03 | X18: 0 | Y18: =X18/$T$4 -> 0 | Z18: 0 | AA18: =Z18/$T$4 -> 0 | AB18: 17.3 | AC18: =AB18/$T$4 -> 0.023252688 | AD18: 24.4 | AE18: 1.18 | AF18: =(U18-AD18-AE18)/$T$4 -> 0.94236559 | AG18: 199570 | AH18: 410 | AI18: 410 | AK18: COSTA SUR | AL18: 5 | AM18: 633.83 | AN18: 633.83 | AO18: 0 | AP18: 86.17 | AQ18: =AP18/$AL$4 -> 0.11968056 | AR18: 0 | AS18: =AR18/$AL$4 -> 0 | AT18: 0 | AU18: =AT18/$AL$4 -> 0 | AV18: 0 | AW18: 16.49 | AX18: =(AM18-AV18-AW18)/$AL$4 -> 0.85741667 | AY18: 189540 | AZ18: 410 | BA18: 410 | BC18: COSTA SUR | BD18: 5 | BI18: =BH18/$BD$4 -> #DIV/0! | BK18: =BJ18/$BD$4 -> #DIV/0! | BM18: =BL18/$BD$4 -> #DIV/0! | BP18: =(BE18-BO18)/$BD$4 -> #DIV/0! | BR18: 410 | BS18: 410 | BU18: COSTA SUR | BV18: 5 | CA18: =BZ18/$BV$4 -> #DIV/0! | CC18: =CB18/$BV$4 -> #DIV/0! | CE18: =CD18/$BV$4 -> #DIV/0! | CH18: =(BW18-CF18-CG18)/$BV$4 -> #DIV/0! | CJ18: 410 | CK18: 410 | CM18: COSTA SUR | CN18: 5 | CS18: =CR18/$CN$4 -> #DIV/0! | CU18: =CT18/$CN$4 -> #DIV/0! | CW18: =CV18/$CN$4 -> #DIV/0! | CZ18: =(CO18-CX18-CY18)/$CN$4 -> #DIV/0! | DB18: 410 | DC18: 410 | DE18: COSTA SUR | DF18: 5 | DK18: =DJ18/$DF$4 -> #DIV/0! | DM18: =DL18/$DF$4 -> #DIV/0! | DO18: =DN18/$DF$4 -> #DIV/0! | DR18: =(DG18-DP18-DQ18)/$DF$4 -> #DIV/0! | DT18: 410 | DU18: 410 | DW18: COSTA SUR | DX18: 5 | EC18: =EB18/$DX$4 -> #DIV/0! | EE18: =ED18/$DX$4 -> #DIV/0! | EG18: =EF18/$DX$4 -> #DIV/0! | EJ18: =(DY18-EH18-EI18)/$DX$4 -> #DIV/0! | EL18: 410 | EM18: 410 | EO18: COSTA SUR | EP18: 5 | EU18: =ET18/$EP$4 -> #DIV/0! | EW18: =EV18/$EP$4 -> #DIV/0! | EY18: =EX18/$EP$4 -> #DIV/0! | FB18: =(EQ18-EZ18-FA18)/$EP$4 -> #DIV/0! | FD18: 410 | FE18: 410 | FG18: COSTA SUR | FH18: 5 | FM18: =FL18/$FH$4 -> #DIV/0! | FO18: =FN18/$FH$4 -> #DIV/0! | FQ18: =FP18/$FH$4 -> #DIV/0! | FT18: =(FI18-FR18-FS18)/$FH$4 -> #DIV/0! | FV18: 410 | FW18: 410 | FY18: COSTA SUR | FZ18: 5 | GE18: =GD18/$FZ$4 -> #DIV/0! | GG18: =GF18/$FZ$4 -> #DIV/0! | GI18: =GH18/$FZ$4 -> #DIV/0! | GL18: =(GA18-GJ18-GK18)/$FZ$4 -> #DIV/0! | GN18: 410 | GO18: 410 | GQ18: COSTA SUR | GR18: 5 | GW18: =GV18/$GR$4 -> #DIV/0! | GY18: =GX18/$GR$4 -> #DIV/0! | HA18: =GZ18/$GR$4 -> #DIV/0! | HD18: =(GS18-HB18-HC18)/$GR$4 -> #DIV/0! | HF18: 410 | HG18: 410
B19: 6 | C19: 354.85 | D19: 354.85 | E19: 0 | F19: 389.15 | G19: =F19/$B$4 -> 0.52305108 | H19: 0 | I19: =H19/$B$4 -> 0 | J19: 0 | K19: =J19/$B$4 -> 0 | L19: ='[3]UNIT DATA'!P3 -> 0 | M19: ='[3]UNIT DATA'!Q3 -> 0 | N19: =(C19-L19-M19)/$B$4 -> 0.47694892 | O19: 95760 | P19: 410 | Q19: 292 | T19: 6 | U19: 634.05 | V19: 578.85 | W19: 55.2 | X19: 109.95 | Y19: =X19/$T$4 -> 0.14778226 | Z19: 0 | AA19: =Z19/$T$4 -> 0 | AB19: 0 | AC19: =AB19/$T$4 -> 0 | AD19: 0.65 | AE19: 17.57 | AF19: =(U19-AD19-AE19)/$T$4 -> 0.82772849 | AG19: 156290 | AH19: 410 | AI19: 292 | AL19: 6 | AM19: 665.34 | AN19: 665.34 | AO19: 0 | AP19: 54.66 | AQ19: =AP19/$AL$4 -> 0.075916667 | AR19: 0 | AS19: =AR19/$AL$4 -> 0 | AT19: 0 | AU19: =AT19/$AL$4 -> 0 | AV19: 0 | AW19: 22.57 | AX19: =(AM19-AV19-AW19)/$AL$4 -> 0.89273611 | AY19: 177900 | AZ19: 410 | BA19: 292 | BD19: 6 | BI19: =BH19/$BD$4 -> #DIV/0! | BK19: =BJ19/$BD$4 -> #DIV/0! | BM19: =BL19/$BD$4 -> #DIV/0! | BP19: =(BE19-BO19)/$BD$4 -> #DIV/0! | BR19: 410 | BS19: 292 | BV19: 6 | CA19: =BZ19/$BV$4 -> #DIV/0! | CC19: =CB19/$BV$4 -> #DIV/0! | CE19: =CD19/$BV$4 -> #DIV/0! | CH19: =(BW19-CF19-CG19)/$BV$4 -> #DIV/0! | CJ19: 410 | CK19: 292 | CN19: 6 | CS19: =CR19/$CN$4 -> #DIV/0! | CU19: =CT19/$CN$4 -> #DIV/0! | CW19: =CV19/$CN$4 -> #DIV/0! | CZ19: =(CO19-CX19-CY19)/$CN$4 -> #DIV/0! | DB19: 410 | DC19: 292 | DF19: 6 | DK19: =DJ19/$DF$4 -> #DIV/0! | DM19: =DL19/$DF$4 -> #DIV/0! | DO19: =DN19/$DF$4 -> #DIV/0! | DR19: =(DG19-DP19-DQ19)/$DF$4 -> #DIV/0! | DT19: 410 | DU19: 292 | DX19: 6 | EC19: =EB19/$DX$4 -> #DIV/0! | EE19: =ED19/$DX$4 -> #DIV/0! | EG19: =EF19/$DX$4 -> #DIV/0! | EJ19: =(DY19-EH19-EI19)/$DX$4 -> #DIV/0! | EL19: 410 | EM19: 292 | EP19: 6 | EU19: =ET19/$EP$4 -> #DIV/0! | EW19: =EV19/$EP$4 -> #DIV/0! | EY19: =EX19/$EP$4 -> #DIV/0! | FB19: =(EQ19-EZ19-FA19)/$EP$4 -> #DIV/0! | FD19: 410 | FE19: 292 | FH19: 6 | FM19: =FL19/$FH$4 -> #DIV/0! | FO19: =FN19/$FH$4 -> #DIV/0! | FQ19: =FP19/$FH$4 -> #DIV/0! | FT19: =(FI19-FR19-FS19)/$FH$4 -> #DIV/0! | FV19: 410 | FW19: 292 | FZ19: 6 | GE19: =GD19/$FZ$4 -> #DIV/0! | GG19: =GF19/$FZ$4 -> #DIV/0! | GI19: =GH19/$FZ$4 -> #DIV/0! | GL19: =(GA19-GJ19-GK19)/$FZ$4 -> #DIV/0! | GN19: 410 | GO19: 292 | GR19: 6 | GW19: =GV19/$GR$4 -> #DIV/0! | GY19: =GX19/$GR$4 -> #DIV/0! | HA19: =GZ19/$GR$4 -> #DIV/0! | HD19: =(GS19-HB19-HC19)/$GR$4 -> #DIV/0! | HF19: 410 | HG19: 292
B20: Total | C20: =SUM(C18:C19) -> 1021.9 | D20: =SUM(D18:D19) -> 1021.9 | E20: =SUM(E18:E19) -> 0 | F20: =SUM(F18:F19) -> 466.1 | G20: =(G18*Q18+G19*Q19)/Q20 -> 0.27797173 | H20: =SUM(H18:H19) -> 0 | I20: =(I18*Q18+I19*Q19)/Q20 -> 0 | J20: =SUM(J18:J19) -> 0 | K20: =(K18*Q18+K19*Q19)/Q20 -> 0 | L20: =SUM(L18:L19) -> 6.36 | M20: =SUM(M18:M19) -> 10.95 | N20: =(N18*Q18+N19*Q19)/Q20 -> 0.70843979 | O20: =SUM(O18:O19) -> 284840 | P20: =SUM(P18:P19) -> 820 | Q20: =SUM(Q18:Q19) -> 702 | T20: Total | U20: =SUM(U18:U19) -> 1360.75 | V20: =SUM(V18:V19) -> 1279.52 | W20: =SUM(W18:W19) -> 81.23 | X20: =SUM(X18:X19) -> 109.95 | Y20: =(Y18*$AI$18+Y19*$AI$19)/$AI$20 -> 0.061470683 | Z20: =SUM(Z18:Z19) -> 0 | AA20: =(AA18*$AI$18+AA19*$AI$19)/$AI$20 -> 0 | AB20: =SUM(AB18:AB19) -> 17.3 | AC20: =(AC18*$AI$18+AC19*$AI$19)/$AI$20 -> 0.01358063 | AD20: =SUM(AD18:AD19) -> 25.05 | AE20: =SUM(AE18:AE19) -> 18.75 | AF20: =(AF18*$AI$18+AF19*$AI$19)/$AI$20 -> 0.89468178 | AG20: =SUM(AG18:AG19) -> 355860 | AH20: =SUM(AH18:AH19) -> 820 | AI20: =SUM(AI18:AI19) -> 702 | AL20: Total | AM20: =SUM(AM18:AM19) -> 1299.17 | AN20: =SUM(AN18:AN19) -> 1299.17 | AO20: =SUM(AO18:AO19) -> 0 | AP20: =SUM(AP18:AP19) -> 140.83 | AQ20: =(AQ18*$BA18+AQ19*$BA19)/$BA20 -> 0.10147677 | AR20: =SUM(AR18:AR19) -> 0 | AS20: =(AS18*$BA18+AS19*$BA19)/$BA20 -> 0 | AT20: =SUM(AT18:AT19) -> 0 | AU20: =(AU18*$BA18+AU19*$BA19)/$BA20 -> 0 | AV20: =SUM(AV18:AV19) -> 0 | AW20: =SUM(AW18:AW19) -> 39.06 | AX20: =(AX18*$BA18+AX19*$BA19)/$BA20 -> 0.87210795 | AY20: =SUM(AY18:AY19) -> 367440 | AZ20: =SUM(AZ18:AZ19) -> 820 | BA20: =SUM(BA18:BA19) -> 702 | BD20: Total | BE20: =SUM(BE18:BE19) -> 0 | BF20: =SUM(BF18:BF19) -> 0 | BG20: =SUM(BG18:BG19) -> 0 | BH20: =SUM(BH18:BH19) -> 0 | BI20: =(BI18*$BS18+BI19*$BS19)/$BS20 -> #DIV/0! | BJ20: =SUM(BJ18:BJ19) -> 0 | BK20: =(BK18*$BS18+BK19*$BS19)/$BS20 -> #DIV/0! | BL20: =SUM(BL18:BL19) -> 0 | BM20: =(BM18*$BS18+BM19*$BS19)/$BS20 -> #DIV/0! | BN20: =SUM(BN18:BN19) -> 0 | BO20: =SUM(BO18:BO19) -> 0 | BP20: =(BP18*$BS18+BP19*$BS19)/$BS20 -> #DIV/0! | BQ20: =SUM(BQ18:BQ19) -> 0 | BR20: =SUM(BR18:BR19) -> 820 | BS20: =SUM(BS18:BS19) -> 702 | BV20: Total | BW20: =SUM(BW18:BW19) -> 0 | BX20: =SUM(BX18:BX19) -> 0 | BY20: =SUM(BY18:BY19) -> 0 | BZ20: =SUM(BZ18:BZ19) -> 0 | CA20: =(CA18*$CK18+CA19*$CK19)/$CK20 -> #DIV/0! | CB20: =SUM(CB18:CB19) -> 0 | CC20: =(CC18*$CK18+CC19*$CK19)/$CK20 -> #DIV/0! | CD20: =SUM(CD18:CD19) -> 0 | CE20: =(CE18*$CK18+CE19*$CK19)/$CK20 -> #DIV/0! | CF20: =SUM(CF18:CF19) -> 0 | CG20: =SUM(CG18:CG19) -> 0 | CH20: =(CH18*$CK18+CH19*$CK19)/$CK20 -> #DIV/0! | CI20: =SUM(CI18:CI19) -> 0 | CJ20: =SUM(CJ18:CJ19) -> 820 | CK20: =SUM(CK18:CK19) -> 702 | CN20: Total | CO20: =SUM(CO18:CO19) -> 0 | CP20: =SUM(CP18:CP19) -> 0 | CQ20: =SUM(CQ18:CQ19) -> 0 | CR20: =SUM(CR18:CR19) -> 0 | CS20: =(CS18*$DC18+CS19*$DC19)/$DC20 -> #DIV/0! | CT20: =SUM(CT18:CT19) -> 0 | CU20: =(CU18*$DC18+CU19*$DC19)/$DC20 -> #DIV/0! | CV20: =SUM(CV18:CV19) -> 0 | CW20: =(CW18*$DC18+CW19*$DC19)/$DC20 -> #DIV/0! | CX20: =SUM(CX18:CX19) -> 0 | CY20: =SUM(CY18:CY19) -> 0 | CZ20: =(CZ18*$DC18+CZ19*$DC19)/$DC20 -> #DIV/0! | DA20: =SUM(DA18:DA19) -> 0 | DB20: =SUM(DB18:DB19) -> 820 | DC20: =SUM(DC18:DC19) -> 702 | DF20: Total | DG20: =SUM(DG18:DG19) -> 0 | DH20: =SUM(DH18:DH19) -> 0 | DI20: =SUM(DI18:DI19) -> 0 | DJ20: =SUM(DJ18:DJ19) -> 0 | DK20: =(DK18*$DU18+DK19*$DU19)/$DU20 -> #DIV/0! | DL20: =SUM(DL18:DL19) -> 0 | DM20: =(DM18*$DU18+DM19*$DU19)/$DU20 -> #DIV/0! | DN20: =SUM(DN18:DN19) -> 0 | DO20: =(DO18*$DU18+DO19*$DU19)/$DU20 -> #DIV/0! | DP20: =SUM(DP18:DP19) -> 0 | DQ20: =SUM(DQ18:DQ19) -> 0 | DR20: =(DR18*$DU18+DR19*$DU19)/$DU20 -> #DIV/0! | DS20: =SUM(DS18:DS19) -> 0 | DT20: =SUM(DT18:DT19) -> 820 | DU20: =SUM(DU18:DU19) -> 702 | DX20: Total | DY20: =SUM(DY18:DY19) -> 0 | DZ20: =SUM(DZ18:DZ19) -> 0 | EA20: =SUM(EA18:EA19) -> 0 | EB20: =SUM(EB18:EB19) -> 0 | EC20: =(EC18*$EM18+EC19*$EM19)/$EM20 -> #DIV/0! | ED20: =SUM(ED18:ED19) -> 0 | EE20: =(EE18*$EM18+EE19*$EM19)/$EM20 -> #DIV/0! | EF20: =SUM(EF18:EF19) -> 0 | EG20: =(EG18*$EM18+EG19*$EM19)/$EM20 -> #DIV/0! | EH20: =SUM(EH18:EH19) -> 0 | EI20: =SUM(EI18:EI19) -> 0 | EJ20: =(EJ18*$EM18+EJ19*$EM19)/$EM20 -> #DIV/0! | EK20: =SUM(EK18:EK19) -> 0 | EL20: =SUM(EL18:EL19) -> 820 | EM20: =SUM(EM18:EM19) -> 702 | EP20: Total | EQ20: =SUM(EQ18:EQ19) -> 0 | ER20: =SUM(ER18:ER19) -> 0 | ES20: =SUM(ES18:ES19) -> 0 | ET20: =SUM(ET18:ET19) -> 0 | EU20: =(EU18*$FE18+EU19*$FE19)/$FE20 -> #DIV/0! | EV20: =SUM(EV18:EV19) -> 0 | EW20: =(EW18*$FE18+EW19*$FE19)/$FE20 -> #DIV/0! | EX20: =SUM(EX18:EX19) -> 0 | EY20: =(EY18*$FE18+EY19*$FE19)/$FE20 -> #DIV/0! | EZ20: =SUM(EZ18:EZ19) -> 0 | FA20: =SUM(FA18:FA19) -> 0 | FB20: =(FB18*$FE18+FB19*$FE19)/$FE20 -> #DIV/0! | FC20: =SUM(FC18:FC19) -> 0 | FD20: =SUM(FD18:FD19) -> 820 | FE20: =SUM(FE18:FE19) -> 702 | FH20: Total | FI20: =SUM(FI18:FI19) -> 0 | FJ20: =SUM(FJ18:FJ19) -> 0 | FK20: =SUM(FK18:FK19) -> 0 | FL20: =SUM(FL18:FL19) -> 0 | FM20: =(FM18*$FW18+FM19*$FW19)/$FW20 -> #DIV/0! | FN20: =SUM(FN18:FN19) -> 0 | FO20: =(FO18*$FW18+FO19*$FW19)/$FW20 -> #DIV/0! | FP20: =SUM(FP18:FP19) -> 0 | FQ20: =(FQ18*$FW18+FQ19*$FW19)/$FW20 -> #DIV/0! | FR20: =SUM(FR18:FR19) -> 0 | FS20: =SUM(FS18:FS19) -> 0 | FT20: =(FT18*$FW18+FT19*$FW19)/$FW20 -> #DIV/0! | FU20: =SUM(FU18:FU19) -> 0 | FV20: =SUM(FV18:FV19) -> 820 | FW20: =SUM(FW18:FW19) -> 702 | FZ20: Total | GA20: =SUM(GA18:GA19) -> 0 | GB20: =SUM(GB18:GB19) -> 0 | GC20: =SUM(GC18:GC19) -> 0 | GD20: =SUM(GD18:GD19) -> 0 | GE20: =(GE18*$GO18+GE19*$GO19)/$GO20 -> #DIV/0! | GF20: =SUM(GF18:GF19) -> 0 | GG20: =(GG18*$GO18+GG19*$GO19)/$GO20 -> #DIV/0! | GH20: =SUM(GH18:GH19) -> 0 | GI20: =(GI18*$GO18+GI19*$GO19)/$GO20 -> #DIV/0! | GJ20: =SUM(GJ18:GJ19) -> 0 | GK20: =SUM(GK18:GK19) -> 0 | GL20: =(GL18*$FW18+GL19*$FW19)/$FW20 -> #DIV/0! | GM20: =SUM(GM18:GM19) -> 0 | GN20: =SUM(GN18:GN19) -> 820 | GO20: =SUM(GO18:GO19) -> 702 | GR20: Total | GS20: =SUM(GS18:GS19) -> 0 | GT20: =SUM(GT18:GT19) -> 0 | GU20: =SUM(GU18:GU19) -> 0 | GV20: =SUM(GV18:GV19) -> 0 | GW20: =(GW18*$HG18+GW19*$HG19)/$HG20 -> #DIV/0! | GX20: =SUM(GX18:GX19) -> 0 | GY20: =(GY18*$HG18+GY19*$HG19)/$HG20 -> #DIV/0! | GZ20: =SUM(GZ18:GZ19) -> 0 | HA20: =(HA18*$HG18+HA19*$HG19)/$HG20 -> #DIV/0! | HB20: =SUM(HB18:HB19) -> 0 | HC20: =SUM(HC18:HC19) -> 0 | HD20: =(HD18*$HG18+HD19*$HG19)/$HG20 -> #DIV/0! | HE20: =SUM(HE18:HE19) -> 0 | HF20: =SUM(HF18:HF19) -> 820 | HG20: =SUM(HG18:HG19) -> 702
A21: AGUIRRE | B21: 1 | C21: 0 | D21: 0 | E21: 0 | F21: 744 | G21: =F21/$B$4 -> 1 | H21: 0 | I21: =H21/$B$4 -> 0 | J21: 0 | K21: =J21/$B$4 -> 0 | L21: ='[4]UNIT DATA'!P2 -> 0 | M21: ='[4]UNIT DATA'!Q2 -> 0 | N21: =(C21-L21-M21)/$B$4 -> 0 | O21: 0 | P21: 450 | Q21: 450 | S21: AGUIRRE | T21: 1 | U21: 0 | V21: 0 | W21: 0 | X21: 744 | Y21: =X21/$T$4 -> 1 | Z21: 0 | AA21: =Z21/$T$4 -> 0 | AB21: 0 | AC21: =AB21/$T$4 -> 0 | AD21: 0 | AE21: 0 | AF21: =(U21-AD21-AE21)/$T$4 -> 0 | AG21: 0 | AH21: 450 | AI21: 450 | AK21: AGUIRRE | AL21: 1 | AM21: 0 | AN21: 0 | AO21: 0 | AP21: 720 | AQ21: =AP21/$AL$4 -> 1 | AR21: 0 | AS21: =AR21/$AL$4 -> 0 | AT21: 0 | AU21: =AT21/$AL$4 -> 0 | AV21: 0 | AW21: 0 | AX21: =(AM21-AV21-AW21)/$AL$4 -> 0 | AY21: 0 | AZ21: 450 | BA21: 450 | BC21: AGUIRRE | BD21: 1 | BI21: =BH21/$BD$4 -> #DIV/0! | BK21: =BJ21/$BD$4 -> #DIV/0! | BM21: =BL21/$BD$4 -> #DIV/0! | BP21: =(BE21-BO21)/$BD$4 -> #DIV/0! | BR21: 450 | BS21: 450 | BU21: AGUIRRE | BV21: 1 | CA21: =BZ21/$BV$4 -> #DIV/0! | CC21: =CB21/$BV$4 -> #DIV/0! | CE21: =CD21/$BV$4 -> #DIV/0! | CH21: =(BW21-CF21-CG21)/$BV$4 -> #DIV/0! | CJ21: 450 | CK21: 450 | CM21: AGUIRRE | CN21: 1 | CS21: =CR21/$CN$4 -> #DIV/0! | CU21: =CT21/$CN$4 -> #DIV/0! | CW21: =CV21/$CN$4 -> #DIV/0! | CZ21: =(CO21-CX21-CY21)/$CN$4 -> #DIV/0! | DB21: 450 | DC21: 450 | DE21: AGUIRRE | DF21: 1 | DK21: =DJ21/$DF$4 -> #DIV/0! | DM21: =DL21/$DF$4 -> #DIV/0! | DO21: =DN21/$DF$4 -> #DIV/0! | DR21: =(DG21-DP21-DQ21)/$DF$4 -> #DIV/0! | DT21: 450 | DU21: 450 | DW21: AGUIRRE | DX21: 1 | EC21: =EB21/$DX$4 -> #DIV/0! | EE21: =ED21/$DX$4 -> #DIV/0! | EG21: =EF21/$DX$4 -> #DIV/0! | EJ21: =(DY21-EH21-EI21)/$DX$4 -> #DIV/0! | EL21: 450 | EM21: 450 | EO21: AGUIRRE | EP21: 1 | EU21: =ET21/$EP$4 -> #DIV/0! | EW21: =EV21/$EP$4 -> #DIV/0! | EY21: =EX21/$EP$4 -> #DIV/0! | FB21: =(EQ21-EZ21-FA21)/$EP$4 -> #DIV/0! | FD21: 450 | FE21: 450 | FG21: AGUIRRE | FH21: 1 | FM21: =FL21/$FH$4 -> #DIV/0! | FO21: =FN21/$FH$4 -> #DIV/0! | FQ21: =FP21/$FH$4 -> #DIV/0! | FT21: =(FI21-FR21-FS21)/$FH$4 -> #DIV/0! | FV21: 450 | FW21: 450 | FY21: AGUIRRE | FZ21: 1 | GE21: =GD21/$FZ$4 -> #DIV/0! | GG21: =GF21/$FZ$4 -> #DIV/0! | GI21: =GH21/$FZ$4 -> #DIV/0! | GL21: =(GA21-GJ21-GK21)/$FZ$4 -> #DIV/0! | GN21: 450 | GO21: 450 | GQ21: AGUIRRE | GR21: 1 | GW21: =GV21/$GR$4 -> #DIV/0! | GY21: =GX21/$GR$4 -> #DIV/0! | HA21: =GZ21/$GR$4 -> #DIV/0! | HD21: =(GS21-HB21-HC21)/$GR$4 -> #DIV/0! | HF21: 450 | HG21: 450
B22: 2 | C22: 656.85 | D22: 656.85 | E22: 0 | F22: 11.08 | G22: =F22/$B$4 -> 0.014892473 | H22: 0 | I22: =H22/$B$4 -> 0 | J22: 76.07 | K22: =J22/$B$4 -> 0.10224462 | L22: ='[4]UNIT DATA'!P3 -> 0 | M22: ='[4]UNIT DATA'!Q3 -> 160.4 | N22: =(C22-L22-M22)/$B$4 -> 0.66727151 | O22: 147810 | P22: 450 | Q22: 350 | T22: 2 | U22: 742.68 | V22: 742.68 | W22: 0 | X22: 1.32 | Y22: =X22/$T$4 -> 0.0017741935 | Z22: 0 | AA22: =Z22/$T$4 -> 0 | AB22: 0 | AC22: =AB22/$T$4 -> 0 | AD22: 0 | AE22: 165.11 | AF22: =(U22-AD22-AE22)/$T$4 -> 0.77630376 | AG22: 173960 | AH22: 450 | AI22: 350 | AL22: 2 | AM22: 593.67 | AN22: 593.67 | AO22: 0 | AP22: 126.33 | AQ22: =AP22/$AL$4 -> 0.17545833 | AR22: 0 | AS22: =AR22/$AL$4 -> 0 | AT22: 0 | AU22: =AT22/$AL$4 -> 0 | AV22: 0 | AW22: 137.71 | AX22: =(AM22-AV22-AW22)/$AL$4 -> 0.63327778 | AY22: 135975 | AZ22: 450 | BA22: 350 | BD22: 2 | BI22: =BH22/$BD$4 -> #DIV/0! | BK22: =BJ22/$BD$4 -> #DIV/0! | BM22: =BL22/$BD$4 -> #DIV/0! | BP22: =(BE22-BO22)/$BD$4 -> #DIV/0! | BR22: 450 | BS22: 350 | BV22: 2 | CA22: =BZ22/$BV$4 -> #DIV/0! | CC22: =CB22/$BV$4 -> #DIV/0! | CE22: =CD22/$BV$4 -> #DIV/0! | CH22: =(BW22-CF22-CG22)/$BV$4 -> #DIV/0! | CJ22: 450 | CK22: 350 | CN22: 2 | CS22: =CR22/$CN$4 -> #DIV/0! | CU22: =CT22/$CN$4 -> #DIV/0! | CW22: =CV22/$CN$4 -> #DIV/0! | CZ22: =(CO22-CX22-CY22)/$CN$4 -> #DIV/0! | DB22: 450 | DC22: 350 | DF22: 2 | DK22: =DJ22/$DF$4 -> #DIV/0! | DM22: =DL22/$DF$4 -> #DIV/0! | DO22: =DN22/$DF$4 -> #DIV/0! | DR22: =(DG22-DP22-DQ22)/$DF$4 -> #DIV/0! | DT22: 450 | DU22: 350 | DX22: 2 | EC22: =EB22/$DX$4 -> #DIV/0! | EE22: =ED22/$DX$4 -> #DIV/0! | EG22: =EF22/$DX$4 -> #DIV/0! | EJ22: =(DY22-EH22-EI22)/$DX$4 -> #DIV/0! | EL22: 450 | EM22: 350 | EP22: 2 | EU22: =ET22/$EP$4 -> #DIV/0! | EW22: =EV22/$EP$4 -> #DIV/0! | EY22: =EX22/$EP$4 -> #DIV/0! | FB22: =(EQ22-EZ22-FA22)/$EP$4 -> #DIV/0! | FD22: 450 | FE22: 350 | FH22: 2 | FM22: =FL22/$FH$4 -> #DIV/0! | FO22: =FN22/$FH$4 -> #DIV/0! | FQ22: =FP22/$FH$4 -> #DIV/0! | FT22: =(FI22-FR22-FS22)/$FH$4 -> #DIV/0! | FV22: 450 | FW22: 350 | FZ22: 2 | GE22: =GD22/$FZ$4 -> #DIV/0! | GG22: =GF22/$FZ$4 -> #DIV/0! | GI22: =GH22/$FZ$4 -> #DIV/0! | GL22: =(GA22-GJ22-GK22)/$FZ$4 -> #DIV/0! | GN22: 450 | GO22: 350 | GR22: 2 | GW22: =GV22/$GR$4 -> #DIV/0! | GY22: =GX22/$GR$4 -> #DIV/0! | HA22: =GZ22/$GR$4 -> #DIV/0! | HD22: =(GS22-HB22-HC22)/$GR$4 -> #DIV/0! | HF22: 450 | HG22: 350
B23: Total | C23: =SUM(C21:C22) -> 656.85 | D23: =SUM(D21:D22) -> 656.85 | E23: =SUM(E21:E22) -> 0 | F23: =SUM(F21:F22) -> 755.08 | G23: =(G21*Q21+G22*Q22)/Q23 -> 0.56901546 | H23: =SUM(H21:H22) -> 0 | I23: =(I21*Q21+I22*Q22)/Q23 -> 0 | J23: =SUM(J21:J22) -> 76.07 | K23: =(K21*Q21+K22*Q22)/Q23 -> 0.044732023 | L23: =SUM(L21:L22) -> 0 | M23: =SUM(M21:M22) -> 160.4 | N23: =(N21*Q21+N22*Q22)/Q23 -> 0.29193128 | O23: =SUM(O21:O22) -> 147810 | P23: =SUM(P21:P22) -> 900 | Q23: =SUM(Q21:Q22) -> 800 | T23: Total | U23: =SUM(U21:U22) -> 742.68 | V23: =SUM(V21:V22) -> 742.68 | W23: =SUM(W21:W22) -> 0 | X23: =SUM(X21:X22) -> 745.32 | Y23: =(Y21*$AI$21+Y22*$AI$22)/$AI$23 -> 0.56327621 | Z23: =SUM(Z21:Z22) -> 0 | AA23: =(AA21*$AI$21+AA22*$AI$22)/$AI$23 -> 0 | AB23: =SUM(AB21:AB22) -> 0 | AC23: =(AC21*$AI$21+AC22*$AI$22)/$AI$23 -> 0 | AD23: =SUM(AD21:AD22) -> 0 | AE23: =SUM(AE21:AE22) -> 165.11 | AF23: =(AF21*$AI$21+AF22*$AI$22)/$AI$23 -> 0.3396329 | AG23: =SUM(AG21:AG22) -> 173960 | AH23: =SUM(AH21:AH22) -> 900 | AI23: =SUM(AI21:AI22) -> 800 | AL23: Total | AM23: =SUM(AM21:AM22) -> 593.67 | AN23: =SUM(AN21:AN22) -> 593.67 | AO23: =SUM(AO21:AO22) -> 0 | AP23: =SUM(AP21:AP22) -> 846.33 | AQ23: =(AQ21*$BA21+AQ22*$BA22)/$BA23 -> 0.63926302 | AR23: =SUM(AR21:AR22) -> 0 | AS23: =(AS21*$BA$21+AS22*$BA$22)/$BA$23 -> 0 | AT23: =SUM(AT21:AT22) -> 0 | AU23: =(AU21*$BA$21+AU22*$BA$22)/$BA$23 -> 0 | AV23: =SUM(AV21:AV22) -> 0 | AW23: =SUM(AW21:AW22) -> 137.71 | AX23: =(AX21*$BA21+AX22*$BA22)/$BA23 -> 0.27705903 | AY23: =SUM(AY21:AY22) -> 135975 | AZ23: =SUM(AZ21:AZ22) -> 900 | BA23: =SUM(BA21:BA22) -> 800 | BD23: Total | BE23: =SUM(BE21:BE22) -> 0 | BF23: =SUM(BF21:BF22) -> 0 | BG23: =SUM(BG21:BG22) -> 0 | BH23: =SUM(BH21:BH22) -> 0 | BI23: =(BI21*$BS21+BI22*$BS22)/$BS23 -> #DIV/0! | BJ23: =SUM(BJ21:BJ22) -> 0 | BK23: =(BK21*$BS21+BK22*$BS22)/$BS23 -> #DIV/0! | BL23: =SUM(BL21:BL22) -> 0 | BM23: =(BM21*$BS21+BM22*$BS22)/$BS23 -> #DIV/0! | BN23: =SUM(BN21:BN22) -> 0 | BO23: =SUM(BO21:BO22) -> 0 | BP23: =(BP21*$BS21+BP22*$BS22)/$BS23 -> #DIV/0! | BQ23: =SUM(BQ21:BQ22) -> 0 | BR23: =SUM(BR21:BR22) -> 900 | BS23: =SUM(BS21:BS22) -> 800 | BV23: Total | BW23: =SUM(BW21:BW22) -> 0 | BX23: =SUM(BX21:BX22) -> 0 | BY23: =SUM(BY21:BY22) -> 0 | BZ23: =SUM(BZ21:BZ22) -> 0 | CA23: =(CA21*$CK21+CA22*$CK22)/$CK23 -> #DIV/0! | CB23: =SUM(CB21:CB22) -> 0 | CC23: =(CC21*$CK21+CC22*$CK22)/$CK23 -> #DIV/0! | CD23: =SUM(CD21:CD22) -> 0 | CE23: =(CE21*$CK21+CE22*$CK22)/$CK23 -> #DIV/0! | CF23: =SUM(CF21:CF22) -> 0 | CG23: =SUM(CG21:CG22) -> 0 | CH23: =(CH21*$CK21+CH22*$CK22)/$CK23 -> #DIV/0! | CI23: =SUM(CI21:CI22) -> 0 | CJ23: =SUM(CJ21:CJ22) -> 900 | CK23: =SUM(CK21:CK22) -> 800 | CN23: Total | CO23: =SUM(CO21:CO22) -> 0 | CP23: =SUM(CP21:CP22) -> 0 | CQ23: =SUM(CQ21:CQ22) -> 0 | CR23: =SUM(CR21:CR22) -> 0 | CS23: =(CS21*$DC21+CS22*$DC22)/$DC23 -> #DIV/0! | CT23: =SUM(CT21:CT22) -> 0 | CU23: =(CU21*$DC21+CU22*$DC22)/$DC23 -> #DIV/0! | CV23: =SUM(CV21:CV22) -> 0 | CW23: =(CW21*$DC21+CW22*$DC22)/$DC23 -> #DIV/0! | CX23: =SUM(CX21:CX22) -> 0 | CY23: =SUM(CY21:CY22) -> 0 | CZ23: =(CZ21*$DC21+CZ22*$DC22)/$DC23 -> #DIV/0! | DA23: =SUM(DA21:DA22) -> 0 | DB23: =SUM(DB21:DB22) -> 900 | DC23: =SUM(DC21:DC22) -> 800 | DF23: Total | DG23: =SUM(DG21:DG22) -> 0 | DH23: =SUM(DH21:DH22) -> 0 | DI23: =SUM(DI21:DI22) -> 0 | DJ23: =SUM(DJ21:DJ22) -> 0 | DK23: =(DK21*$DU21+DK22*$DU22)/$DU23 -> #DIV/0! | DL23: =SUM(DL21:DL22) -> 0 | DM23: =(DM21*$DU21+DM22*$DU22)/$DU23 -> #DIV/0! | DN23: =SUM(DN21:DN22) -> 0 | DO23: =(DO21*$DU21+DO22*$DU22)/$DU23 -> #DIV/0! | DP23: =SUM(DP21:DP22) -> 0 | DQ23: =SUM(DQ21:DQ22) -> 0 | DR23: =(DR21*$DU21+DR22*$DU22)/$DU23 -> #DIV/0! | DS23: =SUM(DS21:DS22) -> 0 | DT23: =SUM(DT21:DT22) -> 900 | DU23: =SUM(DU21:DU22) -> 800 | DX23: Total | DY23: =SUM(DY21:DY22) -> 0 | DZ23: =SUM(DZ21:DZ22) -> 0 | EA23: =SUM(EA21:EA22) -> 0 | EB23: =SUM(EB21:EB22) -> 0 | EC23: =(EC21*$EM21+EC22*$EM22)/$EM23 -> #DIV/0! | ED23: =SUM(ED21:ED22) -> 0 | EE23: =(EE21*$EM21+EE22*$EM22)/$EM23 -> #DIV/0! | EF23: =SUM(EF21:EF22) -> 0 | EG23: =(EG21*$EM21+EG22*$EM22)/$EM23 -> #DIV/0! | EH23: =SUM(EH21:EH22) -> 0 | EI23: =SUM(EI21:EI22) -> 0 | EJ23: =(EJ21*$EM21+EJ22*$EM22)/$EM23 -> #DIV/0! | EK23: =SUM(EK21:EK22) -> 0 | EL23: =SUM(EL21:EL22) -> 900 | EM23: =SUM(EM21:EM22) -> 800 | EP23: Total | EQ23: =SUM(EQ21:EQ22) -> 0 | ER23: =SUM(ER21:ER22) -> 0 | ES23: =SUM(ES21:ES22) -> 0 | ET23: =SUM(ET21:ET22) -> 0 | EU23: =(EU21*$FE21+EU22*$FE22)/$FE23 -> #DIV/0! | EV23: =SUM(EV21:EV22) -> 0 | EW23: =(EW21*$FE21+EW22*$FE22)/$FE23 -> #DIV/0! | EX23: =SUM(EX21:EX22) -> 0 | EY23: =(EY21*$FE21+EY22*$FE22)/$FE23 -> #DIV/0! | EZ23: =SUM(EZ21:EZ22) -> 0 | FA23: =SUM(FA21:FA22) -> 0 | FB23: =(FB21*$FE21+FB22*$FE22)/$FE23 -> #DIV/0! | FC23: =SUM(FC21:FC22) -> 0 | FD23: =SUM(FD21:FD22) -> 900 | FE23: =SUM(FE21:FE22) -> 800 | FH23: Total | FI23: =SUM(FI21:FI22) -> 0 | FJ23: =SUM(FJ21:FJ22) -> 0 | FK23: =SUM(FK21:FK22) -> 0 | FL23: =SUM(FL21:FL22) -> 0 | FM23: =(FM21*$FW21+FM22*$FW22)/$FW23 -> #DIV/0! | FN23: =SUM(FN21:FN22) -> 0 | FO23: =(FO21*$FW21+FO22*$FW22)/$FW23 -> #DIV/0! | FP23: =SUM(FP21:FP22) -> 0 | FQ23: =(FQ21*$FW21+FQ22*$FW22)/$FW23 -> #DIV/0! | FR23: =SUM(FR21:FR22) -> 0 | FS23: =SUM(FS21:FS22) -> 0 | FT23: =(FT21*$FW21+FT22*$FW22)/$FW23 -> #DIV/0! | FU23: =SUM(FU21:FU22) -> 0 | FV23: =SUM(FV21:FV22) -> 900 | FW23: =SUM(FW21:FW22) -> 800 | FZ23: Total | GA23: =SUM(GA21:GA22) -> 0 | GB23: =SUM(GB21:GB22) -> 0 | GC23: =SUM(GC21:GC22) -> 0 | GD23: =SUM(GD21:GD22) -> 0 | GE23: =(GE21*$GO21+GE22*$GO22)/$GO23 -> #DIV/0! | GF23: =SUM(GF21:GF22) -> 0 | GG23: =(GG21*$GO21+GG22*$GO22)/$GO23 -> #DIV/0! | GH23: =SUM(GH21:GH22) -> 0 | GI23: =(GI21*$GO21+GI22*$GO22)/$GO23 -> #DIV/0! | GJ23: =SUM(GJ21:GJ22) -> 0 | GK23: =SUM(GK21:GK22) -> 0 | GL23: =(GL21*$FW21+GL22*$FW22)/$FW23 -> #DIV/0! | GM23: =SUM(GM21:GM22) -> 0 | GN23: =SUM(GN21:GN22) -> 900 | GO23: =SUM(GO21:GO22) -> 800 | GR23: Total | GS23: =SUM(GS21:GS22) -> 0 | GT23: =SUM(GT21:GT22) -> 0 | GU23: =SUM(GU21:GU22) -> 0 | GV23: =SUM(GV21:GV22) -> 0 | GW23: =(GW21*$HG21+GW22*$HG22)/$HG23 -> #DIV/0! | GX23: =SUM(GX21:GX22) -> 0 | GY23: =(GY21*$HG21+GY22*$HG22)/$HG23 -> #DIV/0! | GZ23: =SUM(GZ21:GZ22) -> 0 | HA23: =(HA21*$HG21+HA22*$HG22)/$HG23 -> #DIV/0! | HB23: =SUM(HB21:HB22) -> 0 | HC23: =SUM(HC21:HC22) -> 0 | HD23: =(HD21*$HG21+HD22*$HG22)/$HG23 -> #DIV/0! | HE23: =SUM(HE21:HE22) -> 0 | HF23: =SUM(HF21:HF22) -> 900 | HG23: =SUM(HG21:HG22) -> 800
B24: Total Baseloads | C24: =SUM(C23,C20,C17,C14) -> 5386.28 | D24: =SUM(D23,D20,D17,D14) -> 5386.28 | E24: =SUM(E23,E20,E17,E14) -> 0 | F24: =SUM(F23,F20,F17,F14) -> 1916.05 | G24: =(G14*$Q$14+G17*$Q$17+G20*$Q$20+G23*$Q$23)/$Q$24 -> 0.31798734 | H24: =SUM(H23,H20,H17,H14) -> 1505.62 | I24: =(I14*$Q$14+I17*$Q$17+I20*$Q$20+I23*$Q$23)/$Q$24 -> 0.058848006 | J24: =SUM(J23,J20,J17,J14) -> 120.05 | K24: =(K14*$Q$14+K17*$Q$17+K20*$Q$20+K23*$Q$23)/$Q$24 -> 0.017277201 | L24: =SUM(L23,L20,L17,L14) -> 6.36 | M24: =SUM(M23,M20,M17,M14) -> 323.67 | N24: =(N14*$Q$14+N17*$Q$17+N20*$Q$20+N23*$Q$23)/$Q$24 -> 0.55932456 | O24: =SUM(O23,O20,O17,O14) -> 875086 | P24: =SUM(P23,P20,P17,P14) -> 2792 | Q24: =SUM(Q23,Q20,Q17,Q14) -> 2407 | T24: Total Baseloads | U24: =SUM(U23,U20,U17,U14) -> 5956.25 | V24: =SUM(V23,V20,V17,V14) -> 5826.49 | W24: =SUM(W23,W20,W17,W14) -> 129.76 | X24: =SUM(X23,X20,X17,X14) -> 1461.25 | Y24: =(Y14*$AI$14+Y17*$AI$17+Y20*$AI$20+Y23*$AI$23)/$AI$24 -> 0.2413561 | Z24: =SUM(Z23,Z20,Z17,Z14) -> 1488 | AA24: =(AA14*$AI$14+AA17*$AI$17+AA20*$AI$20+AA23*$AI$23)/$AI$24 -> 0.057332779 | AB24: =SUM(AB23,AB20,AB17,AB14) -> 22.5 | AC24: =(AC14*$AI$14+AC17*$AI$17+AC20*$AI$20+AC23*$AI$23)/$AI$24 -> 0.0044079544 | AD24: =SUM(AD23,AD20,AD17,AD14) -> 42.55 | AE24: =SUM(AE23,AE20,AE17,AE14) -> 686.18 | AF24: =(AF14*$AI$14+AF17*$AI$17+AF20*$AI$20+AF23*$AI$23)/$AI$24 -> 0.61426281 | AG24: =SUM(AG23,AG20,AG17,AG14) -> 952767 | AH24: =SUM(AH23,AH20,AH17,AH14) -> 2792 | AI24: =SUM(AI23,AI20,AI17,AI14) -> 2407 | AL24: Total Baseloads | AM24: =SUM(AM23,AM20,AM17,AM14) -> 5047.94 | AN24: =SUM(AN23,AN20,AN17,AN14) -> 5005.41 | AO24: =SUM(AO23,AO20,AO17,AO14) -> 42.53 | AP24: =SUM(AP23,AP20,AP17,AP14) -> 1979.06 | AQ24: =(AQ14*$BA14+AQ17*$BA17+AQ20*$BA20+AQ23*$BA23)/$BA24 -> 0.30713506 | AR24: =SUM(AR23,AR20,AR17,AR14) -> 1440 | AS24: =(AS14*$BA14+AS17*$BA17+AS20*$BA20+AS23*$BA23)/$BA24 -> 0.057332779 | AT24: =SUM(AT23,AT20,AT17,AT14) -> 173 | AU24: =(AU14*$BA14+AU17*$BA17+AU20*$BA20+AU23*$BA23)/$BA24 -> 0.014807408 | AV24: =SUM(AV23,AV20,AV17,AV14) -> 0 | AW24: =SUM(AW23,AW20,AW17,AW14) -> 504.43 | AX24: =(AX14*$BA14+AX17*$BA17+AX20*$BA20+AX23*$BA23)/$BA24 -> 0.55658132 | AY24: =SUM(AY23,AY20,AY17,AY14) -> 877827 | AZ24: =SUM(AZ23,AZ20,AZ17,AZ14) -> 2792 | BA24: =SUM(BA23,BA20,BA17,BA14) -> 2407 | BD24: Total Baseloads | BE24: =SUM(BE23,BE20,BE17,BE14) -> 0 | BF24: =SUM(BF23,BF20,BF17,BF14) -> 0 | BG24: =SUM(BG23,BG20,BG17,BG14) -> 0 | BH24: =SUM(BH23,BH20,BH17,BH14) -> 0 | BI24: =(BI14*$BS14+BI17*$BS17+BI20*$BS20+BI23*$BS23)/$BS24 -> #DIV/0! | BJ24: =SUM(BJ23,BJ20,BJ17,BJ14) -> 0 | BK24: =(BK14*$BS14+BK17*$BS17+BK20*$BS20+BK23*$BS23)/$BS24 -> #DIV/0! | BL24: =SUM(BL23,BL20,BL17,BL14) -> 0 | BM24: =(BM14*$BS14+BM17*$BS17+BM20*$BS20+BM23*$BS23)/$BS24 -> #DIV/0! | BN24: =SUM(BN23,BN20,BN17,BN14) -> 0 | BO24: =SUM(BO23,BO20,BO17,BO14) -> 0 | BP24: =(BP14*$BS14+BP17*$BS17+BP20*$BS20+BP23*$BS23)/$BS24 -> #DIV/0! | BQ24: =SUM(BQ23,BQ20,BQ17,BQ14) -> 0 | BR24: =SUM(BR23,BR20,BR17,BR14) -> 2792 | BS24: =SUM(BS23,BS20,BS17,BS14) -> 2407 | BV24: Total Baseloads | BW24: =SUM(BW23,BW20,BW17,BW14) -> 0 | BX24: =SUM(BX23,BX20,BX17,BX14) -> 0 | BY24: =SUM(BY23,BY20,BY17,BY14) -> 0 | BZ24: =SUM(BZ23,BZ20,BZ17,BZ14) -> 0 | CA24: =(CA14*$CK14+CA17*$CK17+CA20*$CK20+CA23*$CK23)/$CK24 -> #DIV/0! | CB24: =SUM(CB23,CB20,CB17,CB14) -> 0 | CC24: =(CC14*$CK14+CC17*$CK17+CC20*$CK20+CC23*$CK23)/$CK24 -> #DIV/0! | CD24: =SUM(CD23,CD20,CD17,CD14) -> 0 | CE24: =(CE14*$CK14+CE17*$CK17+CE20*$CK20+CE23*$CK23)/$CK24 -> #DIV/0! | CF24: =SUM(CF23,CF20,CF17,CF14) -> 0 | CG24: =SUM(CG23,CG20,CG17,CG14) -> 0 | CH24: =(CH14*$CK14+CH17*$CK17+CH20*$CK20+CH23*$CK23)/$CK24 -> #DIV/0! | CI24: =SUM(CI23,CI20,CI17,CI14) -> 0 | CJ24: =SUM(CJ23,CJ20,CJ17,CJ14) -> 2792 | CK24: =SUM(CK23,CK20,CK17,CK14) -> 2407 | CN24: Total Baseloads | CO24: =SUM(CO23,CO20,CO17,CO14) -> 0 | CP24: =SUM(CP23,CP20,CP17,CP14) -> 0 | CQ24: =SUM(CQ23,CQ20,CQ17,CQ14) -> 0 | CR24: =SUM(CR23,CR20,CR17,CR14) -> 0 | CS24: =(CS14*$DC14+CS17*$DC17+CS20*$DC20+CS23*$DC23)/$DC24 -> #DIV/0! | CT24: =SUM(CT23,CT20,CT17,CT14) -> 0 | CU24: =(CU14*$DC14+CU17*$DC17+CU20*$DC20+CU23*$DC23)/$DC24 -> #DIV/0! | CV24: =SUM(CV23,CV20,CV17,CV14) -> 0 | CW24: =(CW14*$DC14+CW17*$DC17+CW20*$DC20+CW23*$DC23)/$DC24 -> #DIV/0! | CX24: =SUM(CX23,CX20,CX17,CX14) -> 0 | CY24: =SUM(CY23,CY20,CY17,CY14) -> 0 | CZ24: =(CZ14*$DC14+CZ17*$DC17+CZ20*$DC20+CZ23*$DC23)/$DC24 -> #DIV/0! | DA24: =SUM(DA23,DA20,DA17,DA14) -> 0 | DB24: =SUM(DB23,DB20,DB17,DB14) -> 2792 | DC24: =SUM(DC23,DC20,DC17,DC14) -> 2407 | DF24: Total Baseloads | DG24: =SUM(DG23,DG20,DG17,DG14) -> 0 | DH24: =SUM(DH23,DH20,DH17,DH14) -> 0 | DI24: =SUM(DI23,DI20,DI17,DI14) -> 0 | DJ24: =SUM(DJ23,DJ20,DJ17,DJ14) -> 0 | DK24: =(DK14*$DU14+DK17*$DU17+DK20*$DU20+DK23*$DU23)/$DU24 -> #DIV/0! | DL24: =SUM(DL23,DL20,DL17,DL14) -> 0 | DM24: =(DM14*$DU14+DM17*$DU17+DM20*$DU20+DM23*$DU23)/$DU24 -> #DIV/0! | DN24: =SUM(DN23,DN20,DN17,DN14) -> 0 | DO24: =(DO14*$DU14+DO17*$DU17+DO20*$DU20+DO23*$DU23)/$DU24 -> #DIV/0! | DP24: =SUM(DP23,DP20,DP17,DP14) -> 0 | DQ24: =SUM(DQ23,DQ20,DQ17,DQ14) -> 0 | DR24: =(DR14*$DU14+DR17*$DU17+DR20*$DU20+DR23*$DU23)/$DU24 -> #DIV/0! | DS24: =SUM(DS23,DS20,DS17,DS14) -> 0 | DT24: =SUM(DT23,DT20,DT17,DT14) -> 2792 | DU24: =SUM(DU23,DU20,DU17,DU14) -> 2407 | DX24: Total Baseloads | DY24: =SUM(DY23,DY20,DY17,DY14) -> 0 | DZ24: =SUM(DZ23,DZ20,DZ17,DZ14) -> 0 | EA24: =SUM(EA23,EA20,EA17,EA14) -> 0 | EB24: =SUM(EB23,EB20,EB17,EB14) -> 0 | EC24: =(EC14*$EM14+EC17*$EM17+EC20*$EM20+EC23*$EM23)/$EM24 -> #DIV/0! | ED24: =SUM(ED23,ED20,ED17,ED14) -> 0 | EE24: =(EE14*$EM14+EE17*$EM17+EE20*$EM20+EE23*$EM23)/$EM24 -> #DIV/0! | EF24: =SUM(EF23,EF20,EF17,EF14) -> 0 | EG24: =(EG14*$EM14+EG17*$EM17+EG20*$EM20+EG23*$EM23)/$EM24 -> #DIV/0! | EH24: =SUM(EH23,EH20,EH17,EH14) -> 0 | EI24: =SUM(EI23,EI20,EI17,EI14) -> 0 | EJ24: =(EJ14*$EM14+EJ17*$EM17+EJ20*$EM20+EJ23*$EM23)/$EM24 -> #DIV/0! | EK24: =SUM(EK23,EK20,EK17,EK14) -> 0 | EL24: =SUM(EL23,EL20,EL17,EL14) -> 2792 | EM24: =SUM(EM23,EM20,EM17,EM14) -> 2407 | EP24: Total Baseloads | EQ24: =SUM(EQ23,EQ20,EQ17,EQ14) -> 0 | ER24: =SUM(ER23,ER20,ER17,ER14) -> 0 | ES24: =SUM(ES23,ES20,ES17,ES14) -> 0 | ET24: =SUM(ET23,ET20,ET17,ET14) -> 0 | EU24: =(EU14*$FE14+EU17*$FE17+EU20*$FE20+EU23*$FE23)/$FE24 -> #DIV/0! | EV24: =SUM(EV23,EV20,EV17,EV14) -> 0 | EW24: =(EW14*$FE14+EW17*$FE17+EW20*$FE20+EW23*$FE23)/$FE24 -> #DIV/0! | EX24: =SUM(EX23,EX20,EX17,EX14) -> 0 | EY24: =(EY14*$FE14+EY17*$FE17+EY20*$FE20+EY23*$FE23)/$FE24 -> #DIV/0! | EZ24: =SUM(EZ23,EZ20,EZ17,EZ14) -> 0 | FA24: =SUM(FA23,FA20,FA17,FA14) -> 0 | FB24: =(FB14*$FE14+FB17*$FE17+FB20*$FE20+FB23*$FE23)/$FE24 -> #DIV/0! | FC24: =SUM(FC23,FC20,FC17,FC14) -> 0 | FD24: =SUM(FD23,FD20,FD17,FD14) -> 2792 | FE24: =SUM(FE23,FE20,FE17,FE14) -> 2407 | FH24: Total Baseloads | FI24: =SUM(FI23,FI20,FI17,FI14) -> 0 | FJ24: =SUM(FJ23,FJ20,FJ17,FJ14) -> 0 | FK24: =SUM(FK23,FK20,FK17,FK14) -> 0 | FL24: =SUM(FL23,FL20,FL17,FL14) -> 0 | FM24: =(FM14*$FW14+FM17*$FW17+FM20*$FW20+FM23*$FW23)/$FW24 -> #DIV/0! | FN24: =SUM(FN23,FN20,FN17,FN14) -> 0 | FO24: =(FO14*$FW14+FO17*$FW17+FO20*$FW20+FO23*$FW23)/$FW24 -> #DIV/0! | FP24: =SUM(FP23,FP20,FP17,FP14) -> 0 | FQ24: =(FQ14*$FW14+FQ17*$FW17+FQ20*$FW20+FQ23*$FW23)/$FW24 -> #DIV/0! | FR24: =SUM(FR23,FR20,FR17,FR14) -> 0 | FS24: =SUM(FS23,FS20,FS17,FS14) -> 0 | FT24: =(FT14*$FW14+FT17*$FW17+FT20*$FW20+FT23*$FW23)/$FW24 -> #DIV/0! | FU24: =SUM(FU23,FU20,FU17,FU14) -> 0 | FV24: =SUM(FV23,FV20,FV17,FV14) -> 2792 | FW24: =SUM(FW23,FW20,FW17,FW14) -> 2407 | FZ24: Total Baseloads | GA24: =SUM(GA23,GA20,GA17,GA14) -> 0 | GB24: =SUM(GB23,GB20,GB17,GB14) -> 0 | GC24: =SUM(GC23,GC20,GC17,GC14) -> 0 | GD24: =SUM(GD23,GD20,GD17,GD14) -> 0 | GE24: =(GE14*$GO14+GE17*$GO17+GE20*$GO20+GE23*$GO23)/$GO24 -> #DIV/0! | GF24: =SUM(GF23,GF20,GF17,GF14) -> 0 | GG24: =(GG14*$GO14+GG17*$GO17+GG20*$GO20+GG23*$GO23)/$GO24 -> #DIV/0! | GH24: =SUM(GH23,GH20,GH17,GH14) -> 0 | GI24: =(GI14*$GO14+GI17*$GO17+GI20*$GO20+GI23*$GO23)/$GO24 -> #DIV/0! | GJ24: =SUM(GJ23,GJ20,GJ17,GJ14) -> 0 | GK24: =SUM(GK23,GK20,GK17,GK14) -> 0 | GL24: =(GL14*$FW14+GL17*$FW17+GL20*$FW20+GL23*$FW23)/$FW24 -> #DIV/0! | GM24: =SUM(GM23,GM20,GM17,GM14) -> 0 | GN24: =SUM(GN23,GN20,GN17,GN14) -> 2792 | GO24: =SUM(GO23,GO20,GO17,GO14) -> 2407 | GR24: Total Baseloads | GS24: =SUM(GS23,GS20,GS17,GS14) -> 0 | GT24: =SUM(GT23,GT20,GT17,GT14) -> 0 | GU24: =SUM(GU23,GU20,GU17,GU14) -> 0 | GV24: =SUM(GV23,GV20,GV17,GV14) -> 0 | GW24: =(GW14*$HG14+GW17*$HG17+GW20*$HG20+GW23*$HG23)/$HG24 -> #DIV/0! | GX24: =SUM(GX23,GX20,GX17,GX14) -> 0 | GY24: =(GY14*$HG14+GY17*$HG17+GY20*$HG20+GY23*$HG23)/$HG24 -> #DIV/0! | GZ24: =SUM(GZ23,GZ20,GZ17,GZ14) -> 0 | HA24: =(HA14*$HG14+HA17*$HG17+HA20*$HG20+HA23*$HG23)/$HG24 -> #DIV/0! | HB24: =SUM(HB23,HB20,HB17,HB14) -> 0 | HC24: =SUM(HC23,HC20,HC17,HC14) -> 0 | HD24: =(HD14*$HG14+HD17*$HG17+HD20*$HG20+HD23*$HG23)/$HG24 -> #DIV/0! | HE24: =SUM(HE23,HE20,HE17,HE14) -> 0 | HF24: =SUM(HF23,HF20,HF17,HF14) -> 2792 | HG24: =SUM(HG23,HG20,HG17,HG14) -> 2407
A25: AGUIRRE CC | B25: V-1 | C25: 0 | D25: 0 | E25: 0 | F25: 744 | G25: =F25/$B$4 -> 1 | H25: 0 | I25: =H25/$B$4 -> 0 | J25: 0 | K25: =J25/$B$4 -> 0 | L25: ='[5]UNIT DATA'!P2 -> 0 | M25: ='[5]UNIT DATA'!Q2 -> 0 | N25: =(C25-L25-M25)/$B$4 -> 0 | O25: 0 | P25: 96 | Q25: 96 | S25: AGUIRRE CC | T25: V-1 | U25: 0 | V25: 0 | W25: 0 | X25: 744 | Y25: =X25/$T$4 -> 1 | Z25: 0 | AA25: =Z25/$T$4 -> 0 | AB25: 0 | AC25: =AB25/$T$4 -> 0 | AD25: 0 | AE25: 0 | AF25: =(U25-AD25-AE25)/$T$4 -> 0 | AG25: 0 | AH25: 96 | AI25: 96 | AK25: AGUIRRE CC | AL25: V-1 | AM25: 0 | AN25: 0 | AO25: 0 | AP25: 720 | AQ25: =AP25/$AL$4 -> 1 | AR25: 0 | AS25: =AR25/$AL$4 -> 0 | AT25: 0 | AU25: =AT25/$AL$4 -> 0 | AV25: 0 | AW25: 0 | AX25: =(AM25-AV25-AW25)/$AL$4 -> 0 | AY25: 0 | AZ25: 96 | BA25: 96 | BC25: AGUIRRE CC | BD25: V-1 | BI25: =BH25/$BD$4 -> #DIV/0! | BK25: =BJ25/$BD$4 -> #DIV/0! | BM25: =BL25/$BD$4 -> #DIV/0! | BP25: =(BE25-BO25)/$BD$4 -> #DIV/0! | BR25: 96 | BS25: 96 | BU25: AGUIRRE CC | BV25: V-1 | CA25: =BZ25/$BV$4 -> #DIV/0! | CC25: =CB25/$BV$4 -> #DIV/0! | CE25: =CD25/$BV$4 -> #DIV/0! | CH25: =(BW25-CF25-CG25)/$BV$4 -> #DIV/0! | CJ25: 96 | CK25: 96 | CM25: AGUIRRE CC | CN25: V-1 | CS25: =CR25/$CN$4 -> #DIV/0! | CU25: =CT25/$CN$4 -> #DIV/0! | CW25: =CV25/$CN$4 -> #DIV/0! | CZ25: =(CO25-CX25-CY25)/$CN$4 -> #DIV/0! | DB25: 96 | DC25: 96 | DE25: AGUIRRE CC | DF25: V-1 | DK25: =DJ25/$DF$4 -> #DIV/0! | DM25: =DL25/$DF$4 -> #DIV/0! | DO25: =DN25/$DF$4 -> #DIV/0! | DR25: =(DG25-DP25-DQ25)/$DF$4 -> #DIV/0! | DT25: 96 | DU25: 96 | DW25: AGUIRRE CC | DX25: V-1 | EC25: =EB25/$DX$4 -> #DIV/0! | EE25: =ED25/$DX$4 -> #DIV/0! | EG25: =EF25/$DX$4 -> #DIV/0! | EJ25: =(DY25-EH25-EI25)/$DX$4 -> #DIV/0! | EL25: 96 | EM25: 96 | EO25: AGUIRRE CC | EP25: V-1 | EU25: =ET25/$EP$4 -> #DIV/0! | EW25: =EV25/$EP$4 -> #DIV/0! | EY25: =EX25/$EP$4 -> #DIV/0! | FB25: =(EQ25-EZ25-FA25)/$EP$4 -> #DIV/0! | FD25: 96 | FE25: 96 | FG25: AGUIRRE CC | FH25: V-1 | FM25: =FL25/$FH$4 -> #DIV/0! | FO25: =FN25/$FH$4 -> #DIV/0! | FQ25: =FP25/$FH$4 -> #DIV/0! | FT25: =(FI25-FR25-FS25)/$FH$4 -> #DIV/0! | FV25: 96 | FW25: 96 | FY25: AGUIRRE CC | FZ25: V-1 | GE25: =GD25/$FZ$4 -> #DIV/0! | GG25: =GF25/$FZ$4 -> #DIV/0! | GI25: =GH25/$FZ$4 -> #DIV/0! | GL25: =(GA25-GJ25-GK25)/$FZ$4 -> #DIV/0! | GN25: 96 | GO25: 96 | GQ25: AGUIRRE CC | GR25: V-1 | GW25: =GV25/$GR$4 -> #DIV/0! | GY25: =GX25/$GR$4 -> #DIV/0! | HA25: =GZ25/$GR$4 -> #DIV/0! | HD25: =(GS25-HC25)/$GR$4 -> #DIV/0! | HF25: 96 | HG25: 96
B26: 1-1 | C26: 743.2 | D26: 425 | E26: 318.2 | F26: 0.8 | G26: =F26/$B$4 -> 0.0010752688 | H26: 0 | I26: =H26/$B$4 -> 0 | J26: 0 | K26: =J26/$B$4 -> 0 | L26: ='[5]UNIT DATA'!P3 -> 0 | M26: ='[5]UNIT DATA'!Q3 -> 0 | N26: =(C26-L26-M26)/$B$4 -> 0.99892473 | O26: 13842 | P26: 50 | Q26: 50 | T26: 1-1 | U26: 744 | V26: 442 | W26: 302 | X26: 0 | Y26: =X26/$T$4 -> 0 | Z26: 0 | AA26: =Z26/$T$4 -> 0 | AB26: 0 | AC26: =AB26/$T$4 -> 0 | AD26: 0 | AE26: 0 | AF26: =(U26-AD26-AE26)/$T$4 -> 1 | AG26: 15117 | AH26: 50 | AI26: 50 | AL26: 1-1 | AM26: 720 | AN26: 390 | AO26: 330 | AP26: 0 | AQ26: =AP26/$AL$4 -> 0 | AR26: 0 | AS26: =AR26/$AL$4 -> 0 | AT26: 0 | AU26: =AT26/$AL$4 -> 0 | AV26: 0 | AW26: 0 | AX26: =(AM26-AV26-AW26)/$AL$4 -> 1 | AY26: 13167 | AZ26: 50 | BA26: 50 | BD26: 1-1 | BI26: =BH26/$BD$4 -> #DIV/0! | BK26: =BJ26/$BD$4 -> #DIV/0! | BM26: =BL26/$BD$4 -> #DIV/0! | BP26: =(BE26-BO26)/$BD$4 -> #DIV/0! | BR26: 50 | BS26: 50 | BV26: 1-1 | CA26: =BZ26/$BV$4 -> #DIV/0! | CC26: =CB26/$BV$4 -> #DIV/0! | CE26: =CD26/$BV$4 -> #DIV/0! | CH26: =(BW26-CF26-CG26)/$BV$4 -> #DIV/0! | CJ26: 50 | CK26: 50 | CN26: 1-1 | CS26: =CR26/$CN$4 -> #DIV/0! | CU26: =CT26/$CN$4 -> #DIV/0! | CW26: =CV26/$CN$4 -> #DIV/0! | CZ26: =(CO26-CX26-CY26)/$CN$4 -> #DIV/0! | DB26: 50 | DC26: 50 | DF26: 1-1 | DK26: =DJ26/$DF$4 -> #DIV/0! | DM26: =DL26/$DF$4 -> #DIV/0! | DO26: =DN26/$DF$4 -> #DIV/0! | DR26: =(DG26-DP26-DQ26)/$DF$4 -> #DIV/0! | DT26: 50 | DU26: 50 | DX26: 1-1 | EC26: =EB26/$DX$4 -> #DIV/0! | EE26: =ED26/$DX$4 -> #DIV/0! | EG26: =EF26/$DX$4 -> #DIV/0! | EJ26: =(DY26-EH26-EI26)/$DX$4 -> #DIV/0! | EL26: 50 | EM26: 50 | EP26: 1-1 | EU26: =ET26/$EP$4 -> #DIV/0! | EW26: =EV26/$EP$4 -> #DIV/0! | EY26: =EX26/$EP$4 -> #DIV/0! | FB26: =(EQ26-EZ26-FA26)/$EP$4 -> #DIV/0! | FD26: 50 | FE26: 50 | FH26: 1-1 | FM26: =FL26/$FH$4 -> #DIV/0! | FO26: =FN26/$FH$4 -> #DIV/0! | FQ26: =FP26/$FH$4 -> #DIV/0! | FT26: =(FI26-FR26-FS26)/$FH$4 -> #DIV/0! | FV26: 50 | FW26: 50 | FZ26: 1-1 | GE26: =GD26/$FZ$4 -> #DIV/0! | GG26: =GF26/$FZ$4 -> #DIV/0! | GI26: =GH26/$FZ$4 -> #DIV/0! | GL26: =(GA26-GJ26-GK26)/$FZ$4 -> #DIV/0! | GN26: 50 | GO26: 50 | GR26: 1-1 | GW26: =GV26/$GR$4 -> #DIV/0! | GY26: =GX26/$GR$4 -> #DIV/0! | HA26: =GZ26/$GR$4 -> #DIV/0! | HD26: =(GS26-HC26)/$GR$4 -> #DIV/0! | HF26: 50 | HG26: 50
B27: 1-2 | C27: 744 | D27: 409 | E27: 335 | F27: 0 | G27: =F27/$B$4 -> 0 | H27: 0 | I27: =H27/$B$4 -> 0 | J27: 0 | K27: =J27/$B$4 -> 0 | L27: ='[5]UNIT DATA'!P4 -> 0 | M27: ='[5]UNIT DATA'!Q4 -> 0 | N27: =(C27-L27-M27)/$B$4 -> 1 | O27: 14974 | P27: 50 | Q27: 45 | T27: 1-2 | U27: 744 | V27: 388 | W27: 356 | X27: 0 | Y27: =X27/$T$4 -> 0 | Z27: 0 | AA27: =Z27/$T$4 -> 0 | AB27: 0 | AC27: =AB27/$T$4 -> 0 | AD27: 0 | AE27: 0 | AF27: =(U27-AD27-AE27)/$T$4 -> 1 | AG27: 14253 | AH27: 50 | AI27: 45 | AL27: 1-2 | AM27: 720 | AN27: 365 | AO27: 355 | AP27: 0 | AQ27: =AP27/$AL$4 -> 0 | AR27: 0 | AS27: =AR27/$AL$4 -> 0 | AT27: 0 | AU27: =AT27/$AL$4 -> 0 | AV27: 0 | AW27: 0 | AX27: =(AM27-AV27-AW27)/$AL$4 -> 1 | AY27: 13082 | AZ27: 50 | BA27: 45 | BD27: 1-2 | BI27: =BH27/$BD$4 -> #DIV/0! | BK27: =BJ27/$BD$4 -> #DIV/0! | BM27: =BL27/$BD$4 -> #DIV/0! | BP27: =(BE27-BO27)/$BD$4 -> #DIV/0! | BR27: 50 | BS27: 45 | BV27: 1-2 | CA27: =BZ27/$BV$4 -> #DIV/0! | CC27: =CB27/$BV$4 -> #DIV/0! | CE27: =CD27/$BV$4 -> #DIV/0! | CH27: =(BW27-CF27-CG27)/$BV$4 -> #DIV/0! | CJ27: 50 | CK27: 45 | CN27: 1-2 | CS27: =CR27/$CN$4 -> #DIV/0! | CU27: =CT27/$CN$4 -> #DIV/0! | CW27: =CV27/$CN$4 -> #DIV/0! | CZ27: =(CO27-CX27-CY27)/$CN$4 -> #DIV/0! | DB27: 50 | DC27: 45 | DF27: 1-2 | DK27: =DJ27/$DF$4 -> #DIV/0! | DM27: =DL27/$DF$4 -> #DIV/0! | DO27: =DN27/$DF$4 -> #DIV/0! | DR27: =(DG27-DP27-DQ27)/$DF$4 -> #DIV/0! | DT27: 50 | DU27: 45 | DX27: 1-2 | EC27: =EB27/$DX$4 -> #DIV/0! | EE27: =ED27/$DX$4 -> #DIV/0! | EG27: =EF27/$DX$4 -> #DIV/0! | EJ27: =(DY27-EH27-EI27)/$DX$4 -> #DIV/0! | EL27: 50 | EM27: 45 | EP27: 1-2 | EU27: =ET27/$EP$4 -> #DIV/0! | EW27: =EV27/$EP$4 -> #DIV/0! | EY27: =EX27/$EP$4 -> #DIV/0! | FB27: =(EQ27-EZ27-FA27)/$EP$4 -> #DIV/0! | FD27: 50 | FE27: 45 | FH27: 1-2 | FM27: =FL27/$FH$4 -> #DIV/0! | FO27: =FN27/$FH$4 -> #DIV/0! | FQ27: =FP27/$FH$4 -> #DIV/0! | FT27: =(FI27-FR27-FS27)/$FH$4 -> #DIV/0! | FV27: 50 | FW27: 45 | FZ27: 1-2 | GE27: =GD27/$FZ$4 -> #DIV/0! | GG27: =GF27/$FZ$4 -> #DIV/0! | GI27: =GH27/$FZ$4 -> #DIV/0! | GL27: =(GA27-GJ27-GK27)/$FZ$4 -> #DIV/0! | GN27: 50 | GO27: 45 | GR27: 1-2 | GW27: =GV27/$GR$4 -> #DIV/0! | GY27: =GX27/$GR$4 -> #DIV/0! | HA27: =GZ27/$GR$4 -> #DIV/0! | HD27: =(GS27-HC27)/$GR$4 -> #DIV/0! | HF27: 50 | HG27: 45
B28: 1-3 | C28: 0 | D28: 0 | E28: 0 | F28: 0 | G28: =F28/$B$4 -> 0 | H28: 744 | I28: =H28/$B$4 -> 1 | J28: 0 | K28: =J28/$B$4 -> 0 | L28: ='[5]UNIT DATA'!P5 -> 0 | M28: ='[5]UNIT DATA'!Q5 -> 0 | N28: =(C28-L28-M28)/$B$4 -> 0 | O28: 0 | P28: 50 | Q28: 50 | T28: 1-3 | U28: 0 | V28: 0 | W28: 0 | X28: 0 | Y28: =X28/$T$4 -> 0 | Z28: 744 | AA28: =Z28/$T$4 -> 1 | AB28: 0 | AC28: =AB28/$T$4 -> 0 | AD28: 0 | AE28: 0 | AF28: =(U28-AD28-AE28)/$T$4 -> 0 | AG28: 0 | AH28: 50 | AI28: 50 | AL28: 1-3 | AM28: 0 | AN28: 0 | AO28: 0 | AP28: 0 | AQ28: =AP28/$AL$4 -> 0 | AR28: 720 | AS28: =AR28/$AL$4 -> 1 | AT28: 0 | AU28: =AT28/$AL$4 -> 0 | AV28: 0 | AW28: 0 | AX28: =(AM28-AV28-AW28)/$AL$4 -> 0 | AY28: 0 | AZ28: 50 | BA28: 50 | BD28: 1-3 | BI28: =BH28/$BD$4 -> #DIV/0! | BK28: =BJ28/$BD$4 -> #DIV/0! | BM28: =BL28/$BD$4 -> #DIV/0! | BP28: =(BE28-BO28)/$BD$4 -> #DIV/0! | BR28: 50 | BS28: 50 | BV28: 1-3 | CA28: =BZ28/$BV$4 -> #DIV/0! | CC28: =CB28/$BV$4 -> #DIV/0! | CE28: =CD28/$BV$4 -> #DIV/0! | CH28: =(BW28-CF28-CG28)/$BV$4 -> #DIV/0! | CJ28: 50 | CK28: 50 | CN28: 1-3 | CS28: =CR28/$CN$4 -> #DIV/0! | CU28: =CT28/$CN$4 -> #DIV/0! | CW28: =CV28/$CN$4 -> #DIV/0! | CZ28: =(CO28-CX28-CY28)/$CN$4 -> #DIV/0! | DB28: 50 | DC28: 50 | DF28: 1-3 | DK28: =DJ28/$DF$4 -> #DIV/0! | DM28: =DL28/$DF$4 -> #DIV/0! | DO28: =DN28/$DF$4 -> #DIV/0! | DR28: =(DG28-DP28-DQ28)/$DF$4 -> #DIV/0! | DT28: 50 | DU28: 50 | DX28: 1-3 | EC28: =EB28/$DX$4 -> #DIV/0! | EE28: =ED28/$DX$4 -> #DIV/0! | EG28: =EF28/$DX$4 -> #DIV/0! | EJ28: =(DY28-EH28-EI28)/$DX$4 -> #DIV/0! | EL28: 50 | EM28: 50 | EP28: 1-3 | EU28: =ET28/$EP$4 -> #DIV/0! | EW28: =EV28/$EP$4 -> #DIV/0! | EY28: =EX28/$EP$4 -> #DIV/0! | FB28: =(EQ28-EZ28-FA28)/$EP$4 -> #DIV/0! | FD28: 50 | FE28: 50 | FH28: 1-3 | FM28: =FL28/$FH$4 -> #DIV/0! | FO28: =FN28/$FH$4 -> #DIV/0! | FQ28: =FP28/$FH$4 -> #DIV/0! | FT28: =(FI28-FR28-FS28)/$FH$4 -> #DIV/0! | FV28: 50 | FW28: 50 | FZ28: 1-3 | GE28: =GD28/$FZ$4 -> #DIV/0! | GG28: =GF28/$FZ$4 -> #DIV/0! | GI28: =GH28/$FZ$4 -> #DIV/0! | GL28: =(GA28-GJ28-GK28)/$FZ$4 -> #DIV/0! | GN28: 50 | GO28: 50 | GR28: 1-3 | GW28: =GV28/$GR$4 -> #DIV/0! | GY28: =GX28/$GR$4 -> #DIV/0! | HA28: =GZ28/$GR$4 -> #DIV/0! | HD28: =(GS28-HC28)/$GR$4 -> #DIV/0! | HF28: 50 | HG28: 50
B29: 1-4 | C29: 0 | D29: 0 | E29: 0 | F29: 0 | G29: =F29/$B$4 -> 0 | H29: 744 | I29: =H29/$B$4 -> 1 | J29: 0 | K29: =J29/$B$4 -> 0 | L29: ='[5]UNIT DATA'!P6 -> 0 | M29: ='[5]UNIT DATA'!Q6 -> 0 | N29: =(C29-L29-M29)/$B$4 -> 0 | O29: 0 | P29: 50 | Q29: 50 | T29: 1-4 | U29: 0 | V29: 0 | W29: 0 | X29: 0 | Y29: =X29/$T$4 -> 0 | Z29: 744 | AA29: =Z29/$T$4 -> 1 | AB29: 0 | AC29: =AB29/$T$4 -> 0 | AD29: 0 | AE29: 0 | AF29: =(U29-AD29-AE29)/$T$4 -> 0 | AG29: 0 | AH29: 50 | AI29: 50 | AL29: 1-4 | AM29: 584 | AN29: 362 | AO29: 222 | AP29: 24.6 | AQ29: =AP29/$AL$4 -> 0.034166667 | AR29: 111.4 | AS29: =AR29/$AL$4 -> 0.15472222 | AT29: 0 | AU29: =AT29/$AL$4 -> 0 | AV29: 0 | AW29: 0 | AX29: =(AM29-AV29-AW29)/$AL$4 -> 0.81111111 | AY29: 13514 | AZ29: 50 | BA29: 50 | BD29: 1-4 | BI29: =BH29/$BD$4 -> #DIV/0! | BK29: =BJ29/$BD$4 -> #DIV/0! | BM29: =BL29/$BD$4 -> #DIV/0! | BP29: =(BE29-BO29)/$BD$4 -> #DIV/0! | BR29: 50 | BS29: 50 | BV29: 1-4 | CA29: =BZ29/$BV$4 -> #DIV/0! | CC29: =CB29/$BV$4 -> #DIV/0! | CE29: =CD29/$BV$4 -> #DIV/0! | CH29: =(BW29-CF29-CG29)/$BV$4 -> #DIV/0! | CJ29: 50 | CK29: 50 | CN29: 1-4 | CS29: =CR29/$CN$4 -> #DIV/0! | CU29: =CT29/$CN$4 -> #DIV/0! | CW29: =CV29/$CN$4 -> #DIV/0! | CZ29: =(CO29-CX29-CY29)/$CN$4 -> #DIV/0! | DB29: 50 | DC29: 50 | DF29: 1-4 | DK29: =DJ29/$DF$4 -> #DIV/0! | DM29: =DL29/$DF$4 -> #DIV/0! | DO29: =DN29/$DF$4 -> #DIV/0! | DR29: =(DG29-DP29-DQ29)/$DF$4 -> #DIV/0! | DT29: 50 | DU29: 50 | DX29: 1-4 | EC29: =EB29/$DX$4 -> #DIV/0! | EE29: =ED29/$DX$4 -> #DIV/0! | EG29: =EF29/$DX$4 -> #DIV/0! | EJ29: =(DY29-EH29-EI29)/$DX$4 -> #DIV/0! | EL29: 50 | EM29: 50 | EP29: 1-4 | EU29: =ET29/$EP$4 -> #DIV/0! | EW29: =EV29/$EP$4 -> #DIV/0! | EY29: =EX29/$EP$4 -> #DIV/0! | FB29: =(EQ29-EZ29-FA29)/$EP$4 -> #DIV/0! | FD29: 50 | FE29: 50 | FH29: 1-4 | FM29: =FL29/$FH$4 -> #DIV/0! | FO29: =FN29/$FH$4 -> #DIV/0! | FQ29: =FP29/$FH$4 -> #DIV/0! | FT29: =(FI29-FR29-FS29)/$FH$4 -> #DIV/0! | FV29: 50 | FW29: 50 | FZ29: 1-4 | GE29: =GD29/$FZ$4 -> #DIV/0! | GG29: =GF29/$FZ$4 -> #DIV/0! | GI29: =GH29/$FZ$4 -> #DIV/0! | GL29: =(GA29-GJ29-GK29)/$FZ$4 -> #DIV/0! | GN29: 50 | GO29: 50 | GR29: 1-4 | GW29: =GV29/$GR$4 -> #DIV/0! | GY29: =GX29/$GR$4 -> #DIV/0! | HA29: =GZ29/$GR$4 -> #DIV/0! | HD29: =(GS29-HC29)/$GR$4 -> #DIV/0! | HF29: 50 | HG29: 50
B30: V-2 | C30: 0 | D30: 0 | E30: 0 | F30: 0 | G30: =F30/$B$4 -> 0 | H30: 744 | I30: =H30/$B$4 -> 1 | J30: 0 | K30: =J30/$B$4 -> 0 | L30: ='[5]UNIT DATA'!P7 -> 0 | M30: ='[5]UNIT DATA'!Q7 -> 0 | N30: =(C30-L30-M30)/$B$4 -> 0 | O30: 0 | P30: 96 | Q30: 96 | T30: V-2 | U30: 0 | V30: 0 | W30: 0 | X30: 0 | Y30: =X30/$T$4 -> 0 | Z30: 744 | AA30: =Z30/$T$4 -> 1 | AB30: 0 | AC30: =AB30/$T$4 -> 0 | AD30: 0 | AE30: 0 | AF30: =(U30-AD30-AE30)/$T$4 -> 0 | AG30: 0 | AH30: 96 | AI30: 96 | AL30: V-2 | AM30: 0 | AN30: 0 | AO30: 0 | AP30: 0 | AQ30: =AP30/$AL$4 -> 0 | AR30: 720 | AS30: =AR30/$AL$4 -> 1 | AT30: 0 | AU30: =AT30/$AL$4 -> 0 | AV30: 0 | AW30: 0 | AX30: =(AM30-AV30-AW30)/$AL$4 -> 0 | AY30: 0 | AZ30: 96 | BA30: 96 | BD30: V-2 | BI30: =BH30/$BD$4 -> #DIV/0! | BK30: =BJ30/$BD$4 -> #DIV/0! | BM30: =BL30/$BD$4 -> #DIV/0! | BP30: =(BE30-BO30)/$BD$4 -> #DIV/0! | BR30: 96 | BS30: 96 | BV30: V-2 | CA30: =BZ30/$BV$4 -> #DIV/0! | CC30: =CB30/$BV$4 -> #DIV/0! | CE30: =CD30/$BV$4 -> #DIV/0! | CH30: =(BW30-CF30-CG30)/$BV$4 -> #DIV/0! | CJ30: 96 | CK30: 96 | CN30: V-2 | CS30: =CR30/$CN$4 -> #DIV/0! | CU30: =CT30/$CN$4 -> #DIV/0! | CW30: =CV30/$CN$4 -> #DIV/0! | CZ30: =(CO30-CX30-CY30)/$CN$4 -> #DIV/0! | DB30: 96 | DC30: 96 | DF30: V-2 | DK30: =DJ30/$DF$4 -> #DIV/0! | DM30: =DL30/$DF$4 -> #DIV/0! | DO30: =DN30/$DF$4 -> #DIV/0! | DR30: =(DG30-DP30-DQ30)/$DF$4 -> #DIV/0! | DT30: 96 | DU30: 96 | DX30: V-2 | EC30: =EB30/$DX$4 -> #DIV/0! | EE30: =ED30/$DX$4 -> #DIV/0! | EG30: =EF30/$DX$4 -> #DIV/0! | EJ30: =(DY30-EH30-EI30)/$DX$4 -> #DIV/0! | EL30: 96 | EM30: 96 | EP30: V-2 | EU30: =ET30/$EP$4 -> #DIV/0! | EW30: =EV30/$EP$4 -> #DIV/0! | EY30: =EX30/$EP$4 -> #DIV/0! | FB30: =(EQ30-EZ30-FA30)/$EP$4 -> #DIV/0! | FD30: 96 | FE30: 96 | FH30: V-2 | FM30: =FL30/$FH$4 -> #DIV/0! | FO30: =FN30/$FH$4 -> #DIV/0! | FQ30: =FP30/$FH$4 -> #DIV/0! | FT30: =(FI30-FR30-FS30)/$FH$4 -> #DIV/0! | FV30: 96 | FW30: 96 | FZ30: V-2 | GE30: =GD30/$FZ$4 -> #DIV/0! | GG30: =GF30/$FZ$4 -> #DIV/0! | GI30: =GH30/$FZ$4 -> #DIV/0! | GL30: =(GA30-GJ30-GK30)/$FZ$4 -> #DIV/0! | GN30: 96 | GO30: 96 | GR30: V-2 | GW30: =GV30/$GR$4 -> #DIV/0! | GY30: =GX30/$GR$4 -> #DIV/0! | HA30: =GZ30/$GR$4 -> #DIV/0! | HD30: =(GS30-HC30)/$GR$4 -> #DIV/0! | HF30: 96 | HG30: 96
B31: 2-1 | C31: 0 | D31: 0 | E31: 0 | F31: 744 | G31: =F31/$B$4 -> 1 | H31: 0 | I31: =H31/$B$4 -> 0 | J31: 0 | K31: =J31/$B$4 -> 0 | L31: ='[5]UNIT DATA'!P8 -> 0 | M31: ='[5]UNIT DATA'!Q8 -> 0 | N31: =(C31-L31-M31)/$B$4 -> 0 | O31: 0 | P31: 50 | Q31: 50 | T31: 2-1 | U31: 0 | V31: 0 | W31: 0 | X31: 744 | Y31: =X31/$T$4 -> 1 | Z31: 0 | AA31: =Z31/$T$4 -> 0 | AB31: 0 | AC31: =AB31/$T$4 -> 0 | AD31: 0 | AE31: 0 | AF31: =(U31-AD31-AE31)/$T$4 -> 0 | AG31: 0 | AH31: 50 | AI31: 50 | AL31: 2-1 | AM31: 0 | AN31: 0 | AO31: 0 | AP31: 720 | AQ31: =AP31/$AL$4 -> 1 | AR31: 0 | AS31: =AR31/$AL$4 -> 0 | AT31: 0 | AU31: =AT31/$AL$4 -> 0 | AV31: 0 | AW31: 0 | AX31: =(AM31-AV31-AW31)/$AL$4 -> 0 | AY31: 0 | AZ31: 50 | BA31: 50 | BD31: 2-1 | BI31: =BH31/$BD$4 -> #DIV/0! | BK31: =BJ31/$BD$4 -> #DIV/0! | BM31: =BL31/$BD$4 -> #DIV/0! | BP31: =(BE31-BO31)/$BD$4 -> #DIV/0! | BR31: 50 | BS31: 50 | BV31: 2-1 | CA31: =BZ31/$BV$4 -> #DIV/0! | CC31: =CB31/$BV$4 -> #DIV/0! | CE31: =CD31/$BV$4 -> #DIV/0! | CH31: =(BW31-CF31-CG31)/$BV$4 -> #DIV/0! | CJ31: 50 | CK31: 50 | CN31: 2-1 | CS31: =CR31/$CN$4 -> #DIV/0! | CU31: =CT31/$CN$4 -> #DIV/0! | CW31: =CV31/$CN$4 -> #DIV/0! | CZ31: =(CO31-CX31-CY31)/$CN$4 -> #DIV/0! | DB31: 50 | DC31: 50 | DF31: 2-1 | DK31: =DJ31/$DF$4 -> #DIV/0! | DM31: =DL31/$DF$4 -> #DIV/0! | DO31: =DN31/$DF$4 -> #DIV/0! | DR31: =(DG31-DP31-DQ31)/$DF$4 -> #DIV/0! | DT31: 50 | DU31: 50 | DX31: 2-1 | EC31: =EB31/$DX$4 -> #DIV/0! | EE31: =ED31/$DX$4 -> #DIV/0! | EG31: =EF31/$DX$4 -> #DIV/0! | EJ31: =(DY31-EH31-EI31)/$DX$4 -> #DIV/0! | EL31: 50 | EM31: 50 | EP31: 2-1 | EU31: =ET31/$EP$4 -> #DIV/0! | EW31: =EV31/$EP$4 -> #DIV/0! | EY31: =EX31/$EP$4 -> #DIV/0! | FB31: =(EQ31-EZ31-FA31)/$EP$4 -> #DIV/0! | FD31: 50 | FE31: 50 | FH31: 2-1 | FM31: =FL31/$FH$4 -> #DIV/0! | FO31: =FN31/$FH$4 -> #DIV/0! | FQ31: =FP31/$FH$4 -> #DIV/0! | FT31: =(FI31-FR31-FS31)/$FH$4 -> #DIV/0! | FV31: 50 | FW31: 50 | FZ31: 2-1 | GE31: =GD31/$FZ$4 -> #DIV/0! | GG31: =GF31/$FZ$4 -> #DIV/0! | GI31: =GH31/$FZ$4 -> #DIV/0! | GL31: =(GA31-GJ31-GK31)/$FZ$4 -> #DIV/0! | GN31: 50 | GO31: 50 | GR31: 2-1 | GW31: =GV31/$GR$4 -> #DIV/0! | GY31: =GX31/$GR$4 -> #DIV/0! | HA31: =GZ31/$GR$4 -> #DIV/0! | HD31: =(GS31-HC31)/$GR$4 -> #DIV/0! | HF31: 50 | HG31: 50
B32: 2-2 | C32: 744 | D32: 386 | E32: 358 | F32: 0 | G32: =F32/$B$4 -> 0 | H32: 0 | I32: =H32/$B$4 -> 0 | J32: 0 | K32: =J32/$B$4 -> 0 | L32: ='[5]UNIT DATA'!P9 -> 0 | M32: ='[5]UNIT DATA'!Q9 -> 0 | N32: =(C32-L32-M32)/$B$4 -> 1 | O32: 13494 | P32: 50 | Q32: 50 | T32: 2-2 | U32: 744 | V32: 464 | W32: 280 | X32: 0 | Y32: =X32/$T$4 -> 0 | Z32: 0 | AA32: =Z32/$T$4 -> 0 | AB32: 0 | AC32: =AB32/$T$4 -> 0 | AD32: 0 | AE32: 0 | AF32: =(U32-AD32-AE32)/$T$4 -> 1 | AG32: 16893 | AH32: 50 | AI32: 50 | AL32: 2-2 | AM32: 709.7 | AN32: 423.9 | AO32: 285.8 | AP32: 10.3 | AQ32: =AP32/$AL$4 -> 0.014305556 | AR32: 0 | AS32: =AR32/$AL$4 -> 0 | AT32: 0 | AU32: =AT32/$AL$4 -> 0 | AV32: 0 | AW32: 0 | AX32: =(AM32-AV32-AW32)/$AL$4 -> 0.98569444 | AY32: 15246 | AZ32: 50 | BA32: 50 | BD32: 2-2 | BI32: =BH32/$BD$4 -> #DIV/0! | BK32: =BJ32/$BD$4 -> #DIV/0! | BM32: =BL32/$BD$4 -> #DIV/0! | BP32: =(BE32-BO32)/$BD$4 -> #DIV/0! | BR32: 50 | BS32: 50 | BV32: 2-2 | CA32: =BZ32/$BV$4 -> #DIV/0! | CC32: =CB32/$BV$4 -> #DIV/0! | CE32: =CD32/$BV$4 -> #DIV/0! | CH32: =(BW32-CF32-CG32)/$BV$4 -> #DIV/0! | CJ32: 50 | CK32: 50 | CN32: 2-2 | CS32: =CR32/$CN$4 -> #DIV/0! | CU32: =CT32/$CN$4 -> #DIV/0! | CW32: =CV32/$CN$4 -> #DIV/0! | CZ32: =(CO32-CX32-CY32)/$CN$4 -> #DIV/0! | DB32: 50 | DC32: 50 | DF32: 2-2 | DK32: =DJ32/$DF$4 -> #DIV/0! | DM32: =DL32/$DF$4 -> #DIV/0! | DO32: =DN32/$DF$4 -> #DIV/0! | DR32: =(DG32-DP32-DQ32)/$DF$4 -> #DIV/0! | DT32: 50 | DU32: 50 | DX32: 2-2 | EC32: =EB32/$DX$4 -> #DIV/0! | EE32: =ED32/$DX$4 -> #DIV/0! | EG32: =EF32/$DX$4 -> #DIV/0! | EJ32: =(DY32-EH32-EI32)/$DX$4 -> #DIV/0! | EL32: 50 | EM32: 50 | EP32: 2-2 | EU32: =ET32/$EP$4 -> #DIV/0! | EW32: =EV32/$EP$4 -> #DIV/0! | EY32: =EX32/$EP$4 -> #DIV/0! | FB32: =(EQ32-EZ32-FA32)/$EP$4 -> #DIV/0! | FD32: 50 | FE32: 50 | FH32: 2-2 | FM32: =FL32/$FH$4 -> #DIV/0! | FO32: =FN32/$FH$4 -> #DIV/0! | FQ32: =FP32/$FH$4 -> #DIV/0! | FT32: =(FI32-FR32-FS32)/$FH$4 -> #DIV/0! | FV32: 50 | FW32: 50 | FZ32: 2-2 | GE32: =GD32/$FZ$4 -> #DIV/0! | GG32: =GF32/$FZ$4 -> #DIV/0! | GI32: =GH32/$FZ$4 -> #DIV/0! | GL32: =(GA32-GJ32-GK32)/$FZ$4 -> #DIV/0! | GN32: 50 | GO32: 50 | GR32: 2-2 | GW32: =GV32/$GR$4 -> #DIV/0! | GY32: =GX32/$GR$4 -> #DIV/0! | HA32: =GZ32/$GR$4 -> #DIV/0! | HD32: =(GS32-HC32)/$GR$4 -> #DIV/0! | HF32: 50 | HG32: 50
B33: 2-3 | C33: 0 | D33: 0 | E33: 0 | F33: 0 | G33: =F33/$B$4 -> 0 | H33: 744 | I33: =H33/$B$4 -> 1 | J33: 0 | K33: =J33/$B$4 -> 0 | L33: ='[5]UNIT DATA'!P10 -> 0 | M33: ='[5]UNIT DATA'!Q10 -> 0 | N33: =(C33-L33-M33)/$B$4 -> 0 | O33: 0 | P33: 50 | Q33: 50 | T33: 2-3 | U33: 0 | V33: 0 | W33: 0 | X33: 0 | Y33: =X33/$T$4 -> 0 | Z33: 744 | AA33: =Z33/$T$4 -> 1 | AB33: 0 | AC33: =AB33/$T$4 -> 0 | AD33: 0 | AE33: 0 | AF33: =(U33-AD33-AE33)/$T$4 -> 0 | AG33: 0 | AH33: 50 | AI33: 50 | AL33: 2-3 | AM33: 0 | AN33: 0 | AO33: 0 | AP33: 0 | AQ33: =AP33/$AL$4 -> 0 | AR33: 720 | AS33: =AR33/$AL$4 -> 1 | AT33: 0 | AU33: =AT33/$AL$4 -> 0 | AV33: 0 | AW33: 0 | AX33: =(AM33-AV33-AW33)/$AL$4 -> 0 | AY33: 0 | AZ33: 50 | BA33: 50 | BD33: 2-3 | BI33: =BH33/$BD$4 -> #DIV/0! | BK33: =BJ33/$BD$4 -> #DIV/0! | BM33: =BL33/$BD$4 -> #DIV/0! | BP33: =(BE33-BO33)/$BD$4 -> #DIV/0! | BR33: 50 | BS33: 50 | BV33: 2-3 | CA33: =BZ33/$BV$4 -> #DIV/0! | CC33: =CB33/$BV$4 -> #DIV/0! | CE33: =CD33/$BV$4 -> #DIV/0! | CH33: =(BW33-CF33-CG33)/$BV$4 -> #DIV/0! | CJ33: 50 | CK33: 50 | CN33: 2-3 | CS33: =CR33/$CN$4 -> #DIV/0! | CU33: =CT33/$CN$4 -> #DIV/0! | CW33: =CV33/$CN$4 -> #DIV/0! | CZ33: =(CO33-CX33-CY33)/$CN$4 -> #DIV/0! | DB33: 50 | DC33: 50 | DF33: 2-3 | DK33: =DJ33/$DF$4 -> #DIV/0! | DM33: =DL33/$DF$4 -> #DIV/0! | DO33: =DN33/$DF$4 -> #DIV/0! | DR33: =(DG33-DP33-DQ33)/$DF$4 -> #DIV/0! | DT33: 50 | DU33: 50 | DX33: 2-3 | EC33: =EB33/$DX$4 -> #DIV/0! | EE33: =ED33/$DX$4 -> #DIV/0! | EG33: =EF33/$DX$4 -> #DIV/0! | EJ33: =(DY33-EH33-EI33)/$DX$4 -> #DIV/0! | EL33: 50 | EM33: 50 | EP33: 2-3 | EU33: =ET33/$EP$4 -> #DIV/0! | EW33: =EV33/$EP$4 -> #DIV/0! | EY33: =EX33/$EP$4 -> #DIV/0! | FB33: =(EQ33-EZ33-FA33)/$EP$4 -> #DIV/0! | FD33: 50 | FE33: 50 | FH33: 2-3 | FM33: =FL33/$FH$4 -> #DIV/0! | FO33: =FN33/$FH$4 -> #DIV/0! | FQ33: =FP33/$FH$4 -> #DIV/0! | FT33: =(FI33-FR33-FS33)/$FH$4 -> #DIV/0! | FV33: 50 | FW33: 50 | FZ33: 2-3 | GE33: =GD33/$FZ$4 -> #DIV/0! | GG33: =GF33/$FZ$4 -> #DIV/0! | GI33: =GH33/$FZ$4 -> #DIV/0! | GL33: =(GA33-GJ33-GK33)/$FZ$4 -> #DIV/0! | GN33: 50 | GO33: 50 | GR33: 2-3 | GW33: =GV33/$GR$4 -> #DIV/0! | GY33: =GX33/$GR$4 -> #DIV/0! | HA33: =GZ33/$GR$4 -> #DIV/0! | HD33: =(GS33-HC33)/$GR$4 -> #DIV/0! | HF33: 50 | HG33: 50
B34: 2-4 | C34: 687.7 | D34: 370.6 | E34: 317.1 | F34: 56.3 | G34: =F34/$B$4 -> 0.075672043 | H34: 0 | I34: =H34/$B$4 -> 0 | J34: 0 | K34: =J34/$B$4 -> 0 | L34: ='[5]UNIT DATA'!P11 -> 0 | M34: ='[5]UNIT DATA'!Q11 -> 0 | N34: =(C34-L34-M34)/$B$4 -> 0.92432796 | O34: 12494 | P34: 50 | Q34: 50 | T34: 2-4 | U34: 738 | V34: 350.6 | W34: 387.4 | X34: 6 | Y34: =X34/$T$4 -> 0.0080645161 | Z34: 0 | AA34: =Z34/$T$4 -> 0 | AB34: 0 | AC34: =AB34/$T$4 -> 0 | AD34: 0 | AE34: 0 | AF34: =(U34-AD34-AE34)/$T$4 -> 0.99193548 | AG34: 10189 | AH34: 50 | AI34: 50 | AL34: 2-4 | AM34: 718 | AN34: 321.9 | AO34: 396.1 | AP34: 2 | AQ34: =AP34/$AL$4 -> 0.0027777778 | AR34: 0 | AS34: =AR34/$AL$4 -> 0 | AT34: 0 | AU34: =AT34/$AL$4 -> 0 | AV34: 0 | AW34: 0 | AX34: =(AM34-AV34-AW34)/$AL$4 -> 0.99722222 | AY34: 9369 | AZ34: 50 | BA34: 50 | BD34: 2-4 | BI34: =BH34/$BD$4 -> #DIV/0! | BK34: =BJ34/$BD$4 -> #DIV/0! | BM34: =BL34/$BD$4 -> #DIV/0! | BP34: =(BE34-BO34)/$BD$4 -> #DIV/0! | BR34: 50 | BS34: 50 | BV34: 2-4 | CA34: =BZ34/$BV$4 -> #DIV/0! | CC34: =CB34/$BV$4 -> #DIV/0! | CE34: =CD34/$BV$4 -> #DIV/0! | CH34: =(BW34-CF34-CG34)/$BV$4 -> #DIV/0! | CJ34: 50 | CK34: 50 | CN34: 2-4 | CS34: =CR34/$CN$4 -> #DIV/0! | CU34: =CT34/$CN$4 -> #DIV/0! | CW34: =CV34/$CN$4 -> #DIV/0! | CZ34: =(CO34-CX34-CY34)/$CN$4 -> #DIV/0! | DB34: 50 | DC34: 50 | DF34: 2-4 | DK34: =DJ34/$DF$4 -> #DIV/0! | DM34: =DL34/$DF$4 -> #DIV/0! | DO34: =DN34/$DF$4 -> #DIV/0! | DR34: =(DG34-DP34-DQ34)/$DF$4 -> #DIV/0! | DT34: 50 | DU34: 50 | DX34: 2-4 | EC34: =EB34/$DX$4 -> #DIV/0! | EE34: =ED34/$DX$4 -> #DIV/0! | EG34: =EF34/$DX$4 -> #DIV/0! | EJ34: =(DY34-EH34-EI34)/$DX$4 -> #DIV/0! | EL34: 50 | EM34: 50 | EP34: 2-4 | EU34: =ET34/$EP$4 -> #DIV/0! | EW34: =EV34/$EP$4 -> #DIV/0! | EY34: =EX34/$EP$4 -> #DIV/0! | FB34: =(EQ34-EZ34-FA34)/$EP$4 -> #DIV/0! | FD34: 50 | FE34: 50 | FH34: 2-4 | FM34: =FL34/$FH$4 -> #DIV/0! | FO34: =FN34/$FH$4 -> #DIV/0! | FQ34: =FP34/$FH$4 -> #DIV/0! | FT34: =(FI34-FR34-FS34)/$FH$4 -> #DIV/0! | FV34: 50 | FW34: 50 | FZ34: 2-4 | GE34: =GD34/$FZ$4 -> #DIV/0! | GG34: =GF34/$FZ$4 -> #DIV/0! | GI34: =GH34/$FZ$4 -> #DIV/0! | GL34: =(GA34-GJ34-GK34)/$FZ$4 -> #DIV/0! | GN34: 50 | GO34: 50 | GR34: 2-4 | GW34: =GV34/$GR$4 -> #DIV/0! | GY34: =GX34/$GR$4 -> #DIV/0! | HA34: =GZ34/$GR$4 -> #DIV/0! | HD34: =(GS34-HC34)/$GR$4 -> #DIV/0! | HF34: 50 | HG34: 50
B35: Total | C35: =SUM(C25:C34) -> 2918.9 | D35: =SUM(D25:D34) -> 1590.6 | E35: =SUM(E25:E34) -> 1328.3 | F35: =SUM(F25:F34) -> 1545.1 | G35: =(G25*Q25+G26*Q26+G27*Q27+G28*Q28+G29*Q29+G30*Q30+G31*Q31+G32*Q32+G33*Q33+G34*Q34)/Q35 -> 0.25525957 | H35: =SUM(H25:H34) -> 2976 | I35: =(I25*Q25+I26*Q26+I27*Q27+I28*Q28+I29*Q29+I30*Q30+I31*Q31+I32*Q32+I33*Q33+I34*Q34)/Q35 -> 0.41908007 | J35: =SUM(J25:J34) -> 0 | K35: =(K25*Q25+K26*Q26+K27*Q27+K28*Q28+K29*Q29+K30*Q30+K31*Q31+K32*Q32+K33*Q33+K34*Q34)/Q35 -> 0 | L35: =SUM(L25:L34) -> 0 | M35: =SUM(M25:M34) -> 0 | N35: =(N25*Q25+N26*Q26+N27*Q27+N28*Q28+N29*Q29+N30*Q30+N31*Q31+N32*Q32+N33*Q33+N34*Q34)/Q35 -> 0.32566037 | O35: =SUM(O25:O34) -> 54804 | P35: =SUM(P25:P34) -> 592 | Q35: =SUM(Q25:Q34) -> 587 | T35: Total | U35: =SUM(U25:U34) -> 2970 | V35: =SUM(V25:V34) -> 1644.6 | W35: =SUM(W25:W34) -> 1325.4 | X35: =SUM(X25:X34) -> 1494 | Y35: =(Y25*$AI$25+Y26*$AI$26+Y27*$AI$27+Y28*$AI$28+Y29*$AI$29+Y30*$AI$30+Y31*$AI$31+Y32*$AI$32+Y33*$AI$33+Y34*$AI$34)/$AI$35 -> 0.24940924 | Z35: =SUM(Z25:Z34) -> 2976 | AA35: =(AA25*$AI$25+AA26*$AI$26+AA27*$AI$27+AA28*$AI$28+AA29*$AI$29+AA30*$AI$30+AA31*$AI$31+AA32*$AI$32+AA33*$AI$33+AA34*$AI$34)/$AI$35 -> 0.41908007 | AB35: =SUM(AB25:AB34) -> 0 | AC35: =(AC25*$AI$25+AC26*$AI$26+AC27*$AI$27+AC28*$AI$28+AC29*$AI$29+AC30*$AI$30+AC31*$AI$31+AC32*$AI$32+AC33*$AI$33+AC34*$AI$34)/$AI$35 -> 0 | AD35: =SUM(AD25:AD34) -> 0 | AE35: =SUM(AE25:AE34) -> 0 | AF35: =(AF25*$AI$25+AF26*$AI$26+AF27*$AI$27+AF28*$AI$28+AF29*$AI$29+AF30*$AI$30+AF31*$AI$31+AF32*$AI$32+AF33*$AI$33+AF34*$AI$34)/$AI$35 -> 0.33151069 | AG35: =SUM(AG25:AG34) -> 56452 | AH35: =SUM(AH25:AH34) -> 592 | AI35: =SUM(AI25:AI34) -> 587 | AL35: Total | AM35: =SUM(AM25:AM34) -> 3451.7 | AN35: =SUM(AN25:AN34) -> 1862.8 | AO35: =SUM(AO25:AO34) -> 1588.9 | AP35: =SUM(AP25:AP34) -> 1476.9 | AQ35: =(AQ25*$BA$25+AQ26*$BA$26+AQ27*$BA$27+AQ28*$BA$28+AQ29*$BA$29+AQ30*$BA$30+AQ31*$BA$31+AQ32*$BA$32+AQ33*$BA$33+AQ34*$BA$34)/$BA$35 -> 0.25308773 | AR35: =SUM(AR25:AR34) -> 2271.4 | AS35: =(AS25*$BA$25+AS26*$BA$26+AS27*$BA$27+AS28*$BA$28+AS29*$BA$29+AS30*$BA$30+AS31*$BA$31+AS32*$BA$32+AS33*$BA$33+AS34*$BA$34)/$BA$35 -> 0.34708026 | AT35: =SUM(AT25:AT34) -> 0 | AU35: =(AU25*$BA$25+AU26*$BA$26+AU27*$BA$27+AU28*$BA$28+AU29*$BA$29+AU30*$BA$30+AU31*$BA$31+AU32*$BA$32+AU33*$BA$33+AU34*$BA$34)/$BA$35 -> 0 | AV35: =SUM(AV25:AV34) -> 0 | AW35: =SUM(AW25:AW34) -> 0 | AX35: =(AX25*$BA$25+AX26*$BA$26+AX27*$BA$27+AX28*$BA$28+AX29*$BA$29+AX30*$BA$30+AX31*$BA$31+AX32*$BA$32+AX33*$BA$33+AX34*$BA$34)/$BA$35 -> 0.39983201 | AY35: =SUM(AY25:AY34) -> 64378 | AZ35: =SUM(AZ25:AZ34) -> 592 | BA35: =SUM(BA25:BA34) -> 587 | BD35: Total | BE35: =SUM(BE25:BE34) -> 0 | BF35: =SUM(BF25:BF34) -> 0 | BG35: =SUM(BG25:BG34) -> 0 | BH35: =SUM(BH25:BH34) -> 0 | BI35: =(BI25*$BS25+BI26*$BS26+BI27*$BS27+BI28*$BS28+BI29*$BS29+BI30*$BS30+BI31*$BS31+BI32*$BS32+BI33*$BS33+BI34*$BS34)/$BS35 -> #DIV/0! | BJ35: =SUM(BJ25:BJ34) -> 0 | BK35: =(BK25*$BS25+BK26*$BS26+BK27*$BS27+BK28*$BS28+BK29*$BS29+BK30*$BS30+BK31*$BS31+BK32*$BS32+BK33*$BS33+BK34*$BS34)/$BS35 -> #DIV/0! | BL35: =SUM(BL25:BL34) -> 0 | BM35: =(BM25*$BS25+BM26*$BS26+BM27*$BS27+BM28*$BS28+BM29*$BS29+BM30*$BS30+BM31*$BS31+BM32*$BS32+BM33*$BS33+BM34*$BS34)/$BS35 -> #DIV/0! | BN35: =SUM(BN25:BN34) -> 0 | BO35: =SUM(BO25:BO34) -> 0 | BP35: =(BP25*$BS25+BP26*$BS26+BP27*$BS27+BP28*$BS28+BP29*$BS29+BP30*$BS30+BP31*$BS31+BP32*$BS32+BP33*$BS33+BP34*$BS34)/$BS35 -> #DIV/0! | BQ35: =SUM(BQ25:BQ34) -> 0 | BR35: =SUM(BR25:BR34) -> 592 | BS35: =SUM(BS25:BS34) -> 587 | BV35: Total | BW35: =SUM(BW25:BW34) -> 0 | BX35: =SUM(BX25:BX34) -> 0 | BY35: =SUM(BY25:BY34) -> 0 | BZ35: =SUM(BZ25:BZ34) -> 0 | CA35: =(CA25*$CK25+CA26*$CK26+CA27*$CK27+CA28*$CK28+CA29*$CK29+CA30*$CK30+CA31*$CK31+CA32*$CK32+CA33*$CK33+CA34*$CK34)/$CK35 -> #DIV/0! | CB35: =SUM(CB25:CB34) -> 0 | CC35: =(CC25*$CK25+CC26*$CK26+CC27*$CK27+CC28*$CK28+CC29*$CK29+CC30*$CK30+CC31*$CK31+CC32*$CK32+CC33*$CK33+CC34*$CK34)/$CK35 -> #DIV/0! | CD35: =SUM(CD25:CD34) -> 0 | CE35: =(CE25*$CK25+CE26*$CK26+CE27*$CK27+CE28*$CK28+CE29*$CK29+CE30*$CK30+CE31*$CK31+CE32*$CK32+CE33*$CK33+CE34*$CK34)/$CK35 -> #DIV/0! | CF35: =SUM(CF25:CF34) -> 0 | CG35: =SUM(CG25:CG34) -> 0 | CH35: =(CH25*$CK25+CH26*$CK26+CH27*$CK27+CH28*$CK28+CH29*$CK29+CH30*$CK30+CH31*$CK31+CH32*$CK32+CH33*$CK33+CH34*$CK34)/$CK35 -> #DIV/0! | CI35: =SUM(CI25:CI34) -> 0 | CJ35: =SUM(CJ25:CJ34) -> 592 | CK35: =SUM(CK25:CK34) -> 587 | CN35: Total | CO35: =SUM(CO25:CO34) -> 0 | CP35: =SUM(CP25:CP34) -> 0 | CQ35: =SUM(CQ25:CQ34) -> 0 | CR35: =SUM(CR25:CR34) -> 0 | CS35: =(CS25*$DC25+CS26*$DC26+CS27*$DC27+CS28*$DC28+CS29*$DC29+CS30*$DC30+CS31*$DC31+CS32*$DC32+CS33*$DC33+CS34*$DC34)/$DC35 -> #DIV/0! | CT35: =SUM(CT25:CT34) -> 0 | CU35: =(CU25*$DC25+CU26*$DC26+CU27*$DC27+CU28*$DC28+CU29*$DC29+CU30*$DC30+CU31*$DC31+CU32*$DC32+CU33*$DC33+CU34*$DC34)/$DC35 -> #DIV/0! | CV35: =SUM(CV25:CV34) -> 0 | CW35: =(CW25*$DC25+CW26*$DC26+CW27*$DC27+CW28*$DC28+CW29*$DC29+CW30*$DC30+CW31*$DC31+CW32*$DC32+CW33*$DC33+CW34*$DC34)/$DC35 -> #DIV/0! | CX35: =SUM(CX25:CX34) -> 0 | CY35: =SUM(CY25:CY34) -> 0 | CZ35: =(CZ25*$DC25+CZ26*$DC26+CZ27*$DC27+CZ28*$DC28+CZ29*$DC29+CZ30*$DC30+CZ31*$DC31+CZ32*$DC32+CZ33*$DC33+CZ34*$DC34)/$DC35 -> #DIV/0! | DA35: =SUM(DA25:DA34) -> 0 | DB35: =SUM(DB25:DB34) -> 592 | DC35: =SUM(DC25:DC34) -> 587 | DF35: Total | DG35: =SUM(DG25:DG34) -> 0 | DH35: =SUM(DH25:DH34) -> 0 | DI35: =SUM(DI25:DI34) -> 0 | DJ35: =SUM(DJ25:DJ34) -> 0 | DK35: =(DK25*$DU25+DK26*$DU26+DK27*$DU27+DK28*$DU28+DK29*$DU29+DK30*$DU30+DK31*$DU31+DK32*$DU32+DK33*$DU33+DK34*$DU34)/$DU35 -> #DIV/0! | DL35: =SUM(DL25:DL34) -> 0 | DM35: =(DM25*$DU25+DM26*$DU26+DM27*$DU27+DM28*$DU28+DM29*$DU29+DM30*$DU30+DM31*$DU31+DM32*$DU32+DM33*$DU33+DM34*$DU34)/$DU35 -> #DIV/0! | DN35: =SUM(DN25:DN34) -> 0 | DO35: =(DO25*$DU25+DO26*$DU26+DO27*$DU27+DO28*$DU28+DO29*$DU29+DO30*$DU30+DO31*$DU31+DO32*$DU32+DO33*$DU33+DO34*$DU34)/$DU35 -> #DIV/0! | DP35: =SUM(DP25:DP34) -> 0 | DQ35: =SUM(DQ25:DQ34) -> 0 | DR35: =(DR25*$DU25+DR26*$DU26+DR27*$DU27+DR28*$DU28+DR29*$DU29+DR30*$DU30+DR31*$DU31+DR32*$DU32+DR33*$DU33+DR34*$DU34)/$DU35 -> #DIV/0! | DS35: =SUM(DS25:DS34) -> 0 | DT35: =SUM(DT25:DT34) -> 592 | DU35: =SUM(DU25:DU34) -> 587 | DX35: Total | DY35: =SUM(DY25:DY34) -> 0 | DZ35: =SUM(DZ25:DZ34) -> 0 | EA35: =SUM(EA25:EA34) -> 0 | EB35: =SUM(EB25:EB34) -> 0 | EC35: =(EC25*$EM25+EC26*$EM26+EC27*$EM27+EC28*$EM28+EC29*$EM29+EC30*$EM30+EC31*$EM31+EC32*$EM32+EC33*$EM33+EC34*$EM34)/$EM35 -> #DIV/0! | ED35: =SUM(ED25:ED34) -> 0 | EE35: =(EE25*$EM25+EE26*$EM26+EE27*$EM27+EE28*$EM28+EE29*$EM29+EE30*$EM30+EE31*$EM31+EE32*$EM32+EE33*$EM33+EE34*$EM34)/$EM35 -> #DIV/0! | EF35: =SUM(EF25:EF34) -> 0 | EG35: =(EG25*$EM25+EG26*$EM26+EG27*$EM27+EG28*$EM28+EG29*$EM29+EG30*$EM30+EG31*$EM31+EG32*$EM32+EG33*$EM33+EG34*$EM34)/$EM35 -> #DIV/0! | EH35: =SUM(EH25:EH34) -> 0 | EI35: =SUM(EI25:EI34) -> 0 | EJ35: =(EJ25*$EM25+EJ26*$EM26+EJ27*$EM27+EJ28*$EM28+EJ29*$EM29+EJ30*$EM30+EJ31*$EM31+EJ32*$EM32+EJ33*$EM33+EJ34*$EM34)/$EM35 -> #DIV/0! | EK35: =SUM(EK25:EK34) -> 0 | EL35: =SUM(EL25:EL34) -> 592 | EM35: =SUM(EM25:EM34) -> 587 | EP35: Total | EQ35: =SUM(EQ25:EQ34) -> 0 | ER35: =SUM(ER25:ER34) -> 0 | ES35: =SUM(ES25:ES34) -> 0 | ET35: =SUM(ET25:ET34) -> 0 | EU35: =(EU25*$FE25+EU26*$FE26+EU27*$FE27+EU28*$FE28+EU29*$FE29+EU30*$FE30+EU31*$FE31+EU32*$FE32+EU33*$FE33+EU34*$FE34)/$FE35 -> #DIV/0! | EV35: =SUM(EV25:EV34) -> 0 | EW35: =(EW25*$FE25+EW26*$FE26+EW27*$FE27+EW28*$FE28+EW29*$FE29+EW30*$FE30+EW31*$FE31+EW32*$FE32+EW33*$FE33+EW34*$FE34)/$FE35 -> #DIV/0! | EX35: =SUM(EX25:EX34) -> 0 | EY35: =(EY25*$FE25+EY26*$FE26+EY27*$FE27+EY28*$FE28+EY29*$FE29+EY30*$FE30+EY31*$FE31+EY32*$FE32+EY33*$FE33+EY34*$FE34)/$FE35 -> #DIV/0! | EZ35: =SUM(EZ25:EZ34) -> 0 | FA35: =SUM(FA25:FA34) -> 0 | FB35: =(FB25*$FE25+FB26*$FE26+FB27*$FE27+FB28*$FE28+FB29*$FE29+FB30*$FE30+FB31*$FE31+FB32*$FE32+FB33*$FE33+FB34*$FE34)/$FE35 -> #DIV/0! | FC35: =SUM(FC25:FC34) -> 0 | FD35: =SUM(FD25:FD34) -> 592 | FE35: =SUM(FE25:FE34) -> 587 | FH35: Total | FI35: =SUM(FI25:FI34) -> 0 | FJ35: =SUM(FJ25:FJ34) -> 0 | FK35: =SUM(FK25:FK34) -> 0 | FL35: =SUM(FL25:FL34) -> 0 | FM35: =(FM25*$FW25+FM26*$FW26+FM27*$FW27+FM28*$FW28+FM29*$FW29+FM30*$FW30+FM31*$FW31+FM32*$FW32+FM33*$FW33+FM34*$FW34)/$FW35 -> #DIV/0! | FN35: =SUM(FN25:FN34) -> 0 | FO35: =(FO25*$FW25+FO26*$FW26+FO27*$FW27+FO28*$FW28+FO29*$FW29+FO30*$FW30+FO31*$FW31+FO32*$FW32+FO33*$FW33+FO34*$FW34)/$FW35 -> #DIV/0! | FP35: =SUM(FP25:FP34) -> 0 | FQ35: =(FQ25*$FW25+FQ26*$FW26+FQ27*$FW27+FQ28*$FW28+FQ29*$FW29+FQ30*$FW30+FQ31*$FW31+FQ32*$FW32+FQ33*$FW33+FQ34*$FW34)/$FW35 -> #DIV/0! | FR35: =SUM(FR25:FR34) -> 0 | FS35: =SUM(FS25:FS34) -> 0 | FT35: =(FT25*$FW25+FT26*$FW26+FT27*$FW27+FT28*$FW28+FT29*$FW29+FT30*$FW30+FT31*$FW31+FT32*$FW32+FT33*$FW33+FT34*$FW34)/$FW35 -> #DIV/0! | FU35: =SUM(FU25:FU34) -> 0 | FV35: =SUM(FV25:FV34) -> 592 | FW35: =SUM(FW25:FW34) -> 587 | FZ35: Total | GA35: =SUM(GA25:GA34) -> 0 | GB35: =SUM(GB25:GB34) -> 0 | GC35: =SUM(GC25:GC34) -> 0 | GD35: =SUM(GD25:GD34) -> 0 | GE35: =(GE25*$GO25+GE26*$GO26+GE27*$GO27+GE28*$GO28+GE29*$GO29+GE30*$GO30+GE31*$GO31+GE32*$GO32+GE33*$GO33+GE34*$GO34)/$GO35 -> #DIV/0! | GF35: =SUM(GF25:GF34) -> 0 | GG35: =(GG25*$GO25+GG26*$GO26+GG27*$GO27+GG28*$GO28+GG29*$GO29+GG30*$GO30+GG31*$GO31+GG32*$GO32+GG33*$GO33+GG34*$GO34)/$GO35 -> #DIV/0! | GH35: =SUM(GH25:GH34) -> 0 | GI35: =(GI25*$GO25+GI26*$GO26+GI27*$GO27+GI28*$GO28+GI29*$GO29+GI30*$GO30+GI31*$GO31+GI32*$GO32+GI33*$GO33+GI34*$GO34)/$GO35 -> #DIV/0! | GJ35: =SUM(GJ25:GJ34) -> 0 | GK35: =SUM(GK25:GK34) -> 0 | GL35: =(GL25*$GO25+GL26*$GO26+GL27*$GO27+GL28*$GO28+GL29*$GO29+GL30*$GO30+GL31*$GO31+GL32*$GO32+GL33*$GO33+GL34*$GO34)/$GO35 -> #DIV/0! | GM35: =SUM(GM25:GM34) -> 0 | GN35: =SUM(GN25:GN34) -> 592 | GO35: =SUM(GO25:GO34) -> 587 | GR35: Total | GS35: =SUM(GS25:GS34) -> 0 | GT35: =SUM(GT25:GT34) -> 0 | GU35: =SUM(GU25:GU34) -> 0 | GV35: =SUM(GV25:GV34) -> 0 | GW35: =(GW25*$HG25+GW26*$HG26+GW27*$HG27+GW28*$HG28+GW29*$HG29+GW30*$HG30+GW31*$HG31+GW32*$HG32+GW33*$HG33+GW34*$HG34)/$HG35 -> #DIV/0! | GX35: =SUM(GX25:GX34) -> 0 | GY35: =(GY25*$HG25+GY26*$HG26+GY27*$HG27+GY28*$HG28+GY29*$HG29+GY30*$HG30+GY31*$HG31+GY32*$HG32+GY33*$HG33+GY34*$HG34)/$HG35 -> #DIV/0! | GZ35: =SUM(GZ25:GZ34) -> 0 | HA35: =(HA25*$HG25+HA26*$HG26+HA27*$HG27+HA28*$HG28+HA29*$HG29+HA30*$HG30+HA31*$HG31+HA32*$HG32+HA33*$HG33+HA34*$HG34)/$HG35 -> #DIV/0! | HB35: =SUM(HB25:HB34) -> 0 | HC35: =SUM(HC25:HC34) -> 0 | HD35: =(HD25*$HG25+HD26*$HG26+HD27*$HG27+HD28*$HG28+HD29*$HG29+HD30*$HG30+HD31*$HG31+HD32*$HG32+HD33*$HG33+HD34*$HG34)/$HG35 -> #DIV/0! | HE35: =SUM(HE25:HE34) -> 0 | HF35: =SUM(HF25:HF34) -> 592 | HG35: =SUM(HG25:HG34) -> 587
A36: PALO SECO | B36: 1-1 | C36: 0 | D36: 0 | E36: 0 | F36: 744 | G36: =F36/$B$4 -> 1 | H36: 0 | I36: =H36/$B$4 -> 0 | J36: 0 | K36: =J36/$B$4 -> 0 | L36: ='[2]UNIT DATA'!P7 -> 0 | M36: ='[2]UNIT DATA'!Q7 -> 0 | N36: =(C36-L36-M36)/$B$4 -> 0 | O36: 0 | P36: 21 | Q36: 21 | S36: PALO SECO | T36: 1-1 | U36: 0 | V36: 0 | W36: 0 | X36: 744 | Y36: =X36/$T$4 -> 1 | Z36: 0 | AA36: =Z36/$T$4 -> 0 | AB36: 0 | AC36: =AB36/$T$4 -> 0 | AD36: 0 | AE36: 0 | AF36: =(U36-AD36-AE36)/$T$4 -> 0 | AG36: 0 | AH36: 21 | AI36: 21 | AK36: PALO SECO | AL36: 1-1 | AM36: 0 | AN36: 0 | AO36: 0 | AP36: 720 | AQ36: =AP36/$AL$4 -> 1 | AR36: 0 | AS36: =AR36/$AL$4 -> 0 | AT36: 0 | AU36: =AT36/$AL$4 -> 0 | AV36: 0 | AW36: 0 | AX36: =(AM36-AV36-AW36)/$AL$4 -> 0 | AY36: 0 | AZ36: 21 | BA36: 21 | BC36: PALO SECO | BD36: 1-1 | BI36: =BH36/$BD$4 -> #DIV/0! | BK36: =BJ36/$BD$4 -> #DIV/0! | BM36: =BL36/$BD$4 -> #DIV/0! | BP36: =(BE36-BO36)/$BD$4 -> #DIV/0! | BR36: 21 | BS36: 21 | BU36: PALO SECO | BV36: 1-1 | CA36: =BZ36/$BV$4 -> #DIV/0! | CC36: =CB36/$BV$4 -> #DIV/0! | CE36: =CD36/$BV$4 -> #DIV/0! | CH36: =(BW36-CF36-CG36)/$BV$4 -> #DIV/0! | CJ36: 21 | CK36: 21 | CM36: PALO SECO | CN36: 1-1 | CS36: =CR36/$CN$4 -> #DIV/0! | CU36: =CT36/$CN$4 -> #DIV/0! | CW36: =CV36/$CN$4 -> #DIV/0! | CZ36: =(CO36-CX36-CY36)/$CN$4 -> #DIV/0! | DB36: 21 | DC36: 21 | DE36: PALO SECO | DF36: 1-1 | DK36: =DJ36/$DF$4 -> #DIV/0! | DM36: =DL36/$DF$4 -> #DIV/0! | DO36: =DN36/$DF$4 -> #DIV/0! | DR36: =(DG36-DP36-DQ36)/$DF$4 -> #DIV/0! | DT36: 21 | DU36: 21 | DW36: PALO SECO | DX36: 1-1 | EC36: =EB36/$DX$4 -> #DIV/0! | EE36: =ED36/$DX$4 -> #DIV/0! | EG36: =EF36/$DX$4 -> #DIV/0! | EJ36: =(DY36-EH36-EI36)/$DX$4 -> #DIV/0! | EL36: 21 | EM36: 21 | EO36: PALO SECO | EP36: 1-1 | EU36: =ET36/$EP$4 -> #DIV/0! | EW36: =EV36/$EP$4 -> #DIV/0! | EY36: =EX36/$EP$4 -> #DIV/0! | FB36: =(EQ36-EZ36-FA36)/$EP$4 -> #DIV/0! | FD36: 21 | FE36: 21 | FG36: PALO SECO | FH36: 1-1 | FM36: =FL36/$FH$4 -> #DIV/0! | FO36: =FN36/$FH$4 -> #DIV/0! | FQ36: =FP36/$FH$4 -> #DIV/0! | FT36: =(FI36-FR36-FS36)/$FH$4 -> #DIV/0! | FV36: 21 | FW36: 21 | FY36: PALO SECO | FZ36: 1-1 | GE36: =GD36/$FZ$4 -> #DIV/0! | GG36: =GF36/$FZ$4 -> #DIV/0! | GI36: =GH36/$FZ$4 -> #DIV/0! | GL36: =(GA36-GJ36-GK36)/$FZ$4 -> #DIV/0! | GN36: 21 | GO36: 21 | GQ36: PALO SECO | GR36: 1-1 | GW36: =GV36/$GR$4 -> #DIV/0! | GY36: =GX36/$GR$4 -> #DIV/0! | HA36: =GZ36/$GR$4 -> #DIV/0! | HD36: =(GS36-HC36)/$GR$4 -> #DIV/0! | HF36: 21 | HG36: 21
B37: 1-2 | C37: 740.82 | D37: 372.1 | E37: 368.72 | F37: 3.18 | G37: =F37/$B$4 -> 0.0042741935 | H37: 0 | I37: =H37/$B$4 -> 0 | J37: 0 | K37: =J37/$B$4 -> 0 | L37: ='[2]UNIT DATA'!P8 -> 0 | M37: ='[2]UNIT DATA'!Q8 -> 0 | N37: =(C37-L37-M37)/$B$4 -> 0.99572581 | O37: 6689 | P37: 21 | Q37: 19 | T37: 1-2 | U37: 636.41 | V37: 353.04 | W37: 283.37 | X37: 107.59 | Y37: =X37/$T$4 -> 0.14461022 | Z37: 0 | AA37: =Z37/$T$4 -> 0 | AB37: 0 | AC37: =AB37/$T$4 -> 0 | AD37: 0 | AE37: 0 | AF37: =(U37-AD37-AE37)/$T$4 -> 0.85538978 | AG37: 6387 | AH37: 21 | AI37: 19 | AL37: 1-2 | AM37: 567.95 | AN37: 293.61 | AO37: 274.34 | AP37: 152.05 | AQ37: =AP37/$AL$4 -> 0.21118056 | AR37: 0 | AS37: =AR37/$AL$4 -> 0 | AT37: 0 | AU37: =AT37/$AL$4 -> 0 | AV37: 0 | AW37: 0 | AX37: =(AM37-AV37-AW37)/$AL$4 -> 0.78881944 | AY37: 5328 | AZ37: 21 | BA37: 19 | BD37: 1-2 | BI37: =BH37/$BD$4 -> #DIV/0! | BK37: =BJ37/$BD$4 -> #DIV/0! | BM37: =BL37/$BD$4 -> #DIV/0! | BP37: =(BE37-BO37)/$BD$4 -> #DIV/0! | BR37: 21 | BS37: 19 | BV37: 1-2 | CA37: =BZ37/$BV$4 -> #DIV/0! | CC37: =CB37/$BV$4 -> #DIV/0! | CE37: =CD37/$BV$4 -> #DIV/0! | CH37: =(BW37-CF37-CG37)/$BV$4 -> #DIV/0! | CJ37: 21 | CK37: 19 | CN37: 1-2 | CS37: =CR37/$CN$4 -> #DIV/0! | CU37: =CT37/$CN$4 -> #DIV/0! | CW37: =CV37/$CN$4 -> #DIV/0! | CZ37: =(CO37-CX37-CY37)/$CN$4 -> #DIV/0! | DB37: 21 | DC37: 19 | DF37: 1-2 | DK37: =DJ37/$DF$4 -> #DIV/0! | DM37: =DL37/$DF$4 -> #DIV/0! | DO37: =DN37/$DF$4 -> #DIV/0! | DR37: =(DG37-DP37-DQ37)/$DF$4 -> #DIV/0! | DT37: 21 | DU37: 19 | DX37: 1-2 | EC37: =EB37/$DX$4 -> #DIV/0! | EE37: =ED37/$DX$4 -> #DIV/0! | EG37: =EF37/$DX$4 -> #DIV/0! | EJ37: =(DY37-EH37-EI37)/$DX$4 -> #DIV/0! | EL37: 21 | EM37: 19 | EP37: 1-2 | EU37: =ET37/$EP$4 -> #DIV/0! | EW37: =EV37/$EP$4 -> #DIV/0! | EY37: =EX37/$EP$4 -> #DIV/0! | FB37: =(EQ37-EZ37-FA37)/$EP$4 -> #DIV/0! | FD37: 21 | FE37: 19 | FH37: 1-2 | FM37: =FL37/$FH$4 -> #DIV/0! | FO37: =FN37/$FH$4 -> #DIV/0! | FQ37: =FP37/$FH$4 -> #DIV/0! | FT37: =(FI37-FR37-FS37)/$FH$4 -> #DIV/0! | FV37: 21 | FW37: 19 | FZ37: 1-2 | GE37: =GD37/$FZ$4 -> #DIV/0! | GG37: =GF37/$FZ$4 -> #DIV/0! | GI37: =GH37/$FZ$4 -> #DIV/0! | GL37: =(GA37-GJ37-GK37)/$FZ$4 -> #DIV/0! | GN37: 21 | GO37: 19 | GR37: 1-2 | GW37: =GV37/$GR$4 -> #DIV/0! | GY37: =GX37/$GR$4 -> #DIV/0! | HA37: =GZ37/$GR$4 -> #DIV/0! | HD37: =(GS37-HC37)/$GR$4 -> #DIV/0! | HF37: 21 | HG37: 19
B38: 2-1 | C38: 0 | D38: 0 | E38: 0 | F38: 744 | G38: =F38/$B$4 -> 1 | H38: 0 | I38: =H38/$B$4 -> 0 | J38: 0 | K38: =J38/$B$4 -> 0 | L38: ='[2]UNIT DATA'!P9 -> 0 | M38: ='[2]UNIT DATA'!Q9 -> 0 | N38: =(C38-L38-M38)/$B$4 -> 0 | O38: 0 | P38: 21 | Q38: 21 | T38: 2-1 | U38: 0 | V38: 0 | W38: 0 | X38: 744 | Y38: =X38/$T$4 -> 1 | Z38: 0 | AA38: =Z38/$T$4 -> 0 | AB38: 0 | AC38: =AB38/$T$4 -> 0 | AD38: 0 | AE38: 0 | AF38: =(U38-AD38-AE38)/$T$4 -> 0 | AG38: 0 | AH38: 21 | AI38: 21 | AL38: 2-1 | AM38: 0 | AN38: 0 | AO38: 0 | AP38: 720 | AQ38: =AP38/$AL$4 -> 1 | AR38: 0 | AS38: =AR38/$AL$4 -> 0 | AT38: 0 | AU38: =AT38/$AL$4 -> 0 | AV38: 0 | AW38: 0 | AX38: =(AM38-AV38-AW38)/$AL$4 -> 0 | AY38: 0 | AZ38: 21 | BA38: 21 | BD38: 2-1 | BI38: =BH38/$BD$4 -> #DIV/0! | BK38: =BJ38/$BD$4 -> #DIV/0! | BM38: =BL38/$BD$4 -> #DIV/0! | BP38: =(BE38-BO38)/$BD$4 -> #DIV/0! | BR38: 21 | BS38: 21 | BV38: 2-1 | CA38: =BZ38/$BV$4 -> #DIV/0! | CC38: =CB38/$BV$4 -> #DIV/0! | CE38: =CD38/$BV$4 -> #DIV/0! | CH38: =(BW38-CF38-CG38)/$BV$4 -> #DIV/0! | CJ38: 21 | CK38: 21 | CN38: 2-1 | CS38: =CR38/$CN$4 -> #DIV/0! | CU38: =CT38/$CN$4 -> #DIV/0! | CW38: =CV38/$CN$4 -> #DIV/0! | CZ38: =(CO38-CX38-CY38)/$CN$4 -> #DIV/0! | DB38: 21 | DC38: 21 | DF38: 2-1 | DK38: =DJ38/$DF$4 -> #DIV/0! | DM38: =DL38/$DF$4 -> #DIV/0! | DO38: =DN38/$DF$4 -> #DIV/0! | DR38: =(DG38-DP38-DQ38)/$DF$4 -> #DIV/0! | DT38: 21 | DU38: 21 | DX38: 2-1 | EC38: =EB38/$DX$4 -> #DIV/0! | EE38: =ED38/$DX$4 -> #DIV/0! | EG38: =EF38/$DX$4 -> #DIV/0! | EJ38: =(DY38-EH38-EI38)/$DX$4 -> #DIV/0! | EL38: 21 | EM38: 21 | EP38: 2-1 | EU38: =ET38/$EP$4 -> #DIV/0! | EW38: =EV38/$EP$4 -> #DIV/0! | EY38: =EX38/$EP$4 -> #DIV/0! | FB38: =(EQ38-EZ38-FA38)/$EP$4 -> #DIV/0! | FD38: 21 | FE38: 21 | FH38: 2-1 | FM38: =FL38/$FH$4 -> #DIV/0! | FO38: =FN38/$FH$4 -> #DIV/0! | FQ38: =FP38/$FH$4 -> #DIV/0! | FT38: =(FI38-FR38-FS38)/$FH$4 -> #DIV/0! | FV38: 21 | FW38: 21 | FZ38: 2-1 | GE38: =GD38/$FZ$4 -> #DIV/0! | GG38: =GF38/$FZ$4 -> #DIV/0! | GI38: =GH38/$FZ$4 -> #DIV/0! | GL38: =(GA38-GJ38-GK38)/$FZ$4 -> #DIV/0! | GN38: 21 | GO38: 21 | GR38: 2-1 | GW38: =GV38/$GR$4 -> #DIV/0! | GY38: =GX38/$GR$4 -> #DIV/0! | HA38: =GZ38/$GR$4 -> #DIV/0! | HD38: =(GS38-HC38)/$GR$4 -> #DIV/0! | HF38: 21 | HG38: 21
B39: Total | C39: =SUM(C36:C38) -> 740.82 | D39: =SUM(D36:D38) -> 372.1 | E39: =SUM(E36:E38) -> 368.72 | F39: =SUM(F36:F38) -> 1491.18 | G39: =(G36*Q36+G37*Q37+G38*Q38)/Q39 -> 0.6898559 | H39: =SUM(H36:H38) -> 0 | I39: =(I36*Q36+I37*Q37+I38*Q38)/Q39 -> 0 | J39: =SUM(J36:J38) -> 0 | K39: =(K36*Q36+K37*Q37+K38*Q38)/Q39 -> 0 | L39: =SUM(L36:L38) -> 0 | M39: =SUM(M36:M38) -> 0 | N39: =(N36*Q36+N37*Q37+N38*Q38)/Q39 -> 0.3101441 | O39: =SUM(O36:O38) -> 6689 | P39: =SUM(P36:P38) -> 63 | Q39: =SUM(Q36:Q38) -> 61 | T39: Total | U39: =SUM(U36:U38) -> 636.41 | V39: =SUM(V36:V38) -> 353.04 | W39: =SUM(W36:W38) -> 283.37 | X39: =SUM(X36:X38) -> 1595.59 | Y39: =(Y36*$AI$36+Y37*$AI$37+Y38*$AI$38)/$AI$39 -> 0.73356712 | Z39: =SUM(Z36:Z38) -> 0 | AA39: =(AA36*$AI$36+AA37*$AI$37+AA38*$AI$38)/$AI$39 -> 0 | AB39: =SUM(AB36:AB38) -> 0 | AC39: =(AC36*$AI$36+AC37*$AI$37+AC38*$AI$38)/$AI$39 -> 0 | AD39: =SUM(AD36:AD38) -> 0 | AE39: =SUM(AE36:AE38) -> 0 | AF39: =(AF36*$AI$36+AF37*$AI$37+AF38*$AI$38)/$AI$39 -> 0.26643288 | AG39: =SUM(AG36:AG38) -> 6387 | AH39: =SUM(AH36:AH38) -> 63 | AI39: =SUM(AI36:AI38) -> 61 | AL39: Total | AM39: =SUM(AM36:AM38) -> 567.95 | AN39: =SUM(AN36:AN38) -> 293.61 | AO39: =SUM(AO36:AO38) -> 274.34 | AP39: =SUM(AP36:AP38) -> 1592.05 | AQ39: =(AQ36*$BA36+AQ37*$BA37+AQ38*$BA38)/$BA39 -> 0.75430214 | AR39: =SUM(AR36:AR38) -> 0 | AS39: =(AS36*$BA36+AS37*$BA37+AS38*$BA38)/$BA39 -> 0 | AT39: =SUM(AT36:AT38) -> 0 | AU39: =(AU36*$BA36+AU37*$BA37+AU38*$BA38)/$BA39 -> 0 | AV39: =SUM(AV36:AV38) -> 0 | AW39: =SUM(AW36:AW38) -> 0 | AX39: =(AX36*$BA36+AX37*$BA37+AX38*$BA38)/$BA39 -> 0.24569786 | AY39: =SUM(AY36:AY38) -> 5328 | AZ39: =SUM(AZ36:AZ38) -> 63 | BA39: =SUM(BA36:BA38) -> 61 | BD39: Total | BE39: =SUM(BE36:BE38) -> 0 | BF39: =SUM(BF36:BF38) -> 0 | BG39: =SUM(BG36:BG38) -> 0 | BH39: =SUM(BH36:BH38) -> 0 | BI39: =(BI36*$BS36+BI37*$BS37+BI38*$BS38)/$BS39 -> #DIV/0! | BJ39: =SUM(BJ36:BJ38) -> 0 | BK39: =(BK36*$BS36+BK37*$BS37+BK38*$BS38)/$BS39 -> #DIV/0! | BL39: =SUM(BL36:BL38) -> 0 | BM39: =(BM36*$BS36+BM37*$BS37+BM38*$BS38)/$BS39 -> #DIV/0! | BN39: =SUM(BN36:BN38) -> 0 | BO39: =SUM(BO36:BO38) -> 0 | BP39: =(BP36*$BS36+BP37*$BS37+BP38*$BS38)/$BS39 -> #DIV/0! | BQ39: =SUM(BQ36:BQ38) -> 0 | BR39: =SUM(BR36:BR38) -> 63 | BS39: =SUM(BS36:BS38) -> 61 | BV39: Total | BW39: =SUM(BW36:BW38) -> 0 | BX39: =SUM(BX36:BX38) -> 0 | BY39: =SUM(BY36:BY38) -> 0 | BZ39: =SUM(BZ36:BZ38) -> 0 | CA39: =(CA36*$CK36+CA37*$CK37+CA38*$CK38)/$CK39 -> #DIV/0! | CB39: =SUM(CB36:CB38) -> 0 | CC39: =(CC36*$CK36+CC37*$CK37+CC38*$CK38)/$CK39 -> #DIV/0! | CD39: =SUM(CD36:CD38) -> 0 | CE39: =(CE36*$CK36+CE37*$CK37+CE38*$CK38)/$CK39 -> #DIV/0! | CF39: =SUM(CF36:CF38) -> 0 | CG39: =SUM(CG36:CG38) -> 0 | CH39: =(CH36*$CK36+CH37*$CK37+CH38*$CK38)/$CK39 -> #DIV/0! | CI39: =SUM(CI36:CI38) -> 0 | CJ39: =SUM(CJ36:CJ38) -> 63 | CK39: =SUM(CK36:CK38) -> 61 | CN39: Total | CO39: =SUM(CO36:CO38) -> 0 | CP39: =SUM(CP36:CP38) -> 0 | CQ39: =SUM(CQ36:CQ38) -> 0 | CR39: =SUM(CR36:CR38) -> 0 | CS39: =(CS36*$DC36+CS37*$DC37+CS38*$DC38)/$DC39 -> #DIV/0! | CT39: =SUM(CT36:CT38) -> 0 | CU39: =(CU36*$DC36+CU37*$DC37+CU38*$DC38)/$DC39 -> #DIV/0! | CV39: =SUM(CV36:CV38) -> 0 | CW39: =(CW36*$DC36+CW37*$DC37+CW38*$DC38)/$DC39 -> #DIV/0! | CX39: =SUM(CX36:CX38) -> 0 | CY39: =SUM(CY36:CY38) -> 0 | CZ39: =(CZ36*$DC36+CZ37*$DC37+CZ38*$DC38)/$DC39 -> #DIV/0! | DA39: =SUM(DA36:DA38) -> 0 | DB39: =SUM(DB36:DB38) -> 63 | DC39: =SUM(DC36:DC38) -> 61 | DF39: Total | DG39: =SUM(DG36:DG38) -> 0 | DH39: =SUM(DH36:DH38) -> 0 | DI39: =SUM(DI36:DI38) -> 0 | DJ39: =SUM(DJ36:DJ38) -> 0 | DK39: =(DK36*$DU36+DK37*$DU37+DK38*$DU38)/$DU39 -> #DIV/0! | DL39: =SUM(DL36:DL38) -> 0 | DM39: =(DM36*$DU36+DM37*$DU37+DM38*$DU38)/$DU39 -> #DIV/0! | DN39: =SUM(DN36:DN38) -> 0 | DO39: =(DO36*$DU36+DO37*$DU37+DO38*$DU38)/$DU39 -> #DIV/0! | DP39: =SUM(DP36:DP38) -> 0 | DQ39: =SUM(DQ36:DQ38) -> 0 | DR39: =(DR36*$DU36+DR37*$DU37+DR38*$DU38)/$DU39 -> #DIV/0! | DS39: =SUM(DS36:DS38) -> 0 | DT39: =SUM(DT36:DT38) -> 63 | DU39: =SUM(DU36:DU38) -> 61 | DX39: Total | DY39: =SUM(DY36:DY38) -> 0 | DZ39: =SUM(DZ36:DZ38) -> 0 | EA39: =SUM(EA36:EA38) -> 0 | EB39: =SUM(EB36:EB38) -> 0 | EC39: =(EC36*$EM36+EC37*$EM37+EC38*$EM38)/$EM39 -> #DIV/0! | ED39: =SUM(ED36:ED38) -> 0 | EE39: =(EE36*$EM36+EE37*$EM37+EE38*$EM38)/$EM39 -> #DIV/0! | EF39: =SUM(EF36:EF38) -> 0 | EG39: =(EG36*$EM36+EG37*$EM37+EG38*$EM38)/$EM39 -> #DIV/0! | EH39: =SUM(EH36:EH38) -> 0 | EI39: =SUM(EI36:EI38) -> 0 | EJ39: =(EJ36*$EM36+EJ37*$EM37+EJ38*$EM38)/$EM39 -> #DIV/0! | EK39: =SUM(EK36:EK38) -> 0 | EL39: =SUM(EL36:EL38) -> 63 | EM39: =SUM(EM36:EM38) -> 61 | EP39: Total | EQ39: =SUM(EQ36:EQ38) -> 0 | ER39: =SUM(ER36:ER38) -> 0 | ES39: =SUM(ES36:ES38) -> 0 | ET39: =SUM(ET36:ET38) -> 0 | EU39: =(EU36*$FE36+EU37*$FE37+EU38*$FE38)/$FE39 -> #DIV/0! | EV39: =SUM(EV36:EV38) -> 0 | EW39: =(EW36*$FE36+EW37*$FE37+EW38*$FE38)/$FE39 -> #DIV/0! | EX39: =SUM(EX36:EX38) -> 0 | EY39: =(EY36*$FE36+EY37*$FE37+EY38*$FE38)/$FE39 -> #DIV/0! | EZ39: =SUM(EZ36:EZ38) -> 0 | FA39: =SUM(FA36:FA38) -> 0 | FB39: =(FB36*$FE36+FB37*$FE37+FB38*$FE38)/$FE39 -> #DIV/0! | FC39: =SUM(FC36:FC38) -> 0 | FD39: =SUM(FD36:FD38) -> 63 | FE39: =SUM(FE36:FE38) -> 61 | FH39: Total | FI39: =SUM(FI36:FI38) -> 0 | FJ39: =SUM(FJ36:FJ38) -> 0 | FK39: =SUM(FK36:FK38) -> 0 | FL39: =SUM(FL36:FL38) -> 0 | FM39: =(FM36*$FW36+FM37*$FW37+FM38*$FW38)/$FW39 -> #DIV/0! | FN39: =SUM(FN36:FN38) -> 0 | FO39: =(FO36*$FW36+FO37*$FW37+FO38*$FW38)/$FW39 -> #DIV/0! | FP39: =SUM(FP36:FP38) -> 0 | FQ39: =(FQ36*$FW36+FQ37*$FW37+FQ38*$FW38)/$FW39 -> #DIV/0! | FR39: =SUM(FR36:FR38) -> 0 | FS39: =SUM(FS36:FS38) -> 0 | FT39: =(FT36*$FW36+FT37*$FW37+FT38*$FW38)/$FW39 -> #DIV/0! | FU39: =SUM(FU36:FU38) -> 0 | FV39: =SUM(FV36:FV38) -> 63 | FW39: =SUM(FW36:FW38) -> 61 | FZ39: Total | GA39: =SUM(GA36:GA38) -> 0 | GB39: =SUM(GB36:GB38) -> 0 | GC39: =SUM(GC36:GC38) -> 0 | GD39: =SUM(GD36:GD38) -> 0 | GE39: =(GE36*$GO36+GE37*$GO37+GE38*$GO38)/$GO39 -> #DIV/0! | GF39: =SUM(GF36:GF38) -> 0 | GG39: =(GG36*$GO36+GG37*$GO37+GG38*$GO38)/$GO39 -> #DIV/0! | GH39: =SUM(GH36:GH38) -> 0 | GI39: =(GI36*$GO36+GI37*$GO37+GI38*$GO38)/$GO39 -> #DIV/0! | GJ39: =SUM(GJ36:GJ38) -> 0 | GK39: =SUM(GK36:GK38) -> 0 | GL39: =(GL36*$GO36+GL37*$GO37+GL38*$GO38)/$GO39 -> #DIV/0! | GM39: =SUM(GM36:GM38) -> 0 | GN39: =SUM(GN36:GN38) -> 63 | GO39: =SUM(GO36:GO38) -> 61 | GR39: Total | GS39: =SUM(GS36:GS38) -> 0 | GT39: =SUM(GT36:GT38) -> 0 | GU39: =SUM(GU36:GU38) -> 0 | GV39: =SUM(GV36:GV38) -> 0 | GW39: =(GW36*$HG36+GW37*$HG37+GW38*$HG38)/$HG39 -> #DIV/0! | GX39: =SUM(GX36:GX38) -> 0 | GY39: =(GY36*$HG36+GY37*$HG37+GY38*$HG38)/$HG39 -> #DIV/0! | GZ39: =SUM(GZ36:GZ38) -> 0 | HA39: =(HA36*$HG36+HA37*$HG37+HA38*$HG38)/$HG39 -> #DIV/0! | HB39: =SUM(HB36:HB38) -> 0 | HC39: =SUM(HC36:HC38) -> 0 | HD39: =(HD36*$HG36+HD37*$HG37+HD38*$HG38)/$HG39 -> #DIV/0! | HE39: =SUM(HE36:HE38) -> 0 | HF39: =SUM(HF36:HF38) -> 63 | HG39: =SUM(HG36:HG38) -> 61
A40: JOBOS | B40: 1-2 | C40: 744 | D40: 219.9 | E40: 524.1 | F40: 0 | G40: =F40/$B$4 -> 0 | H40: 0 | I40: =H40/$B$4 -> 0 | J40: 0 | K40: =J40/$B$4 -> 0 | L40: ='[6]UNIT DATA'!P11 -> 0 | M40: ='[6]UNIT DATA'!Q11 -> 0 | N40: =(C40-L40-M40)/$B$4 -> 1 | O40: 4081 | P40: 21 | Q40: 18 | S40: JOBOS | T40: 1-2 | U40: 741.62 | V40: 227.3 | W40: 514.32 | X40: 2.38 | Y40: =X40/$T$4 -> 0.0031989247 | Z40: 0 | AA40: =Z40/$T$4 -> 0 | AB40: 0 | AC40: =AB40/$T$4 -> 0 | AD40: 0 | AE40: 0 | AF40: =(U40-AD40-AE40)/$T$4 -> 0.99680108 | AG40: 4212 | AH40: 21 | AI40: 18 | AK40: JOBOS | AL40: 1-2 | AM40: 718.93 | AN40: 202.6 | AO40: 516.33 | AP40: 1.07 | AQ40: =AP40/$AL$4 -> 0.0014861111 | AR40: 0 | AS40: =AR40/$AL$4 -> 0 | AT40: 0 | AU40: =AT40/$AL$4 -> 0 | AV40: 0 | AW40: 0 | AX40: =(AM40-AV40-AW40)/$AL$4 -> 0.99851389 | AY40: 3719 | AZ40: 21 | BA40: 18 | BC40: JOBOS | BD40: 1-2 | BI40: =BH40/$BD$4 -> #DIV/0! | BK40: =BJ40/$BD$4 -> #DIV/0! | BM40: =BL40/$BD$4 -> #DIV/0! | BP40: =(BE40-BO40)/$BD$4 -> #DIV/0! | BR40: 21 | BS40: 18 | BU40: JOBOS | BV40: 1-2 | CA40: =BZ40/$BV$4 -> #DIV/0! | CC40: =CB40/$BV$4 -> #DIV/0! | CE40: =CD40/$BV$4 -> #DIV/0! | CH40: =(BW40-CF40-CG40)/$BV$4 -> #DIV/0! | CJ40: 21 | CK40: 18 | CM40: JOBOS | CN40: 1-2 | CS40: =CR40/$CN$4 -> #DIV/0! | CU40: =CT40/$CN$4 -> #DIV/0! | CW40: =CV40/$CN$4 -> #DIV/0! | CZ40: =(CO40-CX40-CY40)/$CN$4 -> #DIV/0! | DB40: 21 | DC40: 18 | DE40: JOBOS | DF40: 1-2 | DK40: =DJ40/$DF$4 -> #DIV/0! | DM40: =DL40/$DF$4 -> #DIV/0! | DO40: =DN40/$DF$4 -> #DIV/0! | DR40: =(DG40-DP40-DQ40)/$DF$4 -> #DIV/0! | DT40: 21 | DU40: 18 | DW40: JOBOS | DX40: 1-2 | EC40: =EB40/$DX$4 -> #DIV/0! | EE40: =ED40/$DX$4 -> #DIV/0! | EG40: =EF40/$DX$4 -> #DIV/0! | EJ40: =(DY40-EH40-EI40)/$DX$4 -> #DIV/0! | EL40: 21 | EM40: 18 | EO40: JOBOS | EP40: 1-2 | EU40: =ET40/$EP$4 -> #DIV/0! | EW40: =EV40/$EP$4 -> #DIV/0! | EY40: =EX40/$EP$4 -> #DIV/0! | FB40: =(EQ40-EZ40-FA40)/$EP$4 -> #DIV/0! | FD40: 21 | FE40: 18 | FG40: JOBOS | FH40: 1-2 | FM40: =FL40/$FH$4 -> #DIV/0! | FO40: =FN40/$FH$4 -> #DIV/0! | FQ40: =FP40/$FH$4 -> #DIV/0! | FT40: =(FI40-FR40-FS40)/$FH$4 -> #DIV/0! | FV40: 21 | FW40: 18 | FY40: JOBOS | FZ40: 1-2 | GE40: =GD40/$FZ$4 -> #DIV/0! | GG40: =GF40/$FZ$4 -> #DIV/0! | GI40: =GH40/$FZ$4 -> #DIV/0! | GL40: =(GA40-GJ40-GK40)/$FZ$4 -> #DIV/0! | GN40: 21 | GO40: 18 | GQ40: JOBOS | GR40: 1-2 | GW40: =GV40/$GR$4 -> #DIV/0! | GY40: =GX40/$GR$4 -> #DIV/0! | HA40: =GZ40/$GR$4 -> #DIV/0! | HD40: =(GS40-HC40)/$GR$4 -> #DIV/0! | HF40: 21 | HG40: 18
B41: Total | C41: =SUM(C40:C40) -> 744 | D41: =SUM(D40:D40) -> 219.9 | E41: =SUM(E40:E40) -> 524.1 | F41: =SUM(F40:F40) -> 0 | G41: =(G40*Q40)/Q41 -> 0 | H41: =SUM(H40:H40) -> 0 | I41: =(I40*Q40)/Q41 -> 0 | J41: =SUM(J40:J40) -> 0 | K41: =(K40*Q40)/Q41 -> 0 | L41: =SUM(L40:L40) -> 0 | M41: =SUM(M40:M40) -> 0 | N41: =(N40*Q40)/Q41 -> 1 | O41: =SUM(O40:O40) -> 4081 | P41: =SUM(P40:P40) -> 21 | Q41: =SUM(Q40:Q40) -> 18 | T41: Total | U41: =SUM(U40) -> 741.62 | V41: =SUM(V40) -> 227.3 | W41: =SUM(W40) -> 514.32 | X41: =SUM(X40) -> 2.38 | Y41: =(Y40*$AI$40)/$AI$41 -> 0.0031989247 | Z41: =SUM(Z40) -> 0 | AA41: =(AA40*$AI$40)/$AI$41 -> 0 | AB41: =SUM(AB40) -> 0 | AC41: =(AC40*$AI$40)/$AI$41 -> 0 | AD41: =SUM(AD40) -> 0 | AE41: =SUM(AE40) -> 0 | AF41: =(AF40*$AI$40)/$AI$41 -> 0.99680108 | AG41: =SUM(AG40) -> 4212 | AH41: =SUM(AH40:AH40) -> 21 | AI41: =SUM(AI40:AI40) -> 18 | AL41: Total | AM41: =SUM(AM40) -> 718.93 | AN41: =SUM(AN40) -> 202.6 | AO41: =SUM(AO40) -> 516.33 | AP41: =SUM(AP40) -> 1.07 | AQ41: =(AQ40*$BA40)/$BA41 -> 0.0014861111 | AR41: =SUM(AR40) -> 0 | AS41: =(AS40*$BA40)/$BA41 -> 0 | AT41: =SUM(AT40) -> 0 | AU41: =(AU40*$BA40)/$BA41 -> 0 | AV41: =SUM(AV40) -> 0 | AW41: =SUM(AW40) -> 0 | AX41: =(AX40*BA40)/BA41 -> 0.99851389 | AY41: =SUM(AY40) -> 3719 | AZ41: =SUM(AZ40:AZ40) -> 21 | BA41: =SUM(BA40:BA40) -> 18 | BD41: Total | BE41: =SUM(BE40) -> 0 | BF41: =SUM(BF40) -> 0 | BG41: =SUM(BG40) -> 0 | BH41: =SUM(BH40) -> 0 | BI41: =(BI40*$BS40)/$BS41 -> #DIV/0! | BJ41: =SUM(BJ40) -> 0 | BK41: =(BK40*$BS40)/$BS41 -> #DIV/0! | BL41: =SUM(BL40) -> 0 | BM41: =(BM40*$BS40)/$BS41 -> #DIV/0! | BN41: =SUM(BN40) -> 0 | BO41: =SUM(BO40) -> 0 | BP41: =(BP40*$BS40)/$BS41 -> #DIV/0! | BQ41: =SUM(BQ40:BQ40) -> 0 | BR41: =SUM(BR40:BR40) -> 21 | BS41: =SUM(BS40:BS40) -> 18 | BV41: Total | BW41: =SUM(BW40) -> 0 | BX41: =SUM(BX40) -> 0 | BY41: =SUM(BY40) -> 0 | BZ41: =SUM(BZ40) -> 0 | CA41: =(CA40*$CK40)/$CK41 -> #DIV/0! | CB41: =SUM(CB40) -> 0 | CC41: =(CC40*$CK40)/$CK41 -> #DIV/0! | CD41: =SUM(CD40) -> 0 | CE41: =(CE40*$CK40)/$CK41 -> #DIV/0! | CF41: =SUM(CF40) -> 0 | CG41: =SUM(CG40) -> 0 | CH41: =(CH40*$CK40)/$CK41 -> #DIV/0! | CI41: =SUM(CI40) -> 0 | CJ41: =SUM(CJ40:CJ40) -> 21 | CK41: =SUM(CK40:CK40) -> 18 | CN41: Total | CO41: =SUM(CO40) -> 0 | CP41: =SUM(CP40) -> 0 | CQ41: =SUM(CQ40) -> 0 | CR41: =SUM(CR40) -> 0 | CS41: =(CS40*$DC40)/$DC41 -> #DIV/0! | CT41: =SUM(CT40) -> 0 | CU41: =(CU40*$DC40)/$DC41 -> #DIV/0! | CV41: =SUM(CV40) -> 0 | CW41: =(CW40*$DC40)/$DC41 -> #DIV/0! | CX41: =SUM(CX40) -> 0 | CY41: =SUM(CY40) -> 0 | CZ41: =(CZ40*$DC40)/$DC41 -> #DIV/0! | DA41: =SUM(DA40) -> 0 | DB41: =SUM(DB40:DB40) -> 21 | DC41: =SUM(DC40:DC40) -> 18 | DF41: Total | DG41: =SUM(DG40) -> 0 | DH41: =SUM(DH40) -> 0 | DI41: =SUM(DI40) -> 0 | DJ41: =SUM(DJ40) -> 0 | DK41: =(DK40*$DU40)/$DU41 -> #DIV/0! | DL41: =SUM(DL40) -> 0 | DM41: =(DM40*$DU40)/$DU41 -> #DIV/0! | DN41: =SUM(DN40) -> 0 | DO41: =(DO40*$DU40)/$DU41 -> #DIV/0! | DP41: =SUM(DP40) -> 0 | DQ41: =SUM(DQ40) -> 0 | DR41: =(DR40*$DU40)/$DU41 -> #DIV/0! | DS41: =SUM(DS40) -> 0 | DT41: =SUM(DT40:DT40) -> 21 | DU41: =SUM(DU40:DU40) -> 18 | DX41: Total | DY41: =SUM(DY40) -> 0 | DZ41: =SUM(DZ40) -> 0 | EA41: =SUM(EA40) -> 0 | EB41: =SUM(EB40) -> 0 | EC41: =(EC40*$EM40)/$EM41 -> #DIV/0! | ED41: =SUM(ED40) -> 0 | EE41: =(EE40*$EM40)/$EM41 -> #DIV/0! | EF41: =SUM(EF40) -> 0 | EG41: =(EG40*$EM40)/$EM41 -> #DIV/0! | EH41: =SUM(EH40) -> 0 | EI41: =SUM(EI40) -> 0 | EJ41: =(EJ40*$EM40)/$EM41 -> #DIV/0! | EK41: =SUM(EK40) -> 0 | EL41: =SUM(EL40:EL40) -> 21 | EM41: =SUM(EM40:EM40) -> 18 | EP41: Total | EQ41: =SUM(EQ40) -> 0 | ER41: =SUM(ER40) -> 0 | ES41: =SUM(ES40) -> 0 | ET41: =SUM(ET40) -> 0 | EU41: =(EU40*$FE40)/$FE41 -> #DIV/0! | EV41: =SUM(EV40) -> 0 | EW41: =(EW40*$FE40)/$FE41 -> #DIV/0! | EX41: =SUM(EX40) -> 0 | EY41: =(EY40*$FE40)/$FE41 -> #DIV/0! | EZ41: =SUM(EZ40) -> 0 | FA41: =SUM(FA40) -> 0 | FB41: =(FB40*$FE40)/$FE41 -> #DIV/0! | FC41: =SUM(FC40) -> 0 | FD41: =SUM(FD40:FD40) -> 21 | FE41: =SUM(FE40:FE40) -> 18 | FH41: Total | FI41: =SUM(FI40) -> 0 | FJ41: =SUM(FJ40) -> 0 | FK41: =SUM(FK40) -> 0 | FL41: =SUM(FL40) -> 0 | FM41: =(FM40*$FW40)/$FW41 -> #DIV/0! | FN41: =SUM(FN40) -> 0 | FO41: =(FO40*$FW40)/$FW41 -> #DIV/0! | FP41: =SUM(FP40) -> 0 | FQ41: =(FQ40*$FW40)/$FW41 -> #DIV/0! | FR41: =SUM(FR40) -> 0 | FS41: =SUM(FS40) -> 0 | FT41: =(FT40*$FW40)/$FW41 -> #DIV/0! | FU41: =SUM(FU40) -> 0 | FV41: =SUM(FV40:FV40) -> 21 | FW41: =SUM(FW40:FW40) -> 18 | FZ41: Total | GA41: =SUM(GA40:GA40) -> 0 | GB41: =SUM(GB40:GB40) -> 0 | GC41: =SUM(GC40:GC40) -> 0 | GD41: =SUM(GD40:GD40) -> 0 | GE41: =(GE40*$GO40)/$GO41 -> #DIV/0! | GF41: =SUM(GF40:GF40) -> 0 | GG41: =(GG40*$GO40)/$GO41 -> #DIV/0! | GH41: =SUM(GH40:GH40) -> 0 | GI41: =(GI40*$GO40)/$GO41 -> #DIV/0! | GJ41: =SUM(GJ40:GJ40) -> 0 | GK41: =SUM(GK40:GK40) -> 0 | GL41: =(GL40*$GO40)/$GO41 -> #DIV/0! | GM41: =SUM(GM40) -> 0 | GN41: =SUM(GN40:GN40) -> 21 | GO41: =SUM(GO40:GO40) -> 18 | GR41: Total | GS41: =SUM(GS40) -> 0 | GT41: =SUM(GT40) -> 0 | GU41: =SUM(GU40) -> 0 | GV41: =SUM(GV40) -> 0 | GW41: =(GW40*$HG40)/$HG41 -> #DIV/0! | GX41: =SUM(GX40) -> 0 | GY41: =(GY40*$HG40)/$HG41 -> #DIV/0! | GZ41: =SUM(GZ40) -> 0 | HA41: =(HA40*$HG40)/$HG41 -> #DIV/0! | HB41: =SUM(HB40) -> 0 | HC41: =SUM(HC40) -> 0 | HD41: =(HD40*$HG40)/$HG41 -> #DIV/0! | HE41: =SUM(HE40) -> 0 | HF41: =SUM(HF40:HF40) -> 21 | HG41: =SUM(HG40:HG40) -> 18
A42: DAGUAO | B42: 1-1 | C42: 744 | D42: 200.6 | E42: 543.4 | F42: 0 | G42: =F42/$B$4 -> 0 | H42: 0 | I42: =H42/$B$4 -> 0 | J42: 0 | K42: =J42/$B$4 -> 0 | L42: ='[6]UNIT DATA'!P8 -> 0 | M42: ='[6]UNIT DATA'!Q8 -> 0 | N42: =(C42-L42-M42)/$B$4 -> 1 | O42: 3706 | P42: 21 | Q42: 18 | S42: DAGUAO | T42: 1-1 | U42: 741.02 | V42: 228 | W42: 513.02 | X42: 2.98 | Y42: =X42/$T$4 -> 0.0040053763 | Z42: 0 | AA42: =Z42/$T$4 -> 0 | AB42: 0 | AC42: =AB42/$T$4 -> 0 | AD42: 0 | AE42: 0 | AF42: =(U42-AD42-AE42)/$T$4 -> 0.99599462 | AG42: 3926 | AH42: 21 | AI42: 18 | AK42: DAGUAO | AL42: 1-1 | AM42: 294.7 | AN42: 58.3 | AO42: 236.4 | AP42: 425.3 | AQ42: =AP42/$AL$4 -> 0.59069444 | AR42: 0 | AS42: =AR42/$AL$4 -> 0 | AT42: 0 | AU42: =AT42/$AL$4 -> 0 | AV42: 0 | AW42: 0 | AX42: =(AM42-AV42-AW42)/$AL$4 -> 0.40930556 | AY42: 1070 | AZ42: 21 | BA42: 18 | BC42: DAGUAO | BD42: 1-1 | BI42: =BH42/$BD$4 -> #DIV/0! | BK42: =BJ42/$BD$4 -> #DIV/0! | BM42: =BL42/$BD$4 -> #DIV/0! | BP42: =(BE42-BO42)/$BD$4 -> #DIV/0! | BR42: 21 | BS42: 18 | BU42: DAGUAO | BV42: 1-1 | CA42: =BZ42/$BV$4 -> #DIV/0! | CC42: =CB42/$BV$4 -> #DIV/0! | CE42: =CD42/$BV$4 -> #DIV/0! | CH42: =(BW42-CF42-CG42)/$BV$4 -> #DIV/0! | CJ42: 21 | CK42: 18 | CM42: DAGUAO | CN42: 1-1 | CS42: =CR42/$CN$4 -> #DIV/0! | CU42: =CT42/$CN$4 -> #DIV/0! | CW42: =CV42/$CN$4 -> #DIV/0! | CZ42: =(CO42-CX42-CY42)/$CN$4 -> #DIV/0! | DB42: 21 | DC42: 18 | DE42: DAGUAO | DF42: 1-1 | DK42: =DJ42/$DF$4 -> #DIV/0! | DM42: =DL42/$DF$4 -> #DIV/0! | DO42: =DN42/$DF$4 -> #DIV/0! | DR42: =(DG42-DP42-DQ42)/$DF$4 -> #DIV/0! | DT42: 21 | DU42: 18 | DW42: DAGUAO | DX42: 1-1 | EC42: =EB42/$DX$4 -> #DIV/0! | EE42: =ED42/$DX$4 -> #DIV/0! | EG42: =EF42/$DX$4 -> #DIV/0! | EJ42: =(DY42-EH42-EI42)/$DX$4 -> #DIV/0! | EL42: 21 | EM42: 18 | EO42: DAGUAO | EP42: 1-1 | EU42: =ET42/$EP$4 -> #DIV/0! | EW42: =EV42/$EP$4 -> #DIV/0! | EY42: =EX42/$EP$4 -> #DIV/0! | FB42: =(EQ42-EZ42-FA42)/$EP$4 -> #DIV/0! | FD42: 21 | FE42: 18 | FG42: DAGUAO | FH42: 1-1 | FM42: =FL42/$FH$4 -> #DIV/0! | FO42: =FN42/$FH$4 -> #DIV/0! | FQ42: =FP42/$FH$4 -> #DIV/0! | FT42: =(FI42-FR42-FS42)/$FH$4 -> #DIV/0! | FV42: 21 | FW42: 18 | FY42: DAGUAO | FZ42: 1-1 | GE42: =GD42/$FZ$4 -> #DIV/0! | GG42: =GF42/$FZ$4 -> #DIV/0! | GI42: =GH42/$FZ$4 -> #DIV/0! | GL42: =(GA42-GJ42-GK42)/$FZ$4 -> #DIV/0! | GN42: 21 | GO42: 18 | GQ42: DAGUAO | GR42: 1-1 | GW42: =GV42/$GR$4 -> #DIV/0! | GY42: =GX42/$GR$4 -> #DIV/0! | HA42: =GZ42/$GR$4 -> #DIV/0! | HD42: =(GS42-HC42)/$GR$4 -> #DIV/0! | HF42: 21 | HG42: 18
B43: 1-2 | C43: 721.75 | D43: 215.8 | E43: 505.95 | F43: 22.25 | G43: =F43/$B$4 -> 0.029905914 | H43: 0 | I43: =H43/$B$4 -> 0 | J43: 0 | K43: =J43/$B$4 -> 0 | L43: ='[6]UNIT DATA'!P9 -> 0 | M43: ='[6]UNIT DATA'!Q9 -> 0 | N43: =(C43-L43-M43)/$B$4 -> 0.97009409 | O43: 3228 | P43: 21 | Q43: 10 | T43: 1-2 | U43: 698.75 | V43: 219.2 | W43: 479.55 | X43: 45.25 | Y43: =X43/$T$4 -> 0.060819892 | Z43: 0 | AA43: =Z43/$T$4 -> 0 | AB43: 0 | AC43: =AB43/$T$4 -> 0 | AD43: 0 | AE43: 0 | AF43: =(U43-AD43-AE43)/$T$4 -> 0.93918011 | AG43: 3123 | AH43: 21 | AI43: 10 | AL43: 1-2 | AM43: 599.12 | AN43: 161.1 | AO43: 438.02 | AP43: 120.88 | AQ43: =AP43/$AL$4 -> 0.16788889 | AR43: 0 | AS43: =AR43/$AL$4 -> 0 | AT43: 0 | AU43: =AT43/$AL$4 -> 0 | AV43: 0 | AW43: 0 | AX43: =(AM43-AV43-AW43)/$AL$4 -> 0.83211111 | AY43: 2314 | AZ43: 21 | BA43: 10 | BD43: 1-2 | BI43: =BH43/$BD$4 -> #DIV/0! | BK43: =BJ43/$BD$4 -> #DIV/0! | BM43: =BL43/$BD$4 -> #DIV/0! | BP43: =(BE43-BO43)/$BD$4 -> #DIV/0! | BR43: 21 | BS43: 10 | BV43: 1-2 | CA43: =BZ43/$BV$4 -> #DIV/0! | CC43: =CB43/$BV$4 -> #DIV/0! | CE43: =CD43/$BV$4 -> #DIV/0! | CH43: =(BW43-CF43-CG43)/$BV$4 -> #DIV/0! | CJ43: 21 | CK43: 10 | CN43: 1-2 | CS43: =CR43/$CN$4 -> #DIV/0! | CU43: =CT43/$CN$4 -> #DIV/0! | CW43: =CV43/$CN$4 -> #DIV/0! | CZ43: =(CO43-CX43-CY43)/$CN$4 -> #DIV/0! | DB43: 21 | DC43: 10 | DF43: 1-2 | DK43: =DJ43/$DF$4 -> #DIV/0! | DM43: =DL43/$DF$4 -> #DIV/0! | DO43: =DN43/$DF$4 -> #DIV/0! | DR43: =(DG43-DP43-DQ43)/$DF$4 -> #DIV/0! | DT43: 21 | DU43: 10 | DX43: 1-2 | EC43: =EB43/$DX$4 -> #DIV/0! | EE43: =ED43/$DX$4 -> #DIV/0! | EG43: =EF43/$DX$4 -> #DIV/0! | EJ43: =(DY43-EH43-EI43)/$DX$4 -> #DIV/0! | EL43: 21 | EM43: 10 | EP43: 1-2 | EU43: =ET43/$EP$4 -> #DIV/0! | EW43: =EV43/$EP$4 -> #DIV/0! | EY43: =EX43/$EP$4 -> #DIV/0! | FB43: =(EQ43-EZ43-FA43)/$EP$4 -> #DIV/0! | FD43: 21 | FE43: 10 | FH43: 1-2 | FM43: =FL43/$FH$4 -> #DIV/0! | FO43: =FN43/$FH$4 -> #DIV/0! | FQ43: =FP43/$FH$4 -> #DIV/0! | FT43: =(FI43-FR43-FS43)/$FH$4 -> #DIV/0! | FV43: 21 | FW43: 10 | FZ43: 1-2 | GE43: =GD43/$FZ$4 -> #DIV/0! | GG43: =GF43/$FZ$4 -> #DIV/0! | GI43: =GH43/$FZ$4 -> #DIV/0! | GL43: =(GA43-GJ43-GK43)/$FZ$4 -> #DIV/0! | GN43: 21 | GO43: 10 | GR43: 1-2 | GW43: =GV43/$GR$4 -> #DIV/0! | GY43: =GX43/$GR$4 -> #DIV/0! | HA43: =GZ43/$GR$4 -> #DIV/0! | HD43: =(GS43-HC43)/$GR$4 -> #DIV/0! | HF43: 21 | HG43: 10
B44: Total | C44: =SUM(C42:C43) -> 1465.75 | D44: =SUM(D42:D43) -> 416.4 | E44: =SUM(E42:E43) -> 1049.35 | F44: =SUM(F42:F43) -> 22.25 | G44: =(G42*Q42+G43*Q43)/Q44 -> 0.010680684 | H44: =SUM(H42:H43) -> 0 | I44: =(I42*Q42+I43*Q43)/Q44 -> 0 | J44: =SUM(J42:J43) -> 0 | K44: =(K42*Q42+K43*Q43)/Q44 -> 0 | L44: =SUM(L42:L43) -> 0 | M44: =SUM(M42:M43) -> 0 | N44: =(N42*$Q$42+N43*$Q$43)/$Q$44 -> 0.98931932 | O44: =SUM(O42:O43) -> 6934 | P44: =SUM(P42:P43) -> 42 | Q44: =SUM(Q42:Q43) -> 28 | T44: Total | U44: =SUM(U42:U43) -> 1439.77 | V44: =SUM(V42:V43) -> 447.2 | W44: =SUM(W42:W43) -> 992.57 | X44: =SUM(X42:X43) -> 48.23 | Y44: =(Y42*$AI$42+Y43*$AI$43)/$AI$44 -> 0.024296275 | Z44: =SUM(Z42:Z43) -> 0 | AA44: =(AA42*$AI$42+AA43*$AI$43)/$AI$44 -> 0 | AB44: =SUM(AB42:AB43) -> 0 | AC44: =(AC42*$AI$42+AC43*$AI$43)/$AI$44 -> 0 | AD44: =SUM(AD42:AD43) -> 0 | AE44: =SUM(AE42:AE43) -> 0 | AF44: =(AF42*$AI$42+AF43*$AI$43)/$AI$44 -> 0.97570373 | AG44: =SUM(AG42:AG43) -> 7049 | AH44: =SUM(AH42:AH43) -> 42 | AI44: =SUM(AI42:AI43) -> 28 | AL44: Total | AM44: =SUM(AM42:AM43) -> 893.82 | AN44: =SUM(AN42:AN43) -> 219.4 | AO44: =SUM(AO42:AO43) -> 674.42 | AP44: =SUM(AP42:AP43) -> 546.18 | AQ44: =(AQ42*$BA42+AQ43*$BA43)/$BA44 -> 0.43969246 | AR44: =SUM(AR42:AR43) -> 0 | AS44: =(AS42*$BA42+AS43*$BA43)/$BA44 -> 0 | AT44: =SUM(AT42:AT43) -> 0 | AU44: =(AU42*$BA42+AU43*$BA43)/$BA44 -> 0 | AV44: =SUM(AV42:AV43) -> 0 | AW44: =SUM(AW42:AW43) -> 0 | AX44: =(AX42*$BA42+AX43*$BA43)/$BA44 -> 0.56030754 | AY44: =SUM(AY42:AY43) -> 3384 | AZ44: =SUM(AZ42:AZ43) -> 42 | BA44: =SUM(BA42:BA43) -> 28 | BD44: Total | BE44: =SUM(BE42:BE43) -> 0 | BF44: =SUM(BF42:BF43) -> 0 | BG44: =SUM(BG42:BG43) -> 0 | BH44: =SUM(BH42:BH43) -> 0 | BI44: =(BI42*$BS42+BI43*$BS43)/$BS44 -> #DIV/0! | BJ44: =SUM(BJ42:BJ43) -> 0 | BK44: =(BK42*$BS42+BK43*$BS43)/$BS44 -> #DIV/0! | BL44: =SUM(BL42:BL43) -> 0 | BM44: =(BM42*$BS42+BM43*$BS43)/$BS44 -> #DIV/0! | BN44: =SUM(BN42:BN43) -> 0 | BO44: =SUM(BO42:BO43) -> 0 | BP44: =(BP42*$BS42+BP43*$BS43)/$BS44 -> #DIV/0! | BQ44: =SUM(BQ42:BQ43) -> 0 | BR44: =SUM(BR42:BR43) -> 42 | BS44: =SUM(BS42:BS43) -> 28 | BV44: Total | BW44: =SUM(BW42:BW43) -> 0 | BX44: =SUM(BX42:BX43) -> 0 | BY44: =SUM(BY42:BY43) -> 0 | BZ44: =SUM(BZ42:BZ43) -> 0 | CA44: =(CA42*$CK42+CA43*$CK43)/$CK44 -> #DIV/0! | CB44: =SUM(CB42:CB43) -> 0 | CC44: =(CC42*$CK42+CC43*$CK43)/$CK44 -> #DIV/0! | CD44: =SUM(CD42:CD43) -> 0 | CE44: =(CE42*$CK42+CE43*$CK43)/$CK44 -> #DIV/0! | CF44: =SUM(CF42:CF43) -> 0 | CG44: =SUM(CG42:CG43) -> 0 | CH44: =(CH42*$CK42+CH43*$CK43)/$CK44 -> #DIV/0! | CI44: =SUM(CI42:CI43) -> 0 | CJ44: =SUM(CJ42:CJ43) -> 42 | CK44: =SUM(CK42:CK43) -> 28 | CN44: Total | CO44: =SUM(CO42:CO43) -> 0 | CP44: =SUM(CP42:CP43) -> 0 | CQ44: =SUM(CQ42:CQ43) -> 0 | CR44: =SUM(CR42:CR43) -> 0 | CS44: =(CS42*$DC42+CS43*$DC43)/$DC44 -> #DIV/0! | CT44: =SUM(CT42:CT43) -> 0 | CU44: =(CU42*$DC42+CU43*$DC43)/$DC44 -> #DIV/0! | CV44: =SUM(CV42:CV43) -> 0 | CW44: =(CW42*$DC42+CW43*$DC43)/$DC44 -> #DIV/0! | CX44: =SUM(CX42:CX43) -> 0 | CY44: =SUM(CY42:CY43) -> 0 | CZ44: =(CZ42*$DC42+CZ43*$DC43)/$DC44 -> #DIV/0! | DA44: =SUM(DA42:DA43) -> 0 | DB44: =SUM(DB42:DB43) -> 42 | DC44: =SUM(DC42:DC43) -> 28 | DF44: Total | DG44: =SUM(DG42:DG43) -> 0 | DH44: =SUM(DH42:DH43) -> 0 | DI44: =SUM(DI42:DI43) -> 0 | DJ44: =SUM(DJ42:DJ43) -> 0 | DK44: =(DK42*$DU42+DK43*$DU43)/$DU44 -> #DIV/0! | DL44: =SUM(DL42:DL43) -> 0 | DM44: =(DM42*$DU42+DM43*$DU43)/$DU44 -> #DIV/0! | DN44: =SUM(DN42:DN43) -> 0 | DO44: =(DO42*$DU42+DO43*$DU43)/$DU44 -> #DIV/0! | DP44: =SUM(DP42:DP43) -> 0 | DQ44: =SUM(DQ42:DQ43) -> 0 | DR44: =(DR42*$DU42+DR43*$DU43)/$DU44 -> #DIV/0! | DS44: =SUM(DS42:DS43) -> 0 | DT44: =SUM(DT42:DT43) -> 42 | DU44: =SUM(DU42:DU43) -> 28 | DX44: Total | DY44: =SUM(DY42:DY43) -> 0 | DZ44: =SUM(DZ42:DZ43) -> 0 | EA44: =SUM(EA42:EA43) -> 0 | EB44: =SUM(EB42:EB43) -> 0 | EC44: =(EC42*$EM42+EC43*$EM43)/$EM44 -> #DIV/0! | ED44: =SUM(ED42:ED43) -> 0 | EE44: =(EE42*$EM42+EE43*$EM43)/$EM44 -> #DIV/0! | EF44: =SUM(EF42:EF43) -> 0 | EG44: =(EG42*$EM42+EG43*$EM43)/$EM44 -> #DIV/0! | EH44: =SUM(EH42:EH43) -> 0 | EI44: =SUM(EI42:EI43) -> 0 | EJ44: =(EJ42*$EM42+EJ43*$EM43)/$EM44 -> #DIV/0! | EK44: =SUM(EK42:EK43) -> 0 | EL44: =SUM(EL42:EL43) -> 42 | EM44: =SUM(EM42:EM43) -> 28 | EP44: Total | EQ44: =SUM(EQ42:EQ43) -> 0 | ER44: =SUM(ER42:ER43) -> 0 | ES44: =SUM(ES42:ES43) -> 0 | ET44: =SUM(ET42:ET43) -> 0 | EU44: =(EU42*$FE42+EU43*$FE43)/$FE44 -> #DIV/0! | EV44: =SUM(EV42:EV43) -> 0 | EW44: =(EW42*$FE42+EW43*$FE43)/$FE44 -> #DIV/0! | EX44: =SUM(EX42:EX43) -> 0 | EY44: =(EY42*$FE42+EY43*$FE43)/$FE44 -> #DIV/0! | EZ44: =SUM(EZ42:EZ43) -> 0 | FA44: =SUM(FA42:FA43) -> 0 | FB44: =(FB42*$FE42+FB43*$FE43)/$FE44 -> #DIV/0! | FC44: =SUM(FC42:FC43) -> 0 | FD44: =SUM(FD42:FD43) -> 42 | FE44: =SUM(FE42:FE43) -> 28 | FH44: Total | FI44: =SUM(FI42:FI43) -> 0 | FJ44: =SUM(FJ42:FJ43) -> 0 | FK44: =SUM(FK42:FK43) -> 0 | FL44: =SUM(FL42:FL43) -> 0 | FM44: =(FM42*$FW42+FM43*$FW43)/$FW44 -> #DIV/0! | FN44: =SUM(FN42:FN43) -> 0 | FO44: =(FO42*$FW42+FO43*$FW43)/$FW44 -> #DIV/0! | FP44: =SUM(FP42:FP43) -> 0 | FQ44: =(FQ42*$FW42+FQ43*$FW43)/$FW44 -> #DIV/0! | FR44: =SUM(FR42:FR43) -> 0 | FS44: =SUM(FS42:FS43) -> 0 | FT44: =(FT42*$FW42+FT43*$FW43)/$FW44 -> #DIV/0! | FU44: =SUM(FU42:FU43) -> 0 | FV44: =SUM(FV42:FV43) -> 42 | FW44: =SUM(FW42:FW43) -> 28 | FZ44: Total | GA44: =SUM(GA42:GA43) -> 0 | GB44: =SUM(GB42:GB43) -> 0 | GC44: =SUM(GC42:GC43) -> 0 | GD44: =SUM(GD42:GD43) -> 0 | GE44: =(GE42*$GO42+GE43*$GO43)/$GO44 -> #DIV/0! | GF44: =SUM(GF42:GF43) -> 0 | GG44: =(GG42*$GO42+GG43*$GO43)/$GO44 -> #DIV/0! | GH44: =SUM(GH42:GH43) -> 0 | GI44: =(GI42*$GO42+GI43*$GO43)/$GO44 -> #DIV/0! | GJ44: =SUM(GJ42:GJ43) -> 0 | GK44: =SUM(GK42:GK43) -> 0 | GL44: =(GL42*$GO42+GL43*$GO43)/$GO44 -> #DIV/0! | GM44: =SUM(GM42:GM43) -> 0 | GN44: =SUM(GN42:GN43) -> 42 | GO44: =SUM(GO42:GO43) -> 28 | GR44: Total | GS44: =SUM(GS42:GS43) -> 0 | GT44: =SUM(GT42:GT43) -> 0 | GU44: =SUM(GU42:GU43) -> 0 | GV44: =SUM(GV42:GV43) -> 0 | GW44: =(GW42*$HG42+GW43*$HG43)/$HG44 -> #DIV/0! | GX44: =SUM(GX42:GX43) -> 0 | GY44: =(GY42*$HG42+GY43*$HG43)/$HG44 -> #DIV/0! | GZ44: =SUM(GZ42:GZ43) -> 0 | HA44: =(HA42*$HG42+HA43*$HG43)/$HG44 -> #DIV/0! | HB44: =SUM(HB42:HB43) -> 0 | HC44: =SUM(HC42:HC43) -> 0 | HD44: =(HD42*$HG42+HD43*$HG43)/$HG44 -> #DIV/0! | HE44: =SUM(HE42:HE43) -> 0 | HF44: =SUM(HF42:HF43) -> 42 | HG44: =SUM(HG42:HG43) -> 28
A45: PALO SECO PW FT-8 | B45: MP 1 | C45: 744 | D45: 471.04 | E45: 272.96 | F45: 0 | G45: =F45/$B$4 -> 0 | H45: 0 | I45: =H45/$B$4 -> 0 | J45: 0 | K45: =J45/$B$4 -> 0 | L45: ='[2]UNIT DATA'!P4 -> 0 | M45: ='[2]UNIT DATA'!Q4 -> 0 | N45: =(C45-L45-M45)/$B$4 -> 1 | O45: 12481 | P45: 27 | Q45: 27 | S45: PALO SECO PW FT-8 | T45: MP 1 | U45: 384.6 | V45: 285.44 | W45: 99.16 | X45: 359.4 | Y45: =X45/$T$4 -> 0.48306452 | Z45: 0 | AA45: =Z45/$T$4 -> 0 | AB45: 0 | AC45: =AB45/$T$4 -> 0 | AD45: 0 | AE45: 0 | AF45: =(U45-AD45-AE45)/$T$4 -> 0.51693548 | AG45: 7285 | AH45: 27 | AI45: 27 | AK45: PALO SECO PW FT-8 | AL45: MP 1 | AM45: 678.4 | AN45: 434.27 | AO45: 244.13 | AP45: 41.6 | AQ45: =AP45/$AL$4 -> 0.057777778 | AR45: 0 | AS45: =AR45/$AL$4 -> 0 | AT45: 0 | AU45: =AT45/$AL$4 -> 0 | AV45: 0 | AW45: 0 | AX45: =(AM45-AV45-AW45)/$AL$4 -> 0.94222222 | AY45: 10796 | AZ45: 27 | BA45: 27 | BC45: PALO SECO PW FT-8 | BD45: MP 1 | BI45: =BH45/$BD$4 -> #DIV/0! | BK45: =BJ45/$BD$4 -> #DIV/0! | BM45: =BL45/$BD$4 -> #DIV/0! | BP45: =(BE45-BO45)/$BD$4 -> #DIV/0! | BR45: 27 | BS45: 27 | BU45: PALO SECO PW FT-8 | BV45: MP 1 | CA45: =BZ45/$BV$4 -> #DIV/0! | CC45: =CB45/$BV$4 -> #DIV/0! | CE45: =CD45/$BV$4 -> #DIV/0! | CH45: =(BW45-CF45-CG45)/$BV$4 -> #DIV/0! | CJ45: 27 | CK45: 27 | CM45: PALO SECO PW FT-8 | CN45: MP 1 | CS45: =CR45/$CN$4 -> #DIV/0! | CU45: =CT45/$CN$4 -> #DIV/0! | CW45: =CV45/$CN$4 -> #DIV/0! | CZ45: =(CO45-CX45-CY45)/$CN$4 -> #DIV/0! | DB45: 27 | DC45: 27 | DE45: PALO SECO PW FT-8 | DF45: MP 1 | DK45: =DJ45/$DF$4 -> #DIV/0! | DM45: =DL45/$DF$4 -> #DIV/0! | DO45: =DN45/$DF$4 -> #DIV/0! | DR45: =(DG45-DP45-DQ45)/$DF$4 -> #DIV/0! | DT45: 27 | DU45: 27 | DW45: PALO SECO PW FT-8 | DX45: MP 1 | EC45: =EB45/$DX$4 -> #DIV/0! | EE45: =ED45/$DX$4 -> #DIV/0! | EG45: =EF45/$DX$4 -> #DIV/0! | EJ45: =(DY45-EH45-EI45)/$DX$4 -> #DIV/0! | EL45: 27 | EM45: 27 | EO45: PALO SECO PW FT-8 | EP45: MP 1 | EU45: =ET45/$EP$4 -> #DIV/0! | EW45: =EV45/$EP$4 -> #DIV/0! | EY45: =EX45/$EP$4 -> #DIV/0! | FB45: =(EQ45-EZ45-FA45)/$EP$4 -> #DIV/0! | FD45: 27 | FE45: 27 | FG45: PALO SECO PW FT-8 | FH45: MP 1 | FM45: =FL45/$FH$4 -> #DIV/0! | FO45: =FN45/$FH$4 -> #DIV/0! | FQ45: =FP45/$FH$4 -> #DIV/0! | FT45: =(FI45-FR45-FS45)/$FH$4 -> #DIV/0! | FV45: 27 | FW45: 27 | FY45: PALO SECO PW FT-8 | FZ45: MP 1 | GE45: =GD45/$FZ$4 -> #DIV/0! | GG45: =GF45/$FZ$4 -> #DIV/0! | GI45: =GH45/$FZ$4 -> #DIV/0! | GL45: =(GA45-GJ45-GK45)/$FZ$4 -> #DIV/0! | GN45: 27 | GO45: 27 | GQ45: PALO SECO PW FT-8 | GR45: MP 1 | GW45: =GV45/$GR$4 -> #DIV/0! | GY45: =GX45/$GR$4 -> #DIV/0! | HA45: =GZ45/$GR$4 -> #DIV/0! | HD45: =(GS45-HC45)/$GR$4 -> #DIV/0! | HF45: 27 | HG45: 27
B46: MP 2 | C46: 0 | D46: 0 | E46: 0 | F46: 744 | G46: =F46/$B$4 -> 1 | H46: 0 | I46: =H46/$B$4 -> 0 | J46: 0 | K46: =J46/$B$4 -> 0 | L46: ='[2]UNIT DATA'!P5 -> 0 | M46: ='[2]UNIT DATA'!Q5 -> 0 | N46: =(C46-L46-M46)/$B$4 -> 0 | O46: 0 | P46: 27 | Q46: 27 | T46: MP 2 | U46: 0 | V46: 0 | W46: 0 | X46: 744 | Y46: =X46/$T$4 -> 1 | Z46: 0 | AA46: =Z46/$T$4 -> 0 | AB46: 0 | AC46: =AB46/$T$4 -> 0 | AD46: 0 | AE46: 0 | AF46: =(U46-AD46-AE46)/$T$4 -> 0 | AG46: 0 | AH46: 27 | AI46: 27 | AL46: MP 2 | AM46: 0 | AN46: 0 | AO46: 0 | AP46: 720 | AQ46: =AP46/$AL$4 -> 1 | AR46: 0 | AS46: =AR46/$AL$4 -> 0 | AT46: 0 | AU46: =AT46/$AL$4 -> 0 | AV46: 0 | AW46: 0 | AX46: =(AM46-AV46-AW46)/$AL$4 -> 0 | AY46: 0 | AZ46: 27 | BA46: 27 | BD46: MP 2 | BI46: =BH46/$BD$4 -> #DIV/0! | BK46: =BJ46/$BD$4 -> #DIV/0! | BM46: =BL46/$BD$4 -> #DIV/0! | BP46: =(BE46-BO46)/$BD$4 -> #DIV/0! | BR46: 27 | BS46: 27 | BV46: MP 2 | CA46: =BZ46/$BV$4 -> #DIV/0! | CC46: =CB46/$BV$4 -> #DIV/0! | CE46: =CD46/$BV$4 -> #DIV/0! | CH46: =(BW46-CF46-CG46)/$BV$4 -> #DIV/0! | CJ46: 27 | CK46: 27 | CN46: MP 2 | CS46: =CR46/$CN$4 -> #DIV/0! | CU46: =CT46/$CN$4 -> #DIV/0! | CW46: =CV46/$CN$4 -> #DIV/0! | CZ46: =(CO46-CX46-CY46)/$CN$4 -> #DIV/0! | DB46: 27 | DC46: 27 | DF46: MP 2 | DK46: =DJ46/$DF$4 -> #DIV/0! | DM46: =DL46/$DF$4 -> #DIV/0! | DO46: =DN46/$DF$4 -> #DIV/0! | DR46: =(DG46-DP46-DQ46)/$DF$4 -> #DIV/0! | DT46: 27 | DU46: 27 | DX46: MP 2 | EC46: =EB46/$DX$4 -> #DIV/0! | EE46: =ED46/$DX$4 -> #DIV/0! | EG46: =EF46/$DX$4 -> #DIV/0! | EJ46: =(DY46-EH46-EI46)/$DX$4 -> #DIV/0! | EL46: 27 | EM46: 27 | EP46: MP 2 | EU46: =ET46/$EP$4 -> #DIV/0! | EW46: =EV46/$EP$4 -> #DIV/0! | EY46: =EX46/$EP$4 -> #DIV/0! | FB46: =(EQ46-EZ46-FA46)/$EP$4 -> #DIV/0! | FD46: 27 | FE46: 27 | FH46: MP 2 | FM46: =FL46/$FH$4 -> #DIV/0! | FO46: =FN46/$FH$4 -> #DIV/0! | FQ46: =FP46/$FH$4 -> #DIV/0! | FT46: =(FI46-FR46-FS46)/$FH$4 -> #DIV/0! | FV46: 27 | FW46: 27 | FZ46: MP 2 | GE46: =GD46/$FZ$4 -> #DIV/0! | GG46: =GF46/$FZ$4 -> #DIV/0! | GI46: =GH46/$FZ$4 -> #DIV/0! | GL46: =(GA46-GJ46-GK46)/$FZ$4 -> #DIV/0! | GN46: 27 | GO46: 27 | GR46: MP 2 | GW46: =GV46/$GR$4 -> #DIV/0! | GY46: =GX46/$GR$4 -> #DIV/0! | HA46: =GZ46/$GR$4 -> #DIV/0! | HD46: =(GS46-HC46)/$GR$4 -> #DIV/0! | HF46: 27 | HG46: 27
B47: MP 3 | C47: 566.13 | D47: 368.21 | E47: 197.92 | F47: 177.87 | G47: =F47/$B$4 -> 0.23907258 | H47: 0 | I47: =H47/$B$4 -> 0 | J47: 0 | K47: =J47/$B$4 -> 0 | L47: ='[2]UNIT DATA'!P6 -> 0 | M47: ='[2]UNIT DATA'!Q6 -> 0 | N47: =(C47-L47-M47)/$B$4 -> 0.76092742 | O47: 8976 | P47: 27 | Q47: 24.9 | T47: MP 3 | U47: 379.3 | V47: 294.26 | W47: 85.04 | X47: 364.7 | Y47: =X47/$T$4 -> 0.49018817 | Z47: 0 | AA47: =Z47/$T$4 -> 0 | AB47: 0 | AC47: =AB47/$T$4 -> 0 | AD47: 0 | AE47: 0 | AF47: =(U47-AD47-AE47)/$T$4 -> 0.50981183 | AG47: 7026 | AH47: 27 | AI47: 24.9 | AL47: MP 3 | AM47: 0 | AN47: 0 | AO47: 0 | AP47: 720 | AQ47: =AP47/$AL$4 -> 1 | AR47: 0 | AS47: =AR47/$AL$4 -> 0 | AT47: 0 | AU47: =AT47/$AL$4 -> 0 | AV47: 0 | AW47: 0 | AX47: =(AM47-AV47-AW47)/$AL$4 -> 0 | AY47: 0 | AZ47: 27 | BA47: 24.9 | BD47: MP 3 | BI47: =BH47/$BD$4 -> #DIV/0! | BK47: =BJ47/$BD$4 -> #DIV/0! | BM47: =BL47/$BD$4 -> #DIV/0! | BP47: =(BE47-BO47)/$BD$4 -> #DIV/0! | BR47: 27 | BS47: 24.9 | BV47: MP 3 | CA47: =BZ47/$BV$4 -> #DIV/0! | CC47: =CB47/$BV$4 -> #DIV/0! | CE47: =CD47/$BV$4 -> #DIV/0! | CH47: =(BW47-CF47-CG47)/$BV$4 -> #DIV/0! | CJ47: 27 | CK47: 24.9 | CN47: MP 3 | CS47: =CR47/$CN$4 -> #DIV/0! | CU47: =CT47/$CN$4 -> #DIV/0! | CW47: =CV47/$CN$4 -> #DIV/0! | CZ47: =(CO47-CX47-CY47)/$CN$4 -> #DIV/0! | DB47: 27 | DC47: 24.9 | DF47: MP 3 | DK47: =DJ47/$DF$4 -> #DIV/0! | DM47: =DL47/$DF$4 -> #DIV/0! | DO47: =DN47/$DF$4 -> #DIV/0! | DR47: =(DG47-DP47-DQ47)/$DF$4 -> #DIV/0! | DT47: 27 | DU47: 24.9 | DX47: MP 3 | EC47: =EB47/$DX$4 -> #DIV/0! | EE47: =ED47/$DX$4 -> #DIV/0! | EG47: =EF47/$DX$4 -> #DIV/0! | EJ47: =(DY47-EH47-EI47)/$DX$4 -> #DIV/0! | EL47: 27 | EM47: 24.9 | EP47: MP 3 | EU47: =ET47/$EP$4 -> #DIV/0! | EW47: =EV47/$EP$4 -> #DIV/0! | EY47: =EX47/$EP$4 -> #DIV/0! | FB47: =(EQ47-EZ47-FA47)/$EP$4 -> #DIV/0! | FD47: 27 | FE47: 24.9 | FH47: MP 3 | FM47: =FL47/$FH$4 -> #DIV/0! | FO47: =FN47/$FH$4 -> #DIV/0! | FQ47: =FP47/$FH$4 -> #DIV/0! | FT47: =(FI47-FR47-FS47)/$FH$4 -> #DIV/0! | FV47: 27 | FW47: 24.9 | FZ47: MP 3 | GE47: =GD47/$FZ$4 -> #DIV/0! | GG47: =GF47/$FZ$4 -> #DIV/0! | GI47: =GH47/$FZ$4 -> #DIV/0! | GL47: =(GA47-GJ47-GK47)/$FZ$4 -> #DIV/0! | GN47: 27 | GO47: 24.9 | GR47: MP 3 | GW47: =GV47/$GR$4 -> #DIV/0! | GY47: =GX47/$GR$4 -> #DIV/0! | HA47: =GZ47/$GR$4 -> #DIV/0! | HD47: =(GS47-HC47)/$GR$4 -> #DIV/0! | HF47: 27 | HG47: 24.9
B48: Total | C48: =SUM(C45:C47) -> 1310.13 | D48: =SUM(D45:D47) -> 839.25 | E48: =SUM(E45:E47) -> 470.88 | F48: =SUM(F45:F47) -> 921.87 | G48: =(G45*$Q45+G46*$Q46+G47*$Q47)/$Q48 -> 0.41765408 | H48: =SUM(H45:H47) -> 0 | I48: =(I45*$Q45+I46*$Q46+I47*$Q47)/$Q48 -> 0 | J48: =SUM(J45:J47) -> 0 | K48: =(K45*$Q45+K46*$Q46+K47*$Q47)/$Q48 -> 0 | L48: =SUM(L45:L47) -> 0 | M48: =SUM(M45:M47) -> 0 | N48: =(N45*$Q45+N46*$Q46+N47*$Q47)/$Q48 -> 0.58234592 | O48: =SUM(O45:O47) -> 21457 | P48: =SUM(P45:P47) -> 81 | Q48: =SUM(Q45:Q47) -> 78.9 | T48: Total | U48: =SUM(U45:U47) -> 763.9 | V48: =SUM(V45:V47) -> 579.7 | W48: =SUM(W45:W47) -> 184.2 | X48: =SUM(X45:X47) -> 1468.1 | Y48: =(Y45*$AI45+Y46*$AI46+Y47*$AI47)/$AI48 -> 0.66221074 | Z48: =SUM(Z45:Z47) -> 0 | AA48: =(AA45*$AI$45+AA46*$AI$46+AA47*$AI$47)/$AI$48 -> 0 | AB48: =SUM(AB45:AB47) -> 0 | AC48: =(AC45*$AI$45+AC46*$AI$46+AC47*$AI$47)/$AI$48 -> 0 | AD48: =SUM(AD45:AD47) -> 0 | AE48: =SUM(AE45:AE47) -> 0 | AF48: =(AF45*$AI$45+AF46*$AI$46+AF47*$AI$47)/$AI$48 -> 0.33778926 | AG48: =SUM(AG45:AG47) -> 14311 | AH48: =SUM(AH45:AH47) -> 81 | AI48: =SUM(AI45:AI47) -> 78.9 | AL48: Total | AM48: =SUM(AM45:AM47) -> 678.4 | AN48: =SUM(AN45:AN47) -> 434.27 | AO48: =SUM(AO45:AO47) -> 244.13 | AP48: =SUM(AP45:AP47) -> 1481.6 | AQ48: =(AQ45*$BA45+AQ46*$BA46+AQ47*$BA47)/$BA48 -> 0.67756654 | AR48: =SUM(AR45:AR47) -> 0 | AS48: =(AS45*$BA45+AS46*$BA46+AS47*$BA47)/$BA48 -> 0 | AT48: =SUM(AT45:AT47) -> 0 | AU48: =(AU45*$BA45+AU46*$BA46+AU47*$BA47)/$BA48 -> 0 | AV48: =SUM(AV45:AV47) -> 0 | AW48: =SUM(AW45:AW47) -> 0 | AX48: =(AX45*$BA45+AX46*$BA46+AX47*$BA47)/$BA48 -> 0.32243346 | AY48: =SUM(AY45:AY47) -> 10796 | AZ48: =SUM(AZ45:AZ47) -> 81 | BA48: =SUM(BA45:BA47) -> 78.9 | BD48: Total | BE48: =SUM(BE45:BE47) -> 0 | BF48: =SUM(BF45:BF47) -> 0 | BG48: =SUM(BG45:BG47) -> 0 | BH48: =SUM(BH45:BH47) -> 0 | BI48: =(BI45*$BS45+BI46*$BS46+BI47*$BS47)/$BS48 -> #DIV/0! | BJ48: =SUM(BJ45:BJ47) -> 0 | BK48: =(BK45*$BS45+BK46*$BS46+BK47*$BS47)/$BS48 -> #DIV/0! | BL48: =SUM(BL45:BL47) -> 0 | BM48: =(BM45*$BS45+BM46*$BS46+BM47*$BS47)/$BS48 -> #DIV/0! | BN48: =SUM(BN45:BN47) -> 0 | BO48: =SUM(BO45:BO47) -> 0 | BP48: =(BP45*$BS45+BP46*$BS46+BP47*$BS47)/$BS48 -> #DIV/0! | BQ48: =SUM(BQ45:BQ47) -> 0 | BR48: =SUM(BR45:BR47) -> 81 | BS48: =SUM(BS45:BS47) -> 78.9 | BV48: Total | BW48: =SUM(BW45:BW47) -> 0 | BX48: =SUM(BX45:BX47) -> 0 | BY48: =SUM(BY45:BY47) -> 0 | BZ48: =SUM(BZ45:BZ47) -> 0 | CA48: =(CA45*$CK45+CA46*$CK46+CA47*$CK47)/$CK48 -> #DIV/0! | CB48: =SUM(CB45:CB47) -> 0 | CC48: =(CC45*$CK45+CC46*$CK46+CC47*$CK47)/$CK48 -> #DIV/0! | CD48: =SUM(CD45:CD47) -> 0 | CE48: =(CE45*$CK45+CE46*$CK46+CE47*$CK47)/$CK48 -> #DIV/0! | CF48: =SUM(CF45:CF47) -> 0 | CG48: =SUM(CG45:CG47) -> 0 | CH48: =(CH45*$CK45+CH46*$CK46+CH47*$CK47)/$CK48 -> #DIV/0! | CI48: =SUM(CI45:CI47) -> 0 | CJ48: =SUM(CJ45:CJ47) -> 81 | CK48: =SUM(CK45:CK47) -> 78.9 | CN48: Total | CO48: =SUM(CO45:CO47) -> 0 | CP48: =SUM(CP45:CP47) -> 0 | CQ48: =SUM(CQ45:CQ47) -> 0 | CR48: =SUM(CR45:CR47) -> 0 | CS48: =(CS45*$DC45+CS46*$DC46+CS47*$DC47)/$DC48 -> #DIV/0! | CT48: =SUM(CT45:CT47) -> 0 | CU48: =(CU45*$DC45+CU46*$DC46+CU47*$DC47)/$DC48 -> #DIV/0! | CV48: =SUM(CV45:CV47) -> 0 | CW48: =(CW45*$DC45+CW46*$DC46+CW47*$DC47)/$DC48 -> #DIV/0! | CX48: =SUM(CX45:CX47) -> 0 | CY48: =SUM(CY45:CY47) -> 0 | CZ48: =(CZ45*$DC45+CZ46*$DC46+CZ47*$DC47)/$DC48 -> #DIV/0! | DA48: =SUM(DA45:DA47) -> 0 | DB48: =SUM(DB45:DB47) -> 81 | DC48: =SUM(DC45:DC47) -> 78.9 | DF48: Total | DG48: =SUM(DG45:DG47) -> 0 | DH48: =SUM(DH45:DH47) -> 0 | DI48: =SUM(DI45:DI47) -> 0 | DJ48: =SUM(DJ45:DJ47) -> 0 | DK48: =(DK45*$DU45+DK46*$DU46+DK47*$DU47)/$DU48 -> #DIV/0! | DL48: =SUM(DL45:DL47) -> 0 | DM48: =(DM45*$DU45+DM46*$DU46+DM47*$DU47)/$DU48 -> #DIV/0! | DN48: =SUM(DN45:DN47) -> 0 | DO48: =(DO45*$DU45+DO46*$DU46+DO47*$DU47)/$DU48 -> #DIV/0! | DP48: =SUM(DP45:DP47) -> 0 | DQ48: =SUM(DQ45:DQ47) -> 0 | DR48: =(DR45*$DU45+DR46*$DU46+DR47*$DU47)/$DU48 -> #DIV/0! | DS48: =SUM(DS45:DS47) -> 0 | DT48: =SUM(DT45:DT47) -> 81 | DU48: =SUM(DU45:DU47) -> 78.9 | DX48: Total | DY48: =SUM(DY45:DY47) -> 0 | DZ48: =SUM(DZ45:DZ47) -> 0 | EA48: =SUM(EA45:EA47) -> 0 | EB48: =SUM(EB45:EB47) -> 0 | EC48: =(EC45*$EM45+EC46*$EM46+EC47*$EM47)/$EM48 -> #DIV/0! | ED48: =SUM(ED45:ED47) -> 0 | EE48: =(EE45*$EM45+EE46*$EM46+EE47*$EM47)/$EM48 -> #DIV/0! | EF48: =SUM(EF45:EF47) -> 0 | EG48: =(EG45*$EM45+EG46*$EM46+EG47*$EM47)/$EM48 -> #DIV/0! | EH48: =SUM(EH45:EH47) -> 0 | EI48: =SUM(EI45:EI47) -> 0 | EJ48: =(EJ45*$EM45+EJ46*$EM46+EJ47*$EM47)/$EM48 -> #DIV/0! | EK48: =SUM(EK45:EK47) -> 0 | EL48: =SUM(EL45:EL47) -> 81 | EM48: =SUM(EM45:EM47) -> 78.9 | EP48: Total | EQ48: =SUM(EQ45:EQ47) -> 0 | ER48: =SUM(ER45:ER47) -> 0 | ES48: =SUM(ES45:ES47) -> 0 | ET48: =SUM(ET45:ET47) -> 0 | EU48: =(EU45*$FE45+EU46*$FE46+EU47*$FE47)/$FE48 -> #DIV/0! | EV48: =SUM(EV45:EV47) -> 0 | EW48: =(EW45*$FE45+EW46*$FE46+EW47*$FE47)/$FE48 -> #DIV/0! | EX48: =SUM(EX45:EX47) -> 0 | EY48: =(EY45*$FE45+EY46*$FE46+EY47*$FE47)/$FE48 -> #DIV/0! | EZ48: =SUM(EZ45:EZ47) -> 0 | FA48: =SUM(FA45:FA47) -> 0 | FB48: =(FB45*$FE45+FB46*$FE46+FB47*$FE47)/$FE48 -> #DIV/0! | FC48: =SUM(FC45:FC47) -> 0 | FD48: =SUM(FD45:FD47) -> 81 | FE48: =SUM(FE45:FE47) -> 78.9 | FH48: Total | FI48: =SUM(FI45:FI47) -> 0 | FJ48: =SUM(FJ45:FJ47) -> 0 | FK48: =SUM(FK45:FK47) -> 0 | FL48: =SUM(FL45:FL47) -> 0 | FM48: =(FM45*$FW45+FM46*$FW46+FM47*$FW47)/$FW48 -> #DIV/0! | FN48: =SUM(FN45:FN47) -> 0 | FO48: =(FO45*$FW45+FO46*$FW46+FO47*$FW47)/$FW48 -> #DIV/0! | FP48: =SUM(FP45:FP47) -> 0 | FQ48: =(FQ45*$FW45+FQ46*$FW46+FQ47*$FW47)/$FW48 -> #DIV/0! | FR48: =SUM(FR45:FR47) -> 0 | FS48: =SUM(FS45:FS47) -> 0 | FT48: =(FT45*$FW45+FT46*$FW46+FT47*$FW47)/$FW48 -> #DIV/0! | FU48: =SUM(FU45:FU47) -> 0 | FV48: =SUM(FV45:FV47) -> 81 | FW48: =SUM(FW45:FW47) -> 78.9 | FZ48: Total | GA48: =SUM(GA45:GA47) -> 0 | GB48: =SUM(GB45:GB47) -> 0 | GC48: =SUM(GC45:GC47) -> 0 | GD48: =SUM(GD45:GD47) -> 0 | GE48: =(GE45*$GO45+GE46*$GO46+GE47*$GO47)/$GO48 -> #DIV/0! | GF48: =SUM(GF45:GF47) -> 0 | GG48: =(GG45*$GO45+GG46*$GO46+GG47*$GO47)/$GO48 -> #DIV/0! | GH48: =SUM(GH45:GH47) -> 0 | GI48: =(GI45*$GO45+GI46*$GO46+GI47*$GO47)/$GO48 -> #DIV/0! | GJ48: =SUM(GJ45:GJ47) -> 0 | GK48: =SUM(GK45:GK47) -> 0 | GL48: =(GL45*$GO45+GL46*$GO46+GL47*$GO47)/$GO48 -> #DIV/0! | GM48: =SUM(GM45:GM47) -> 0 | GN48: =SUM(GN45:GN47) -> 81 | GO48: =SUM(GO45:GO47) -> 78.9 | GR48: Total | GS48: =SUM(GS45:GS47) -> 0 | GT48: =SUM(GT45:GT47) -> 0 | GU48: =SUM(GU45:GU47) -> 0 | GV48: =SUM(GV45:GV47) -> 0 | GW48: =(GW45*$HG45+GW46*$HG46+GW47*$HG47)/$HG48 -> #DIV/0! | GX48: =SUM(GX45:GX47) -> 0 | GY48: =(GY45*$HG45+GY46*$HG46+GY47*$HG47)/$HG48 -> #DIV/0! | GZ48: =SUM(GZ45:GZ47) -> 0 | HA48: =(HA45*$HG45+HA46*$HG46+HA47*$HG47)/$HG48 -> #DIV/0! | HB48: =SUM(HB45:HB47) -> 0 | HC48: =SUM(HC45:HC47) -> 0 | HD48: =(HD45*$HG45+HD46*$HG46+HD47*$HG47)/$HG48 -> #DIV/0! | HE48: =SUM(HE45:HE47) -> 0 | HF48: =SUM(HF45:HF47) -> 81 | HG48: =SUM(HG45:HG47) -> 78.9
A49: CAMBALACHE | B49: 2 | C49: 744 | D49: 295.88333 | E49: 448.11667 | F49: 0 | G49: =F49/$B$4 -> 0 | H49: 0 | I49: =H49/$B$4 -> 0 | J49: 0 | K49: =J49/$B$4 -> 0 | L49: ='[7]UNIT DATA'!P2 -> 0 | M49: ='[7]UNIT DATA'!Q2 -> 0 | N49: =(C49-L49-M49)/$B$4 -> 1 | O49: 18834 | P49: 82.5 | Q49: 77 | S49: CAMBALACHE | T49: 2 | U49: 744 | V49: 317.31667 | W49: 426.68333 | X49: 0 | Y49: =X49/$T$4 -> 0 | Z49: 0 | AA49: =Z49/$T$4 -> 0 | AB49: 0 | AC49: =AB49/$T$4 -> 0 | AD49: 0 | AE49: 0 | AF49: =(U49-AD49-AE49)/$T$4 -> 1 | AG49: 20137 | AH49: 82.5 | AI49: 77 | AK49: CAMBALACHE | AL49: 2 | AM49: 717.02 | AN49: 334.53 | AO49: 382.49 | AP49: 2.98 | AQ49: =AP49/$AL$4 -> 0.0041388889 | AR49: 0 | AS49: =AR49/$AL$4 -> 0 | AT49: 0 | AU49: =AT49/$AL$4 -> 0 | AV49: 0 | AW49: 0 | AX49: =(AM49-AV49-AW49)/$AL$4 -> 0.99586111 | AY49: 20951 | AZ49: 82.5 | BA49: 77 | BC49: CAMBALACHE | BD49: 2 | BI49: =BH49/$BD$4 -> #DIV/0! | BK49: =BJ49/$BD$4 -> #DIV/0! | BM49: =BL49/$BD$4 -> #DIV/0! | BP49: =(BE49-BO49)/$BD$4 -> #DIV/0! | BR49: 82.5 | BS49: 77 | BU49: CAMBALACHE | BV49: 2 | CA49: =BZ49/$BV$4 -> #DIV/0! | CC49: =CB49/$BV$4 -> #DIV/0! | CE49: =CD49/$BV$4 -> #DIV/0! | CH49: =(BW49-CF49-CG49)/$BV$4 -> #DIV/0! | CJ49: 82.5 | CK49: 77 | CM49: CAMBALACHE | CN49: 2 | CS49: =CR49/$CN$4 -> #DIV/0! | CU49: =CT49/$CN$4 -> #DIV/0! | CW49: =CV49/$CN$4 -> #DIV/0! | CZ49: =(CO49-CX49-CY49)/$CN$4 -> #DIV/0! | DB49: 82.5 | DC49: 77 | DE49: CAMBALACHE | DF49: 2 | DK49: =DJ49/$DF$4 -> #DIV/0! | DM49: =DL49/$DF$4 -> #DIV/0! | DO49: =DN49/$DF$4 -> #DIV/0! | DR49: =(DG49-DP49-DQ49)/$DF$4 -> #DIV/0! | DT49: 82.5 | DU49: 77 | DW49: CAMBALACHE | DX49: 2 | EC49: =EB49/$DX$4 -> #DIV/0! | EE49: =ED49/$DX$4 -> #DIV/0! | EG49: =EF49/$DX$4 -> #DIV/0! | EJ49: =(DY49-EH49-EI49)/$DX$4 -> #DIV/0! | EL49: 82.5 | EM49: 77 | EO49: CAMBALACHE | EP49: 2 | EU49: =ET49/$EP$4 -> #DIV/0! | EW49: =EV49/$EP$4 -> #DIV/0! | EY49: =EX49/$EP$4 -> #DIV/0! | FB49: =(EQ49-EZ49-FA49)/$EP$4 -> #DIV/0! | FD49: 82.5 | FE49: 77 | FG49: CAMBALACHE | FH49: 2 | FM49: =FL49/$FH$4 -> #DIV/0! | FO49: =FN49/$FH$4 -> #DIV/0! | FQ49: =FP49/$FH$4 -> #DIV/0! | FT49: =(FI49-FR49-FS49)/$FH$4 -> #DIV/0! | FV49: 82.5 | FW49: 77 | FY49: CAMBALACHE | FZ49: 2 | GE49: =GD49/$FZ$4 -> #DIV/0! | GG49: =GF49/$FZ$4 -> #DIV/0! | GI49: =GH49/$FZ$4 -> #DIV/0! | GL49: =(GA49-GJ49-GK49)/$FZ$4 -> #DIV/0! | GN49: 82.5 | GO49: 77 | GQ49: CAMBALACHE | GR49: 2 | GW49: =GV49/$GR$4 -> #DIV/0! | GY49: =GX49/$GR$4 -> #DIV/0! | HA49: =GZ49/$GR$4 -> #DIV/0! | HD49: =(GS49-HC49)/$GR$4 -> #DIV/0! | HF49: 82.5 | HG49: 77
B50: 3 | C50: 724 | D50: 392.68333 | E50: 331.31667 | F50: 20 | G50: =F50/$B$4 -> 0.02688172 | H50: 0 | I50: =H50/$B$4 -> 0 | J50: 0 | K50: =J50/$B$4 -> 0 | L50: ='[7]UNIT DATA'!P3 -> 0 | M50: ='[7]UNIT DATA'!Q3 -> 0 | N50: =(C50-L50-M50)/$B$4 -> 0.97311828 | O50: 25061 | P50: 82.5 | Q50: 75 | T50: 3 | U50: 744 | V50: 363.48333 | W50: 380.51667 | X50: 0 | Y50: =X50/$T$4 -> 0 | Z50: 0 | AA50: =Z50/$T$4 -> 0 | AB50: 0 | AC50: =AB50/$T$4 -> 0 | AD50: 0 | AE50: 0 | AF50: =(U50-AD50-AE50)/$T$4 -> 1 | AG50: 22918 | AH50: 82.5 | AI50: 75 | AL50: 3 | AM50: 720 | AN50: 452.36 | AO50: 267.64 | AP50: 0 | AQ50: =AP50/$AL$4 -> 0 | AR50: 0 | AS50: =AR50/$AL$4 -> 0 | AT50: 0 | AU50: =AT50/$AL$4 -> 0 | AV50: 0 | AW50: 0 | AX50: =(AM50-AV50-AW50)/$AL$4 -> 1 | AY50: 28442 | AZ50: 82.5 | BA50: 75 | BD50: 3 | BI50: =BH50/$BD$4 -> #DIV/0! | BK50: =BJ50/$BD$4 -> #DIV/0! | BM50: =BL50/$BD$4 -> #DIV/0! | BP50: =(BE50-BO50)/$BD$4 -> #DIV/0! | BR50: 82.5 | BS50: 75 | BV50: 3 | CA50: =BZ50/$BV$4 -> #DIV/0! | CC50: =CB50/$BV$4 -> #DIV/0! | CE50: =CD50/$BV$4 -> #DIV/0! | CH50: =(BW50-CF50-CG50)/$BV$4 -> #DIV/0! | CJ50: 82.5 | CK50: 75 | CN50: 3 | CS50: =CR50/$CN$4 -> #DIV/0! | CU50: =CT50/$CN$4 -> #DIV/0! | CW50: =CV50/$CN$4 -> #DIV/0! | CZ50: =(CO50-CX50-CY50)/$CN$4 -> #DIV/0! | DB50: 82.5 | DC50: 75 | DF50: 3 | DK50: =DJ50/$DF$4 -> #DIV/0! | DM50: =DL50/$DF$4 -> #DIV/0! | DO50: =DN50/$DF$4 -> #DIV/0! | DR50: =(DG50-DP50-DQ50)/$DF$4 -> #DIV/0! | DT50: 82.5 | DU50: 75 | DX50: 3 | EC50: =EB50/$DX$4 -> #DIV/0! | EE50: =ED50/$DX$4 -> #DIV/0! | EG50: =EF50/$DX$4 -> #DIV/0! | EJ50: =(DY50-EH50-EI50)/$DX$4 -> #DIV/0! | EL50: 82.5 | EM50: 75 | EP50: 3 | EU50: =ET50/$EP$4 -> #DIV/0! | EW50: =EV50/$EP$4 -> #DIV/0! | EY50: =EX50/$EP$4 -> #DIV/0! | FB50: =(EQ50-EZ50-FA50)/$EP$4 -> #DIV/0! | FD50: 82.5 | FE50: 75 | FH50: 3 | FM50: =FL50/$FH$4 -> #DIV/0! | FO50: =FN50/$FH$4 -> #DIV/0! | FQ50: =FP50/$FH$4 -> #DIV/0! | FT50: =(FI50-FR50-FS50)/$FH$4 -> #DIV/0! | FV50: 82.5 | FW50: 75 | FZ50: 3 | GE50: =GD50/$FZ$4 -> #DIV/0! | GG50: =GF50/$FZ$4 -> #DIV/0! | GI50: =GH50/$FZ$4 -> #DIV/0! | GL50: =(GA50-GJ50-GK50)/$FZ$4 -> #DIV/0! | GN50: 82.5 | GO50: 75 | GR50: 3 | GW50: =GV50/$GR$4 -> #DIV/0! | GY50: =GX50/$GR$4 -> #DIV/0! | HA50: =GZ50/$GR$4 -> #DIV/0! | HD50: =(GS50-HC50)/$GR$4 -> #DIV/0! | HF50: 82.5 | HG50: 75
B51: Total | C51: =SUM(C49:C50) -> 1468 | D51: =SUM(D49:D50) -> 688.56667 | E51: =SUM(E49:E50) -> 779.43333 | F51: =SUM(F49:F50) -> 20 | G51: =(G49*$Q49+G50*$Q50)/$Q51 -> 0.013264007 | H51: =SUM(H49:H50) -> 0 | I51: =(I49*$Q$49+I50*$Q$50)/$Q$51 -> 0 | J51: =SUM(J49:J50) -> 0 | K51: =(K49*$Q$49+K50*$Q$50)/$Q$51 -> 0 | L51: =SUM(L49:L50) -> 0 | M51: =SUM(M49:M50) -> 0 | N51: =(N49*$Q$49+N50*$Q$50)/$Q$51 -> 0.98673599 | O51: =SUM(O49:O50) -> 43895 | P51: =SUM(P49:P50) -> 165 | Q51: =SUM(Q49:Q50) -> 152 | T51: Total | U51: =SUM(U49:U50) -> 1488 | V51: =SUM(V49:V50) -> 680.8 | W51: =SUM(W49:W50) -> 807.2 | X51: =SUM(X49:X50) -> 0 | Y51: =(Y49*$AI49+Y50*$AI50)/$AI51 -> 0 | Z51: =SUM(Z49:Z50) -> 0 | AA51: =(AA49*$AI$49+AA50*$AI$50)/$AI$51 -> 0 | AB51: =SUM(AB49:AB50) -> 0 | AC51: =(AC49*$AI$49+AC50*$AI$50)/$AI$51 -> 0 | AD51: =SUM(AD49:AD50) -> 0 | AE51: =SUM(AE49:AE50) -> 0 | AF51: =(AF49*$AI$49+AF50*$AI$50)/$AI$51 -> 1 | AG51: =SUM(AG49:AG50) -> 43055 | AH51: =SUM(AH49:AH50) -> 165 | AI51: =SUM(AI49:AI50) -> 152 | AL51: Total | AM51: =SUM(AM49:AM50) -> 1437.02 | AN51: =SUM(AN49:AN50) -> 786.89 | AO51: =SUM(AO49:AO50) -> 650.13 | AP51: =SUM(AP49:AP50) -> 2.98 | AQ51: =(AQ49*$BA49+AQ50*$BA50)/$BA51 -> 0.002096674 | AR51: =SUM(AR49:AR50) -> 0 | AS51: =(AS49*$BA49+AS50*$BA50)/$BA51 -> 0 | AT51: =SUM(AT49:AT50) -> 0 | AU51: =(AU49*$BA49+AU50*$BA50)/$BA51 -> 0 | AV51: =SUM(AV49:AV50) -> 0 | AW51: =SUM(AW49:AW50) -> 0 | AX51: =(AX49*$BA49+AX50*$BA50)/$BA51 -> 0.99790333 | AY51: =SUM(AY49:AY50) -> 49393 | AZ51: =SUM(AZ49:AZ50) -> 165 | BA51: =SUM(BA49:BA50) -> 152 | BD51: Total | BE51: =SUM(BE49:BE50) -> 0 | BF51: =SUM(BF49:BF50) -> 0 | BG51: =SUM(BG49:BG50) -> 0 | BH51: =SUM(BH49:BH50) -> 0 | BI51: =(BI49*$BS49+BI50*$BS50)/$BS51 -> #DIV/0! | BJ51: =SUM(BJ49:BJ50) -> 0 | BK51: =(BK49*$BS49+BK50*$BS50)/$BS51 -> #DIV/0! | BL51: =SUM(BL49:BL50) -> 0 | BM51: =(BM49*$BS49+BM50*$BS50)/$BS51 -> #DIV/0! | BN51: =SUM(BN49:BN50) -> 0 | BO51: =SUM(BO49:BO50) -> 0 | BP51: =(BP49*$BS49+BP50*$BS50)/$BS51 -> #DIV/0! | BQ51: =SUM(BQ49:BQ50) -> 0 | BR51: =SUM(BR49:BR50) -> 165 | BS51: =SUM(BS49:BS50) -> 152 | BV51: Total | BW51: =SUM(BW49:BW50) -> 0 | BX51: =SUM(BX49:BX50) -> 0 | BY51: =SUM(BY49:BY50) -> 0 | BZ51: =SUM(BZ49:BZ50) -> 0 | CA51: =(CA49*$CK49+CA50*$CK50)/$CK51 -> #DIV/0! | CB51: =SUM(CB49:CB50) -> 0 | CC51: =(CC49*$CK49+CC50*$CK50)/$CK51 -> #DIV/0! | CD51: =SUM(CD49:CD50) -> 0 | CE51: =(CE49*$CK49+CE50*$CK50)/$CK51 -> #DIV/0! | CF51: =SUM(CF49:CF50) -> 0 | CG51: =SUM(CG49:CG50) -> 0 | CH51: =(CH49*$CK49+CH50*$CK50)/$CK51 -> #DIV/0! | CI51: =SUM(CI49:CI50) -> 0 | CJ51: =SUM(CJ49:CJ50) -> 165 | CK51: =SUM(CK49:CK50) -> 152 | CN51: Total | CO51: =SUM(CO49:CO50) -> 0 | CP51: =SUM(CP49:CP50) -> 0 | CQ51: =SUM(CQ49:CQ50) -> 0 | CR51: =SUM(CR49:CR50) -> 0 | CS51: =(CS49*$DC49+CS50*$DC50)/$DC51 -> #DIV/0! | CT51: =SUM(CT49:CT50) -> 0 | CU51: =(CU49*$DC49+CU50*$DC50)/$DC51 -> #DIV/0! | CV51: =SUM(CV49:CV50) -> 0 | CW51: =(CW49*$DC49+CW50*$DC50)/$DC51 -> #DIV/0! | CX51: =SUM(CX49:CX50) -> 0 | CY51: =SUM(CY49:CY50) -> 0 | CZ51: =(CZ49*$DC49+CZ50*$DC50)/$DC51 -> #DIV/0! | DA51: =SUM(DA49:DA50) -> 0 | DB51: =SUM(DB49:DB50) -> 165 | DC51: =SUM(DC49:DC50) -> 152 | DF51: Total | DG51: =SUM(DG49:DG50) -> 0 | DH51: =SUM(DH49:DH50) -> 0 | DI51: =SUM(DI49:DI50) -> 0 | DJ51: =SUM(DJ49:DJ50) -> 0 | DK51: =(DK49*$DU49+DK50*$DU50)/$DU51 -> #DIV/0! | DL51: =SUM(DL49:DL50) -> 0 | DM51: =(DM49*$DU49+DM50*$DU50)/$DU51 -> #DIV/0! | DN51: =SUM(DN49:DN50) -> 0 | DO51: =(DO49*$DU49+DO50*$DU50)/$DU51 -> #DIV/0! | DP51: =SUM(DP49:DP50) -> 0 | DQ51: =SUM(DQ49:DQ50) -> 0 | DR51: =(DR49*$DU49+DR50*$DU50)/$DU51 -> #DIV/0! | DS51: =SUM(DS49:DS50) -> 0 | DT51: =SUM(DT49:DT50) -> 165 | DU51: =SUM(DU49:DU50) -> 152 | DX51: Total | DY51: =SUM(DY49:DY50) -> 0 | DZ51: =SUM(DZ49:DZ50) -> 0 | EA51: =SUM(EA49:EA50) -> 0 | EB51: =SUM(EB49:EB50) -> 0 | EC51: =(EC49*$EM49+EC50*$EM50)/$EM51 -> #DIV/0! | ED51: =SUM(ED49:ED50) -> 0 | EE51: =(EE49*$EM49+EE50*$EM50)/$EM51 -> #DIV/0! | EF51: =SUM(EF49:EF50) -> 0 | EG51: =(EG49*$EM49+EG50*$EM50)/$EM51 -> #DIV/0! | EH51: =SUM(EH49:EH50) -> 0 | EI51: =SUM(EI49:EI50) -> 0 | EJ51: =(EJ49*$EM49+EJ50*$EM50)/$EM51 -> #DIV/0! | EK51: =SUM(EK49:EK50) -> 0 | EL51: =SUM(EL49:EL50) -> 165 | EM51: =SUM(EM49:EM50) -> 152 | EP51: Total | EQ51: =SUM(EQ49:EQ50) -> 0 | ER51: =SUM(ER49:ER50) -> 0 | ES51: =SUM(ES49:ES50) -> 0 | ET51: =SUM(ET49:ET50) -> 0 | EU51: =(EU49*$FE49+EU50*$FE50)/$FE51 -> #DIV/0! | EV51: =SUM(EV49:EV50) -> 0 | EW51: =(EW49*$FE49+EW50*$FE50)/$FE51 -> #DIV/0! | EX51: =SUM(EX49:EX50) -> 0 | EY51: =(EY49*$FE49+EY50*$FE50)/$FE51 -> #DIV/0! | EZ51: =SUM(EZ49:EZ50) -> 0 | FA51: =SUM(FA49:FA50) -> 0 | FB51: =(FB49*$FE49+FB50*$FE50)/$FE51 -> #DIV/0! | FC51: =SUM(FC49:FC50) -> 0 | FD51: =SUM(FD49:FD50) -> 165 | FE51: =SUM(FE49:FE50) -> 152 | FH51: Total | FI51: =SUM(FI49:FI50) -> 0 | FJ51: =SUM(FJ49:FJ50) -> 0 | FK51: =SUM(FK49:FK50) -> 0 | FL51: =SUM(FL49:FL50) -> 0 | FM51: =(FM49*$FW49+FM50*$FW50)/$FW51 -> #DIV/0! | FN51: =SUM(FN49:FN50) -> 0 | FO51: =(FO49*$FW49+FO50*$FW50)/$FW51 -> #DIV/0! | FP51: =SUM(FP49:FP50) -> 0 | FQ51: =(FQ49*$FW49+FQ50*$FW50)/$FW51 -> #DIV/0! | FR51: =SUM(FR49:FR50) -> 0 | FS51: =SUM(FS49:FS50) -> 0 | FT51: =(FT49*$FW49+FT50*$FW50)/$FW51 -> #DIV/0! | FU51: =SUM(FU49:FU50) -> 0 | FV51: =SUM(FV49:FV50) -> 165 | FW51: =SUM(FW49:FW50) -> 152 | FZ51: Total | GA51: =SUM(GA49:GA50) -> 0 | GB51: =SUM(GB49:GB50) -> 0 | GC51: =SUM(GC49:GC50) -> 0 | GD51: =SUM(GD49:GD50) -> 0 | GE51: =(GE49*$GO49+GE50*$GO50)/$GO51 -> #DIV/0! | GF51: =SUM(GF49:GF50) -> 0 | GG51: =(GG49*$GO49+GG50*$GO50)/$GO51 -> #DIV/0! | GH51: =SUM(GH49:GH50) -> 0 | GI51: =(GI49*$GO49+GI50*$GO50)/$GO51 -> #DIV/0! | GJ51: =SUM(GJ49:GJ50) -> 0 | GK51: =SUM(GK49:GK50) -> 0 | GL51: =(GL49*$GO49+GL50*$GO50)/$GO51 -> #DIV/0! | GM51: =SUM(GM49:GM50) -> 0 | GN51: =SUM(GN49:GN50) -> 165 | GO51: =SUM(GO49:GO50) -> 152 | GR51: Total | GS51: =SUM(GS49:GS50) -> 0 | GT51: =SUM(GT49:GT50) -> 0 | GU51: =SUM(GU49:GU50) -> 0 | GV51: =SUM(GV49:GV50) -> 0 | GW51: =(GW49*$HG49+GW50*$HG50)/$HG51 -> #DIV/0! | GX51: =SUM(GX49:GX50) -> 0 | GY51: =(GY49*$HG49+GY50*$HG50)/$HG51 -> #DIV/0! | GZ51: =SUM(GZ49:GZ50) -> 0 | HA51: =(HA49*$HG49+HA50*$HG50)/$HG51 -> #DIV/0! | HB51: =SUM(HB49:HB50) -> 0 | HC51: =SUM(HC49:HC50) -> 0 | HD51: =(HD49*$HG49+HD50*$HG50)/$HG51 -> #DIV/0! | HE51: =SUM(HE49:HE50) -> 0 | HF51: =SUM(HF49:HF50) -> 165 | HG51: =SUM(HG49:HG50) -> 152
A52: MAYAGUEZ | B52: 1 | C52: 0 | D52: 0 | E52: 0 | F52: 744 | G52: =F52/$B$4 -> 1 | H52: 0 | I52: =H52/$B$4 -> 0 | J52: 0 | K52: =J52/$B$4 -> 0 | L52: =('[8]UNIT DATA'!P2+'[8]UNIT DATA'!P3)/2 -> 0 | M52: =('[8]UNIT DATA'!Q2+'[8]UNIT DATA'!Q3)/2 -> 0 | N52: =(C52-L52-M52)/$B$4 -> 0 | O52: 0 | P52: 55 | Q52: 48.1 | S52: MAYAGUEZ | T52: 1 | U52: 0 | V52: 0 | W52: 0 | X52: 744 | Y52: =X52/$T$4 -> 1 | Z52: 0 | AA52: =Z52/$T$4 -> 0 | AB52: 0 | AC52: =AB52/$T$4 -> 0 | AD52: 0 | AE52: 0 | AF52: =(U52-AD52-AE52)/$T$4 -> 0 | AG52: 0 | AH52: 55 | AI52: 48.1 | AK52: MAYAGUEZ | AL52: 1 | AM52: 0 | AN52: 0 | AO52: 0 | AP52: 720 | AQ52: =AP52/$AL$4 -> 1 | AR52: 0 | AS52: =AR52/$AL$4 -> 0 | AT52: 0 | AU52: =AT52/$AL$4 -> 0 | AV52: 0 | AW52: 0 | AX52: =(AM52-AV52-AW52)/$AL$4 -> 0 | AY52: 0 | AZ52: 55 | BA52: 48.1 | BC52: MAYAGUEZ | BD52: 1 | BI52: =BH52/$BD$4 -> #DIV/0! | BK52: =BJ52/$BD$4 -> #DIV/0! | BM52: =BL52/$BD$4 -> #DIV/0! | BP52: =(BE52-BO52)/$BD$4 -> #DIV/0! | BR52: 55 | BS52: 48.1 | BU52: MAYAGUEZ | BV52: 1 | CA52: =BZ52/$BV$4 -> #DIV/0! | CC52: =CB52/$BV$4 -> #DIV/0! | CE52: =CD52/$BV$4 -> #DIV/0! | CH52: =(BW52-CF52-CG52)/$BV$4 -> #DIV/0! | CJ52: 55 | CK52: 48.1 | CM52: MAYAGUEZ | CN52: 1 | CS52: =CR52/$CN$4 -> #DIV/0! | CU52: =CT52/$CN$4 -> #DIV/0! | CW52: =CV52/$CN$4 -> #DIV/0! | CZ52: =(CO52-CX52-CY52)/$CN$4 -> #DIV/0! | DB52: 55 | DC52: 48.1 | DE52: MAYAGUEZ | DF52: 1 | DK52: =DJ52/$DF$4 -> #DIV/0! | DM52: =DL52/$DF$4 -> #DIV/0! | DO52: =DN52/$DF$4 -> #DIV/0! | DR52: =(DG52-DP52-DQ52)/$DF$4 -> #DIV/0! | DT52: 55 | DU52: 48.1 | DW52: MAYAGUEZ | DX52: 1 | EC52: =EB52/$DX$4 -> #DIV/0! | EE52: =ED52/$DX$4 -> #DIV/0! | EG52: =EF52/$DX$4 -> #DIV/0! | EJ52: =(DY52-EH52-EI52)/$DX$4 -> #DIV/0! | EL52: 55 | EM52: 48.1 | EO52: MAYAGUEZ | EP52: 1 | EU52: =ET52/$EP$4 -> #DIV/0! | EW52: =EV52/$EP$4 -> #DIV/0! | EY52: =EX52/$EP$4 -> #DIV/0! | FB52: =(EQ52-EZ52-FA52)/$EP$4 -> #DIV/0! | FD52: 55 | FE52: 48.1 | FG52: MAYAGUEZ | FH52: 1 | FM52: =FL52/$FH$4 -> #DIV/0! | FO52: =FN52/$FH$4 -> #DIV/0! | FQ52: =FP52/$FH$4 -> #DIV/0! | FT52: =(FI52-FR52-FS52)/$FH$4 -> #DIV/0! | FV52: 55 | FW52: 48.1 | FY52: MAYAGUEZ | FZ52: 1 | GE52: =GD52/$FZ$4 -> #DIV/0! | GG52: =GF52/$FZ$4 -> #DIV/0! | GI52: =GH52/$FZ$4 -> #DIV/0! | GL52: =(GA52-GJ52-GK52)/$FZ$4 -> #DIV/0! | GN52: 55 | GO52: 48.1 | GQ52: MAYAGUEZ | GR52: 1 | GW52: =GV52/$GR$4 -> #DIV/0! | GY52: =GX52/$GR$4 -> #DIV/0! | HA52: =GZ52/$GR$4 -> #DIV/0! | HD52: =(GS52-HC52)/$GR$4 -> #DIV/0! | HF52: 55 | HG52: 48.1
B53: 2 | C53: 365.61 | D53: 134.16 | E53: 231.45 | F53: 378.39 | G53: =F53/$B$4 -> 0.50858871 | H53: 0 | I53: =H53/$B$4 -> 0 | J53: 0 | K53: =J53/$B$4 -> 0 | L53: =('[8]UNIT DATA'!P4+'[8]UNIT DATA'!P5)/2 -> 0 | M53: =('[8]UNIT DATA'!Q4+'[8]UNIT DATA'!Q5)/2 -> 10.325714 | N53: =(C53-L53-M53)/$B$4 -> 0.47753264 | O53: 6106.6 | P53: 55 | Q53: 49.4 | T53: 2 | U53: 324.565 | V53: 131.19 | W53: 193.375 | X53: 419.435 | Y53: =X53/$T$4 -> 0.56375672 | Z53: 0 | AA53: =Z53/$T$4 -> 0 | AB53: 0 | AC53: =AB53/$T$4 -> 0 | AD53: 0 | AE53: 10.325714 | AF53: =(U53-AD53-AE53)/$T$4 -> 0.42236463 | AG53: 5840.8 | AH53: 55 | AI53: 49.4 | AL53: 2 | AM53: 348.725 | AN53: 139.54 | AO53: 209.185 | AP53: 371.275 | AQ53: =AP53/$AL$4 -> 0.51565972 | AR53: 0 | AS53: =AR53/$AL$4 -> 0 | AT53: 0 | AU53: =AT53/$AL$4 -> 0 | AV53: 0 | AW53: 7.315 | AX53: =(AM53-AV53-AW53)/$AL$4 -> 0.47418056 | AY53: 6274.1 | AZ53: 55 | BA53: 49.4 | BD53: 2 | BI53: =BH53/$BD$4 -> #DIV/0! | BK53: =BJ53/$BD$4 -> #DIV/0! | BM53: =BL53/$BD$4 -> #DIV/0! | BP53: =(BE53-BO53)/$BD$4 -> #DIV/0! | BR53: 55 | BS53: 49.4 | BV53: 2 | CA53: =BZ53/$BV$4 -> #DIV/0! | CC53: =CB53/$BV$4 -> #DIV/0! | CE53: =CD53/$BV$4 -> #DIV/0! | CH53: =(BW53-CF53-CG53)/$BV$4 -> #DIV/0! | CJ53: 55 | CK53: 49.4 | CN53: 2 | CS53: =CR53/$CN$4 -> #DIV/0! | CU53: =CT53/$CN$4 -> #DIV/0! | CW53: =CV53/$CN$4 -> #DIV/0! | CZ53: =(CO53-CX53-CY53)/$CN$4 -> #DIV/0! | DB53: 55 | DC53: 49.4 | DF53: 2 | DK53: =DJ53/$DF$4 -> #DIV/0! | DM53: =DL53/$DF$4 -> #DIV/0! | DO53: =DN53/$DF$4 -> #DIV/0! | DR53: =(DG53-DP53-DQ53)/$DF$4 -> #DIV/0! | DT53: 55 | DU53: 49.4 | DX53: 2 | EC53: =EB53/$DX$4 -> #DIV/0! | EE53: =ED53/$DX$4 -> #DIV/0! | EG53: =EF53/$DX$4 -> #DIV/0! | EJ53: =(DY53-EH53-EI53)/$DX$4 -> #DIV/0! | EL53: 55 | EM53: 49.4 | EP53: 2 | EU53: =ET53/$EP$4 -> #DIV/0! | EW53: =EV53/$EP$4 -> #DIV/0! | EY53: =EX53/$EP$4 -> #DIV/0! | FB53: =(EQ53-EZ53-FA53)/$EP$4 -> #DIV/0! | FD53: 55 | FE53: 49.4 | FH53: 2 | FM53: =FL53/$FH$4 -> #DIV/0! | FO53: =FN53/$FH$4 -> #DIV/0! | FQ53: =FP53/$FH$4 -> #DIV/0! | FT53: =(FI53-FR53-FS53)/$FH$4 -> #DIV/0! | FV53: 55 | FW53: 49.4 | FZ53: 2 | GE53: =GD53/$FZ$4 -> #DIV/0! | GG53: =GF53/$FZ$4 -> #DIV/0! | GI53: =GH53/$FZ$4 -> #DIV/0! | GL53: =(GA53-GJ53-GK53)/$FZ$4 -> #DIV/0! | GN53: 55 | GO53: 49.4 | GR53: 2 | GW53: =GV53/$GR$4 -> #DIV/0! | GY53: =GX53/$GR$4 -> #DIV/0! | HA53: =GZ53/$GR$4 -> #DIV/0! | HD53: =(GS53-HC53)/$GR$4 -> #DIV/0! | HF53: 55 | HG53: 49.4
B54: 3 | C54: 744 | D54: 371.325 | E54: 372.675 | F54: 0 | G54: =F54/$B$4 -> 0 | H54: 0 | I54: =H54/$B$4 -> 0 | J54: 0 | K54: =J54/$B$4 -> 0 | L54: =('[8]UNIT DATA'!P6+'[8]UNIT DATA'!P7)/2 -> 0 | M54: =('[8]UNIT DATA'!Q6+'[8]UNIT DATA'!Q7)/2 -> 198.46818 | N54: =(C54-L54-M54)/$B$4 -> 0.73324169 | O54: 16223 | P54: 55 | Q54: 51.2 | T54: 3 | U54: 738.58 | V54: 350.69 | W54: 387.89 | X54: 5.42 | Y54: =X54/$T$4 -> 0.0072849462 | Z54: 0 | AA54: =Z54/$T$4 -> 0 | AB54: 0 | AC54: =AB54/$T$4 -> 0 | AD54: 0 | AE54: 49.516364 | AF54: =(U54-AD54-AE54)/$T$4 -> 0.9261608 | AG54: 14824.6 | AH54: 55 | AI54: 51.2 | AL54: 3 | AM54: 720 | AN54: 373.595 | AO54: 346.405 | AP54: 0 | AQ54: =AP54/$AL$4 -> 0 | AR54: 0 | AS54: =AR54/$AL$4 -> 0 | AT54: 0 | AU54: =AT54/$AL$4 -> 0 | AV54: 0 | AW54: 28.395 | AX54: =(AM54-AV54-AW54)/$AL$4 -> 0.9605625 | AY54: 16453.7 | AZ54: 55 | BA54: 51.2 | BD54: 3 | BI54: =BH54/$BD$4 -> #DIV/0! | BK54: =BJ54/$BD$4 -> #DIV/0! | BM54: =BL54/$BD$4 -> #DIV/0! | BP54: =(BE54-BO54)/$BD$4 -> #DIV/0! | BR54: 55 | BS54: 51.2 | BV54: 3 | CA54: =BZ54/$BV$4 -> #DIV/0! | CC54: =CB54/$BV$4 -> #DIV/0! | CE54: =CD54/$BV$4 -> #DIV/0! | CH54: =(BW54-CF54-CG54)/$BV$4 -> #DIV/0! | CJ54: 55 | CK54: 51.2 | CN54: 3 | CS54: =CR54/$CN$4 -> #DIV/0! | CU54: =CT54/$CN$4 -> #DIV/0! | CW54: =CV54/$CN$4 -> #DIV/0! | CZ54: =(CO54-CX54-CY54)/$CN$4 -> #DIV/0! | DB54: 55 | DC54: 51.2 | DF54: 3 | DK54: =DJ54/$DF$4 -> #DIV/0! | DM54: =DL54/$DF$4 -> #DIV/0! | DO54: =DN54/$DF$4 -> #DIV/0! | DR54: =(DG54-DP54-DQ54)/$DF$4 -> #DIV/0! | DT54: 55 | DU54: 51.2 | DX54: 3 | EC54: =EB54/$DX$4 -> #DIV/0! | EE54: =ED54/$DX$4 -> #DIV/0! | EG54: =EF54/$DX$4 -> #DIV/0! | EJ54: =(DY54-EH54-EI54)/$DX$4 -> #DIV/0! | EL54: 55 | EM54: 51.2 | EP54: 3 | EU54: =ET54/$EP$4 -> #DIV/0! | EW54: =EV54/$EP$4 -> #DIV/0! | EY54: =EX54/$EP$4 -> #DIV/0! | FB54: =(EQ54-EZ54-FA54)/$EP$4 -> #DIV/0! | FD54: 55 | FE54: 51.2 | FH54: 3 | FM54: =FL54/$FH$4 -> #DIV/0! | FO54: =FN54/$FH$4 -> #DIV/0! | FQ54: =FP54/$FH$4 -> #DIV/0! | FT54: =(FI54-FR54-FS54)/$FH$4 -> #DIV/0! | FV54: 55 | FW54: 51.2 | FZ54: 3 | GE54: =GD54/$FZ$4 -> #DIV/0! | GG54: =GF54/$FZ$4 -> #DIV/0! | GI54: =GH54/$FZ$4 -> #DIV/0! | GL54: =(GA54-GJ54-GK54)/$FZ$4 -> #DIV/0! | GN54: 55 | GO54: 51.2 | GR54: 3 | GW54: =GV54/$GR$4 -> #DIV/0! | GY54: =GX54/$GR$4 -> #DIV/0! | HA54: =GZ54/$GR$4 -> #DIV/0! | HD54: =(GS54-HC54)/$GR$4 -> #DIV/0! | HF54: 55 | HG54: 51.2
B55: 4 | C55: 371.96 | D55: 143.44 | E55: 228.52 | F55: 372.04 | G55: =F55/$B$4 -> 0.50005376 | H55: 0 | I55: =H55/$B$4 -> 0 | J55: 0 | K55: =J55/$B$4 -> 0 | L55: =('[8]UNIT DATA'!P8+'[8]UNIT DATA'!P9)/2 -> 0 | M55: =('[8]UNIT DATA'!Q8+'[8]UNIT DATA'!Q9)/2 -> 70.337171 | N55: =(C55-L55-M55)/$B$4 -> 0.40540703 | O55: 6532.8 | P55: 55 | Q55: 52.6 | T55: 4 | U55: 372 | V55: 124.54 | W55: 247.46 | X55: 372 | Y55: =X55/$T$4 -> 0.5 | Z55: 0 | AA55: =Z55/$T$4 -> 0 | AB55: 0 | AC55: =AB55/$T$4 -> 0 | AD55: 0 | AE55: 1.8915789 | AF55: =(U55-AD55-AE55)/$T$4 -> 0.49745756 | AG55: 6635.6 | AH55: 55 | AI55: 52.6 | AL55: 4 | AM55: 326.21 | AN55: 133.965 | AO55: 192.245 | AP55: 393.79 | AQ55: =AP55/$AL$4 -> 0.54693056 | AR55: 0 | AS55: =AR55/$AL$4 -> 0 | AT55: 0 | AU55: =AT55/$AL$4 -> 0 | AV55: 0 | AW55: 8.43 | AX55: =(AM55-AV55-AW55)/$AL$4 -> 0.44136111 | AY55: 6343.7 | AZ55: 55 | BA55: 52.6 | BD55: 4 | BI55: =BH55/$BD$4 -> #DIV/0! | BK55: =BJ55/$BD$4 -> #DIV/0! | BM55: =BL55/$BD$4 -> #DIV/0! | BP55: =(BE55-BO55)/$BD$4 -> #DIV/0! | BR55: 55 | BS55: 52.6 | BV55: 4 | CA55: =BZ55/$BV$4 -> #DIV/0! | CC55: =CB55/$BV$4 -> #DIV/0! | CE55: =CD55/$BV$4 -> #DIV/0! | CH55: =(BW55-CF55-CG55)/$BV$4 -> #DIV/0! | CJ55: 55 | CK55: 52.6 | CN55: 4 | CS55: =CR55/$CN$4 -> #DIV/0! | CU55: =CT55/$CN$4 -> #DIV/0! | CW55: =CV55/$CN$4 -> #DIV/0! | CZ55: =(CO55-CX55-CY55)/$CN$4 -> #DIV/0! | DB55: 55 | DC55: 52.6 | DF55: 4 | DK55: =DJ55/$DF$4 -> #DIV/0! | DM55: =DL55/$DF$4 -> #DIV/0! | DO55: =DN55/$DF$4 -> #DIV/0! | DR55: =(DG55-DP55-DQ55)/$DF$4 -> #DIV/0! | DT55: 55 | DU55: 52.6 | DX55: 4 | EC55: =EB55/$DX$4 -> #DIV/0! | EE55: =ED55/$DX$4 -> #DIV/0! | EG55: =EF55/$DX$4 -> #DIV/0! | EJ55: =(DY55-EH55-EI55)/$DX$4 -> #DIV/0! | EL55: 55 | EM55: 52.6 | EP55: 4 | EU55: =ET55/$EP$4 -> #DIV/0! | EW55: =EV55/$EP$4 -> #DIV/0! | EY55: =EX55/$EP$4 -> #DIV/0! | FB55: =(EQ55-EZ55-FA55)/$EP$4 -> #DIV/0! | FD55: 55 | FE55: 52.6 | FH55: 4 | FM55: =FL55/$FH$4 -> #DIV/0! | FO55: =FN55/$FH$4 -> #DIV/0! | FQ55: =FP55/$FH$4 -> #DIV/0! | FT55: =(FI55-FR55-FS55)/$FH$4 -> #DIV/0! | FV55: 55 | FW55: 52.6 | FZ55: 4 | GE55: =GD55/$FZ$4 -> #DIV/0! | GG55: =GF55/$FZ$4 -> #DIV/0! | GI55: =GH55/$FZ$4 -> #DIV/0! | GL55: =(GA55-GJ55-GK55)/$FZ$4 -> #DIV/0! | GN55: 55 | GO55: 52.6 | GR55: 4 | GW55: =GV55/$GR$4 -> #DIV/0! | GY55: =GX55/$GR$4 -> #DIV/0! | HA55: =GZ55/$GR$4 -> #DIV/0! | HD55: =(GS55-HC55)/$GR$4 -> #DIV/0! | HF55: 55 | HG55: 52.6
B56: Total | C56: =SUM(C52:C55) -> 1481.57 | D56: =SUM(D52:D55) -> 648.925 | E56: =SUM(E52:E55) -> 832.645 | F56: =SUM(F52:F55) -> 1494.43 | G56: =(G52*Q52+G53*Q53+G54*Q54+G55*Q55)/Q56 -> 0.49442181 | H56: =SUM(H52:H55) -> 0 | I56: =(I52*Q52+I53*Q53+I54*Q54+I55*Q55)/Q56 -> 0 | J56: =SUM(J52:J55) -> 0 | K56: =(K52*Q52+K53*Q53+K54*Q54+K55*Q55)/Q56 -> 0 | L56: =SUM(L52:L55) -> 0 | M56: =SUM(M52:M55) -> 279.13107 | N56: =(N52*Q52+N53*Q53+N54*Q54+N55*Q55)/Q56 -> 0.40961995 | O56: =SUM(O52:O55) -> 28862.4 | P56: =SUM(P52:P55) -> 220 | Q56: =SUM(Q52:Q55) -> 201.3 | T56: Total | U56: =SUM(U52:U55) -> 1435.145 | V56: =SUM(V52:V55) -> 606.42 | W56: =SUM(W52:W55) -> 828.725 | X56: =SUM(X52:X55) -> 1540.855 | Y56: =(Y52*$AI$52+Y53*$AI$53+Y54*$AI$54+Y55*$AI$55)/$AI$56 -> 0.50979916 | Z56: =SUM(Z52:Z55) -> 0 | AA56: =(AA53*$AI$53+AA54*$AI$54+AA55*$AI$55)/$AI$56 -> 0 | AB56: =SUM(AB52:AB55) -> 0 | AC56: =(AC53*$AI$53+AC54*$AI$54+AC55*$AI$55)/$AI$56 -> 0 | AD56: =SUM(AD52:AD55) -> 0 | AE56: =SUM(AE52:AE55) -> 61.733657 | AF56: =(AF52*$AI$52+AF53*$AI$53+AF54*$AI$54+AF55*$AI$55)/$AI$56 -> 0.46920275 | AG56: =SUM(AG52:AG55) -> 27301 | AH56: =SUM(AH52:AH55) -> 220 | AI56: =SUM(AI52:AI55) -> 201.3 | AL56: Total | AM56: =SUM(AM52:AM55) -> 1394.935 | AN56: =SUM(AN52:AN55) -> 647.1 | AO56: =SUM(AO52:AO55) -> 747.835 | AP56: =SUM(AP52:AP55) -> 1485.065 | AQ56: =(AQ52*$BA52+AQ53*$BA53+AQ54*$BA54+AQ55*$BA55)/$BA56 -> 0.50840605 | AR56: =SUM(AR52:AR55) -> 0 | AS56: =(AS52*$BA52+AS53*$BA53+AS54*$BA54+AS55*$BA55)/$BA56 -> 0 | AT56: =SUM(AT52:AT55) -> 0 | AU56: =(AU52*$BA52+AU53*$BA53+AU54*$BA54+AU55*$BA55)/$BA56 -> 0 | AV56: =SUM(AV52:AV55) -> 0 | AW56: =SUM(AW52:AW55) -> 44.14 | AX56: =(AX52*$BA52+AX53*$BA53+AX54*$BA54+AX55*$BA55)/$BA56 -> 0.4760105 | AY56: =SUM(AY52:AY55) -> 29071.5 | AZ56: =SUM(AZ52:AZ55) -> 220 | BA56: =SUM(BA52:BA55) -> 201.3 | BD56: Total | BE56: =SUM(BE52:BE55) -> 0 | BF56: =SUM(BF52:BF55) -> 0 | BG56: =SUM(BG52:BG55) -> 0 | BH56: =SUM(BH52:BH55) -> 0 | BI56: =(BI52*$BS52+BI53*$BS53+BI54*$BS54+BI55*$BS55)/$BS56 -> #DIV/0! | BJ56: =SUM(BJ52:BJ55) -> 0 | BK56: =(BK52*$BS52+BK53*$BS53+BK54*$BS54+BK55*$BS55)/$BS56 -> #DIV/0! | BL56: =SUM(BL52:BL55) -> 0 | BM56: =(BM52*$BS52+BM53*$BS53+BM54*$BS54+BM55*$BS55)/$BS56 -> #DIV/0! | BN56: =SUM(BN52:BN55) -> 0 | BO56: =SUM(BO52:BO55) -> 0 | BP56: =(BP52*$BS52+BP53*$BS53+BP54*$BS54+BP55*$BS55)/$BS56 -> #DIV/0! | BQ56: =SUM(BQ52:BQ55) -> 0 | BR56: =SUM(BR52:BR55) -> 220 | BS56: =SUM(BS52:BS55) -> 201.3 | BV56: Total | BW56: =SUM(BW52:BW55) -> 0 | BX56: =SUM(BX52:BX55) -> 0 | BY56: =SUM(BY52:BY55) -> 0 | BZ56: =SUM(BZ52:BZ55) -> 0 | CA56: =(CA52*$CK52+CA53*$CK53+CA54*$CK54+CA55*$CK55)/$CK56 -> #DIV/0! | CB56: =SUM(CB52:CB55) -> 0 | CC56: =(CC52*$CK52+CC53*$CK53+CC54*$CK54+CC55*$CK55)/$CK56 -> #DIV/0! | CD56: =SUM(CD52:CD55) -> 0 | CE56: =(CE52*$CK52+CE53*$CK53+CE54*$CK54+CE55*$CK55)/$CK56 -> #DIV/0! | CF56: =SUM(CF52:CF55) -> 0 | CG56: =SUM(CG52:CG55) -> 0 | CH56: =(CH52*$CK52+CH53*$CK53+CH54*$CK54+CH55*$CK55)/$CK56 -> #DIV/0! | CI56: =SUM(CI52:CI55) -> 0 | CJ56: =SUM(CJ52:CJ55) -> 220 | CK56: =SUM(CK52:CK55) -> 201.3 | CN56: Total | CO56: =SUM(CO52:CO55) -> 0 | CP56: =SUM(CP52:CP55) -> 0 | CQ56: =SUM(CQ52:CQ55) -> 0 | CR56: =SUM(CR52:CR55) -> 0 | CS56: =(CS52*$DC52+CS53*$DC53+CS54*$DC54+CS55*$DC55)/$DC56 -> #DIV/0! | CT56: =SUM(CT52:CT55) -> 0 | CU56: =(CU52*$DC52+CU53*$DC53+CU54*$DC54+CU55*$DC55)/$DC56 -> #DIV/0! | CV56: =SUM(CV52:CV55) -> 0 | CW56: =(CW52*$DC52+CW53*$DC53+CW54*$DC54+CW55*$DC55)/$DC56 -> #DIV/0! | CX56: =SUM(CX52:CX55) -> 0 | CY56: =SUM(CY52:CY55) -> 0 | CZ56: =(CZ52*$DC52+CZ53*$DC53+CZ54*$DC54+CZ55*$DC55)/$DC56 -> #DIV/0! | DA56: =SUM(DA52:DA55) -> 0 | DB56: =SUM(DB52:DB55) -> 220 | DC56: =SUM(DC52:DC55) -> 201.3 | DF56: Total | DG56: =SUM(DG52:DG55) -> 0 | DH56: =SUM(DH52:DH55) -> 0 | DI56: =SUM(DI52:DI55) -> 0 | DJ56: =SUM(DJ52:DJ55) -> 0 | DK56: =(DK52*$DU52+DK53*$DU53+DK54*$DU54+DK55*$DU55)/$DU56 -> #DIV/0! | DL56: =SUM(DL52:DL55) -> 0 | DM56: =(DM52*$DU52+DM53*$DU53+DM54*$DU54+DM55*$DU55)/$DU56 -> #DIV/0! | DN56: =SUM(DN52:DN55) -> 0 | DO56: =(DO52*$DU52+DO53*$DU53+DO54*$DU54+DO55*$DU55)/$DU56 -> #DIV/0! | DP56: =SUM(DP52:DP55) -> 0 | DQ56: =SUM(DQ52:DQ55) -> 0 | DR56: =(DR52*$DU52+DR53*$DU53+DR54*$DU54+DR55*$DU55)/$DU56 -> #DIV/0! | DS56: =SUM(DS52:DS55) -> 0 | DT56: =SUM(DT52:DT55) -> 220 | DU56: =SUM(DU52:DU55) -> 201.3 | DX56: Total | DY56: =SUM(DY52:DY55) -> 0 | DZ56: =SUM(DZ52:DZ55) -> 0 | EA56: =SUM(EA52:EA55) -> 0 | EB56: =SUM(EB52:EB55) -> 0 | EC56: =(EC52*$EM52+EC53*$EM53+EC54*$EM54+EC55*$EM55)/$EM56 -> #DIV/0! | ED56: =SUM(ED52:ED55) -> 0 | EE56: =(EE52*$EM52+EE53*$EM53+EE54*$EM54+EE55*$EM55)/$EM56 -> #DIV/0! | EF56: =SUM(EF52:EF55) -> 0 | EG56: =(EG52*$EM52+EG53*$EM53+EG54*$EM54+EG55*$EM55)/$EM56 -> #DIV/0! | EH56: =SUM(EH52:EH55) -> 0 | EI56: =SUM(EI52:EI55) -> 0 | EJ56: =(EJ52*$EM52+EJ53*$EM53+EJ54*$EM54+EJ55*$EM55)/$EM56 -> #DIV/0! | EK56: =SUM(EK52:EK55) -> 0 | EL56: =SUM(EL52:EL55) -> 220 | EM56: =SUM(EM52:EM55) -> 201.3 | EP56: Total | EQ56: =SUM(EQ52:EQ55) -> 0 | ER56: =SUM(ER52:ER55) -> 0 | ES56: =SUM(ES52:ES55) -> 0 | ET56: =SUM(ET52:ET55) -> 0 | EU56: =(EU52*$FE52+EU53*$FE53+EU54*$FE54+EU55*$FE55)/$FE56 -> #DIV/0! | EV56: =SUM(EV52:EV55) -> 0 | EW56: =(EW52*$FE52+EW53*$FE53+EW54*$FE54+EW55*$FE55)/$FE56 -> #DIV/0! | EX56: =SUM(EX52:EX55) -> 0 | EY56: =(EY52*$FE52+EY53*$FE53+EY54*$FE54+EY55*$FE55)/$FE56 -> #DIV/0! | EZ56: =SUM(EZ52:EZ55) -> 0 | FA56: =SUM(FA52:FA55) -> 0 | FB56: =(FB52*$FE52+FB53*$FE53+FB54*$FE54+FB55*$FE55)/$FE56 -> #DIV/0! | FC56: =SUM(FC52:FC55) -> 0 | FD56: =SUM(FD52:FD55) -> 220 | FE56: =SUM(FE52:FE55) -> 201.3 | FH56: Total | FI56: =SUM(FI52:FI55) -> 0 | FJ56: =SUM(FJ52:FJ55) -> 0 | FK56: =SUM(FK52:FK55) -> 0 | FL56: =SUM(FL52:FL55) -> 0 | FM56: =(FM52*$FW52+FM53*$FW53+FM54*$FW54+FM55*$FW55)/$FW56 -> #DIV/0! | FN56: =SUM(FN52:FN55) -> 0 | FO56: =(FO52*$FW52+FO53*$FW53+FO54*$FW54+FO55*$FW55)/$FW56 -> #DIV/0! | FP56: =SUM(FP52:FP55) -> 0 | FQ56: =(FQ52*$FW52+FQ53*$FW53+FQ54*$FW54+FQ55*$FW55)/$FW56 -> #DIV/0! | FR56: =SUM(FR52:FR55) -> 0 | FS56: =SUM(FS52:FS55) -> 0 | FT56: =(FT52*$FW52+FT53*$FW53+FT54*$FW54+FT55*$FW55)/$FW56 -> #DIV/0! | FU56: =SUM(FU52:FU55) -> 0 | FV56: =SUM(FV52:FV55) -> 220 | FW56: =SUM(FW52:FW55) -> 201.3 | FZ56: Total | GA56: =SUM(GA52:GA55) -> 0 | GB56: =SUM(GB52:GB55) -> 0 | GC56: =SUM(GC52:GC55) -> 0 | GD56: =SUM(GD52:GD55) -> 0 | GE56: =(GE52*$GO52+GE53*$GO53+GE54*$GO54+GE55*$GO55)/$GO56 -> #DIV/0! | GF56: =SUM(GF52:GF55) -> 0 | GG56: =(GG52*$GO52+GG53*$GO53+GG54*$GO54+GG55*$GO55)/$GO56 -> #DIV/0! | GH56: =SUM(GH52:GH55) -> 0 | GI56: =(GI52*$GO52+GI53*$GO53+GI54*$GO54+GI55*$GO55)/$GO56 -> #DIV/0! | GJ56: =SUM(GJ52:GJ55) -> 0 | GK56: =SUM(GK52:GK55) -> 0 | GL56: =(GL52*$GO52+GL53*$GO53+GL54*$GO54+GL55*$GO55)/$GO56 -> #DIV/0! | GM56: =SUM(GM52:GM55) -> 0 | GN56: =SUM(GN52:GN55) -> 220 | GO56: =SUM(GO52:GO55) -> 201.3 | GR56: Total | GS56: =SUM(GS52:GS55) -> 0 | GT56: =SUM(GT52:GT55) -> 0 | GU56: =SUM(GU52:GU55) -> 0 | GV56: =SUM(GV52:GV55) -> 0 | GW56: =(GW52*$HG52+GW53*$HG53+GW54*$HG54+GW55*$HG55)/$HG56 -> #DIV/0! | GX56: =SUM(GX52:GX55) -> 0 | GY56: =(GY52*$HG52+GY53*$HG53+GY54*$HG54+GY55*$HG55)/$HG56 -> #DIV/0! | GZ56: =SUM(GZ52:GZ55) -> 0 | HA56: =(HA52*$HG52+HA53*$HG53+HA54*$HG54+HA55*$HG55)/$HG56 -> #DIV/0! | HB56: =SUM(HB52:HB55) -> 0 | HC56: =SUM(HC52:HC55) -> 0 | HD56: =(HD52*$HG52+HD53*$HG53+HD54*$HG54+HD55*$HG55)/$HG56 -> #DIV/0! | HE56: =SUM(HE52:HE55) -> 0 | HF56: =SUM(HF52:HF55) -> 220 | HG56: =SUM(HG52:HG55) -> 201.3
A57: SAN JUAN TM | B57: TM 1 | C57: 0 | D57: 0 | E57: 0 | F57: 744 | G57: =F57/$B$4 -> 1 | H57: 0 | I57: =H57/$B$4 -> 0 | J57: 0 | K57: =J57/$B$4 -> 0 | L57: ='[9]UNIT DATA'!P2 -> 0 | M57: ='[9]UNIT DATA'!Q2 -> 0 | N57: =(C57-L57-M57)/$B$4 -> 0 | O57: 0 | P57: 25 | Q57: 25 | S57: SAN JUAN TM | T57: TM 1 | U57: 0 | V57: 0 | W57: 0 | X57: 744 | Y57: =X57/$T$4 -> 1 | Z57: 0 | AA57: =Z57/$T$4 -> 0 | AB57: 0 | AC57: =AB57/$T$4 -> 0 | AD57: 0 | AE57: 0 | AF57: =(U57-AD57-AE57)/$T$4 -> 0 | AG57: 0 | AH57: 25 | AI57: 25 | AK57: SAN JUAN TM | AL57: TM 1 | AM57: 0 | AN57: 0 | AO57: 0 | AP57: 720 | AQ57: =AP57/$AL$4 -> 1 | AR57: 0 | AS57: =AR57/$AL$4 -> 0 | AT57: 0 | AU57: =AT57/$AL$4 -> 0 | AV57: 0 | AW57: 0 | AX57: =(AM57-AV57-AW57)/$AL$4 -> 0 | AY57: 0 | AZ57: 25 | BA57: 25 | BC57: SAN JUAN TM | BD57: TM 1 | BI57: =BH57/$BD$4 -> #DIV/0! | BK57: =BJ57/$BD$4 -> #DIV/0! | BM57: =BL57/$BD$4 -> #DIV/0! | BP57: =(BE57-BO57)/$BD$4 -> #DIV/0! | BR57: 25 | BS57: 25 | BU57: SAN JUAN TM | BV57: TM 1 | CA57: =BZ57/$BV$4 -> #DIV/0! | CC57: =CB57/$BV$4 -> #DIV/0! | CE57: =CD57/$BV$4 -> #DIV/0! | CH57: =(BW57-CF57-CG57)/$BV$4 -> #DIV/0! | CJ57: 25 | CK57: 25 | CM57: SAN JUAN TM | CN57: TM 1 | CS57: =CR57/$CN$4 -> #DIV/0! | CU57: =CT57/$CN$4 -> #DIV/0! | CW57: =CV57/$CN$4 -> #DIV/0! | CZ57: =(CO57-CX57-CY57)/$CN$4 -> #DIV/0! | DB57: 25 | DC57: 25 | DE57: SAN JUAN TM | DF57: TM 1 | DK57: =DJ57/$DF$4 -> #DIV/0! | DM57: =DL57/$DF$4 -> #DIV/0! | DO57: =DN57/$DF$4 -> #DIV/0! | DR57: =(DG57-DP57-DQ57)/$DF$4 -> #DIV/0! | DT57: 25 | DU57: 25 | DW57: SAN JUAN TM | DX57: TM 1 | EC57: =EB57/$DX$4 -> #DIV/0! | EE57: =ED57/$DX$4 -> #DIV/0! | EG57: =EF57/$DX$4 -> #DIV/0! | EJ57: =(DY57-EH57-EI57)/$DX$4 -> #DIV/0! | EL57: 25 | EM57: 25 | EO57: SAN JUAN TM | EP57: TM 1 | EU57: =ET57/$EP$4 -> #DIV/0! | EW57: =EV57/$EP$4 -> #DIV/0! | EY57: =EX57/$EP$4 -> #DIV/0! | FB57: =(EQ57-EZ57-FA57)/$EP$4 -> #DIV/0! | FD57: 25 | FE57: 25 | FG57: SAN JUAN TM | FH57: TM 1 | FM57: =FL57/$FH$4 -> #DIV/0! | FO57: 0 | FQ57: 0 | FT57: =(FI57-FR57-FS57)/$FH$4 -> #DIV/0! | FV57: 25 | FW57: 25 | FY57: SAN JUAN TM | FZ57: TM 1 | GE57: =GD57/$FZ$4 -> #DIV/0! | GG57: =GF57/$FZ$4 -> #DIV/0! | GI57: =GH57/$FZ$4 -> #DIV/0! | GL57: =(GA57-GJ57-GK57)/$FZ$4 -> #DIV/0! | GN57: 25 | GO57: 25 | GQ57: SAN JUAN TM | GR57: TM 1 | GW57: =GV57/$GR$4 -> #DIV/0! | GY57: =GX57/$GR$4 -> #DIV/0! | HA57: =GZ57/$GR$4 -> #DIV/0! | HD57: =(GS57-HC57)/$GR$4 -> #DIV/0! | HF57: 25 | HG57: 25
B58: TM 2 | C58: 249.13 | D58: 0 | E58: 249.13 | F58: 0 | G58: =F58/$B$4 -> 0 | H58: 0 | I58: =H58/$B$4 -> 0 | J58: 494.87 | K58: =J58/$B$4 -> 0.66514785 | L58: ='[9]UNIT DATA'!P3 -> 0 | M58: ='[9]UNIT DATA'!Q3 -> 0 | N58: =(C58-L58-M58)/$B$4 -> 0.33485215 | O58: 0 | P58: 25 | Q58: 22.4 | T58: TM 2 | U58: 534.23 | V58: 378.98 | W58: 155.25 | X58: 106.82 | Y58: =X58/$T$4 -> 0.14357527 | Z58: 0 | AA58: =Z58/$T$4 -> 0 | AB58: 102.95 | AC58: =AB58/$T$4 -> 0.13837366 | AD58: 0 | AE58: 0 | AF58: =(U58-AD58-AE58)/$T$4 -> 0.71805108 | AG58: 9104.21 | AH58: 25 | AI58: 22.4 | AL58: TM 2 | AM58: 705.31 | AN58: 314.5 | AO58: 390.81 | AP58: 14.69 | AQ58: =AP58/$AL$4 -> 0.020402778 | AR58: 0 | AS58: =AR58/$AL$4 -> 0 | AT58: 0 | AU58: =AT58/$AL$4 -> 0 | AV58: 0 | AW58: 0 | AX58: =(AM58-AV58-AW58)/$AL$4 -> 0.97959722 | AY58: 7477.485 | AZ58: 25 | BA58: 22.4 | BD58: TM 2 | BI58: =BH58/$BD$4 -> #DIV/0! | BK58: =BJ58/$BD$4 -> #DIV/0! | BM58: =BL58/$BD$4 -> #DIV/0! | BP58: =(BE58-BO58)/$BD$4 -> #DIV/0! | BR58: 25 | BS58: 22.4 | BV58: TM 2 | CA58: =BZ58/$BV$4 -> #DIV/0! | CC58: =CB58/$BV$4 -> #DIV/0! | CE58: =CD58/$BV$4 -> #DIV/0! | CH58: =(BW58-CF58-CG58)/$BV$4 -> #DIV/0! | CJ58: 25 | CK58: 22.4 | CN58: TM 2 | CS58: =CR58/$CN$4 -> #DIV/0! | CU58: =CT58/$CN$4 -> #DIV/0! | CW58: =CV58/$CN$4 -> #DIV/0! | CZ58: =(CO58-CX58-CY58)/$CN$4 -> #DIV/0! | DB58: 25 | DC58: 22.4 | DF58: TM 2 | DK58: =DJ58/$DF$4 -> #DIV/0! | DM58: =DL58/$DF$4 -> #DIV/0! | DO58: =DN58/$DF$4 -> #DIV/0! | DR58: =(DG58-DP58-DQ58)/$DF$4 -> #DIV/0! | DT58: 25 | DU58: 22.4 | DX58: TM 2 | EC58: =EB58/$DX$4 -> #DIV/0! | EE58: =ED58/$DX$4 -> #DIV/0! | EG58: =EF58/$DX$4 -> #DIV/0! | EJ58: =(DY58-EH58-EI58)/$DX$4 -> #DIV/0! | EL58: 25 | EM58: 22.4 | EP58: TM 2 | EU58: =ET58/$EP$4 -> #DIV/0! | EW58: =EV58/$EP$4 -> #DIV/0! | EY58: =EX58/$EP$4 -> #DIV/0! | FB58: =(EQ58-EZ58-FA58)/$EP$4 -> #DIV/0! | FD58: 25 | FE58: 22.4 | FH58: TM 2 | FM58: =FL58/$FH$4 -> #DIV/0! | FO58: 0 | FQ58: 0 | FT58: =(FI58-FR58-FS58)/$FH$4 -> #DIV/0! | FV58: 25 | FW58: 22.4 | FZ58: TM 2 | GE58: =GD58/$FZ$4 -> #DIV/0! | GG58: =GF58/$FZ$4 -> #DIV/0! | GI58: =GH58/$FZ$4 -> #DIV/0! | GL58: =(GA58-GJ58-GK58)/$FZ$4 -> #DIV/0! | GN58: 25 | GO58: 22.4 | GR58: TM 2 | GW58: =GV58/$GR$4 -> #DIV/0! | GY58: =GX58/$GR$4 -> #DIV/0! | HA58: =GZ58/$GR$4 -> #DIV/0! | HD58: =(GS58-HC58)/$GR$4 -> #DIV/0! | HF58: 25 | HG58: 22.4
B59: TM 3 | C59: 744 | D59: 477.49 | E59: 266.51 | F59: 0 | G59: =F59/$B$4 -> 0 | H59: 0 | I59: =H59/$B$4 -> 0 | J59: 0 | K59: =J59/$B$4 -> 0 | L59: ='[9]UNIT DATA'!P4 -> 0 | M59: ='[9]UNIT DATA'!Q4 -> 0 | N59: =(C59-L59-M59)/$B$4 -> 1 | O59: 11002.83 | P59: 25 | Q59: 22.7 | T59: TM 3 | U59: 656.11 | V59: 497.43 | W59: 158.68 | X59: 82.79 | Y59: =X59/$T$4 -> 0.11127688 | Z59: 0 | AA59: =Z59/$T$4 -> 0 | AB59: 5.1 | AC59: =AB59/$T$4 -> 0.0068548387 | AD59: 0 | AE59: 0 | AF59: =(U59-AD59-AE59)/$T$4 -> 0.88186828 | AG59: 11398.24 | AH59: 25 | AI59: 22.7 | AL59: TM 3 | AM59: 714.18 | AN59: 289.91 | AO59: 424.27 | AP59: 5.82 | AQ59: =AP59/$AL$4 -> 0.0080833333 | AR59: 0 | AS59: =AR59/$AL$4 -> 0 | AT59: 0 | AU59: =AT59/$AL$4 -> 0 | AV59: 0 | AW59: 0 | AX59: =(AM59-AV59-AW59)/$AL$4 -> 0.99191667 | AY59: 6498.295 | AZ59: 25 | BA59: 22.7 | BD59: TM 3 | BI59: =BH59/$BD$4 -> #DIV/0! | BK59: =BJ59/$BD$4 -> #DIV/0! | BM59: =BL59/$BD$4 -> #DIV/0! | BP59: =(BE59-BO59)/$BD$4 -> #DIV/0! | BR59: 25 | BS59: 22.7 | BV59: TM 3 | CA59: =BZ59/$BV$4 -> #DIV/0! | CC59: =CB59/$BV$4 -> #DIV/0! | CE59: =CD59/$BV$4 -> #DIV/0! | CH59: =(BW59-CF59-CG59)/$BV$4 -> #DIV/0! | CJ59: 25 | CK59: 22.7 | CN59: TM 3 | CS59: =CR59/$CN$4 -> #DIV/0! | CU59: =CT59/$CN$4 -> #DIV/0! | CW59: =CV59/$CN$4 -> #DIV/0! | CZ59: =(CO59-CX59-CY59)/$CN$4 -> #DIV/0! | DB59: 25 | DC59: 22.7 | DF59: TM 3 | DK59: =DJ59/$DF$4 -> #DIV/0! | DM59: =DL59/$DF$4 -> #DIV/0! | DO59: =DN59/$DF$4 -> #DIV/0! | DR59: =(DG59-DP59-DQ59)/$DF$4 -> #DIV/0! | DT59: 25 | DU59: 22.7 | DX59: TM 3 | EC59: =EB59/$DX$4 -> #DIV/0! | EE59: =ED59/$DX$4 -> #DIV/0! | EG59: =EF59/$DX$4 -> #DIV/0! | EJ59: =(DY59-EH59-EI59)/$DX$4 -> #DIV/0! | EL59: 25 | EM59: 22.7 | EP59: TM 3 | EU59: =ET59/$EP$4 -> #DIV/0! | EW59: =EV59/$EP$4 -> #DIV/0! | EY59: =EX59/$EP$4 -> #DIV/0! | FB59: =(EQ59-EZ59-FA59)/$EP$4 -> #DIV/0! | FD59: 25 | FE59: 22.7 | FH59: TM 3 | FM59: =FL59/$FH$4 -> #DIV/0! | FO59: 0 | FQ59: 0 | FT59: =(FI59-FR59-FS59)/$FH$4 -> #DIV/0! | FV59: 25 | FW59: 22.7 | FZ59: TM 3 | GE59: =GD59/$FZ$4 -> #DIV/0! | GG59: =GF59/$FZ$4 -> #DIV/0! | GI59: =GH59/$FZ$4 -> #DIV/0! | GL59: =(GA59-GJ59-GK59)/$FZ$4 -> #DIV/0! | GN59: 25 | GO59: 22.7 | GR59: TM 3 | GW59: =GV59/$GR$4 -> #DIV/0! | GY59: =GX59/$GR$4 -> #DIV/0! | HA59: =GZ59/$GR$4 -> #DIV/0! | HD59: =(GS59-HC59)/$GR$4 -> #DIV/0! | HF59: 25 | HG59: 22.7
