Workbook

Sheet KPI_FY 26-27 (OMC)
A3: JULY 2026 | S3: AUGUST 2026 | AK3: SEPTEMBER 2026 | BC3: OCTOBER 2026 | BU3: NOVEMBER 2026 | CM3: DECEMBER 2026 | DE3: JANUARY 2027 | DW3: FEBRUARY 2027 | EO3: MARCH 2027 | FG3: APRIL 2027 | FY3: MAY 2027 | GQ3: JUNE 2027
A4: MONTH HOURS: | B4: 744 | S4: MONTH HOURS: | T4: 744 | AK4: MONTH HOURS: | AL4: 720 | BC4: MONTH HOURS: | BD4: 0 | BU4: MONTH HOURS: | BV4: 0 | CM4: MONTH HOURS: | CN4: 0 | DE4: MONTH HOURS: | DF4: 0 | DW4: MONTH HOURS: | DX4: 0 | EO4: MONTH HOURS: | EP4: 0 | FG4: MONTH HOURS: | FH4: 0 | FY4: MONTH HOURS: | FZ4: 0 | GQ4: MONTH HOURS: | GR4: 0
A5: PLANT | B5: UNIT | C5: Available Hours (AH) | D5: Service Hours (SH) | E5: Reserve Shutdown Hours (RSH) | F5: Forced Outage Hours (FOH) | G5: Forced Outage Factor (FOF) | H5: Planned Outage Hours (POH) | I5: Planned Outage Factor (POF) | J5: Maintenance Outage Hours (MOH) | K5: Maintenance Outage Factor (MOF) | L5: Equivalent Maintenance Derated Hours (EMDH) | M5: Equivalent Unplanned Derated Hours (EMDH) | N5: Equivalent Availability Factor (EAF) | O5: Gross Generation (MW) | P5: Nameplate Capacity (MW) | Q5: Gross APT Capacity (MW) | S5: PLANT | T5: UNIT | U5: Available Hours (AH) | V5: Service Hours (SH) | W5: Reserve Shutdown Hours (RSH) | X5: Forced Outage Hours (FOH) | Y5: Forced Outage Factor (FOF) | Z5: Planned Outage Hours (POH) | AA5: Planned Outage Factor (POF) | AB5: Maintenance Outage Hours (MOH) | AC5: Maintenance Outage Factor (MOF) | AD5: Equivalent Maintenance Derated Hours (EMDH) | AE5: Equivalent Unplanned Derated Hours (EMDH) | AF5: Equivalent Availability Factor (EAF) | AG5: Gross Generation (MW) | AH5: Nameplate Capacity (MW) | AI5: Gross APT Capacity (MW) | AK5: PLANT | AL5: UNIT | AM5: Available Hours (AH) | AN5: Service Hours (SH) | AO5: Reserve Shutdown Hours (RSH) | AP5: Forced Outage Hours (FOH) | AQ5: Forced Outage Factor (FOF) | AR5: Planned Outage Hours (POH) | AS5: Planned Outage Factor (POF) | AT5: Maintenance Outage Hours (MOH) | AU5: Maintenance Outage Factor (MOF) | AV5: Equivalent Maintenance Derated Hours (EMDH) | AW5: Equivalent Unplanned Derated Hours (EMDH) | AX5: Equivalent Availability Factor (EAF) | AY5: Gross Generation (MW) | AZ5: Nameplate Capacity (MW) | BA5: Gross APT Capacity (MW) | BC5: PLANT | BD5: UNIT | BE5: Available Hours (AH) | BF5: Service Hours (SH) | BG5: Reserve Shutdown Hours (RSH) | BH5: Forced Outage Hours (FOH) | BI5: Forced Outage Factor (FOF) | BJ5: Planned Outage Hours (POH) | BK5: Planned Outage Factor (POF) | BL5: Maintenance Outage Hours (MOH) | BM5: Maintenance Outage Factor (MOF) | BN5: Equivalent Maintenance Derated Hours (EMDH) | BO5: Equivalent Unplanned Derated Hours (EMDH) | BP5: Equivalent Availability Factor (EAF) | BQ5: Gross Generation (MW) | BR5: Nameplate Capacity (MW) | BS5: Gross APT Capacity (MW) | BU5: PLANT | BV5: UNIT | BW5: Available Hours (AH) | BX5: Service Hours (SH) | BY5: Reserve Shutdown Hours (RSH) | BZ5: Forced Outage Hours (FOH) | CA5: Forced Outage Factor (FOF) | CB5: Planned Outage Hours (POH) | CC5: Planned Outage Factor (POF) | CD5: Maintenance Outage Hours (MOH) | CE5: Maintenance Outage Factor (MOF) | CF5: Equivalent Maintenance Derated Hours (EMDH) | CG5: Equivalent Unplanned Derated Hours (EMDH) | CH5: Equivalent Availability Factor (EAF) | CI5: Gross Generation (MW) | CJ5: Nameplate Capacity (MW) | CK5: Gross APT Capacity (MW) | CM5: PLANT | CN5: UNIT | CO5: Available Hours (AH) | CP5: Service Hours (SH) | CQ5: Reserve Shutdown Hours (RSH) | CR5: Forced Outage Hours (FOH) | CS5: Forced Outage Factor (FOF) | CT5: Planned Outage Hours (POH) | CU5: Planned Outage Factor (POF) | CV5: Maintenance Outage Hours (MOH) | CW5: Maintenance Outage Factor (MOF) | CX5: Equivalent Maintenance Derated Hours (EMDH) | CY5: Equivalent Unplanned Derated Hours (EMDH) | CZ5: Equivalent Availability Factor (EAF) | DA5: Gross Generation (MW) | DB5: Nameplate Capacity (MW) | DC5: Gross APT Capacity (MW) | DE5: PLANT | DF5: UNIT | DG5: Available Hours (AH) | DH5: Service Hours (SH) | DI5: Reserve Shutdown Hours (RSH) | DJ5: Forced Outage Hours (FOH) | DK5: Forced Outage Factor (FOF) | DL5: Planned Outage Hours (POH) | DM5: Planned Outage Factor (POF) | DN5: Maintenance Outage Hours (MOH) | DO5: Maintenance Outage Factor (MOF) | DP5: Equivalent Maintenance Derated Hours (EMDH) | DQ5: Equivalent Unplanned Derated Hours (EMDH) | DR5: Equivalent Availability Factor (EAF) | DS5: Gross Generation (MW) | DT5: Nameplate Capacity (MW) | DU5: Gross APT Capacity (MW) | DW5: PLANT | DX5: UNIT | DY5: Available Hours (AH) | DZ5: Service Hours (SH) | EA5: Reserve Shutdown Hours (RSH) | EB5: Forced Outage Hours (FOH) | EC5: Forced Outage Factor (FOF) | ED5: Planned Outage Hours (POH) | EE5: Planned Outage Factor (POF) | EF5: Maintenance Outage Hours (MOH) | EG5: Maintenance Outage Factor (MOF) | EH5: Equivalent Maintenance Derated Hours (EMDH) | EI5: Equivalent Unplanned Derated Hours (EMDH) | EJ5: Equivalent Availability Factor (EAF) | EK5: Gross Generation (MW) | EL5: Nameplate Capacity (MW) | EM5: Gross APT Capacity (MW) | EO5: PLANT | EP5: UNIT | EQ5: Available Hours (AH) | ER5: Service Hours (SH) | ES5: Reserve Shutdown Hours (RSH) | ET5: Forced Outage Hours (FOH) | EU5: Forced Outage Factor (FOF) | EV5: Planned Outage Hours (POH) | EW5: Planned Outage Factor (POF) | EX5: Maintenance Outage Hours (MOH) | EY5: Maintenance Outage Factor (MOF) | EZ5: Equivalent Maintenance Derated Hours (EMDH) | FA5: Equivalent Unplanned Derated Hours (EMDH) | FB5: Equivalent Availability Factor (EAF) | FC5: Gross Generation (MW) | FD5: Nameplate Capacity (MW) | FE5: Gross APT Capacity (MW) | FG5: PLANT | FH5: UNIT | FI5: Available Hours (AH) | FJ5: Service Hours (SH) | FK5: Reserve Shutdown Hours (RSH) | FL5: Forced Outage Hours (FOH) | FM5: Forced Outage Factor (FOF) | FN5: Planned Outage Hours (POH) | FO5: Planned Outage Factor (POF) | FP5: Maintenance Outage Hours (MOH) | FQ5: Maintenance Outage Factor (MOF) | FR5: Equivalent Maintenance Derated Hours (EMDH) | FS5: Equivalent Unplanned Derated Hours (EMDH) | FT5: Equivalent Availability Factor (EAF) | FU5: Gross Generation (MW) | FV5: Nameplate Capacity (MW) | FW5: Gross APT Capacity (MW) | FY5: PLANT | FZ5: UNIT | GA5: Available Hours (AH) | GB5: Service Hours (SH) | GC5: Reserve Shutdown Hours (RSH) | GD5: Forced Outage Hours (FOH) | GE5: Forced Outage Factor (FOF) | GF5: Planned Outage Hours (POH) | GG5: Planned Outage Factor (POF) | GH5: Maintenance Outage Hours (MOH) | GI5: Maintenance Outage Factor (MOF) | GJ5: Equivalent Maintenance Derated Hours (EMDH) | GK5: Equivalent Unplanned Derated Hours (EMDH) | GL5: Equivalent Availability Factor (EAF) | GM5: Gross Generation (MW) | GN5: Nameplate Capacity (MW) | GO5: Gross APT Capacity (MW) | GQ5: PLANT | GR5: UNIT | GS5: Available Hours (AH) | GT5: Service Hours (SH) | GU5: Reserve Shutdown Hours (RSH) | GV5: Forced Outage Hours (FOH) | GW5: Forced Outage Factor (FOF) | GX5: Planned Outage Hours (POH) | GY5: Planned Outage Factor (POF) | GZ5: Maintenance Outage Hours (MOH) | HA5: Maintenance Outage Factor (MOF) | HB5: Equivalent Maintenance Derated Hours (EMDH) | HC5: Equivalent Unplanned Derated Hours (EMDH) | HD5: Equivalent Availability Factor (EAF) | HE5: Gross Generation (MW) | HF5: Nameplate Capacity (MW) | HG5: Gross APT Capacity (MW)
A6: SAN JUAN | B6: CT 5 | C6: 723.45 | D6: 723.45 | E6: 0 | F6: 0 | G6: =F6/$B$4 -> 0 | H6: 0 | I6: =H6/$B$4 -> 0 | J6: 20.55 | K6: =J6/$B$4 -> 0.027620968 | L6: ='[1]UNIT DATA'!P2 -> 0 | M6: ='[1]UNIT DATA'!Q2 -> 0 | N6: =(C6-L6-M6)/$B$4 -> 0.97237903 | O6: 101062 | P6: 160 | Q6: 153 | S6: SAN JUAN | T6: CT 5 | U6: 726.05 | V6: 726.05 | W6: 0 | X6: 17.95 | Y6: =X6/$T$4 -> 0.024126344 | Z6: 0 | AA6: =Z6/$T$4 -> 0 | AB6: 0 | AC6: =AB6/$T$4 -> 0 | AD6: 0 | AE6: 34.29 | AF6: =(U6-AD6-AE6)/$T$4 -> 0.92978495 | AG6: 95170 | AH6: 160 | AI6: 153 | AK6: SAN JUAN | AL6: CT 5 | AM6: 699.5 | AN6: 694.56 | AO6: 4.94 | AP6: 3.25 | AQ6: =AP6/$AL$4 -> 0.0045138889 | AR6: 0 | AS6: =AR6/$AL$4 -> 0 | AT6: 17.25 | AU6: =AT6/$AL$4 -> 0.023958333 | AV6: 0 | AW6: 0 | AX6: =(AM6-AV6-AW6)/$AL$4 -> 0.97152778 | AY6: 97839 | AZ6: 160 | BA6: 153 | BC6: SAN JUAN | BD6: CT 5 | BI6: =BH6/$BD$4 -> #DIV/0! | BK6: =BJ6/$BD$4 -> #DIV/0! | BM6: =BL6/$BD$4 -> #DIV/0! | BP6: =(BE6-BO6)/$BD$4 -> #DIV/0! | BR6: 160 | BS6: 153 | BU6: SAN JUAN | BV6: CT 5 | CA6: =BZ6/$BV$4 -> #DIV/0! | CC6: =CB6/$BV$4 -> #DIV/0! | CE6: =CD6/$BV$4 -> #DIV/0! | CH6: =(BW6-CF6-CG6)/$BV$4 -> #DIV/0! | CJ6: 160 | CK6: 153 | CM6: SAN JUAN | CN6: CT 5 | CS6: =CR6/$CN$4 -> #DIV/0! | CU6: =CT6/$CN$4 -> #DIV/0! | CW6: =CV6/$CN$4 -> #DIV/0! | CZ6: =(CO6-CX6-CY6)/$CN$4 -> #DIV/0! | DB6: 160 | DC6: 153 | DE6: SAN JUAN | DF6: CT 5 | DK6: =DJ6/$DF$4 -> #DIV/0! | DM6: =DL6/$DF$4 -> #DIV/0! | DO6: =DN6/$DF$4 -> #DIV/0! | DR6: =(DG6-DP6-DQ6)/$DF$4 -> #DIV/0! | DT6: 160 | DU6: 153 | DW6: SAN JUAN | DX6: CT 5 | EC6: =EB6/$DX$4 -> #DIV/0! | EE6: =ED6/$DX$4 -> #DIV/0! | EG6: =EF6/$DX$4 -> #DIV/0! | EJ6: =(DY6-EH6-EI6)/$DX$4 -> #DIV/0! | EL6: 160 | EM6: 153 | EO6: SAN JUAN | EP6: CT 5 | EU6: =ET6/$EP$4 -> #DIV/0! | EW6: =EV6/$EP$4 -> #DIV/0! | EY6: =EX6/$EP$4 -> #DIV/0! | FB6: =(EQ6-EZ6-FA6)/$EP$4 -> #DIV/0! | FD6: 160 | FE6: 153 | FG6: SAN JUAN | FH6: CT 5 | FM6: =FL6/$FH$4 -> #DIV/0! | FO6: =FN6/$FH$4 -> #DIV/0! | FQ6: =FP6/$FH$4 -> #DIV/0! | FT6: =(FI6-FR6-FS6)/$FH$4 -> #DIV/0! | FV6: 160 | FW6: 153 | FY6: SAN JUAN | FZ6: CT 5 | GE6: =GD6/$FZ$4 -> #DIV/0! | GG6: =GF6/$FZ$4 -> #DIV/0! | GI6: =GH6/$FZ$4 -> #DIV/0! | GL6: =(GA6-GJ6-GK6)/$FZ$4 -> #DIV/0! | GN6: 160 | GO6: 153 | GQ6: SAN JUAN | GR6: CT 5 | GW6: =GV6/$GR$4 -> #DIV/0! | GY6: =GX6/$GR$4 -> #DIV/0! | HA6: =GZ6/$GR$4 -> #DIV/0! | HD6: =(GS6-HB6-HC6)/$GR$4 -> #DIV/0! | HF6: 160 | HG6: 153
B7: ST 5 | C7: 720.57 | D7: 720.57 | E7: 0 | F7: 0 | G7: =F7/$B$4 -> 0 | H7: 0 | I7: =H7/$B$4 -> 0 | J7: 23.43 | K7: =J7/$B$4 -> 0.031491935 | L7: ='[1]UNIT DATA'!P3 -> 0 | M7: ='[1]UNIT DATA'!Q3 -> 0 | N7: =(C7-L7-M7)/$B$4 -> 0.96850806 | O7: 31780 | P7: 60 | Q7: 50 | T7: ST 5 | U7: 696.7 | V7: 648.17 | W7: 48.53 | X7: 47.3 | Y7: =X7/$T$4 -> 0.063575269 | Z7: 0 | AA7: =Z7/$T$4 -> 0 | AB7: 0 | AC7: =AB7/$T$4 -> 0 | AD7: 0 | AE7: 0 | AF7: =(U7-AD7-AE7)/$T$4 -> 0.93642473 | AG7: 29503 | AH7: 60 | AI7: 50 | AL7: ST 5 | AM7: 685.9 | AN7: 676.08 | AO7: 9.82 | AP7: 13.82 | AQ7: =AP7/$AL$4 -> 0.019194444 | AR7: 0 | AS7: =AR7/$AL$4 -> 0 | AT7: 20.28 | AU7: =AT7/$AL$4 -> 0.028166667 | AV7: 0 | AW7: 0 | AX7: =(AM7-AV7-AW7)/$AL$4 -> 0.95263889 | AY7: 30948 | AZ7: 60 | BA7: 50 | BD7: ST 5 | BI7: =BH7/$BD$4 -> #DIV/0! | BK7: =BJ7/$BD$4 -> #DIV/0! | BM7: =BL7/$BD$4 -> #DIV/0! | BP7: =(BE7-BO7)/$BD$4 -> #DIV/0! | BR7: 60 | BS7: 50 | BV7: ST 5 | CA7: =BZ7/$BV$4 -> #DIV/0! | CC7: =CB7/$BV$4 -> #DIV/0! | CE7: =CD7/$BV$4 -> #DIV/0! | CH7: =(BW7-CF7-CG7)/$BV$4 -> #DIV/0! | CJ7: 60 | CK7: 50 | CN7: ST 5 | CS7: =CR7/$CN$4 -> #DIV/0! | CU7: =CT7/$CN$4 -> #DIV/0! | CW7: =CV7/$CN$4 -> #DIV/0! | CZ7: =(CO7-CX7-CY7)/$CN$4 -> #DIV/0! | DB7: 60 | DC7: 50 | DF7: ST 5 | DK7: =DJ7/$DF$4 -> #DIV/0! | DM7: =DL7/$DF$4 -> #DIV/0! | DO7: =DN7/$DF$4 -> #DIV/0! | DR7: =(DG7-DP7-DQ7)/$DF$4 -> #DIV/0! | DT7: 60 | DU7: 50 | DX7: ST 5 | EC7: =EB7/$DX$4 -> #DIV/0! | EE7: =ED7/$DX$4 -> #DIV/0! | EG7: =EF7/$DX$4 -> #DIV/0! | EJ7: =(DY7-EH7-EI7)/$DX$4 -> #DIV/0! | EL7: 60 | EM7: 50 | EP7: ST 5 | EU7: =ET7/$EP$4 -> #DIV/0! | EW7: =EV7/$EP$4 -> #DIV/0! | EY7: =EX7/$EP$4 -> #DIV/0! | FB7: =(EQ7-EZ7-FA7)/$EP$4 -> #DIV/0! | FD7: 60 | FE7: 50 | FH7: ST 5 | FM7: =FL7/$FH$4 -> #DIV/0! | FO7: =FN7/$FH$4 -> #DIV/0! | FQ7: =FP7/$FH$4 -> #DIV/0! | FT7: =(FI7-FR7-FS7)/$FH$4 -> #DIV/0! | FV7: 60 | FW7: 50 | FZ7: ST 5 | GE7: =GD7/$FZ$4 -> #DIV/0! | GG7: =GF7/$FZ$4 -> #DIV/0! | GI7: =GH7/$FZ$4 -> #DIV/0! | GL7: =(GA7-GJ7-GK7)/$FZ$4 -> #DIV/0! | GN7: 60 | GO7: 50 | GR7: ST 5 | GW7: =GV7/$GR$4 -> #DIV/0! | GY7: =GX7/$GR$4 -> #DIV/0! | HA7: =GZ7/$GR$4 -> #DIV/0! | HD7: =(GS7-HB7-HC7)/$GR$4 -> #DIV/0! | HF7: 60 | HG7: 50
B8: CT 6 | C8: 699.76 | D8: 699.76 | E8: 0 | F8: 26.62 | G8: =F8/$B$4 -> 0.03577957 | H8: 17.62 | I8: =H8/$B$4 -> 0.023682796 | J8: 0 | K8: =J8/$B$4 -> 0 | L8: ='[1]UNIT DATA'!P4 -> 0 | M8: ='[1]UNIT DATA'!Q4 -> 0 | N8: =(C8-L8-M8)/$B$4 -> 0.94053763 | O8: 98917 | P8: 160 | Q8: 154 | T8: CT 6 | U8: 716.79 | V8: 716.79 | W8: 0 | X8: 22.01 | Y8: =X8/$T$4 -> 0.029583333 | Z8: 0 | AA8: =Z8/$T$4 -> 0 | AB8: 5.2 | AC8: =AB8/$T$4 -> 0.0069892473 | AD8: 0 | AE8: 0 | AF8: =(U8-AD8-AE8)/$T$4 -> 0.96342742 | AG8: 100155 | AH8: 160 | AI8: 154 | AL8: CT 6 | AM8: 464.75 | AN8: 436.98 | AO8: 27.77 | AP8: 223.98 | AQ8: =AP8/$AL$4 -> 0.31108333 | AR8: 0 | AS8: =AR8/$AL$4 -> 0 | AT8: 31.27 | AU8: =AT8/$AL$4 -> 0.043430556 | AV8: 0 | AW8: 0 | AX8: =(AM8-AV8-AW8)/$AL$4 -> 0.64548611 | AY8: 60783 | AZ8: 160 | BA8: 154 | BD8: CT 6 | BI8: =BH8/$BD$4 -> #DIV/0! | BK8: =BJ8/$BD$4 -> #DIV/0! | BM8: =BL8/$BD$4 -> #DIV/0! | BP8: =(BE8-BO8)/$BD$4 -> #DIV/0! | BR8: 160 | BS8: 154 | BV8: CT 6 | CA8: =BZ8/$BV$4 -> #DIV/0! | CC8: =CB8/$BV$4 -> #DIV/0! | CE8: =CD8/$BV$4 -> #DIV/0! | CH8: =(BW8-CF8-CG8)/$BV$4 -> #DIV/0! | CJ8: 160 | CK8: 154 | CN8: CT 6 | CS8: =CR8/$CN$4 -> #DIV/0! | CU8: =CT8/$CN$4 -> #DIV/0! | CW8: =CV8/$CN$4 -> #DIV/0! | CZ8: =(CO8-CX8-CY8)/$CN$4 -> #DIV/0! | DB8: 160 | DC8: 154 | DF8: CT 6 | DK8: =DJ8/$DF$4 -> #DIV/0! | DM8: =DL8/$DF$4 -> #DIV/0! | DO8: =DN8/$DF$4 -> #DIV/0! | DR8: =(DG8-DP8-DQ8)/$DF$4 -> #DIV/0! | DT8: 160 | DU8: 154 | DX8: CT 6 | EC8: =EB8/$DX$4 -> #DIV/0! | EE8: =ED8/$DX$4 -> #DIV/0! | EG8: =EF8/$DX$4 -> #DIV/0! | EJ8: =(DY8-EH8-EI8)/$DX$4 -> #DIV/0! | EL8: 160 | EM8: 154 | EP8: CT 6 | EU8: =ET8/$EP$4 -> #DIV/0! | EW8: =EV8/$EP$4 -> #DIV/0! | EY8: =EX8/$EP$4 -> #DIV/0! | FB8: =(EQ8-EZ8-FA8)/$EP$4 -> #DIV/0! | FD8: 160 | FE8: 154 | FH8: CT 6 | FM8: =FL8/$FH$4 -> #DIV/0! | FO8: =FN8/$FH$4 -> #DIV/0! | FQ8: =FP8/$FH$4 -> #DIV/0! | FT8: =(FI8-FR8-FS8)/$FH$4 -> #DIV/0! | FV8: 160 | FW8: 154 | FZ8: CT 6 | GE8: =GD8/$FZ$4 -> #DIV/0! | GG8: =GF8/$FZ$4 -> #DIV/0! | GI8: =GH8/$FZ$4 -> #DIV/0! | GL8: =(GA8-GJ8-GK8)/$FZ$4 -> #DIV/0! | GN8: 160 | GO8: 154 | GR8: CT 6 | GW8: =GV8/$GR$4 -> #DIV/0! | GY8: =GX8/$GR$4 -> #DIV/0! | HA8: =GZ8/$GR$4 -> #DIV/0! | HD8: =(GS8-HB8-HC8)/$GR$4 -> #DIV/0! | HF8: 160 | HG8: 154
B9: ST 6 | C9: 0 | D9: 0 | E9: 0 | F9: 0 | G9: =F9/$B$4 -> 0 | H9: 744 | I9: =H9/$B$4 -> 1 | J9: 0 | K9: =J9/$B$4 -> 0 | L9: ='[1]UNIT DATA'!P5 -> 0 | M9: ='[1]UNIT DATA'!Q5 -> 0 | N9: =(C9-L9-M9)/$B$4 -> 0 | O9: 0 | P9: 60 | Q9: 60 | T9: ST 6 | U9: 0 | V9: 0 | W9: 0 | X9: 0 | Y9: =X9/$T$4 -> 0 | Z9: 744 | AA9: =Z9/$T$4 -> 1 | AB9: 0 | AC9: =AB9/$T$4 -> 0 | AD9: 0 | AE9: 0 | AF9: =(U9-AD9-AE9)/$T$4 -> 0 | AG9: 0 | AH9: 60 | AI9: 60 | AL9: ST 6 | AM9: 0 | AN9: 0 | AO9: 0 | AP9: 0 | AQ9: =AP9/$AL$4 -> 0 | AR9: 720 | AS9: =AR9/$AL$4 -> 1 | AT9: 0 | AU9: =AT9/$AL$4 -> 0 | AV9: 0 | AW9: 0 | AX9: =(AM9-AV9-AW9)/$AL$4 -> 0 | AY9: 0 | AZ9: 60 | BA9: 60 | BD9: ST 6 | BI9: =BH9/$BD$4 -> #DIV/0! | BK9: =BJ9/$BD$4 -> #DIV/0! | BM9: =BL9/$BD$4 -> #DIV/0! | BP9: =(BE9-BO9)/$BD$4 -> #DIV/0! | BR9: 60 | BS9: 60 | BV9: ST 6 | CA9: =BZ9/$BV$4 -> #DIV/0! | CC9: =CB9/$BV$4 -> #DIV/0! | CE9: =CD9/$BV$4 -> #DIV/0! | CH9: =(BW9-CF9-CG9)/$BV$4 -> #DIV/0! | CJ9: 60 | CK9: 60 | CN9: ST 6 | CS9: =CR9/$CN$4 -> #DIV/0! | CU9: =CT9/$CN$4 -> #DIV/0! | CW9: =CV9/$CN$4 -> #DIV/0! | CZ9: =(CO9-CX9-CY9)/$CN$4 -> #DIV/0! | DB9: 60 | DC9: 60 | DF9: ST 6 | DK9: =DJ9/$DF$4 -> #DIV/0! | DM9: =DL9/$DF$4 -> #DIV/0! | DO9: =DN9/$DF$4 -> #DIV/0! | DR9: =(DG9-DP9-DQ9)/$DF$4 -> #DIV/0! | DT9: 60 | DU9: 60 | DX9: ST 6 | EC9: =EB9/$DX$4 -> #DIV/0! | EE9: =ED9/$DX$4 -> #DIV/0! | EG9: =EF9/$DX$4 -> #DIV/0! | EJ9: =(DY9-EH9-EI9)/$DX$4 -> #DIV/0! | EL9: 60 | EM9: 60 | EP9: ST 6 | EU9: =ET9/$EP$4 -> #DIV/0! | EW9: =EV9/$EP$4 -> #DIV/0! | EY9: =EX9/$EP$4 -> #DIV/0! | FB9: =(EQ9-EZ9-FA9)/$EP$4 -> #DIV/0! | FD9: 60 | FE9: 60 | FH9: ST 6 | FM9: =FL9/$FH$4 -> #DIV/0! | FO9: =FN9/$FH$4 -> #DIV/0! | FQ9: =FP9/$FH$4 -> #DIV/0! | FT9: =(FI9-FR9-FS9)/$FH$4 -> #DIV/0! | FV9: 60 | FW9: 60 | FZ9: ST 6 | GE9: =GD9/$FZ$4 -> #DIV/0! | GG9: =GF9/$FZ$4 -> #DIV/0! | GI9: =GH9/$FZ$4 -> #DIV/0! | GL9: =(GA9-GJ9-GK9)/$FZ$4 -> #DIV/0! | GN9: 60 | GO9: 60 | GR9: ST 6 | GW9: =GV9/$GR$4 -> #DIV/0! | GY9: =GX9/$GR$4 -> #DIV/0! | HA9: =GZ9/$GR$4 -> #DIV/0! | HD9: =(GS9-HB9-HC9)/$GR$4 -> #DIV/0! | HF9: 60 | HG9: 60
B10: Total CC | C10: =SUM(C6:C9) -> 2143.78 | D10: =SUM(D6:D9) -> 2143.78 | E10: =SUM(E6:E9) -> 0 | F10: =SUM(F6:F9) -> 26.62 | G10: =(G6*$Q6+G7*$Q7+G8*$Q8+G9*$Q9)/$Q10 -> 0.013213558 | H10: =SUM(H6:H9) -> 761.62 | I10: =(I6*$Q6+I7*$Q7+I8*$Q8+I9*$Q9)/$Q10 -> 0.15263106 | J10: =SUM(J6:J9) -> 43.98 | K10: =(K6*$Q6+K7*$Q7+K8*$Q8+K9*$Q9)/$Q10 -> 0.013910323 | L10: =SUM(L6:L9) -> 0 | M10: =SUM(M6:M9) -> 0 | N10: =(N6*$Q6+N7*$Q7+N8*$Q8+N9*$Q9)/$Q10 -> 0.82024506 | O10: =SUM(O6:O9) -> 231759 | P10: =SUM(P6:P9) -> 440 | Q10: =SUM(Q6:Q9) -> 417 | T10: Total CC | U10: =SUM(U6:U9) -> 2139.54 | V10: =SUM(V6:V9) -> 2091.01 | W10: =SUM(W6:W9) -> 48.53 | X10: =SUM(X6:X9) -> 87.26 | Y10: =(Y6*$AI6+Y7*$AI7+Y8*$AI8+Y9*$AI9)/$AI10 -> 0.027400306 | Z10: =SUM(Z6:Z9) -> 744 | AA10: =(AA6*$AI6+AA7*$AI7+AA8*$AI8+AA9*$AI9)/$AI10 -> 0.14388489 | AB10: =SUM(AB6:AB9) -> 5.2 | AC10: =(AC6*$AI6+AC7*$AI7+AC8*$AI8+AC9*$AI9)/$AI10 -> 0.0025811609 | AD10: =SUM(AD6:AD9) -> 0 | AE10: =SUM(AE6:AE9) -> 34.29 | AF10: =(AF6*$AI6+AF7*$AI7+AF8*$AI8+AF9*$AI9)/$AI10 -> 0.8092234 | AG10: =SUM(AG6:AG9) -> 224828 | AH10: =SUM(AH6:AH9) -> 440 | AI10: =SUM(AI6:AI9) -> 417 | AL10: Total CC | AM10: =SUM(AM6:AM9) -> 1850.15 | AN10: =SUM(AN6:AN9) -> 1807.62 | AO10: =SUM(AO6:AO9) -> 42.53 | AP10: =SUM(AP6:AP9) -> 241.05 | AQ10: =(AQ6*$BA6+AQ7*$BA7+AQ8*$BA8+AQ9*$BA9)/$BA10 -> 0.11884216 | AR10: =SUM(AR6:AR9) -> 720 | AS10: =(AS6*$BA6+AS7*$BA7+AS8*$BA8+AS9*$BA9)/$BA10 -> 0.14388489 | AT10: =SUM(AT6:AT9) -> 68.8 | AU10: =(AU6*$BA6+AU7*$BA7+AU8*$BA8+AU9*$BA9)/$BA10 -> 0.028206868 | AV10: =SUM(AV6:AV9) -> 0 | AW10: =SUM(AW6:AW9) -> 0 | AX10: =(AX6*$BA6+AX7*$BA7+AX8*$BA8+AX9*$BA9)/$BA10 -> 0.70906608 | AY10: =SUM(AY6:AY9) -> 189570 | AZ10: =SUM(AZ6:AZ9) -> 440 | BA10: =SUM(BA6:BA9) -> 417 | BD10: Total CC | BE10: =SUM(BE6:BE9) -> 0 | BF10: =SUM(BF6:BF9) -> 0 | BG10: =SUM(BG6:BG9) -> 0 | BH10: =SUM(BH6:BH9) -> 0 | BI10: =(BI6*$BS6+BI7*$BS7+BI8*$BS8+BI9*$BS9)/$BS10 -> #DIV/0! | BJ10: =SUM(BJ6:BJ9) -> 0 | BK10: =(BK6*$BS6+BK7*$BS7+BK8*$BS8+BK9*$BS9)/$BS10 -> #DIV/0! | BL10: =SUM(BL6:BL9) -> 0 | BM10: =(BM6*$BS6+BM7*$BS7+BM8*$BS8+BM9*$BS9)/$BS10 -> #DIV/0! | BN10: =SUM(BN6:BN9) -> 0 | BO10: =SUM(BO6:BO9) -> 0 | BP10: =(BP6*$BS6+BP7*$BS7+BP8*$BS8+BP9*$BS9)/$BS10 -> #DIV/0! | BQ10: =SUM(BQ6:BQ9) -> 0 | BR10: =SUM(BR6:BR9) -> 440 | BS10: =SUM(BS6:BS9) -> 417 | BV10: Total CC | BW10: =SUM(BW6:BW9) -> 0 | BX10: =SUM(BX6:BX9) -> 0 | BY10: =SUM(BY6:BY9) -> 0 | BZ10: =SUM(BZ6:BZ9) -> 0 | CB10: =SUM(CB6:CB9) -> 0 | CD10: =SUM(CD6:CD9) -> 0 | CF10: =SUM(CF6:CF9) -> 0 | CG10: =SUM(CG6:CG9) -> 0 | CI10: =SUM(CI6:CI9) -> 0 | CJ10: =SUM(CJ6:CJ9) -> 440 | CK10: =SUM(CK6:CK9) -> 417 | CN10: Total CC | CO10: =SUM(CO6:CO9) -> 0 | CP10: =SUM(CP6:CP9) -> 0 | CQ10: =SUM(CQ6:CQ9) -> 0 | CR10: =SUM(CR6:CR9) -> 0 | CT10: =SUM(CT6:CT9) -> 0 | CV10: =SUM(CV6:CV9) -> 0 | CX10: =SUM(CX6:CX9) -> 0 | CY10: =SUM(CY6:CY9) -> 0 | DA10: =SUM(DA6:DA9) -> 0 | DB10: =SUM(DB6:DB9) -> 440 | DC10: =SUM(DC6:DC9) -> 417 | DF10: Total CC | DG10: =SUM(DG6:DG9) -> 0 | DH10: =SUM(DH6:DH9) -> 0 | DI10: =SUM(DI6:DI9) -> 0 | DJ10: =SUM(DJ6:DJ9) -> 0 | DL10: =SUM(DL6:DL9) -> 0 | DN10: =SUM(DN6:DN9) -> 0 | DP10: =SUM(DP6:DP9) -> 0 | DQ10: =SUM(DQ6:DQ9) -> 0 | DS10: =SUM(DS6:DS9) -> 0 | DT10: =SUM(DT6:DT9) -> 440 | DU10: =SUM(DU6:DU9) -> 417 | DX10: Total CC | DY10: =SUM(DY6:DY9) -> 0 | DZ10: =SUM(DZ6:DZ9) -> 0 | EA10: =SUM(EA6:EA9) -> 0 | EB10: =SUM(EB6:EB9) -> 0 | ED10: =SUM(ED6:ED9) -> 0 | EF10: =SUM(EF6:EF9) -> 0 | EH10: =SUM(EH6:EH9) -> 0 | EI10: =SUM(EI6:EI9) -> 0 | EK10: =SUM(EK6:EK9) -> 0 | EL10: =SUM(EL6:EL9) -> 440 | EM10: =SUM(EM6:EM9) -> 417 | EP10: Total CC | EQ10: =SUM(EQ6:EQ9) -> 0 | ER10: =SUM(ER6:ER9) -> 0 | ES10: =SUM(ES6:ES9) -> 0 | ET10: =SUM(ET6:ET9) -> 0 | EV10: =SUM(EV6:EV9) -> 0 | EX10: =SUM(EX6:EX9) -> 0 | EZ10: =SUM(EZ6:EZ9) -> 0 | FA10: =SUM(FA6:FA9) -> 0 | FC10: =SUM(FC6:FC9) -> 0 | FD10: =SUM(FD6:FD9) -> 440 | FE10: =SUM(FE6:FE9) -> 417 | FH10: Total CC | FI10: =SUM(FI6:FI9) -> 0 | FJ10: =SUM(FJ6:FJ9) -> 0 | FK10: =SUM(FK6:FK9) -> 0 | FL10: =SUM(FL6:FL9) -> 0 | FN10: =SUM(FN6:FN9) -> 0 | FP10: =SUM(FP6:FP9) -> 0 | FR10: =SUM(FR6:FR9) -> 0 | FS10: =SUM(FS6:FS9) -> 0 | FU10: =SUM(FU6:FU9) -> 0 | FV10: =SUM(FV6:FV9) -> 440 | FW10: =SUM(FW6:FW9) -> 417 | FZ10: Total CC | GA10: =SUM(GA6:GA9) -> 0 | GB10: =SUM(GB6:GB9) -> 0 | GC10: =SUM(GC6:GC9) -> 0 | GD10: =SUM(GD6:GD9) -> 0 | GF10: =SUM(GF6:GF9) -> 0 | GH10: =SUM(GH6:GH9) -> 0 | GJ10: =SUM(GJ6:GJ9) -> 0 | GK10: =SUM(GK6:GK9) -> 0 | GM10: =SUM(GM6:GM9) -> 0 | GN10: =SUM(GN6:GN9) -> 440 | GO10: =SUM(GO6:GO9) -> 417 | GR10: Total CC | GS10: =SUM(GS6:GS9) -> 0 | GT10: =SUM(GT6:GT9) -> 0 | GU10: =SUM(GU6:GU9) -> 0 | GV10: =SUM(GV6:GV9) -> 0 | GX10: =SUM(GX6:GX9) -> 0 | GZ10: =SUM(GZ6:GZ9) -> 0 | HB10: =SUM(HB6:HB9) -> 0 | HC10: =SUM(HC6:HC9) -> 0 | HE10: =SUM(HE6:HE9) -> 0 | HF10: =SUM(HF6:HF9) -> 440 | HG10: =SUM(HG6:HG9) -> 417
B11: 7 | C11: 301.45 | D11: 301.45 | E11: 0 | F11: 442.55 | G11: =F11/$B$4 -> 0.59482527 | H11: 0 | I11: =H11/$B$4 -> 0 | J11: 0 | K11: =J11/$B$4 -> 0 | L11: ='[1]UNIT DATA'!P6 -> 0 | M11: ='[1]UNIT DATA'!Q6 -> 75.3 | N11: =(C11-L11-M11)/$B$4 -> 0.30396505 | O11: 20195 | P11: 100 | Q11: 100 | T11: 7 | U11: 322.55 | V11: 322.55 | W11: 0 | X11: 421.45 | Y11: =X11/$T$4 -> 0.56646505 | Z11: 0 | AA11: =Z11/$T$4 -> 0 | AB11: 0 | AC11: =AB11/$T$4 -> 0 | AD11: 17.5 | AE11: 77.45 | AF11: =(U11-AD11-AE11)/$T$4 -> 0.30591398 | AG11: 22201 | AH11: 100 | AI11: 100 | AL11: 7 | AM11: 0 | AN11: 0 | AO11: 0 | AP11: 720 | AQ11: =AP11/$AL$4 -> 1 | AR11: 0 | AS11: =AR11/$AL$4 -> 0 | AT11: 0 | AU11: =AT11/$AL$4 -> 0 | AV11: 0 | AW11: 0 | AX11: =(AM11-AV11-AW11)/$AL$4 -> 0 | AY11: 0 | AZ11: 100 | BA11: 100 | BD11: 7 | BI11: =BH11/$BD$4 -> #DIV/0! | BK11: =BJ11/$BD$4 -> #DIV/0! | BM11: =BL11/$BD$4 -> #DIV/0! | BP11: =(BE11-BO11)/$BD$4 -> #DIV/0! | BR11: 100 | BS11: 100 | BV11: 7 | CA11: =BZ11/$BV$4 -> #DIV/0! | CC11: =CB11/$BV$4 -> #DIV/0! | CE11: =CD11/$BV$4 -> #DIV/0! | CH11: =(BW11-CF11-CG11)/$BV$4 -> #DIV/0! | CJ11: 100 | CK11: 100 | CN11: 7 | CS11: =CR11/$CN$4 -> #DIV/0! | CU11: =CT11/$CN$4 -> #DIV/0! | CW11: =CV11/$CN$4 -> #DIV/0! | CZ11: =(CO11-CX11-CY11)/$CN$4 -> #DIV/0! | DB11: 100 | DC11: 100 | DF11: 7 | DK11: =DJ11/$DF$4 -> #DIV/0! | DM11: =DL11/$DF$4 -> #DIV/0! | DO11: =DN11/$DF$4 -> #DIV/0! | DR11: =(DG11-DP11-DQ11)/$DF$4 -> #DIV/0! | DT11: 100 | DU11: 100 | DX11: 7 | EC11: =EB11/$DX$4 -> #DIV/0! | EE11: =ED11/$DX$4 -> #DIV/0! | EG11: =EF11/$DX$4 -> #DIV/0! | EJ11: =(DY11-EH11-EI11)/$DX$4 -> #DIV/0! | EL11: 100 | EM11: 100 | EP11: 7 | EU11: =ET11/$EP$4 -> #DIV/0! | EW11: =EV11/$EP$4 -> #DIV/0! | EY11: =EX11/$EP$4 -> #DIV/0! | FB11: =(EQ11-EZ11-FA11)/$EP$4 -> #DIV/0! | FD11: 100 | FE11: 100 | FH11: 7 | FM11: =FL11/$FH$4 -> #DIV/0! | FO11: =FN11/$FH$4 -> #DIV/0! | FQ11: =FP11/$FH$4 -> #DIV/0! | FT11: =(FI11-FR11-FS11)/$FH$4 -> #DIV/0! | FV11: 100 | FW11: 100 | FZ11: 7 | GE11: =GD11/$FZ$4 -> #DIV/0! | GG11: =GF11/$FZ$4 -> #DIV/0! | GI11: =GH11/$FZ$4 -> #DIV/0! | GL11: =(GA11-GJ11-GK11)/$FZ$4 -> #DIV/0! | GN11: 100 | GO11: 100 | GR11: 7 | GW11: =GV11/$GR$4 -> #DIV/0! | GY11: =GX11/$GR$4 -> #DIV/0! | HA11: =GZ11/$GR$4 -> #DIV/0! | HD11: =(GS11-HB11-HC11)/$GR$4 -> #DIV/0! | HF11: 100 | HG11: 100
B12: 9 | C12: 0 | D12: 0 | E12: 0 | F12: 0 | G12: =F12/$B$4 -> 0 | H12: 744 | I12: =H12/$B$4 -> 1 | J12: 0 | K12: =J12/$B$4 -> 0 | L12: ='[1]UNIT DATA'!P7 -> 0 | M12: ='[1]UNIT DATA'!Q7 -> 0 | N12: =(C12-L12-M12)/$B$4 -> 0 | O12: 0 | P12: 100 | Q12: 78 | T12: 9 | U12: 0 | V12: 0 | W12: 0 | X12: 0 | Y12: =X12/$T$4 -> 0 | Z12: 744 | AA12: =Z12/$T$4 -> 1 | AB12: 0 | AC12: =AB12/$T$4 -> 0 | AD12: 0 | AE12: 0 | AF12: =(U12-AD12-AE12)/$T$4 -> 0 | AG12: 0 | AH12: 100 | AI12: 78 | AL12: 9 | AM12: 0 | AN12: 0 | AO12: 0 | AP12: 0 | AQ12: =AP12/$AL$4 -> 0 | AR12: 720 | AS12: =AR12/$AL$4 -> 1 | AT12: 0 | AU12: =AT12/$AL$4 -> 0 | AV12: 0 | AW12: 0 | AX12: =(AM12-AV12-AW12)/$AL$4 -> 0 | AY12: 0 | AZ12: 100 | BA12: 78 | BD12: 9 | BI12: =BH12/$BD$4 -> #DIV/0! | BK12: =BJ12/$BD$4 -> #DIV/0! | BM12: =BL12/$BD$4 -> #DIV/0! | BP12: =(BE12-BO12)/$BD$4 -> #DIV/0! | BR12: 100 | BS12: 78 | BV12: 9 | CA12: =BZ12/$BV$4 -> #DIV/0! | CC12: =CB12/$BV$4 -> #DIV/0! | CE12: =CD12/$BV$4 -> #DIV/0! | CH12: =(BW12-CF12-CG12)/$BV$4 -> #DIV/0! | CJ12: 100 | CK12: 78 | CN12: 9 | CS12: =CR12/$CN$4 -> #DIV/0! | CU12: =CT12/$CN$4 -> #DIV/0! | CW12: =CV12/$CN$4 -> #DIV/0! | CZ12: =(CO12-CX12-CY12)/$CN$4 -> #DIV/0! | DB12: 100 | DC12: 78 | DF12: 9 | DK12: =DJ12/$DF$4 -> #DIV/0! | DM12: =DL12/$DF$4 -> #DIV/0! | DO12: =DN12/$DF$4 -> #DIV/0! | DR12: =(DG12-DP12-DQ12)/$DF$4 -> #DIV/0! | DT12: 100 | DU12: 78 | DX12: 9 | EC12: =EB12/$DX$4 -> #DIV/0! | EE12: =ED12/$DX$4 -> #DIV/0! | EG12: =EF12/$DX$4 -> #DIV/0! | EJ12: =(DY12-EH12-EI12)/$DX$4 -> #DIV/0! | EL12: 100 | EM12: 78 | EP12: 9 | EU12: =ET12/$EP$4 -> #DIV/0! | EW12: =EV12/$EP$4 -> #DIV/0! | EY12: =EX12/$EP$4 -> #DIV/0! | FB12: =(EQ12-EZ12-FA12)/$EP$4 -> #DIV/0! | FD12: 100 | FE12: 78 | FH12: 9 | FM12: =FL12/$FH$4 -> #DIV/0! | FO12: =FN12/$FH$4 -> #DIV/0! | FQ12: =FP12/$FH$4 -> #DIV/0! | FT12: =(FI12-FR12-FS12)/$FH$4 -> #DIV/0! | FV12: 100 | FW12: 78 | FZ12: 9 | GE12: =GD12/$FZ$4 -> #DIV/0! | GG12: =GF12/$FZ$4 -> #DIV/0! | GI12: =GH12/$FZ$4 -> #DIV/0! | GL12: =(GA12-GJ12-GK12)/$FZ$4 -> #DIV/0! | GN12: 100 | GO12: 78 | GR12: 9 | GW12: =GV12/$GR$4 -> #DIV/0! | GY12: =GX12/$GR$4 -> #DIV/0! | HA12: =GZ12/$GR$4 -> #DIV/0! | HD12: =(GS12-HB12-HC12)/$GR$4 -> #DIV/0! | HF12: 100 | HG12: 78
B13: Total Steam | C13: =SUM(C11:C12) -> 301.45 | D13: =SUM(D11:D12) -> 301.45 | E13: =SUM(E11:E12) -> 0 | F13: =SUM(F11:F12) -> 442.55 | G13: =(G11*$Q11+G12*$Q12)/$Q13 -> 0.3341715 | H13: =SUM(H11:H12) -> 744 | I13: =(I11*$Q11+I12*$Q12)/$Q13 -> 0.43820225 | J13: =SUM(J11:J12) -> 0 | K13: =(K11*$Q11+K12*$Q12)/$Q13 -> 0 | L13: =SUM(L11:L12) -> 0 | M13: =SUM(M11:M12) -> 75.3 | N13: =(N11*$Q11+N12*$Q12)/$Q13 -> 0.17076688 | O13: =SUM(O11:O12) -> 20195 | P13: =SUM(P11:P12) -> 200 | Q13: =SUM(Q11:Q12) -> 178 | T13: Total Steam | U13: =SUM(U11:U12) -> 322.55 | V13: =SUM(V11:V12) -> 322.55 | W13: =SUM(W11:W12) -> 0 | X13: =SUM(X11:X12) -> 421.45 | Y13: =(Y11*$AI11+Y12*$AI12)/$AI13 -> 0.31823879 | Z13: =SUM(Z11:Z12) -> 744 | AA13: =(AA11*$AI11+AA12*$AI12)/$AI13 -> 0.43820225 | AB13: =SUM(AB11:AB12) -> 0 | AC13: =(AC11*$AI11+AC12*$AI12)/$AI13 -> 0 | AD13: =SUM(AD11:AD12) -> 17.5 | AE13: =SUM(AE11:AE12) -> 77.45 | AF13: =(AF11*$AI11+AF12*$AI12)/$AI13 -> 0.17186179 | AG13: =SUM(AG11:AG12) -> 22201 | AH13: =SUM(AH11:AH12) -> 200 | AI13: =SUM(AI11:AI12) -> 178 | AL13: Total Steam | AM13: =SUM(AM11:AM12) -> 0 | AN13: =SUM(AN11:AN12) -> 0 | AO13: =SUM(AO11:AO12) -> 0 | AP13: =SUM(AP11:AP12) -> 720 | AQ13: =(AQ11*$BA11+AQ12*$BA12)/$BA13 -> 0.56179775 | AR13: =SUM(AR11:AR12) -> 720 | AS13: =(AS11*$BA11+AS12*$BA12)/$BA13 -> 0.43820225 | AT13: =SUM(AT11:AT12) -> 0 | AU13: =(AU11*$BA11+AU12*$BA12)/$BA13 -> 0 | AV13: =SUM(AV11:AV12) -> 0 | AW13: =SUM(AW11:AW12) -> 0 | AX13: =(AX11*$BA11+AX12*$BA12)/$BA13 -> 0 | AY13: =SUM(AY11:AY12) -> 0 | AZ13: =SUM(AZ11:AZ12) -> 200 | BA13: =SUM(BA11:BA12) -> 178 | BD13: Total Steam | BE13: =SUM(BE11:BE12) -> 0 | BF13: =SUM(BF11:BF12) -> 0 | BG13: =SUM(BG11:BG12) -> 0 | BH13: =SUM(BH11:BH12) -> 0 | BI13: =(BI11*$BS11+BI12*$BS12)/$BS13 -> #DIV/0! | BJ13: =SUM(BJ11:BJ12) -> 0 | BK13: =(BK11*$BS11+BK12*$BS12)/$BS13 -> #DIV/0! | BL13: =SUM(BL11:BL12) -> 0 | BM13: =(BM11*$BS11+BM12*$BS12)/$BS13 -> #DIV/0! | BN13: =SUM(BN11:BN12) -> 0 | BO13: =SUM(BO11:BO12) -> 0 | BP13: =(BP11*$BS11+BP12*$BS12)/$BS13 -> #DIV/0! | BQ13: =SUM(BQ11:BQ12) -> 0 | BR13: =SUM(BR11:BR12) -> 200 | BS13: =SUM(BS11:BS12) -> 178 | BV13: Total Steam | BW13: =SUM(BW11:BW12) -> 0 | BX13: =SUM(BX11:BX12) -> 0 | BY13: =SUM(BY11:BY12) -> 0 | BZ13: =SUM(BZ11:BZ12) -> 0 | CB13: =SUM(CB11:CB12) -> 0 | CD13: =SUM(CD11:CD12) -> 0 | CF13: =SUM(CF11:CF12) -> 0 | CG13: =SUM(CG11:CG12) -> 0 | CI13: =SUM(CI11:CI12) -> 0 | CJ13: =SUM(CJ11:CJ12) -> 200 | CK13: =SUM(CK11:CK12) -> 178 | CN13: Total Steam | CO13: =SUM(CO11:CO12) -> 0 | CP13: =SUM(CP11:CP12) -> 0 | CQ13: =SUM(CQ11:CQ12) -> 0 | CR13: =SUM(CR11:CR12) -> 0 | CT13: =SUM(CT11:CT12) -> 0 | CV13: =SUM(CV11:CV12) -> 0 | CX13: =SUM(CX11:CX12) -> 0 | CY13: =SUM(CY11:CY12) -> 0 | DA13: =SUM(DA11:DA12) -> 0 | DB13: =SUM(DB11:DB12) -> 200 | DC13: =SUM(DC11:DC12) -> 178 | DF13: Total Steam | DG13: =SUM(DG11:DG12) -> 0 | DH13: =SUM(DH11:DH12) -> 0 | DI13: =SUM(DI11:DI12) -> 0 | DJ13: =SUM(DJ11:DJ12) -> 0 | DL13: =SUM(DL11:DL12) -> 0 | DN13: =SUM(DN11:DN12) -> 0 | DP13: =SUM(DP11:DP12) -> 0 | DQ13: =SUM(DQ11:DQ12) -> 0 | DS13: =SUM(DS11:DS12) -> 0 | DT13: =SUM(DT11:DT12) -> 200 | DU13: =SUM(DU11:DU12) -> 178 | DX13: Total Steam | DY13: =SUM(DY11:DY12) -> 0 | DZ13: =SUM(DZ11:DZ12) -> 0 | EA13: =SUM(EA11:EA12) -> 0 | EB13: =SUM(EB11:EB12) -> 0 | ED13: =SUM(ED11:ED12) -> 0 | EF13: =SUM(EF11:EF12) -> 0 | EH13: =SUM(EH11:EH12) -> 0 | EI13: =SUM(EI11:EI12) -> 0 | EK13: =SUM(EK11:EK12) -> 0 | EL13: =SUM(EL11:EL12) -> 200 | EM13: =SUM(EM11:EM12) -> 178 | EP13: Total Steam | EQ13: =SUM(EQ11:EQ12) -> 0 | ER13: =SUM(ER11:ER12) -> 0 | ES13: =SUM(ES11:ES12) -> 0 | ET13: =SUM(ET11:ET12) -> 0 | EV13: =SUM(EV11:EV12) -> 0 | EX13: =SUM(EX11:EX12) -> 0 | EZ13: =SUM(EZ11:EZ12) -> 0 | FA13: =SUM(FA11:FA12) -> 0 | FC13: =SUM(FC11:FC12) -> 0 | FD13: =SUM(FD11:FD12) -> 200 | FE13: =SUM(FE11:FE12) -> 178 | FH13: Total Steam | FI13: =SUM(FI11:FI12) -> 0 | FJ13: =SUM(FJ11:FJ12) -> 0 | FK13: =SUM(FK11:FK12) -> 0 | FL13: =SUM(FL11:FL12) -> 0 | FN13: =SUM(FN11:FN12) -> 0 | FP13: =SUM(FP11:FP12) -> 0 | FR13: =SUM(FR11:FR12) -> 0 | FS13: =SUM(FS11:FS12) -> 0 | FU13: =SUM(FU11:FU12) -> 0 | FV13: =SUM(FV11:FV12) -> 200 | FW13: =SUM(FW11:FW12) -> 178 | FZ13: Total Steam | GA13: =SUM(GA11:GA12) -> 0 | GB13: =SUM(GB11:GB12) -> 0 | GC13: =SUM(GC11:GC12) -> 0 | GD13: =SUM(GD11:GD12) -> 0 | GF13: =SUM(GF11:GF12) -> 0 | GH13: =SUM(GH11:GH12) -> 0 | GJ13: =SUM(GJ11:GJ12) -> 0 | GK13: =SUM(GK11:GK12) -> 0 | GM13: =SUM(GM11:GM12) -> 0 | GN13: =SUM(GN11:GN12) -> 200 | GO13: =SUM(GO11:GO12) -> 178 | GR13: Total Steam | GS13: =SUM(GS11:GS12) -> 0 | GT13: =SUM(GT11:GT12) -> 0 | GU13: =SUM(GU11:GU12) -> 0 | GV13: =SUM(GV11:GV12) -> 0 | GX13: =SUM(GX11:GX12) -> 0 | GZ13: =SUM(GZ11:GZ12) -> 0 | HB13: =SUM(HB11:HB12) -> 0 | HC13: =SUM(HC11:HC12) -> 0 | HE13: =SUM(HE11:HE12) -> 0 | HF13: =SUM(HF11:HF12) -> 200 | HG13: =SUM(HG11:HG12) -> 178
B14: Total | C14: =SUM(C10,C13) -> 2445.23 | D14: =SUM(D10,D13) -> 2445.23 | E14: =SUM(E10,E13) -> 0 | F14: =SUM(F10,F13) -> 469.17 | G14: =(G6*Q6+G7*Q7+G8*Q8+G9*Q9+G11*Q11+G12*Q12)/Q14 -> 0.10923123 | H14: =SUM(H10,H13) -> 1505.62 | I14: =(I6*Q6+I7*Q7+I8*Q8+I9*Q9+I11*Q11+I12*Q12)/Q14 -> 0.23806244 | J14: =SUM(J10,J13) -> 43.98 | K14: =(K6*Q6+K7*Q7+K8*Q8+K9*Q9+K11*Q11+K12*Q12)/Q14 -> 0.0097489157 | L14: =SUM(L10,L13) -> 0 | M14: =SUM(M10,M13) -> 75.3 | N14: =(N6*Q6+N7*Q7+N8*Q8+N9*Q9+N11*Q11+N12*Q12)/Q14 -> 0.62594739 | O14: =SUM(O10,O13) -> 251954 | P14: =SUM(P10,P13) -> 640 | Q14: =SUM(Q10,Q13) -> 595 | T14: Total | U14: =SUM(U10,U13) -> 2462.09 | V14: =SUM(V10,V13) -> 2413.56 | W14: =SUM(W10,W13) -> 48.53 | X14: =SUM(X10,X13) -> 508.71 | Y14: =(Y6*$AI$6+Y7*$AI$7+Y8*$AI$8+Y9*$AI$9+Y11*$AI$11+Y12*$AI$12)/$AI$14 -> 0.11440745 | Z14: =SUM(Z10,Z13) -> 1488 | AA14: =(AA6*$AI$6+AA7*$AI$7+AA8*$AI$8+AA9*$AI$9+AA11*$AI$11+AA12*$AI$12)/$AI$14 -> 0.23193277 | AB14: =SUM(AB10,AB13) -> 5.2 | AC14: =(AC6*$AI$6+AC7*$AI$7+AC8*$AI$8+AC9*$AI$9+AC11*$AI$11+AC12*$AI$12)/$AI$14 -> 0.0018089817 | AD14: =SUM(AD10,AD13) -> 17.5 | AE14: =SUM(AE10,AE13) -> 111.74 | AF14: =(AF6*$AI$6+AF7*$AI$7+AF8*$AI$8+AF9*$AI$9+AF11*$AI$11+AF12*$AI$12)/$AI$14 -> 0.61855051 | AG14: =SUM(AG10,AG13) -> 247029 | AH14: =SUM(AH10,AH13) -> 640 | AI14: =SUM(AI10,AI13) -> 595 | AL14: Total | AM14: =SUM(AM10,AM13) -> 1850.15 | AN14: =SUM(AN10,AN13) -> 1807.62 | AO14: =SUM(AO10,AO13) -> 42.53 | AP14: =SUM(AP10,AP13) -> 961.05 | AQ14: =(AQ6*$BA6+AQ7*$BA7+AQ8*$BA8+AQ9*$BA9+AQ11*$BA11+AQ12*$BA12)/$BA14 -> 0.25135661 | AR14: =SUM(AR10,AR13) -> 1440 | AS14: =(AS6*$BA6+AS7*$BA7+AS8*$BA8+AS9*$BA9+AS11*$BA11+AS12*$BA12)/$BA14 -> 0.23193277 | AT14: =SUM(AT10,AT13) -> 68.8 | AU14: =(AU6*$BA6+AU7*$BA7+AU8*$BA8+AU9*$BA9+AU11*$BA11+AU12*$BA12)/$BA14 -> 0.019768511 | AV14: =SUM(AV10,AV13) -> 0 | AW14: =SUM(AW10,AW13) -> 0 | AX14: =(AX6*$BA6+AX7*$BA7+AX8*$BA8+AX9*$BA9+AX11*$BA11+AX12*$BA12)/$BA14 -> 0.49694211 | AY14: =SUM(AY10,AY13) -> 189570 | AZ14: =SUM(AZ10,AZ13) -> 640 | BA14: =SUM(BA10,BA13) -> 595 | BD14: Total | BE14: =SUM(BE10,BE13) -> 0 | BF14: =SUM(BF10,BF13) -> 0 | BG14: =SUM(BG10,BG13) -> 0 | BH14: =SUM(BH10,BH13) -> 0 | BI14: =(BI6*$BS6+BI7*$BS7+BI8*$BS8+BI9*$BS9+BI11*$BS11+BI12*$BS12)/$BS14 -> #DIV/0! | BJ14: =SUM(BJ10,BJ13) -> 0 | BK14: =(BK6*$BS6+BK7*$BS7+BK8*$BS8+BK9*$BS9+BK11*$BS11+BK12*$BS12)/$BS14 -> #DIV/0! | BL14: =SUM(BL10,BL13) -> 0 | BM14: =(BM6*$BS6+BM7*$BS7+BM8*$BS8+BM9*$BS9+BM11*$BS11+BM12*$BS12)/$BS14 -> #DIV/0! | BN14: =SUM(BN10,BN13) -> 0 | BO14: =SUM(BO10,BO13) -> 0 | BP14: =(BP6*$BS6+BP7*$BS7+BP8*$BS8+BP9*$BS9+BP11*$BS11+BP12*$BS12)/$BS14 -> #DIV/0! | BQ14: =SUM(BQ10,BQ13) -> 0 | BR14: =SUM(BR10,BR13) -> 640 | BS14: =SUM(BS10,BS13) -> 595 | BV14: Total | BW14: =SUM(BW10,BW13) -> 0 | BX14: =SUM(BX10,BX13) -> 0 | BY14: =SUM(BY10,BY13) -> 0 | BZ14: =SUM(BZ10,BZ13) -> 0 | CA14: =(CA6*$CK6+CA7*$CK7+CA8*$CK8+CA9*$CK9+CA11*$CK11+CA12*$CK12)/$CK14 -> #DIV/0! | CB14: =SUM(CB10,CB13) -> 0 | CC14: =(CC6*$CK6+CC7*$CK7+CC8*$CK8+CC9*$CK9+CC11*$CK11+CC12*$CK12)/$CK14 -> #DIV/0! | CD14: =SUM(CD10,CD13) -> 0 | CE14: =(CE6*$CK6+CE7*$CK7+CE8*$CK8+CE9*$CK9+CE11*$CK11+CE12*$CK12)/$CK14 -> #DIV/0! | CF14: =SUM(CF10,CF13) -> 0 | CG14: =SUM(CG10,CG13) -> 0 | CH14: =(CH6*$CK6+CH7*$CK7+CH8*$CK8+CH9*$CK9+CH11*$CK11+CH12*$CK12)/$CK14 -> #DIV/0! | CI14: =SUM(CI10,CI13) -> 0 | CJ14: =SUM(CJ10,CJ13) -> 640 | CK14: =SUM(CK10,CK13) -> 595 | CN14: Total | CO14: =SUM(CO10,CO13) -> 0 | CP14: =SUM(CP10,CP13) -> 0 | CQ14: =SUM(CQ10,CQ13) -> 0 | CR14: =SUM(CR10,CR13) -> 0 | CS14: =(CS6*$DC6+CS7*$DC7+CS8*$DC8+CS9*$DC9+CS11*$DC11+CS12*$DC12)/$DC14 -> #DIV/0! | CT14: =SUM(CT10,CT13) -> 0 | CU14: =(CU6*$DC6+CU7*$DC7+CU8*$DC8+CU9*$DC9+CU11*$DC11+CU12*$DC12)/$DC14 -> #DIV/0! | CV14: =SUM(CV10,CV13) -> 0 | CW14: =(CW6*$DC6+CW7*$DC7+CW8*$DC8+CW9*$DC9+CW11*$DC11+CW12*$DC12)/$DC14 -> #DIV/0! | CX14: =SUM(CX10,CX13) -> 0 | CY14: =SUM(CY10,CY13) -> 0 | CZ14: =(CZ6*$DC6+CZ7*$DC7+CZ8*$DC8+CZ9*$DC9+CZ11*$DC11+CZ12*$DC12)/$DC14 -> #DIV/0! | DA14: =SUM(DA10,DA13) -> 0 | DB14: =SUM(DB10,DB13) -> 640 | DC14: =SUM(DC10,DC13) -> 595 | DF14: Total | DG14: =SUM(DG10,DG13) -> 0 | DH14: =SUM(DH10,DH13) -> 0 | DI14: =SUM(DI10,DI13) -> 0 | DJ14: =SUM(DJ10,DJ13) -> 0 | DK14: =(DK6*$DU6+DK7*$DU7+DK8*$DU8+DK9*$DU9+DK11*$DU11+DK12*$DU12)/$DU14 -> #DIV/0! | DL14: =SUM(DL10,DL13) -> 0 | DM14: =(DM6*$DU6+DM7*$DU7+DM8*$DU8+DM9*$DU9+DM11*$DU11+DM12*$DU12)/$DU14 -> #DIV/0! | DN14: =SUM(DN10,DN13) -> 0 | DO14: =(DO6*$DU6+DO7*$DU7+DO8*$DU8+DO9*$DU9+DO11*$DU11+DO12*$DU12)/$DU14 -> #DIV/0! | DP14: =SUM(DP10,DP13) -> 0 | DQ14: =SUM(DQ10,DQ13) -> 0 | DR14: =(DR6*$DU6+DR7*$DU7+DR8*$DU8+DR9*$DU9+DR11*$DU11+DR12*$DU12)/$DU14 -> #DIV/0! | DS14: =SUM(DS10,DS13) -> 0 | DT14: =SUM(DT10,DT13) -> 640 | DU14: =SUM(DU10,DU13) -> 595 | DX14: Total | DY14: =SUM(DY10,DY13) -> 0 | DZ14: =SUM(DZ10,DZ13) -> 0 | EA14: =SUM(EA10,EA13) -> 0 | EB14: =SUM(EB10,EB13) -> 0 | EC14: =(EC6*$EM6+EC7*$EM7+EC8*$EM8+EC9*$EM9+EC11*$EM11+EC12*$EM12)/$EM14 -> #DIV/0! | ED14: =SUM(ED10,ED13) -> 0 | EE14: =(EE6*$EM6+EE7*$EM7+EE8*$EM8+EE9*$EM9+EE11*$EM11+EE12*$EM12)/$EM14 -> #DIV/0! | EF14: =SUM(EF10,EF13) -> 0 | EG14: =(EG6*$EM6+EG7*$EM7+EG8*$EM8+EG9*$EM9+EG11*$EM11+EG12*$EM12)/$EM14 -> #DIV/0! | EH14: =SUM(EH10,EH13) -> 0 | EI14: =SUM(EI10,EI13) -> 0 | EJ14: =(EJ6*$EM6+EJ7*$EM7+EJ8*$EM8+EJ9*$EM9+EJ11*$EM11+EJ12*$EM12)/$EM14 -> #DIV/0! | EK14: =SUM(EK10,EK13) -> 0 | EL14: =SUM(EL10,EL13) -> 640 | EM14: =SUM(EM10,EM13) -> 595 | EP14: Total | EQ14: =SUM(EQ10,EQ13) -> 0 | ER14: =SUM(ER10,ER13) -> 0 | ES14: =SUM(ES10,ES13) -> 0 | ET14: =SUM(ET10,ET13) -> 0 | EU14: =(EU6*$FE6+EU7*$FE7+EU8*$FE8+EU9*$FE9+EU11*$FE11+EU12*$FE12)/$FE14 -> #DIV/0! | EV14: =SUM(EV10,EV13) -> 0 | EW14: =(EW6*$FE6+EW7*$FE7+EW8*$FE8+EW9*$FE9+EW11*$FE11+EW12*$FE12)/$FE14 -> #DIV/0! | EX14: =SUM(EX10,EX13) -> 0 | EY14: =(EY6*$FE6+EY7*$FE7+EY8*$FE8+EY9*$FE9+EY11*$FE11+EY12*$FE12)/$FE14 -> #DIV/0! | EZ14: =SUM(EZ10,EZ13) -> 0 | FA14: =SUM(FA10,FA13) -> 0 | FB14: =(FB6*$FE6+FB7*$FE7+FB8*$FE8+FB9*$FE9+FB11*$FE11+FB12*$FE12)/$FE14 -> #DIV/0! | FC14: =SUM(FC10,FC13) -> 0 | FD14: =SUM(FD10,FD13) -> 640 | FE14: =SUM(FE10,FE13) -> 595 | FH14: Total | FI14: =SUM(FI10,FI13) -> 0 | FJ14: =SUM(FJ10,FJ13) -> 0 | FK14: =SUM(FK10,FK13) -> 0 | FL14: =SUM(FL10,FL13) -> 0 | FM14: =(FM6*$FW6+FM7*$FW7+FM8*$FW8+FM9*$FW9+FM11*$FW11+FM12*$FW12)/$FW14 -> #DIV/0! | FN14: =SUM(FN10,FN13) -> 0 | FO14: =(FO6*$FW6+FO7*$FW7+FO8*$FW8+FO9*$FW9+FO11*$FW11+FO12*$FW12)/$FW14 -> #DIV/0! | FP14: =SUM(FP10,FP13) -> 0 | FQ14: =(FQ6*$FW6+FQ7*$FW7+FQ8*$FW8+FQ9*$FW9+FQ11*$FW11+FQ12*$FW12)/$FW14 -> #DIV/0! | FR14: =SUM(FR10,FR13) -> 0 | FS14: =SUM(FS10,FS13) -> 0 | FT14: =(FT6*$FW6+FT7*$FW7+FT8*$FW8+FT9*$FW9+FT11*$FW11+FT12*$FW12)/$FW14 -> #DIV/0! | FU14: =SUM(FU10,FU13) -> 0 | FV14: =SUM(FV10,FV13) -> 640 | FW14: =SUM(FW10,FW13) -> 595 | FZ14: Total | GA14: =SUM(GA10,GA13) -> 0 | GB14: =SUM(GB10,GB13) -> 0 | GC14: =SUM(GC10,GC13) -> 0 | GD14: =SUM(GD10,GD13) -> 0 | GE14: =(GE6*$GO6+GE7*$GO7+GE8*$GO8+GE9*$GO9+GE11*$GO11+GE12*$GO12)/$GO14 -> #DIV/0! | GF14: =SUM(GF10,GF13) -> 0 | GG14: =(GG6*$GO6+GG7*$GO7+GG8*$GO8+GG9*$GO9+GG11*$GO11+GG12*$GO12)/$GO14 -> #DIV/0! | GH14: =SUM(GH10,GH13) -> 0 | GI14: =(GI6*$GO6+GI7*$GO7+GI8*$GO8+GI9*$GO9+GI11*$GO11+GI12*$GO12)/$GO14 -> #DIV/0! | GJ14: =SUM(GJ10,GJ13) -> 0 | GK14: =SUM(GK10,GK13) -> 0 | GL14: =(GL6*$GO6+GL7*$GO7+GL8*$GO8+GL9*$GO9+GL11*$GO11+GL12*$GO12)/$GO14 -> #DIV/0! | GM14: =SUM(GM10,GM13) -> 0 | GN14: =SUM(GN10,GN13) -> 640 | GO14: =SUM(GO10,GO13) -> 595 | GR14: Total | GS14: =SUM(GS10,GS13) -> 0 | GT14: =SUM(GT10,GT13) -> 0 | GU14: =SUM(GU10,GU13) -> 0 | GV14: =SUM(GV10,GV13) -> 0 | GW14: =(GW6*$HG6+GW7*$HG7+GW8*$HG8+GW9*$HG9+GW11*$HG11+GW12*$HG12)/$HG14 -> #DIV/0! | GX14: =SUM(GX10,GX13) -> 0 | GY14: =(GY6*$HG6+GY7*$HG7+GY8*$HG8+GY9*$HG9+GY11*$HG11+GY12*$HG12)/$HG14 -> #DIV/0! | GZ14: =SUM(GZ10,GZ13) -> 0 | HA14: =(HA6*$HG6+HA7*$HG7+HA8*$HG8+HA9*$HG9+HA11*$HG11+HA12*$HG12)/$HG14 -> #DIV/0! | HB14: =SUM(HB10,HB13) -> 0 | HC14: =SUM(HC10,HC13) -> 0 | HD14: =(HD6*$HG6+HD7*$HG7+HD8*$HG8+HD9*$HG9+HD11*$HG11+HD12*$HG12)/$HG14 -> #DIV/0! | HE14: =SUM(HE10,HE13) -> 0 | HF14: =SUM(HF10,HF13) -> 640 | HG14: =SUM(HG10,HG13) -> 595
A15: PALO SECO | B15: 3 | C15: 744 | D15: 744 | E15: 0 | F15: 0 | G15: =F15/$B$4 -> 0 | H15: 0 | I15: =H15/$B$4 -> 0 | J15: 0 | K15: =J15/$B$4 -> 0 | L15: ='[2]UNIT DATA'!P2 -> 0 | M15: ='[2]UNIT DATA'!Q2 -> 4.51 | N15: =(C15-L15-M15)/$B$4 -> 0.99393817 | O15: 116770 | P15: 216 | Q15: 145 | S15: PALO SECO | T15: 3 | U15: 651.98 | V15: 651.98 | W15: 0 | X15: 92.02 | Y15: =X15/$T$4 -> 0.1236828 | Z15: 0 | AA15: =Z15/$T$4 -> 0 | AB15: 0 | AC15: =AB15/$T$4 -> 0 | AD15: 0 | AE15: 239.53 | AF15: =(U15-AD15-AE15)/$T$4 -> 0.55436828 | AG15: 75755 | AH15: 216 | AI15: 145 | AK15: PALO SECO | AL15: 3 | AM15: 720 | AN15: 720 | AO15: 0 | AP15: 0 | AQ15: =AP15/$AL$4 -> 0 | AR15: 0 | AS15: =AR15/$AL$4 -> 0 | AT15: 0 | AU15: =AT15/$AL$4 -> 0 | AV15: 0 | AW15: 222.53 | AX15: =(AM15-AV15-AW15)/$AL$4 -> 0.69093056 | AY15: 100078 | AZ15: 216 | BA15: 145 | BC15: PALO SECO | BD15: 3 | BI15: =BH15/$BD$4 -> #DIV/0! | BK15: =BJ15/$BD$4 -> #DIV/0! | BM15: =BL15/$BD$4 -> #DIV/0! | BP15: =(BE15-BO15)/$BD$4 -> #DIV/0! | BR15: 216 | BS15: 145 | BU15: PALO SECO | BV15: 3 | CA15: =BZ15/$BV$4 -> #DIV/0! | CC15: =CB15/$BV$4 -> #DIV/0! | CE15: =CD15/$BV$4 -> #DIV/0! | CH15: =(BW15-CF15-CG15)/$BV$4 -> #DIV/0! | CJ15: 216 | CK15: 145 | CM15: PALO SECO | CN15: 3 | CS15: =CR15/$CN$4 -> #DIV/0! | CU15: =CT15/$CN$4 -> #DIV/0! | CW15: =CV15/$CN$4 -> #DIV/0! | CZ15: =(CO15-CX15-CY15)/$CN$4 -> #DIV/0! | DB15: 216 | DC15: 145 | DE15: PALO SECO | DF15: 3 | DK15: =DJ15/$DF$4 -> #DIV/0! | DM15: =DL15/$DF$4 -> #DIV/0! | DO15: =DN15/$DF$4 -> #DIV/0! | DR15: =(DG15-DP15-DQ15)/$DF$4 -> #DIV/0! | DT15: 216 | DU15: 145 | DW15: PALO SECO | DX15: 3 | EC15: =EB15/$DX$4 -> #DIV/0! | EE15: =ED15/$DX$4 -> #DIV/0! | EG15: =EF15/$DX$4 -> #DIV/0! | EJ15: =(DY15-EH15-EI15)/$DX$4 -> #DIV/0! | EL15: 216 | EM15: 145 | EO15: PALO SECO | EP15: 3 | EU15: =ET15/$EP$4 -> #DIV/0! | EW15: =EV15/$EP$4 -> #DIV/0! | EY15: =EX15/$EP$4 -> #DIV/0! | FB15: =(EQ15-EZ15-FA15)/$EP$4 -> #DIV/0! | FD15: 216 | FE15: 145 | FG15: PALO SECO | FH15: 3 | FM15: =FL15/$FH$4 -> #DIV/0! | FO15: =FN15/$FH$4 -> #DIV/0! | FQ15: =FP15/$FH$4 -> #DIV/0! | FT15: =(FI15-FR15-FS15)/$FH$4 -> #DIV/0! | FV15: 216 | FW15: 145 | FY15: PALO SECO | FZ15: 3 | GE15: =GD15/$FZ$4 -> #DIV/0! | GG15: =GF15/$FZ$4 -> #DIV/0! | GI15: =GH15/$FZ$4 -> #DIV/0! | GL15: =(GA15-GJ15-GK15)/$FZ$4 -> #DIV/0! | GN15: 216 | GO15: 145 | GQ15: PALO SECO | GR15: 3 | GW15: =GV15/$GR$4 -> #DIV/0! | GY15: =GX15/$GR$4 -> #DIV/0! | HA15: =GZ15/$GR$4 -> #DIV/0! | HD15: =(GS15-HB15-HC15)/$GR$4 -> #DIV/0! | HF15: 216 | HG15: 145
B16: 4 | C16: 518.3 | D16: 518.3 | E16: 0 | F16: 225.7 | G16: =F16/$B$4 -> 0.30336022 | H16: 0 | I16: =H16/$B$4 -> 0 | J16: 0 | K16: =J16/$B$4 -> 0 | L16: ='[2]UNIT DATA'!P3 -> 0 | M16: ='[2]UNIT DATA'!Q3 -> 72.51 | N16: =(C16-L16-M16)/$B$4 -> 0.59918011 | O16: 73712 | P16: 216 | Q16: 165 | T16: 4 | U16: 738.75 | V16: 738.75 | W16: 0 | X16: 5.25 | Y16: =X16/$T$4 -> 0.0070564516 | Z16: 0 | AA16: =Z16/$T$4 -> 0 | AB16: 0 | AC16: =AB16/$T$4 -> 0 | AD16: 0 | AE16: 151.05 | AF16: =(U16-AD16-AE16)/$T$4 -> 0.78991935 | AG16: 100163 | AH16: 216 | AI16: 165 | AL16: 4 | AM16: 584.95 | AN16: 584.95 | AO16: 0 | AP16: 30.85 | AQ16: =AP16/$AL$4 -> 0.042847222 | AR16: 0 | AS16: =AR16/$AL$4 -> 0 | AT16: 104.2 | AU16: =AT16/$AL$4 -> 0.14472222 | AV16: 0 | AW16: 105.13 | AX16: =(AM16-AV16-AW16)/$AL$4 -> 0.66641667 | AY16: 84764 | AZ16: 216 | BA16: 165 | BD16: 4 | BI16: =BH16/$BD$4 -> #DIV/0! | BK16: =BJ16/$BD$4 -> #DIV/0! | BM16: =BL16/$BD$4 -> #DIV/0! | BP16: =(BE16-BO16)/$BD$4 -> #DIV/0! | BR16: 216 | BS16: 165 | BV16: 4 | CA16: =BZ16/$BV$4 -> #DIV/0! | CC16: =CB16/$BV$4 -> #DIV/0! | CE16: =CD16/$BV$4 -> #DIV/0! | CH16: =(BW16-CF16-CG16)/$BV$4 -> #DIV/0! | CJ16: 216 | CK16: 165 | CN16: 4 | CS16: =CR16/$CN$4 -> #DIV/0! | CU16: =CT16/$CN$4 -> #DIV/0! | CW16: =CV16/$CN$4 -> #DIV/0! | CZ16: =(CO16-CX16-CY16)/$CN$4 -> #DIV/0! | DB16: 216 | DC16: 165 | DF16: 4 | DK16: =DJ16/$DF$4 -> #DIV/0! | DM16: =DL16/$DF$4 -> #DIV/0! | DO16: =DN16/$DF$4 -> #DIV/0! | DR16: =(DG16-DP16-DQ16)/$DF$4 -> #DIV/0! | DT16: 216 | DU16: 165 | DX16: 4 | EC16: =EB16/$DX$4 -> #DIV/0! | EE16: =ED16/$DX$4 -> #DIV/0! | EG16: =EF16/$DX$4 -> #DIV/0! | EJ16: =(DY16-EH16-EI16)/$DX$4 -> #DIV/0! | EL16: 216 | EM16: 165 | EP16: 4 | EU16: =ET16/$EP$4 -> #DIV/0! | EW16: =EV16/$EP$4 -> #DIV/0! | EY16: =EX16/$EP$4 -> #DIV/0! | FB16: =(EQ16-EZ16-FA16)/$EP$4 -> #DIV/0! | FD16: 216 | FE16: 165 | FH16: 4 | FM16: =FL16/$FH$4 -> #DIV/0! | FO16: =FN16/$FH$4 -> #DIV/0! | FQ16: =FP16/$FH$4 -> #DIV/0! | FT16: =(FI16-FR16-FS16)/$FH$4 -> #DIV/0! | FV16: 216 | FW16: 165 | FZ16: 4 | GE16: =GD16/$FZ$4 -> #DIV/0! | GG16: =GF16/$FZ$4 -> #DIV/0! | GI16: =GH16/$FZ$4 -> #DIV/0! | GL16: =(GA16-GJ16-GK16)/$FZ$4 -> #DIV/0! | GN16: 216 | GO16: 165 | GR16: 4 | GW16: =GV16/$GR$4 -> #DIV/0! | GY16: =GX16/$GR$4 -> #DIV/0! | HA16: =GZ16/$GR$4 -> #DIV/0! | HD16: =(GS16-HB16-HC16)/$GR$4 -> #DIV/0! | HF16: 216 | HG16: 165
B17: Total | C17: =SUM(C15:C16) -> 1262.3 | D17: =SUM(D15:D16) -> 1262.3 | E17: =SUM(E15:E16) -> 0 | F17: =SUM(F15:F16) -> 225.7 | G17: =(G15*Q15+G16*Q16)/Q17 -> 0.16146592 | H17: =SUM(H15:H16) -> 0 | I17: =(I15*Q15+I16*Q16)/Q17 -> 0 | J17: =SUM(J15:J16) -> 0 | K17: =(K15*Q15+K16*Q16)/Q17 -> 0 | L17: =SUM(L15:L16) -> 0 | M17: =SUM(M15:M16) -> 77.02 | N17: =(N15*Q15+N16*Q16)/Q17 -> 0.78382501 | O17: =SUM(O15:O16) -> 190482 | P17: =SUM(P15:P16) -> 432 | Q17: =SUM(Q15:Q16) -> 310 | T17: Total | U17: =SUM(U15:U16) -> 1390.73 | V17: =SUM(V15:V16) -> 1390.73 | W17: =SUM(W15:W16) -> 0 | X17: =SUM(X15:X16) -> 97.27 | Y17: =(Y15*$AI$15+Y16*$AI$16)/$AI$17 -> 0.061607484 | Z17: =SUM(Z15:Z16) -> 0 | AA17: =(AA15*$AI$15+AA16*$AI$16)/$AI$17 -> 0 | AB17: =SUM(AB15:AB16) -> 0 | AC17: =(AC15*$AI$15+AC16*$AI$16)/$AI$17 -> 0 | AD17: =SUM(AD15:AD16) -> 0 | AE17: =SUM(AE15:AE16) -> 390.58 | AF17: =(AF15*$AI$15+AF16*$AI$16)/$AI$17 -> 0.67974224 | AG17: =SUM(AG15:AG16) -> 175918 | AH17: =SUM(AH15:AH16) -> 432 | AI17: =SUM(AI15:AI16) -> 310 | AL17: Total | AM17: =SUM(AM15:AM16) -> 1304.95 | AN17: =SUM(AN15:AN16) -> 1304.95 | AO17: =SUM(AO15:AO16) -> 0 | AP17: =SUM(AP15:AP16) -> 30.85 | AQ17: =(AQ15*$BA15+AQ16*$BA16)/$BA17 -> 0.02280578 | AR17: =SUM(AR15:AR16) -> 0 | AS17: =(AS15*$BA15+AS16*$BA16)/$BA17 -> 0 | AT17: =SUM(AT15:AT16) -> 104.2 | AU17: =(AU15*$BA15+AU16*$BA16)/$BA17 -> 0.07702957 | AV17: =SUM(AV15:AV16) -> 0 | AW17: =SUM(AW15:AW16) -> 327.66 | AX17: =(AX15*$BA15+AX16*$BA16)/$BA17 -> 0.67788284 | AY17: =SUM(AY15:AY16) -> 184842 | AZ17: =SUM(AZ15:AZ16) -> 432 | BA17: =SUM(BA15:BA16) -> 310 | BD17: Total | BE17: =SUM(BE15:BE16) -> 0 | BF17: =SUM(BF15:BF16) -> 0 | BG17: =SUM(BG15:BG16) -> 0 | BH17: =SUM(BH15:BH16) -> 0 | BI17: =(BI15*$BS15+BI16*$BS16)/$BS17 -> #DIV/0! | BJ17: =SUM(BJ15:BJ16) -> 0 | BK17: =(BK15*$BS15+BK16*$BS16)/$BS17 -> #DIV/0! | BL17: =SUM(BL15:BL16) -> 0 | BM17: =(BM15*$BS15+BM16*$BS16)/$BS17 -> #DIV/0! | BN17: =SUM(BN15:BN16) -> 0 | BO17: =SUM(BO15:BO16) -> 0 | BP17: =(BP15*$BS15+BP16*$BS16)/$BS17 -> #DIV/0! | BQ17: =SUM(BQ15:BQ16) -> 0 | BR17: =SUM(BR15:BR16) -> 432 | BS17: =SUM(BS15:BS16) -> 310 | BV17: Total | BW17: =SUM(BW15:BW16) -> 0 | BX17: =SUM(BX15:BX16) -> 0 | BY17: =SUM(BY15:BY16) -> 0 | BZ17: =SUM(BZ15:BZ16) -> 0 | CA17: =(CA15*$CK15+CA16*$CK16)/$CK17 -> #DIV/0! | CB17: =SUM(CB15:CB16) -> 0 | CC17: =(CC15*$CK15+CC16*$CK16)/$CK17 -> #DIV/0! | CD17: =SUM(CD15:CD16) -> 0 | CE17: =(CE15*$CK15+CE16*$CK16)/$CK17 -> #DIV/0! | CF17: =SUM(CF15:CF16) -> 0 | CG17: =SUM(CG15:CG16) -> 0 | CH17: =(CH15*$CK15+CH16*$CK16)/$CK17 -> #DIV/0! | CI17: =SUM(CI15:CI16) -> 0 | CJ17: =SUM(CJ15:CJ16) -> 432 | CK17: =SUM(CK15:CK16) -> 310 | CN17: Total | CO17: =SUM(CO15:CO16) -> 0 | CP17: =SUM(CP15:CP16) -> 0 | CQ17: =SUM(CQ15:CQ16) -> 0 | CR17: =SUM(CR15:CR16) -> 0 | CS17: =(CS15*$DC15+CS16*$DC16)/$DC17 -> #DIV/0! | CT17: =SUM(CT15:CT16) -> 0 | CU17: =(CU15*$DC15+CU16*$DC16)/$DC17 -> #DIV/0! | CV17: =SUM(CV15:CV16) -> 0 | CW17: =(CW15*$DC15+CW16*$DC16)/$DC17 -> #DIV/0! | CX17: =SUM(CX15:CX16) -> 0 | CY17: =SUM(CY15:CY16) -> 0 | CZ17: =(CZ15*$DC15+CZ16*$DC16)/$DC17 -> #DIV/0! | DA17: =SUM(DA15:DA16) -> 0 | DB17: =SUM(DB15:DB16) -> 432 | DC17: =SUM(DC15:DC16) -> 310 | DF17: Total | DG17: =SUM(DG15:DG16) -> 0 | DH17: =SUM(DH15:DH16) -> 0 | DI17: =SUM(DI15:DI16) -> 0 | DJ17: =SUM(DJ15:DJ16) -> 0 | DK17: =(DK15*$DU15+DK16*$DU16)/$DU17 -> #DIV/0! | DL17: =SUM(DL15:DL16) -> 0 | DM17: =(DM15*$DU15+DM16*$DU16)/$DU17 -> #DIV/0! | DN17: =SUM(DN15:DN16) -> 0 | DO17: =(DO15*$DU15+DO16*$DU16)/$DU17 -> #DIV/0! | DP17: =SUM(DP15:DP16) -> 0 | DQ17: =SUM(DQ15:DQ16) -> 0 | DR17: =(DR15*$DU15+DR16*$DU16)/$DU17 -> #DIV/0! | DS17: =SUM(DS15:DS16) -> 0 | DT17: =SUM(DT15:DT16) -> 432 | DU17: =SUM(DU15:DU16) -> 310 | DX17: Total | DY17: =SUM(DY15:DY16) -> 0 | DZ17: =SUM(DZ15:DZ16) -> 0 | EA17: =SUM(EA15:EA16) -> 0 | EB17: =SUM(EB15:EB16) -> 0 | EC17: =(EC15*$EM15+EC16*$EM16)/$EM17 -> #DIV/0! | ED17: =SUM(ED15:ED16) -> 0 | EE17: =(EE15*$EM15+EE16*$EM16)/$EM17 -> #DIV/0! | EF17: =SUM(EF15:EF16) -> 0 | EG17: =(EG15*$EM15+EG16*$EM16)/$EM17 -> #DIV/0! | EH17: =SUM(EH15:EH16) -> 0 | EI17: =SUM(EI15:EI16) -> 0 | EJ17: =(EJ15*$EM15+EJ16*$EM16)/$EM17 -> #DIV/0! | EK17: =SUM(EK15:EK16) -> 0 | EL17: =SUM(EL15:EL16) -> 432 | EM17: =SUM(EM15:EM16) -> 310 | EP17: Total | EQ17: =SUM(EQ15:EQ16) -> 0 | ER17: =SUM(ER15:ER16) -> 0 | ES17: =SUM(ES15:ES16) -> 0 | ET17: =SUM(ET15:ET16) -> 0 | EU17: =(EU15*$FE15+EU16*$FE16)/$FE17 -> #DIV/0! | EV17: =SUM(EV15:EV16) -> 0 | EW17: =(EW15*$FE15+EW16*$FE16)/$FE17 -> #DIV/0! | EX17: =SUM(EX15:EX16) -> 0 | EY17: =(EY15*$FE15+EY16*$FE16)/$FE17 -> #DIV/0! | EZ17: =SUM(EZ15:EZ16) -> 0 | FA17: =SUM(FA15:FA16) -> 0 | FB17: =(FB15*$FE15+FB16*$FE16)/$FE17 -> #DIV/0! | FC17: =SUM(FC15:FC16) -> 0 | FD17: =SUM(FD15:FD16) -> 432 | FE17: =SUM(FE15:FE16) -> 310 | FH17: Total | FI17: =SUM(FI15:FI16) -> 0 | FJ17: =SUM(FJ15:FJ16) -> 0 | FK17: =SUM(FK15:FK16) -> 0 | FL17: =SUM(FL15:FL16) -> 0 | FM17: =(FM15*$FW15+FM16*$FW16)/$FW17 -> #DIV/0! | FN17: =SUM(FN15:FN16) -> 0 | FO17: =(FO15*$FW15+FO16*$FW16)/$FW17 -> #DIV/0! | FP17: =SUM(FP15:FP16) -> 0 | FQ17: =(FQ15*$FW15+FQ16*$FW16)/$FW17 -> #DIV/0! | FR17: =SUM(FR15:FR16) -> 0 | FS17: =SUM(FS15:FS16) -> 0 | FT17: =(FT15*$FW15+FT16*$FW16)/$FW17 -> #DIV/0! | FU17: =SUM(FU15:FU16) -> 0 | FV17: =SUM(FV15:FV16) -> 432 | FW17: =SUM(FW15:FW16) -> 310 | FZ17: Total | GA17: =SUM(GA15:GA16) -> 0 | GB17: =SUM(GB15:GB16) -> 0 | GC17: =SUM(GC15:GC16) -> 0 | GD17: =SUM(GD15:GD16) -> 0 | GE17: =(GE15*$GO15+GE16*$GO16)/$GO17 -> #DIV/0! | GF17: =SUM(GF15:GF16) -> 0 | GG17: =(GG15*$GO15+GG16*$GO16)/$GO17 -> #DIV/0! | GH17: =SUM(GH15:GH16) -> 0 | GI17: =(GI15*$GO15+GI16*$GO16)/$GO17 -> #DIV/0! | GJ17: =SUM(GJ15:GJ16) -> 0 | GK17: =SUM(GK15:GK16) -> 0 | GL17: =(GL15*$FW15+GL16*$FW16)/$FW17 -> #DIV/0! | GM17: =SUM(GM15:GM16) -> 0 | GN17: =SUM(GN15:GN16) -> 432 | GO17: =SUM(GO15:GO16) -> 310 | GR17: Total | GS17: =SUM(GS15:GS16) -> 0 | GT17: =SUM(GT15:GT16) -> 0 | GU17: =SUM(GU15:GU16) -> 0 | GV17: =SUM(GV15:GV16) -> 0 | GW17: =(GW15*$HG15+GW16*$HG16)/$HG17 -> #DIV/0! | GX17: =SUM(GX15:GX16) -> 0 | GY17: =(GY15*$HG15+GY16*$HG16)/$HG17 -> #DIV/0! | GZ17: =SUM(GZ15:GZ16) -> 0 | HA17: =(HA15*$HG15+HA16*$HG16)/$HG17 -> #DIV/0! | HB17: =SUM(HB15:HB16) -> 0 | HC17: =SUM(HC15:HC16) -> 0 | HD17: =(HD15*$HG15+HD16*$HG16)/$HG17 -> #DIV/0! | HE17: =SUM(HE15:HE16) -> 0 | HF17: =SUM(HF15:HF16) -> 432 | HG17: =SUM(HG15:HG16) -> 310
A18: COSTA SUR | B18: 5 | C18: 667.05 | D18: 667.05 | E18: 0 | F18: 76.95 | G18: =F18/$B$4 -> 0.10342742 | H18: 0 | I18: =H18/$B$4 -> 0 | J18: 0 | K18: =J18/$B$4 -> 0 | L18: ='[3]UNIT DATA'!P2 -> 6.36 | M18: ='[3]UNIT DATA'!Q2 -> 10.95 | N18: =(C18-L18-M18)/$B$4 -> 0.87330645 | O18: 189080 | P18: 410 | Q18: 410 | S18: COSTA SUR | T18: 5 | U18: 726.7 | V18: 700.67 | W18: 26.03 | X18: 0 | Y18: =X18/$T$4 -> 0 | Z18: 0 | AA18: =Z18/$T$4 -> 0 | AB18: 17.3 | AC18: =AB18/$T$4 -> 0.023252688 | AD18: 24.4 | AE18: 1.18 | AF18: =(U18-AD18-AE18)/$T$4 -> 0.94236559 | AG18: 199570 | AH18: 410 | AI18: 410 | AK18: COSTA SUR | AL18: 5 | AM18: 633.83 | AN18: 633.83 | AO18: 0 | AP18: 86.17 | AQ18: =AP18/$AL$4 -> 0.11968056 | AR18: 0 | AS18: =AR18/$AL$4 -> 0 | AT18: 0 | AU18: =AT18/$AL$4 -> 0 | AV18: 0 | AW18: 16.49 | AX18: =(AM18-AV18-AW18)/$AL$4 -> 0.85741667 | AY18: 189540 | AZ18: 410 | BA18: 410 | BC18: COSTA SUR | BD18: 5 | BI18: =BH18/$BD$4 -> #DIV/0! | BK18: =BJ18/$BD$4 -> #DIV/0! | BM18: =BL18/$BD$4 -> #DIV/0! | BP18: =(BE18-BO18)/$BD$4 -> #DIV/0! | BR18: 410 | BS18: 410 | BU18: COSTA SUR | BV18: 5 | CA18: =BZ18/$BV$4 -> #DIV/0! | CC18: =CB18/$BV$4 -> #DIV/0! | CE18: =CD18/$BV$4 -> #DIV/0! | CH18: =(BW18-CF18-CG18)/$BV$4 -> #DIV/0! | CJ18: 410 | CK18: 410 | CM18: COSTA SUR | CN18: 5 | CS18: =CR18/$CN$4 -> #DIV/0! | CU18: =CT18/$CN$4 -> #DIV/0! | CW18: =CV18/$CN$4 -> #DIV/0! | CZ18: =(CO18-CX18-CY18)/$CN$4 -> #DIV/0! | DB18: 410 | DC18: 410 | DE18: COSTA SUR | DF18: 5 | DK18: =DJ18/$DF$4 -> #DIV/0! | DM18: =DL18/$DF$4 -> #DIV/0! | DO18: =DN18/$DF$4 -> #DIV/0! | DR18: =(DG18-DP18-DQ18)/$DF$4 -> #DIV/0! | DT18: 410 | DU18: 410 | DW18: COSTA SUR | DX18: 5 | EC18: =EB18/$DX$4 -> #DIV/0! | EE18: =ED18/$DX$4 -> #DIV/0! | EG18: =EF18/$DX$4 -> #DIV/0! | EJ18: =(DY18-EH18-EI18)/$DX$4 -> #DIV/0! | EL18: 410 | EM18: 410 | EO18: COSTA SUR | EP18: 5 | EU18: =ET18/$EP$4 -> #DIV/0! | EW18: =EV18/$EP$4 -> #DIV/0! | EY18: =EX18/$EP$4 -> #DIV/0! | FB18: =(EQ18-EZ18-FA18)/$EP$4 -> #DIV/0! | FD18: 410 | FE18: 410 | FG18: COSTA SUR | FH18: 5 | FM18: =FL18/$FH$4 -> #DIV/0! | FO18: =FN18/$FH$4 -> #DIV/0! | FQ18: =FP18/$FH$4 -> #DIV/0! | FT18: =(FI18-FR18-FS18)/$FH$4 -> #DIV/0! | FV18: 410 | FW18: 410 | FY18: COSTA SUR | FZ18: 5 | GE18: =GD18/$FZ$4 -> #DIV/0! | GG18: =GF18/$FZ$4 -> #DIV/0! | GI18: =GH18/$FZ$4 -> #DIV/0! | GL18: =(GA18-GJ18-GK18)/$FZ$4 -> #DIV/0! | GN18: 410 | GO18: 410 | GQ18: COSTA SUR | GR18: 5 | GW18: =GV18/$GR$4 -> #DIV/0! | GY18: =GX18/$GR$4 -> #DIV/0! | HA18: =GZ18/$GR$4 -> #DIV/0! | HD18: =(GS18-HB18-HC18)/$GR$4 -> #DIV/0! | HF18: 410 | HG18: 410
B19: 6 | C19: 354.85 | D19: 354.85 | E19: 0 | F19: 389.15 | G19: =F19/$B$4 -> 0.52305108 | H19: 0 | I19: =H19/$B$4 -> 0 | J19: 0 | K19: =J19/$B$4 -> 0 | L19: ='[3]UNIT DATA'!P3 -> 0 | M19: ='[3]UNIT DATA'!Q3 -> 0 | N19: =(C19-L19-M19)/$B$4 -> 0.47694892 | O19: 95760 | P19: 410 | Q19: 292 | T19: 6 | U19: 634.05 | V19: 578.85 | W19: 55.2 | X19: 109.95 | Y19: =X19/$T$4 -> 0.14778226 | Z19: 0 | AA19: =Z19/$T$4 -> 0 | AB19: 0 | AC19: =AB19/$T$4 -> 0 | AD19: 0.65 | AE19: 17.57 | AF19: =(U19-AD19-AE19)/$T$4 -> 0.82772849 | AG19: 156290 | AH19: 410 | AI19: 292 | AL19: 6 | AM19: 665.34 | AN19: 665.34 | AO19: 0 | AP19: 54.66 | AQ19: =AP19/$AL$4 -> 0.075916667 | AR19: 0 | AS19: =AR19/$AL$4 -> 0 | AT19: 0 | AU19: =AT19/$AL$4 -> 0 | AV19: 0 | AW19: 22.57 | AX19: =(AM19-AV19-AW19)/$AL$4 -> 0.89273611 | AY19: 177900 | AZ19: 410 | BA19: 292 | BD19: 6 | BI19: =BH19/$BD$4 -> #DIV/0! | BK19: =BJ19/$BD$4 -> #DIV/0! | BM19: =BL19/$BD$4 -> #DIV/0! | BP19: =(BE19-BO19)/$BD$4 -> #DIV/0! | BR19: 410 | BS19: 292 | BV19: 6 | CA19: =BZ19/$BV$4 -> #DIV/0! | CC19: =CB19/$BV$4 -> #DIV/0! | CE19: =CD19/$BV$4 -> #DIV/0! | CH19: =(BW19-CF19-CG19)/$BV$4 -> #DIV/0! | CJ19: 410 | CK19: 292 | CN19: 6 | CS19: =CR19/$CN$4 -> #DIV/0! | CU19: =CT19/$CN$4 -> #DIV/0! | CW19: =CV19/$CN$4 -> #DIV/0! | CZ19: =(CO19-CX19-CY19)/$CN$4 -> #DIV/0! | DB19: 410 | DC19: 292 | DF19: 6 | DK19: =DJ19/$DF$4 -> #DIV/0! | DM19: =DL19/$DF$4 -> #DIV/0! | DO19: =DN19/$DF$4 -> #DIV/0! | DR19: =(DG19-DP19-DQ19)/$DF$4 -> #DIV/0! | DT19: 410 | DU19: 292 | DX19: 6 | EC19: =EB19/$DX$4 -> #DIV/0! | EE19: =ED19/$DX$4 -> #DIV/0! | EG19: =EF19/$DX$4 -> #DIV/0! | EJ19: =(DY19-EH19-EI19)/$DX$4 -> #DIV/0! | EL19: 410 | EM19: 292 | EP19: 6 | EU19: =ET19/$EP$4 -> #DIV/0! | EW19: =EV19/$EP$4 -> #DIV/0! | EY19: =EX19/$EP$4 -> #DIV/0! | FB19: =(EQ19-EZ19-FA19)/$EP$4 -> #DIV/0! | FD19: 410 | FE19: 292 | FH19: 6 | FM19: =FL19/$FH$4 -> #DIV/0! | FO19: =FN19/$FH$4 -> #DIV/0! | FQ19: =FP19/$FH$4 -> #DIV/0! | FT19: =(FI19-FR19-FS19)/$FH$4 -> #DIV/0! | FV19: 410 | FW19: 292 | FZ19: 6 | GE19: =GD19/$FZ$4 -> #DIV/0! | GG19: =GF19/$FZ$4 -> #DIV/0! | GI19: =GH19/$FZ$4 -> #DIV/0! | GL19: =(GA19-GJ19-GK19)/$FZ$4 -> #DIV/0! | GN19: 410 | GO19: 292 | GR19: 6 | GW19: =GV19/$GR$4 -> #DIV/0! | GY19: =GX19/$GR$4 -> #DIV/0! | HA19: =GZ19/$GR$4 -> #DIV/0! | HD19: =(GS19-HB19-HC19)/$GR$4 -> #DIV/0! | HF19: 410 | HG19: 292
