Workbook

Sheet Summary
B1: FY2026 Budgets to Actuals Summary
B2: ($ million)
D5: 1 | E5: 2 | F5: 4 | G5: 7 | H5: 8
E7: FY2026 Budget3,5 | F7: FY2026 Actuals5 | G7: Variance ($)5 | H7: Variance (%)
D8: Transmission & Distribution
C9: 1 | D9: Operating Expenditures | E9: ='T&D Op Exp-Total'!E28 -> 770.13362 | F9: ='T&D Op Exp-Total'!F28 -> 536.8 | G9: =E9-F9 -> 233.33362
C10: 2 | D10: Non-Federally Funded Capital Expenditures | E10: ='Imp Port - Capital'!K19 -> 198.77255 | F10: ='Imp Port - Capital'!L19 -> 124.09804 | G10: =E10-F10 -> 74.674507
C11: 3 | D11: Subtotal4 | E11: =E9+E10 -> 968.90617 | F11: =F9+F10 -> 660.89804 | G11: =E11-F11 -> 308.00813 | H11: =G11/E11 -> 0.31789263
C13: 4 | D13: Federally Funded Expenditures6 | E13: ='Imp Port - Capital'!D19 -> 1207.1565 | F13: ='Imp Port - Capital'!E19 -> 510.87939 | G13: =E13-F13 -> 696.2771 | H13: =G13/E13 -> 0.57679109
C18: Note:
C19: 3 | D19: Numbers in this report reflect Energy Bureau’s April 15, 2026, Final Rate Order.
C20: 4 | D20: Budget figures above include the reserve for excess expenditures.
C21: 5 | D21: Figures on all tables are rounded.
C22: 6 | D22: Federally funded expenditures include capital, general, and administrative charges.

Sheet T&D Op Exp-Total
B1: Transmission & Distribution Operating Expenditures
B2: ($ million)
D5: 1 | E5: 2 | F5: 4 | G5: 7 | H5: 8
E7: FY2026 Budget3,5 | F7: FY2026 Actuals5 | G7: Variance ($)5 | H7: Variance (%)
D8: Labor
B9: 1 | D9: Salaries, Wages and Benefits | E9: 335.8 | F9: 273.7 | G9: =E9-F9 -> 62.1
B10: 2 | D10: Total Labor | E10: =SUM(E9) -> 335.8 | F10: =SUM(F9) -> 273.7 | G10: =SUM(G9) -> 62.1 | H10: =G10/E10 -> 0.18493151
D11: Non-Labor
B12: =B10+1 -> 3 | D12: Materials & Supplies | E12: 33.5 | F12: 18.7 | G12: =E12-F12 -> 14.8
B13: =B12+1 -> 4 | D13: Transportation, Per Diem, and Mileage | E13: 16.5 | F13: 11 | G13: =E13-F13 -> 5.5
B14: =B13+1 -> 5 | D14: Property & Casualty Insurance | E14: 18.1 | F14: 17.9 | G14: =E14-F14 -> 0.2
B15: =B14+1 -> 6 | D15: Security | E15: 7.5 | F15: 6.4 | G15: =E15-F15 -> 1.1
B16: =B15+1 -> 7 | D16: IT Service Agreements | E16: 47.6 | F16: 32.1 | G16: =E16-F16 -> 15.5
B17: =B16+1 -> 8 | D17: Utilities & Rents | E17: 19.1 | F17: 9.1 | G17: =E17-F17 -> 10
B18: =B17+1 -> 9 | D18: Legal Services | E18: 12.3 | F18: 12 | G18: =E18-F18 -> 0.3
B19: =B18+1 -> 10 | D19: Communications Expenses | E19: 1.9 | F19: 0.2 | G19: =E19-F19 -> 1.7
B20: =B19+1 -> 11 | D20: Professional & Technical Outsourced Services | E20: 139.6 | F20: 105.7 | G20: =E20-F20 -> 33.9
B21: =B20+1 -> 12 | D21: Vegetation Management | E21: 125 | F21: 47.7 | G21: =E21-F21 -> 77.3
B22: =B21+1 -> 13 | D22: Other Miscellaneous Expenses | E22: 6.9 | F22: 2.3 | G22: =E22-F22 -> 4.6
B23: =B22+1 -> 14 | D23: Total Non-Labor / Other Operating Expense | E23: =SUM(E12:E22) -> 428 | F23: =SUM(F12:F22) -> 263.1 | G23: =SUM(G12:G22) -> 164.9 | H23: =G23/E23 -> 0.38528037
B25: =B23+1 -> 15 | D25: Subtotal | E25: =E10+E23 -> 763.8 | F25: =F10+F23 -> 536.8 | G25: =G10+G23 -> 227 | H25: =G25/E25 -> 0.29719822
B26: =B25+1 -> 16 | D26: Reserve for Excess Expenditures | E26: =6.333624 -> 6.333624 | F26: 0 | G26: =E26-F26 -> 6.333624
B28: =B26+1 -> 17 | D28: Total Operating Expenditures | E28: =E25+E26 -> 770.13362 | F28: =F25+F26 -> 536.8 | G28: =G25+G26 -> 233.33362 | H28: =G28/E28 -> 0.3029781
B32: Note:
B33: 5 | C33: Figures in all tables have been rounded.

Sheet T&D Op Exp - CE
B1: Transmission & Distribution Operating Expenditures Customer Experience
B2: ($ million)
D5: 1 | E5: 2 | F5: 6 | G5: 7 | H5: 8
E6: Customer Experience
E7: FY2026 Budget3,5 | F7: FY2026 Actuals5 | G7: Variance ($)5 | H7: Variance (%)
D8: Labor
B9: 1 | D9: Salaries, Wages and Benefits | E9: 45.6 | F9: 41.9 | G9: =E9-F9 -> 3.7
B10: 2 | D10: Total Labor | E10: =E9 -> 45.6 | F10: =SUM(F9) -> 41.9 | G10: =SUM(G9) -> 3.7 | H10: =G10/E10 -> 0.081140351
D11: Non-Labor
B12: =B10+1 -> 3 | D12: Materials & Supplies | E12: 0.3 | F12: 0.1 | G12: =E12-F12 -> 0.2
B13: =B12+1 -> 4 | D13: Transportation, Per Diem, and Mileage | E13: 0.4 | F13: 0.3 | G13: =E13-F13 -> 0.1
B14: =B13+1 -> 5 | D14: Property & Casualty Insurance | E14: 0 | F14: 0 | G14: =E14-F14 -> 0
B15: =B14+1 -> 6 | D15: Security | E15: 0 | F15: 0 | G15: =E15-F15 -> 0
B16: =B15+1 -> 7 | D16: IT Service Agreements | E16: 0 | F16: 0.9 | G16: =E16-F16 -> -0.9
B17: =B16+1 -> 8 | D17: Utilities & Rents | E17: 0.2 | F17: 0.1 | G17: =E17-F17 -> 0.1
B18: =B17+1 -> 9 | D18: Legal Services | E18: 0 | F18: 0 | G18: =E18-F18 -> 0
B19: =B18+1 -> 10 | D19: Communications Expenses | E19: 0 | F19: 0 | G19: =E19-F19 -> 0
B20: =B19+1 -> 11 | D20: Professional & Technical Outsourced Services | E20: 46.4 | F20: 42.8 | G20: =E20-F20 -> 3.6
B21: =B20+1 -> 12 | D21: Vegetation Management | E21: 0 | F21: 0 | G21: =E21-F21 -> 0
B22: =B21+1 -> 13 | D22: Other Miscellaneous Expenses | E22: 0.1 | F22: 0.1 | G22: =E22-F22 -> 0
B23: =B22+1 -> 14 | D23: Total Non-Labor / Other Operating Expense | E23: =SUM(E12:E22) -> 47.4 | F23: =SUM(F12:F22) -> 44.3 | G23: =SUM(G12:G22) -> 3.1 | H23: =G23/E23 -> 0.065400844
B25: =B23+1 -> 15 | D25: Total Operating Expense | E25: =E10+E23 -> 93 | F25: =F10+F23 -> 86.2 | G25: =G10+G23 -> 6.8 | H25: =G25/E25 -> 0.07311828
B29: Note:
B30: 5 | C30: Figures in all tables have been rounded.

Sheet T&D Op Exp - Ops
B1: Transmission & Distribution Operating Expenditures Operations
B2: ($ million)
D5: 1 | E5: 2 | F5: 6 | G5: 7 | H5: 8
E6: Operations
E7: FY2026 Budget3,5 | F7: FY2026 Actuals5 | G7: Variance ($)5 | H7: Variance (%)
D8: Labor
B9: 1 | D9: Salaries, Wages and Benefits | E9: 168.2 | F9: 134.8 | G9: =E9-F9 -> 33.4
B10: 2 | D10: Total Labor | E10: =SUM(E9) -> 168.2 | F10: =SUM(F9) -> 134.8 | G10: =SUM(G9) -> 33.4 | H10: =G10/E10 -> 0.19857313
D11: Non-Labor
B12: =B10+1 -> 3 | D12: Materials & Supplies | E12: 14.5 | F12: 12.3 | G12: =E12-F12 -> 2.2
B13: =B12+1 -> 4 | D13: Transportation, Per Diem, and Mileage | E13: 6 | F13: 7 | G13: =E13-F13 -> -1
B14: =B13+1 -> 5 | D14: Property & Casualty Insurance | E14: 0 | F14: 0 | G14: =E14-F14 -> 0
B15: =B14+1 -> 6 | D15: Security | E15: 0 | F15: 0 | G15: =E15-F15 -> 0
B16: =B15+1 -> 7 | D16: IT Service Agreements | E16: 1.1 | F16: 0 | G16: =E16-F16 -> 1.1
B17: =B16+1 -> 8 | D17: Utilities & Rents | E17: 1.7 | F17: 1 | G17: =E17-F17 -> 0.7
B18: =B17+1 -> 9 | D18: Legal Services | E18: 1.6 | F18: 0.1 | G18: =E18-F18 -> 1.5
B19: =B18+1 -> 10 | D19: Communications Expenses | E19: 0 | F19: 0.1 | G19: =E19-F19 -> -0.1
B20: =B19+1 -> 11 | D20: Professional & Technical Outsourced Services | E20: 36.9 | F20: 31.1 | G20: =E20-F20 -> 5.8
B21: =B20+1 -> 12 | D21: Vegetation Management | E21: 125 | F21: 47.7 | G21: =E21-F21 -> 77.3
B22: =B21+1 -> 13 | D22: Other Miscellaneous Expense | E22: 0.1 | F22: 0.6 | G22: =E22-F22 -> -0.5
B23: =B22+1 -> 14 | D23: Total Non-Labor / Other Operating Expense | E23: =SUM(E12:E22) -> 186.9 | F23: =SUM(F12:F22) -> 99.9 | G23: =SUM(G12:G22) -> 87 | H23: =G23/E23 -> 0.46548957
B25: =B23+1 -> 15 | D25: Total Operating Expense | E25: =E10+E23 -> 355.1 | F25: =F10+F23 -> 234.7 | G25: =G10+G23 -> 120.4 | H25: =G25/E25 -> 0.33905942
B29: Note:
B30: 5 | C30: Figures in all tables have been rounded.

Sheet T&D Op Exp - UT
B1: Transmission & Distribution Operating Expenditures Utility Transformation
B2: ($ million)
D5: 1 | E5: 2 | F5: 6 | G5: 7 | H5: 8
E6: Utility Transformation
E7: FY2026 Budget3,5 | F7: FY2026 Actuals5 | G7: Variance ($)5 | H7: Variance (%)
D8: Labor
B9: 1 | D9: Salaries, Wages and Benefits | E9: 30.5 | F9: 33.3 | G9: =E9-F9 -> -2.8
B10: 2 | D10: Total Labor | E10: =SUM(E9) -> 30.5 | F10: =SUM(F9) -> 33.3 | G10: =SUM(G9) -> -2.8 | H10: =G10/E10 -> -0.091803279
D11: Non-Labor
B12: =B10+1 -> 3 | D12: Materials & Supplies | E12: 1.8 | F12: 1.3 | G12: =E12-F12 -> 0.5
B13: =B12+1 -> 4 | D13: Transportation, Per Diem, and Mileage | E13: 2.8 | F13: 1.5 | G13: =E13-F13 -> 1.3
B14: =B13+1 -> 5 | D14: Property & Casualty Insurance | E14: 0 | F14: 0 | G14: =E14-F14 -> 0
B15: =B14+1 -> 6 | D15: Security | E15: 0 | F15: 0 | G15: =E15-F15 -> 0
B16: =B15+1 -> 7 | D16: IT Service Agreements | E16: 0.2 | F16: 0 | G16: =E16-F16 -> 0.2
B17: =B16+1 -> 8 | D17: Utilities & Rents | E17: 6.4 | F17: 0.9 | G17: =E17-F17 -> 5.5
B18: =B17+1 -> 9 | D18: Legal Services | E18: 1 | F18: 1 | G18: =E18-F18 -> 0
B19: =B18+1 -> 10 | D19: Communications Expenses | E19: 0 | F19: 0 | G19: =E19-F19 -> 0
B20: =B19+1 -> 11 | D20: Professional & Technical Outsourced Services | E20: 8.7 | F20: 5 | G20: =E20-F20 -> 3.7
B21: =B20+1 -> 12 | D21: Vegetation Management | E21: 0 | F21: 0 | G21: =E21-F21 -> 0
B22: =B21+1 -> 13 | D22: Other Miscellaneous Expenses | E22: 0.1 | F22: 0.2 | G22: =E22-F22 -> -0.1
B23: =B22+1 -> 14 | D23: Total Non-Labor / Other Operating Expense | E23: =SUM(E12:E22) -> 21 | F23: =SUM(F12:F22) -> 9.9 | G23: =SUM(G12:G22) -> 11.1 | H23: =G23/E23 -> 0.52857143
B25: =B23+1 -> 15 | D25: Total Operating Expense | E25: =E10+E23 -> 51.5 | F25: =F10+F23 -> 43.2 | G25: =G10+G23 -> 8.3 | H25: =G25/E25 -> 0.16116505
B29: Note:
B30: 5 | C30: Figures in all tables have been rounded.

Sheet S
A1: Sheet Name | B1: Start Cell | C1: End Cell | D1: BusinessArea Name | E1: ReportGroup Name | F1: Report Name | G1: Parameters | H1: Rows | I1: User Id | J1: BusinessArea Id | K1: ReportGroup Id | L1: Report Id | M1: Headers | N1: Pivot Sheet Name Ref | O1: Sheet Name Ref | Q1: Process Id | R1: Splash SessionID | S1: Status | T1: Pivot Sheet Name | U1: Old ProcessId | V1: ColumnsCount | W1: Download Time | X1: Error Message | Z1: MandatoryParameters | AA1: Json ParameterString | AB1: StartTime | AC1: EndTime | AD1: UserGroup ID | AE1: IsModifyReport | AG1: Modify Report JSON | CV1: TRUE | CW1: Display Title | CX1: Responsibility Name | CY1: OCRunType | CZ1: OcTrialConnectionId

Sheet T&D Op Exp - SS
B1: Transmission & Distribution Operating Expenditures Support Services
B2: ($ million)
D5: 1 | E5: 2 | F5: 6 | G5: 7 | H5: 8
E6: Support Services
E7: FY2026 Budget3,5 | F7: FY2026 Actuals5 | G7: Variance ($)5 | H7: Variance (%)
D8: Labor
B9: 1 | D9: Salaries, Wages and Benefits | E9: 91.5 | F9: 63.7 | G9: =E9-F9 -> 27.8
B10: 2 | D10: Total Labor | E10: =SUM(E9) -> 91.5 | F10: =SUM(F9) -> 63.7 | G10: =SUM(G9) -> 27.8 | H10: =G10/E10 -> 0.30382514
D11: Non-Labor
B12: =B10+1 -> 3 | D12: Materials & Supplies | E12: 16.9 | F12: 5 | G12: =E12-F12 -> 11.9
B13: =B12+1 -> 4 | D13: Transportation, Per Diem, and Mileage | E13: 7.3 | F13: 2.2 | G13: =E13-F13 -> 5.1
B14: =B13+1 -> 5 | D14: Property & Casualty Insurance | E14: 18.1 | F14: 17.9 | G14: =E14-F14 -> 0.2
B15: =B14+1 -> 6 | D15: Security | E15: 7.5 | F15: 6.4 | G15: =E15-F15 -> 1.1
B16: =B15+1 -> 7 | D16: IT Service Agreements | E16: 46.3 | F16: 31.2 | G16: =E16-F16 -> 15.1
B17: =B16+1 -> 8 | D17: Utilities & Rents | E17: 10.8 | F17: 7.1 | G17: =E17-F17 -> 3.7
B18: =B17+1 -> 9 | D18: Legal Services | E18: 9.7 | F18: 10.9 | G18: =E18-F18 -> -1.2
B19: =B18+1 -> 10 | D19: Communications Expenses | E19: 1.9 | F19: 0.1 | G19: =E19-F19 -> 1.8
B20: =B19+1 -> 11 | D20: Professional & Technical Outsourced Services | E20: 47.6 | F20: 26.8 | G20: =E20-F20 -> 20.8
B21: =B20+1 -> 12 | D21: Vegetation Management | E21: 0 | F21: 0 | G21: =E21-F21 -> 0
B22: =B21+1 -> 13 | D22: Other Miscellaneous Expenses | E22: 6.6 | F22: 1.4 | G22: =E22-F22 -> 5.2
B23: =B22+1 -> 14 | D23: Total Non-Labor / Other Operating Expense | E23: =SUM(E12:E22) -> 172.7 | F23: =SUM(F12:F22) -> 109 | G23: =SUM(G12:G22) -> 63.7 | H23: =G23/E23 -> 0.36884771
B25: =B23+1 -> 15 | D25: Total Operating Expense | E25: =E10+E23 -> 264.2 | F25: =F10+F23 -> 172.7 | G25: =G10+G23 -> 91.5 | H25: =G25/E25 -> 0.34632854
B29: Note:
B30: 5 | C30: Figures in all tables have been rounded.

Sheet Shared Services
B1: Shared Services
B2: ($ million)
D4: 1 | E4: 2 | F4: 6 | G4: 7 | H4: 8
E6: FY2026 Budget5 | F6: FY2026 Actuals5 | G6: Variance ($)5 | H6: Variance (%)
B7: 1 | D7: Labor | E7: 0.4 | F7: 1 | G7: =E7-F7 -> -0.6
B8: 2 | D8: Property & Casualty Insurance 19 | E8: 1.2836 | F8: 1.4 | G8: =E8-F8 -> -0.1164
B9: 3 | D9: IT Service Agreements | E9: 0.9 | F9: 1.2 | G9: =E9-F9 -> -0.3
B10: 4 | D10: Legal Services | E10: 0 | F10: -2.5 | G10: =E10-F10 -> 2.5
B11: 5 | D11: Professional & Technical Outsourced Services | E11: 0 | F11: 0.3 | G11: =E11-F11 -> -0.3
B12: 6 | D12: Other | E12: 0 | F12: 0.2 | G12: =E12-F12 -> -0.2
B13: 7 | D13: Shared Services Total | E13: =SUM(E7:E12) -> 2.5836 | F13: =SUM(F7:F12) -> 1.6 | G13: =E13-F13 -> 0.9836 | H13: =G13/E13 -> 0.38070909
C18: Note:
C19: 5 | D19: Figures in all tables have been rounded.
C20: 19 | D20: Property & Casualty Insurance Shared Services budget was reduced from 61.9 million to 1.3 million as Genera and PREPA are recording their share of Property & Casualty Insurance in their accounting books and reporting their actuals compared to their Shared Services budget allocation during FY26. The remaining budget and actuals are limited to policies related to PREPA that have yet to be renewed under the new methodology. These policies are expected to renew in July 2027 therefore no budget and actuals will be reported in FY2027 for Property & Casualty Insurance.

Sheet Impr. Portfolio Summary - YTD
B1: Improvement Portfolio Summary
B2: ($ million)
C4: 1 | D4: 2 | E4: 6 | F4: 7 | G4: 8
C6: Portfolio | D6: FY2026 Budget5 | E6: FY2026 Actuals5 | F6: Variance ($)5 | G6: Variance (%)
B7: 1 | C7: Customer Experience | D7: ='CX Portfolio Summary'!D23 -> 384.27 | E7: ='CX Portfolio Summary'!E23 -> 223.72242 | F7: =D7-E7 -> 160.54758 | G7: =F7/D7 -> 0.4177989
B8: 2 | C8: Distribution | D8: ='Dx Portfolio Summary'!D28 -> 326.92083 | E8: ='Dx Portfolio Summary'!E28 -> 133.27125 | F8: =D8-E8 -> 193.64958 | G8: =F8/D8 -> 0.59234397
B9: 3 | C9: Transmission | D9: ='Tx Portfolio Summary'!D28 -> 138.59221 | E9: ='Tx Portfolio Summary'!E28 -> 34.727339 | F9: =D9-E9 -> 103.86487 | G9: =F9/D9 -> 0.74942792
B10: 4 | C10: Substation | D10: ='Sub Portfolio Summary'!D23 -> 137.63487 | E10: ='Sub Portfolio Summary'!E23 -> 127.40574 | F10: =D10-E10 -> 10.229132 | G10: =F10/D10 -> 0.074320792
B11: 5 | C11: Control Center & Buildings | D11: ='CC&B Portfolio Summary'!D28 -> 40.875005 | E11: ='CC&B Portfolio Summary'!E28 -> 13.774344 | F11: =D11-E11 -> 27.100661 | G11: =F11/D11 -> 0.66301303
B12: 6 | C12: Enabling | D12: ='Enab Portfolio Summary'!D38 -> 468.76076 | E12: ='Enab Portfolio Summary'!E38 -> 139.13641 | F12: =D12-E12 -> 329.62435 | G12: =F12/D12 -> 0.70318246
B13: 7 | C13: Support Services | D13: ='SS Portfolio Summary'!D43 -> 46.85552 | E13: ='SS Portfolio Summary'!E43 -> 5.9990379 | F13: =D13-E13 -> 40.856482 | G13: =F13/D13 -> 0.87196732
B14: 8 | C14: Priority Stabilization Plan | D14: ='PSP Portfolio Summary'!D13 -> 0 | E14: ='PSP Portfolio Summary'!E13 -> 20.232976 | F14: =D14-E14 -> -20.232976 | G14: =IFERROR(F14/D14,0) -> 0
C15: Total | D15: =SUM(D7:D14) -> 1543.9092 | E15: =SUM(E7:E14) -> 698.26951 | F15: =D15-E15 -> 845.63968 | G15: =F15/D15 -> 0.54772631
B18: Note:
B19: 5 | C19: Figures in all tables have been rounded.

Sheet Imp Port - Capital
B1: Improvement Portfolios - Total Capital Expenditures
B2: ($ million)
C4: 1 | D4: 2 | E4: 6 | F4: 7 | G4: 8 | J4: 1 | K4: 2 | M4: 5 | N4: 6
D5: Federally Funded Capital1 | K5: Non-Federally Funded Capital1
C6: Improvement Portfolio | D6: FY2026 Budget5 | E6: FY2026 Actuals5 | F6: Variance ($)5 | G6: Variance (%) | J6: Improvement Portfolio | K6: FY2026 Budget5 | L6: FY2026 Actuals5 | M6: Variance ($)5 | N6: Variance (%)
B7: 1 | C7: Customer Experience | D7: ='CX Portfolio Summary'!D9+'CX Portfolio Summary'!D14+'CX Portfolio Summary'!D19 -> 351.55 | E7: ='CX Portfolio Summary'!E9+'CX Portfolio Summary'!E14+'CX Portfolio Summary'!E19 -> 203.03913 | F7: =D7-E7 -> 148.51087 | I7: 1 | J7: Customer Experience | K7: ='CX Portfolio Summary'!D10+'CX Portfolio Summary'!D15+'CX Portfolio Summary'!D20 -> 25.9 | L7: ='CX Portfolio Summary'!E10+'CX Portfolio Summary'!E15+'CX Portfolio Summary'!E20 -> 19.602821 | M7: =K7-L7 -> 6.2971792
B8: 2 | C8: Distribution | D8: ='Dx Portfolio Summary'!D9+'Dx Portfolio Summary'!D14+'Dx Portfolio Summary'!D19+'Dx Portfolio Summary'!D24 -> 273.92183 | E8: ='Dx Portfolio Summary'!E9+'Dx Portfolio Summary'!E14+'Dx Portfolio Summary'!E19+'Dx Portfolio Summary'!E24 -> 77.766134 | F8: =D8-E8 -> 196.1557 | I8: 2 | J8: Distribution | K8: ='Dx Portfolio Summary'!D10+'Dx Portfolio Summary'!D15+'Dx Portfolio Summary'!D20+'Dx Portfolio Summary'!D25 -> 52.999 | L8: ='Dx Portfolio Summary'!E10+'Dx Portfolio Summary'!E15+'Dx Portfolio Summary'!E20+'Dx Portfolio Summary'!E25 -> 55.498183 | M8: =K8-L8 -> -2.4991835
B9: 3 | C9: Transmission | D9: ='Tx Portfolio Summary'!D9+'Tx Portfolio Summary'!D14+'Tx Portfolio Summary'!D19+'Tx Portfolio Summary'!D24 -> 113.79221 | E9: ='Tx Portfolio Summary'!E9+'Tx Portfolio Summary'!E14+'Tx Portfolio Summary'!E19+'Tx Portfolio Summary'!E24 -> 19.439393 | F9: =D9-E9 -> 94.352817 | I9: 3 | J9: Transmission | K9: ='Tx Portfolio Summary'!D10+'Tx Portfolio Summary'!D15+'Tx Portfolio Summary'!D20+'Tx Portfolio Summary'!D25 -> 24.8 | L9: ='Tx Portfolio Summary'!E10+'Tx Portfolio Summary'!E15+'Tx Portfolio Summary'!E20+'Tx Portfolio Summary'!E25 -> 15.287045 | M9: =K9-L9 -> 9.5129545
B10: 4 | C10: Substations | D10: ='Sub Portfolio Summary'!D9+'Sub Portfolio Summary'!D14+'Sub Portfolio Summary'!D19 -> 118.96027 | E10: ='Sub Portfolio Summary'!E9+'Sub Portfolio Summary'!E14+'Sub Portfolio Summary'!E19 -> 110.41175 | F10: =D10-E10 -> 8.5485232 | I10: 4 | J10: Substations | K10: ='Sub Portfolio Summary'!D10+'Sub Portfolio Summary'!D15+'Sub Portfolio Summary'!D20 -> 18.274598 | L10: ='Sub Portfolio Summary'!E10+'Sub Portfolio Summary'!E15+'Sub Portfolio Summary'!E20 -> 16.584421 | M10: =K10-L10 -> 1.6901768
B11: 5 | C11: Control Center & Buildings | D11: ='CC&B Portfolio Summary'!D9+'CC&B Portfolio Summary'!D14+'CC&B Portfolio Summary'!D19+'CC&B Portfolio Summary'!D24 -> 28.922628 | E11: ='CC&B Portfolio Summary'!E9+'CC&B Portfolio Summary'!E14+'CC&B Portfolio Summary'!E19+'CC&B Portfolio Summary'!E24 -> 12.932124 | F11: =D11-E11 -> 15.990504 | I11: 5 | J11: Control Center & Buildings | K11: ='CC&B Portfolio Summary'!D10+'CC&B Portfolio Summary'!D15+'CC&B Portfolio Summary'!D20+'CC&B Portfolio Summary'!D25 -> 10.492557 | L11: ='CC&B Portfolio Summary'!E10+'CC&B Portfolio Summary'!E15+'CC&B Portfolio Summary'!E20+'CC&B Portfolio Summary'!E25 -> 0.70374661 | M11: =K11-L11 -> 9.7888106
B12: 6 | C12: Enabling | D12: ='Enab Portfolio Summary'!D9+'Enab Portfolio Summary'!D14+'Enab Portfolio Summary'!D19+'Enab Portfolio Summary'!D24+'Enab Portfolio Summary'!D29+'Enab Portfolio Summary'!D34 -> 278.59011 | E12: ='Enab Portfolio Summary'!E9+'Enab Portfolio Summary'!E14+'Enab Portfolio Summary'!E19+'Enab Portfolio Summary'!E24+'Enab Portfolio Summary'!E29+'Enab Portfolio Summary'!E34 -> 73.504069 | F12: =D12-E12 -> 205.08604 | I12: 6 | J12: Enabling | K12: ='Enab Portfolio Summary'!D10+'Enab Portfolio Summary'!D15+'Enab Portfolio Summary'!D20+'Enab Portfolio Summary'!D25+'Enab Portfolio Summary'!D30+'Enab Portfolio Summary'!D35 -> 38.704176 | L12: ='Enab Portfolio Summary'!E10+'Enab Portfolio Summary'!E15+'Enab Portfolio Summary'!E20+'Enab Portfolio Summary'!E25+'Enab Portfolio Summary'!E30+'Enab Portfolio Summary'!E35 -> 5.270312 | M12: =K12-L12 -> 33.433864
B13: 7 | C13: Support Services | D13: ='SS Portfolio Summary'!D9+'SS Portfolio Summary'!D14+'SS Portfolio Summary'!D29+'SS Portfolio Summary'!D34+'SS Portfolio Summary'!D24+'SS Portfolio Summary'!D39+'SS Portfolio Summary'!D19 -> 17.749706 | E13: ='SS Portfolio Summary'!$E$9+'SS Portfolio Summary'!$E$14+'SS Portfolio Summary'!$E$19+'SS Portfolio Summary'!$E$24+'SS Portfolio Summary'!$E$29+'SS Portfolio Summary'!$E$34+'SS Portfolio Summary'!$E$39 -> 0.853813 | F13: =D13-E13 -> 16.895893 | I13: 7 | J13: Support Services | K13: ='SS Portfolio Summary'!D10+'SS Portfolio Summary'!D15+'SS Portfolio Summary'!D30+'SS Portfolio Summary'!D35+'SS Portfolio Summary'!D25+'SS Portfolio Summary'!D40+'SS Portfolio Summary'!D20 -> 25.966 | L13: ='SS Portfolio Summary'!E10+'SS Portfolio Summary'!E15+'SS Portfolio Summary'!E30+'SS Portfolio Summary'!E35+'SS Portfolio Summary'!E25+'SS Portfolio Summary'!E40+'SS Portfolio Summary'!E20 -> 3.9515098 | M13: =K13-L13 -> 22.01449
B14: 8 | C14: Priority Stabilization Plan | D14: ='PSP Portfolio Summary'!D9 -> 0 | E14: ='PSP Portfolio Summary'!E9 -> 12.932976 | F14: =D14-E14 -> -12.932976 | I14: 8 | J14: Priority Stabilization Plan | K14: ='PSP Portfolio Summary'!D10 -> 0 | L14: ='PSP Portfolio Summary'!E10 -> 7.2 | M14: =K14-L14 -> -7.2
C15: Subtotal | D15: =SUM(D7:D14) -> 1183.4868 | E15: =SUM(E7:E14) -> 510.87939 | F15: =SUM(F7:F14) -> 672.60737 | G15: =F15/D15 -> 0.56832691 | J15: Subtotal | K15: =SUM(K7:K14) -> 197.13633 | L15: =SUM(L7:L14) -> 124.09804 | M15: =SUM(M7:M14) -> 73.038292 | N15: =M15/K15 -> 0.37049635
B16: 9 | I16: 9
B17: 10 | C17: Other | I17: 10 | J17: Other
B18: 11 | C18: Reserve for Excess Expenditures | D18: =D15*0.02 -> 23.669735 | E18: 0 | F18: =D18-E18 -> 23.669735 | I18: 11 | J18: Reserve for Excess Expenditures | K18: =1.636215 -> 1.636215 | L18: 0 | M18: =K18-L18 -> 1.636215
C19: Total Capital Expenditures | D19: =SUM(D15:D18) -> 1207.1565 | E19: =SUM(E15:E18) -> 510.87939 | F19: =SUM(F15:F18) -> 696.2771 | G19: =F19/D19 -> 0.57679109 | J19: Total Capital Expenditures | K19: =SUM(K15:K18) -> 198.77255 | L19: =SUM(L15:L18) -> 124.09804 | M19: =SUM(M15:M18) -> 74.674507 | N19: =M19/K19 -> 0.37567817
B22: Note:
B23: 5 | C23: Figures in all tables have been rounded.

Sheet A216810396964DCDB399904ED81BA8E
A1: Address | B1: ValueType | C1: Value | D1: ConnectionName

Sheet CX Portfolio Summary
B1: Customer Experience Improvement Portfolio Summary
B2: ($ million)
C6: 1 | D6: 2 | E6: 6 | F6: 7 | G6: 8
C7: Program | D7: FY2026 Budget5 | E7: FY2026 Actuals5 | F7: Variance ($)5 | G7: Variance (%)
B8: 1 | C8: Distribution Streetlighting | D8: =SUM(D9:D11) -> 203.55 | E8: =SUM(E9:E11) -> 88.753465 | F8: =D8-E8 -> 114.79653
B9: 2 | C9: Federally Funded | D9: 203.55 | E9: 88.36599
B10: 3 | C10: Non-Federally Funded | D10: 0 | E10: 0.37983274
B11: 4 | C11: OpEx | D11: 0 | E11: 0.00764276
B12: 5 | C12: SRP | D12: 0 | E12: 0
B13: 6 | C13: AMI Implementation Program | D13: =SUM(D14:D16) -> 148 | E13: =SUM(E14:E16) -> 116.14631 | F13: =D13-E13 -> 31.853685
B14: 7 | C14: Federally Funded | D14: 148 | E14: 114.63452
B15: 8 | C15: Non-Federally Funded | D15: 0 | E15: 1.5090129
B16: 9 | C16: OpEx | D16: 0 | E16: 0.00278589
B17: 10 | C17: SRP | D17: 0 | E17: 0
B18: 11 | C18: Programs <5% of Portfolio Total | D18: =SUM(D19:D21) -> 32.72 | E18: =SUM(E19:E21) -> 18.822638 | F18: =D18-E18 -> 13.897362
B19: 12 | C19: Federally Funded | D19: 0 | E19: 0.0386257
B20: 13 | C20: Non-Federally Funded | D20: 25.9 | E20: 17.713975
B21: 14 | C21: OpEx | D21: 6.82 | E21: 1.0700372
B22: 15 | C22: SRP | D22: 0 | E22: 0
B23: 16 | C23: Total | D23: =D18+D13+D8 -> 384.27 | E23: =E18+E13+E8 -> 223.72242 | F23: =F18+F13+F8 -> 160.54758 | G23: =F23/D23 -> 0.4177989
B27: Note:
B28: 5 | C28: Figures in all tables have been rounded.

Sheet Dx Portfolio Summary
B1: Distribution Improvement Portfolio Summary
B2: ($ million)
C6: 1 | D6: 2 | E6: 6 | F6: 7 | G6: 8
C7: Program | D7: FY2026 Budget5 | E7: FY2026 Actuals5 | F7: Variance ($)5 | G7: Variance (%)
B8: 1 | C8: Distribution Line Rebuild | D8: =SUM(D9:D11) -> 118.0898 | E8: =SUM(E9:E11) -> 14.660373 | F8: =D8-E8 -> 103.42943
B9: 2 | C9: Federally Funded | D9: 111.0898 | E9: 13.036207
B10: 3 | C10: Non-Federally Funded | D10: 7 | E10: 1.6227967
B11: 4 | C11: OpEx | D11: 0 | E11: 0.00137
B12: 5 | C12: SRP | D12: 0 | E12: 0
B13: 6 | C13: Grid Automation | D13: =SUM(D14:D16) -> 96.01 | E13: =SUM(E14:E16) -> 32.660222 | F13: =D13-E13 -> 63.349778
B14: 7 | C14: Federally Funded | D14: 90 | E14: 20.293751
B15: 8 | C15: Non-Federally Funded | D15: 6.01 | E15: 12.366165
B16: 9 | C16: OpEx | D16: 0 | E16: 0.00030625
B17: 10 | C17: SRP | D17: 0 | E17: 0
B18: 11 | C18: Distribution Pole & Conductor Repair | D18: =SUM(D19:D21) -> 101.22103 | E18: =SUM(E19:E21) -> 85.757084 | F18: =D18-E18 -> 15.463947
B19: 12 | C19: Federally Funded | D19: 61.232031 | E19: 44.971839
B20: 13 | C20: Non-Federally Funded | D20: 39.989 | E20: 40.779993
B21: 14 | C21: OpEx | D21: 0 | E21: 0.00525289
B22: 15 | C22: SRP | D22: 0 | E22: 0
B23: 16 | C23: Programs <5% of Portfolio Total | D23: =SUM(D24:D26) -> 11.6 | E23: =SUM(E24:E26) -> 0.19356708 | F23: =D23-E23 -> 11.406433
B24: 17 | C24: Federally Funded | D24: 11.6 | E24: -0.53566194
B25: 18 | C25: Non-Federally Funded | D25: 0 | E25: 0.72922902
B26: 19 | C26: OpEx | D26: 0 | E26: 0
B27: 20 | C27: SRP | D27: 0 | E27: 0
B28: 21 | C28: Total | D28: =SUM(D8+D13+D18+D23) -> 326.92083 | E28: =SUM(E8+E13+E18+E23) -> 133.27125 | F28: =SUM(F8+F13+F18+F23) -> 193.64958 | G28: =F28/D28 -> 0.59234397
B32: Note:
B33: 5 | C33: Figures in all tables have been rounded.

Sheet Tx Portfolio Summary
B1: Transmission Improvement Portfolio Summary
B2: ($ million)
C6: 1 | D6: 2 | E6: 6 | F6: 7 | G6: 8
C7: Program | D7: FY2026 Budget5 | E7: FY2026 Actuals5 | F7: Variance ($)5 | G7: Variance (%)
B8: 1 | C8: Transmission Line Rebuild | D8: =SUM(D9:D11) -> 68.73578 | E8: =SUM(E9:E11) -> 16.227495 | F8: =D8-E8 -> 52.508285
B9: 2 | C9: Federally Funded | D9: 66.73578 | E9: 16.86758
B10: 3 | C10: Non-Federally Funded | D10: 2 | E10: -0.6403444
B11: 4 | C11: OpEx | D11: 0 | E11: 0.00025903
B12: 5 | C12: SRP | D12: 0 | E12: 0
B13: 6 | C13: Transmission Priority Pole Replacements | D13: =SUM(D14:D16) -> 41.95475 | E13: =SUM(E14:E16) -> 6.8779179 | F13: =D13-E13 -> 35.076832
B14: 7 | C14: Federally Funded | D14: 21.25475 | E14: -6.3007847
B15: 8 | C15: Non-Federally Funded | D15: 20.7 | E15: 13.178299
B16: 9 | C16: OpEx | D16: 0 | E16: 0.00040313
B17: 10 | C17: SRP | D17: 0 | E17: 0
B18: 11 | C18: OT Telecom Systems & Network | D18: =SUM(D19:D21) -> 24.99048 | E18: =SUM(E19:E21) -> 11.54237 | F18: =D18-E18 -> 13.44811
B19: 12 | C19: Federally Funded | D19: 22.89048 | E19: 8.770067
B20: 13 | C20: Non-Federally Funded | D20: 2.1 | E20: 2.7720641
B21: 14 | C21: OpEx | D21: 0 | E21: 0.00023848
B22: 15 | C22: SRP | D22: 0 | E22: 0
B23: 16 | C23: Programs <5% of Portfolio Total | D23: =SUM(D24:D26) -> 2.9112 | E23: =SUM(E24:E26) -> 0.07955597 | F23: =D23-E23 -> 2.831644
B24: 17 | C24: Federally Funded | D24: 2.9112 | E24: 0.10252971
B25: 18 | C25: Non-Federally Funded | D25: 0 | E25: -0.02297374
B26: 19 | C26: OpEx | D26: 0 | E26: 0
B27: 20 | C27: SRP | D27: 0 | E27: 0
B28: 21 | C28: Total | D28: =SUM(D8+D13+D18+D23) -> 138.59221 | E28: =E8+E13+E18+E23 -> 34.727339 | F28: =F8+F13+F18+F23 -> 103.86487 | G28: =F28/D28 -> 0.74942792
B32: Note:
B33: 5 | C33: Figures in all tables have been rounded.

Sheet Sub Portfolio Summary
B1: Substation Improvement Portfolio Summary
B2: ($ million)
C6: 1 | D6: 2 | E6: 6 | F6: 7 | G6: 8
C7: Program | D7: FY2026 Budget5 | E7: FY2026 Actuals5 | F7: Variance ($)5 | G7: Variance (%)
B8: 1 | C8: Substation Rebuilds | D8: =SUM(D9:D11) -> 89.799598 | E8: =SUM(E9:E11) -> 75.365588 | F8: =D8-E8 -> 14.43401
B9: 2 | C9: Federally Funded | D9: 89 | E9: 73.908721
B10: 3 | C10: Non-Federally Funded | D10: 0.799598 | E10: 1.416805
B11: 4 | C11: OpEx | D11: 0 | E11: 0.0400617
B12: 5 | C12: SRP | D12: 0 | E12: 0
B13: 6 | C13: Substation Reliability | D13: =SUM(D14:D16) -> 42.32187 | E13: =SUM(E14:E16) -> 46.363488 | F13: =D13-E13 -> -4.041618
B14: 7 | C14: Federally Funded | D14: 25.84687 | E14: 32.04539
B15: 8 | C15: Non-Federally Funded | D15: 16.475 | E15: 14.075607
B16: 9 | C16: OpEx | D16: 0 | E16: 0.24249116
B17: 10 | C17: SRP | D17: 0 | E17: 0
B18: 16 | C18: Programs <5% of Portfolio Total | D18: =SUM(D19:D21) -> 5.5134 | E18: =SUM(E19:E21) -> 5.6766599 | F18: =D18-E18 -> -0.16325993
B19: 17 | C19: Federally Funded | D19: 4.1134 | E19: 4.4576357
B20: 18 | C20: Non-Federally Funded | D20: 1 | E20: 1.0920095
B21: 19 | C21: OpEx | D21: 0.4 | E21: 0.12701471
B22: 20 | C22: SRP | D22: 0 | E22: 0
B23: 21 | C23: Total | D23: =D8+D13+D18 -> 137.63487 | E23: =E8+E13+E18 -> 127.40574 | F23: =F8+F13+F18 -> 10.229132 | G23: =F23/D23 -> 0.074320792
B27: Note:
B28: 5 | C28: Figures in all tables have been rounded.

Sheet CC&B Portfolio Summary
B1: Control Center and Buildings Improvement Portfolio Summary
B2: ($ million)
C6: 1 | D6: 2 | E6: 6 | F6: 7 | G6: 8
C7: Program | D7: FY2026 Budget5 | E7: FY2026 Actuals5 | F7: Variance ($)5 | G7: Variance (%)
B8: 1 | C8: Facilities Development & Implementation | D8: =SUM(D9:D11) -> 22.17167 | E8: =SUM(E9:E11) -> 0.89088789 | F8: =D8-E8 -> 21.280782
B9: 2 | C9: Federally Funded | D9: 11.00985 | E9: -0.0538375
B10: 3 | C10: Non-Federally Funded | D10: 10.182 | E10: 0.80787206
B11: 4 | C11: OpEx | D11: 0.97982 | E11: 0.13685333
B12: 5 | C12: SRP | D12: 0 | E12: 0
B13: 6 | C13: Critical Energy Management System Upgrades | D13: =SUM(D14:D16) -> 12.64581 | E13: =SUM(E14:E16) -> 10.98345 | F13: =D13-E13 -> 1.6623596
B14: 7 | C14: Federally Funded | D14: 12.16581 | E14: 11.101454
B15: 8 | C15: Non-Federally Funded | D15: 0 | E15: -0.11962331
B16: 9 | C16: OpEx | D16: 0.48 | E16: 0.00161978
B17: 10 | C17: SRP | D17: 0 | E17: 0
B18: 11 | C18: Control Center Construction & Refurbishment | D18: =SUM(D19:D21) -> 5.722968 | E18: =SUM(E19:E21) -> 1.7230504 | F18: =D18-E18 -> 3.9999176
B19: 12 | C19: Federally Funded | D19: 5.722968 | E19: 1.8845078
B20: 13 | C20: Non-Federally Funded | D20: 0 | E20: -0.16145744
B21: 14 | C21: OpEx | D21: 0 | E21: 0
B22: 15 | C22: SRP | D22: 0 | E22: 0
B23: 16 | C23: Programs <5% of Portfolio Total | D23: =SUM(D24:D26) -> 0.33455722 | E23: =SUM(E24:E26) -> 0.1769553 | F23: =D23-E23 -> 0.15760192
B24: 17 | C24: Federally Funded | D24: 0.024 | E24: 0
B25: 18 | C25: Non-Federally Funded | D25: 0.31055722 | E25: 0.1769553
B26: 19 | C26: OpEx | D26: 0 | E26: 0
B27: 20 | C27: SRP | D27: 0 | E27: 0
B28: 21 | C28: Total | D28: =D8+D13+D18+D23 -> 40.875005 | E28: =E8+E13+E18+E23 -> 13.774344 | F28: =D28-E28 -> 27.100661 | G28: =F28/D28 -> 0.66301303
B32: Note:
B33: 5 | C33: Figures in all tables have been rounded.

Sheet Enab Portfolio Summary
B1: Enabling Improvement Portfolio Summary
B2: ($ million)
C6: 1 | D6: 2 | E6: 6 | F6: 7 | G6: 8
C7: Program | D7: FY2026 Budget5 | E7: FY2026 Actuals5 | F7: Variance ($)5 | G7: Variance (%)
B8: 1 | C8: Vegetation Management and Capital Clearing Implementation | D8: =SUM(D9:D11) -> 283.1791 | E8: =SUM(E9:E11) -> 78.446769 | F8: =D8-E8 -> 204.73233
B9: 2 | C9: Federally Funded | D9: 158.1791 | E9: 30.779365
B10: 3 | C10: Non-Federally Funded | D10: 0 | E10: -0.02117535
B11: 4 | C11: OpEx | D11: 125 | E11: 47.68858
B12: 5 | C12: SRP | D12: 0 | E12: 0
B13: 21 | C13: Microgrid, Phasor Measurement Units (PMU), and Battery Energy Storage Installations and Integration | D13: =SUM(D14:D16) -> 70 | E13: =SUM(E14:E16) -> 2.8780226 | F13: =D13-E13 -> 67.121977
B14: 22 | C14: Federally Funded | D14: 70 | E14: 2.3908442
B15: 23 | C15: Non-Federally Funded | D15: 0 | E15: 0.48717832
B16: 24 | C16: OpEx | D16: 0 | E16: 0
B17: 25 | C17: SRP | D17: 0 | E17: 0
B18: 16 | C18: Compliance & Studies | D18: =SUM(D19:D21) -> 32.75701 | E18: =SUM(E19:E21) -> 15.475793 | F18: =D18-E18 -> 17.281217
B19: 17 | C19: Federally Funded | D19: 28.30001 | E19: 18.790083
B20: 18 | C20: Non-Federally Funded | D20: 4.457 | E20: -3.3167678
B21: 19 | C21: OpEx | D21: 0 | E21: 0.00247698
B22: 20 | C22: SRP | D22: 0 | E22: 0
B23: 11 | C23: T&D Fleet | D23: =SUM(D24:D26) -> 47.724 | E23: =SUM(E24:E26) -> 22.763943 | F23: =D23-E23 -> 24.960057
B24: 12 | C24: Federally Funded | D24: 0 | E24: 0
B25: 13 | C25: Non-Federally Funded | D25: 23.724 | E25: 10.171761
B26: 14 | C26: OpEx | D26: 24 | E26: 12.592182
B27: 15 | C27: SRP | D27: 0 | E27: 0
B28: 26 | C28: Asset Data Integrity | D28: =SUM(D29:D31) -> 24.58 | E28: =SUM(E29:E31) -> -0.25834983 | F28: =D28-E28 -> 24.83835
B29: 27 | C29: Federally Funded | D29: 21.78 | E29: 0
B30: 28 | C30: Non-Federally Funded | D30: 2.8 | E30: -0.25834983
B31: 29 | C31: OpEx | D31: 0 | E31: 0
B32: 30 | C32: SRP | D32: 0 | E32: 0
B33: 31 | C33: Programs <5% of Portfolio Total15 | D33: =SUM(D34:D36) -> 10.520649 | E33: =SUM(E34:E36) -> 19.830236 | F33: =D33-E33 -> -9.3095869
B34: 32 | C34: Federally Funded | D34: 0.331 | E34: 21.543777
B35: 33 | C35: Non-Federally Funded | D35: 7.723176 | E35: -1.792334
B36: 34 | C36: OpEx | D36: 2.466473 | E36: 0.07879319
B37: 35 | C37: SRP | D37: 0 | E37: 0
B38: 36 | C38: Total | D38: =D8++D13+D23+D18+D28+D33 -> 468.76076 | E38: =E8+E13+E18+E23+E28+E33 -> 139.13641 | F38: =F8+F13+F18+F23+F28+F33 -> 329.62435 | G38: =F38/D38 -> 0.70318246
B42: Note:
B43: 5 | C43: Figures in all tables have been rounded.
B44: 15 | C44: The net credit within the programs with less than 5% of the total Enabling Portfolio is primarily due to the Emergency Response Preparedness Program, with expenditures previously classified as NFC. Then, this program was reclassified as O&M, since the WebEOC system implementation and integration costs are operational in nature.

Sheet SS Portfolio Summary
B1: Support Services Improvement Portfolio Summary
B2: ($ million)
C6: 1 | D6: 2 | E6: 6 | F6: 7 | G6: 8
C7: Program | D7: FY2026 Budget5 | E7: FY2026 Actuals5 | F7: Variance ($)5 | G7: Variance (%)
B8: 1 | C8: IT OT Asset Management | D8: =SUM(D9:D11) -> 27.08944 | E8: =SUM(E9:E11) -> 4.294851 | F8: =D8-E8 -> 22.794589
B9: 2 | C9: Federally Funded | D9: 17.43844 | E9: 0.09485099
B10: 3 | C10: Non-Federally Funded | D10: 9.651 | E10: 4.2
B11: 4 | C11: OpEx | D11: 0 | E11: 0
B12: 5 | C12: SRP | D12: 0 | E12: -
B13: 6 | C13: IT OT Enablement Program | D13: =SUM(D14:D16) -> 6.09 | E13: =SUM(E14:E16) -> 0.6 | F13: =D13-E13 -> 5.49
B14: 7 | C14: Federally Funded | D14: 0 | E14: 0
B15: 8 | C15: Non-Federally Funded | D15: 6.09 | E15: 0.6
B16: 9 | C16: OpEx | D16: 0 | E16: 0
B17: 10 | C17: SRP | D17: 0 | E17: 0
B18: 11 | C18: IT OT Collaboration & Analytics | D18: =SUM(D19:D21) -> 4.836 | E18: =SUM(E19:E21) -> 0 | F18: =D18-E18 -> 4.836
B19: 12 | C19: Federally Funded | D19: 0 | E19: 0
B20: 13 | C20: Non-Federally Funded | D20: 4.836 | E20: 0
B21: 14 | C21: OpEx | D21: 0 | E21: -
B22: 15 | C22: SRP | E22: 0
B23: 16 | C23: IT OT Cybersecurity Program | D23: =SUM(D24:D26) -> 3.5072656 | E23: =SUM(E24:E26) -> 0.04522485 | F23: =D23-E23 -> 3.4620407
B24: 17 | C24: Federally Funded | D24: 0.3112656 | E24: 0
B25: 18 | C25: Non-Federally Funded | D25: 3.196 | E25: 0.05150985
B26: 19 | C26: OpEx | D26: 0 | E26: -0.006285
B27: 20 | C27: SRP
B28: 21 | C28: Critical Financial Systems | D28: =SUM(D29:D31) -> 2.373 | E28: =SUM(E29:E31) -> -0.8 | F28: =D28-E28 -> 3.173
B29: 22 | C29: Federally Funded | D29: 0 | E29: 0
B30: 23 | C30: Non-Federally Funded | D30: 2.193 | E30: -0.9
B31: 24 | C31: OpEx | D31: 0.18 | E31: 0.1
B32: 25 | C32: SRP | D32: 0 | E32: -
B33: 26 | C33: Update to Third Party Use, Audit, Contract and Billing Procedures | D33: =SUM(D34:D36) -> 0 | E33: =SUM(E34:E36) -> 1.158962 | F33: =D33-E33 -> -1.158962
B34: 27 | C34: Federally Funded | D34: 0 | E34: 0.75896201
B35: 28 | C35: Non-Federally Funded | D35: 0 | E35: 0
B36: 29 | C36: OpEx | D36: 0 | E36: 0.4
B37: 30 | C37: SRP | D37: 0 | E37: -
B38: 31 | C38: Programs <5% of Portfolio Total | D38: =SUM(D39:D41) -> 2.959814 | E38: =SUM(E39:E41) -> 0.7 | F38: =D38-E38 -> 2.259814
B39: 32 | C39: Federally Funded | D39: 0 | E39: 0
B40: 33 | C40: Non-Federally Funded | D40: 0 | E40: 0
B41: 34 | C41: OpEx | D41: 2.959814 | E41: 0.7
B42: 35 | C42: SRP | D42: 0 | E42: -
B43: 36 | C43: Total | D43: =D8+D28+D13+D33+D23+D18+D38 -> 46.85552 | E43: =E8+E28+E13+E33+E23+E18+E38 -> 5.9990379 | F43: =F8+F28+F13+F33+F23+F18+F38 -> 40.856482 | G43: =F43/D43 -> 0.87196732
...

Sheet PSP Portfolio Summary
B1: Priority Stabilization Plan Portfolio Summary
B2: ($ million)
C6: 1 | D6: 2 | E6: 6 | F6: 7 | G6: 8
C7: Program | D7: FY2026 Budget5 | E7: FY2026 Actuals5 | F7: Variance ($)5 | G7: Variance (%)
B8: 1 | C8: Priority Stabilization Plan | D8: =SUM(D9:D11) -> 0 | E8: =SUM(E9:E11) -> 20.232976 | F8: =D8-E8 -> -20.232976
B9: 2 | C9: Federally Funded | D9: 0 | E9: 12.932976 | F9: 0
B10: 3 | C10: Non-Federally Funded | D10: 0 | E10: 7.2 | F10: =D10-E10 -> -7.2
B11: 4 | C11: OpEx | D11: 0 | E11: 0.1 | F11: 0
B12: 5 | C12: SRP | D12: 0 | E12: 0 | F12: =D12-E12 -> 0
B13: 6 | C13: Total | D13: =D8 -> 0 | E13: =E8 -> 20.232976 | F13: =F8 -> -20.232976 | G13: =IFERROR((F13/D13),0) -> 0
B17: Note:
B18: 5 | C18: Figures in all tables have been rounded.
